Workbook

Sheet Dashboard
A1: Yard Move Dispatch Dashboard
A2: This workbook is a manual dispatch aid. It does not connect to telematics or update until users enter data and Excel recalculates.
A4: Selected Date | B4: 46272 | G4: Last Recalculated | H4: =NOW()
A6: Open Moves | C6: Unassigned Open | E6: Open Overdue | G6: Critical/High Open
A7: =COUNTIF('Move Log'!$L$6:$L$305,"Requested")+COUNTIF('Move Log'!$L$6:$L$305,"Assigned")+COUNTIF('Move Log'!$L$6:$L$305,"In Progress")+COUNTIF('Move Log'!$L$6:$L$305,"Held") | C7: =COUNTIFS('Move Log'!$L$6:$L$305,"Requested",'Move Log'!$J$6:$J$305,"")+COUNTIFS('Move Log'!$L$6:$L$305,"Assigned",'Move Log'!$J$6:$J$305,"")+COUNTIFS('Move Log'!$L$6:$L$305,"In Progress",'Move Log'!$J$6:$J$305,"")+COUNTIFS('Move Log'!$L$6:$L$305,"Held",'Move Log'!$J$6:$J$305,"") | E7: =COUNTIF('Move Log'!$T$6:$T$305,"Open - Overdue") | G7: =COUNTIFS('Move Log'!$T$6:$T$305,"Open*",'Move Log'!$C$6:$C$305,"Critical")+COUNTIFS('Move Log'!$T$6:$T$305,"Open*",'Move Log'!$C$6:$C$305,"High")
A9: Completed Moves | C9: Average Turnaround Minutes | E9: Service Level Met | G9: Estimated Move Cost
A10: =COUNTIFS('Move Log'!$L$6:$L$305,"Completed",'Move Log'!$O$6:$O$305,">="&$B$4,'Move Log'!$O$6:$O$305,"<"&$B$4+1) | C10: =IFERROR(AVERAGEIFS('Move Log'!$R$6:$R$305,'Move Log'!$L$6:$L$305,"Completed",'Move Log'!$O$6:$O$305,">="&$B$4,'Move Log'!$O$6:$O$305,"<"&$B$4+1),"") | E10: =IFERROR(COUNTIFS('Move Log'!$T$6:$T$305,"Met",'Move Log'!$O$6:$O$305,">="&$B$4,'Move Log'!$O$6:$O$305,"<"&$B$4+1)/COUNTIFS('Move Log'!$L$6:$L$305,"Completed",'Move Log'!$O$6:$O$305,">="&$B$4,'Move Log'!$O$6:$O$305,"<"&$B$4+1),"") | G10: =IFERROR(SUMIFS('Move Log'!$W$6:$W$305,'Move Log'!$L$6:$L$305,"Completed",'Move Log'!$O$6:$O$305,">="&$B$4,'Move Log'!$O$6:$O$305,"<"&$B$4+1),0)
A13: Open Moves by Status | B13: Count | D13: Open Moves by Priority | E13: Count | G13: Completed Moves by Type | H13: Count
A14: Requested | B14: =COUNTIF('Move Log'!$L$6:$L$305,A14) | D14: Critical | E14: =COUNTIFS('Move Log'!$T$6:$T$305,"Open*",'Move Log'!$C$6:$C$305,D14) | G14: Dock Move | H14: =COUNTIFS('Move Log'!$D$6:$D$305,G14,'Move Log'!$L$6:$L$305,"Completed",'Move Log'!$O$6:$O$305,">="&$B$4,'Move Log'!$O$6:$O$305,"<"&$B$4+1)
A15: Assigned | B15: =COUNTIF('Move Log'!$L$6:$L$305,A15) | D15: High | E15: =COUNTIFS('Move Log'!$T$6:$T$305,"Open*",'Move Log'!$C$6:$C$305,D15) | G15: Yard Reposition | H15: =COUNTIFS('Move Log'!$D$6:$D$305,G15,'Move Log'!$L$6:$L$305,"Completed",'Move Log'!$O$6:$O$305,">="&$B$4,'Move Log'!$O$6:$O$305,"<"&$B$4+1)
A16: In Progress | B16: =COUNTIF('Move Log'!$L$6:$L$305,A16) | D16: Normal | E16: =COUNTIFS('Move Log'!$T$6:$T$305,"Open*",'Move Log'!$C$6:$C$305,D16) | G16: Gate-to-Dock | H16: =COUNTIFS('Move Log'!$D$6:$D$305,G16,'Move Log'!$L$6:$L$305,"Completed",'Move Log'!$O$6:$O$305,">="&$B$4,'Move Log'!$O$6:$O$305,"<"&$B$4+1)
A17: Held | B17: =COUNTIF('Move Log'!$L$6:$L$305,A17) | D17: Low | E17: =COUNTIFS('Move Log'!$T$6:$T$305,"Open*",'Move Log'!$C$6:$C$305,D17) | G17: Dock-to-Yard | H17: =COUNTIFS('Move Log'!$D$6:$D$305,G17,'Move Log'!$L$6:$L$305,"Completed",'Move Log'!$O$6:$O$305,">="&$B$4,'Move Log'!$O$6:$O$305,"<"&$B$4+1)
E18: ="" | G18: Empty Spot | H18: =COUNTIFS('Move Log'!$D$6:$D$305,G18,'Move Log'!$L$6:$L$305,"Completed",'Move Log'!$O$6:$O$305,">="&$B$4,'Move Log'!$O$6:$O$305,"<"&$B$4+1)
E19: ="" | G19: Maintenance Move | H19: =COUNTIFS('Move Log'!$D$6:$D$305,G19,'Move Log'!$L$6:$L$305,"Completed",'Move Log'!$O$6:$O$305,">="&$B$4,'Move Log'!$O$6:$O$305,"<"&$B$4+1)
E20: ="" | H20: =""
A21: Operational Checks | B21: Count | E21: ="" | H21: =""
A22: Unassigned Beyond Alert | B22: =COUNTIFS('Move Log'!$A$6:$A$305,"<>",'Move Log'!$J$6:$J$305,"",'Move Log'!$L$6:$L$305,"Requested",'Move Log'!$P$6:$P$305,">"&'Settings'!$B$3)+COUNTIFS('Move Log'!$A$6:$A$305,"<>",'Move Log'!$J$6:$J$305,"",'Move Log'!$L$6:$L$305,"Assigned",'Move Log'!$P$6:$P$305,">"&'Settings'!$B$3)+COUNTIFS('Move Log'!$A$6:$A$305,"<>",'Move Log'!$J$6:$J$305,"",'Move Log'!$L$6:$L$305,"In Progress",'Move Log'!$P$6:$P$305,">"&'Settings'!$B$3)+COUNTIFS('Move Log'!$A$6:$A$305,"<>",'Move Log'!$J$6:$J$305,"",'Move Log'!$L$6:$L$305,"Held",'Move Log'!$P$6:$P$305,">"&'Settings'!$B$3) | E22: ="" | H22: =""
A23: Records Needing Correction | B23: =COUNTIFS('Move Log'!$A$6:$A$305,"<>",'Move Log'!$X$6:$X$305,"<>OK") | E23: ="" | H23: =""
A24: Held Moves | B24: =COUNTIF('Move Log'!$L$6:$L$305,"Held") | E24: ="" | H24: =""
B25: ="" | E25: ="" | H25: =""
B26: ="" | E26: ="" | H26: =""
B27: ="" | E27: ="" | H27: =""
B28: ="" | E28: ="" | H28: =""
B29: ="" | E29: ="" | H29: =""
B30: ="" | E30: ="" | H30: =""
B31: ="" | E31: ="" | H31: =""
B32: ="" | E32: ="" | H32: =""
B33: ="" | E33: ="" | H33: =""
B34: ="" | E34: ="" | H34: =""
B35: ="" | E35: ="" | H35: =""
B36: ="" | E36: ="" | H36: =""
... B101: ="" | E101: ="" | H101: =""

Sheet Move Log
A1: Yard Move Dispatch Log
A2: Enter dispatch information in yellow cells. Blue-gray cells contain formulas and should not be overwritten.
A3: Estimated move cost is a planning estimate only, not an accounting or billing value.
A5: Move ID | B5: Requested At | C5: Priority | D5: Move Type | E5: Trailer Number | F5: Carrier | G5: Load Status | H5: Origin Location | I5: Destination Location | J5: Assigned Spotter | K5: Yard Truck | L5: Status | M5: Assigned At | N5: Started At | O5: Completed At | P5: Dispatch Wait Minutes | Q5: Move Cycle Minutes | R5: Total Turnaround Minutes | S5: Target Turnaround Minutes | T5: Service Level Status | U5: Delay Reason | V5: Dispatcher Notes | W5: Estimated Move Cost | X5: Record Check
A6: YM-1001 | B6: 46272.698 | C6: High | D6: Gate-to-Dock | E6: TRL-48219 | F6: Estes | G6: Loaded | H6: Gate Check-In | I6: Door 12 | J6: Maria Lopez | K6: YT-01 | L6: Completed | M6: 46272.701 | N6: 46272.705 | O6: 46272.722 | P6: =IF(OR(A6="",B6=""),"",IF(M6<>"",IFERROR(ROUND((M6-B6)*1440,0),""),IF(OR(L6="Requested",L6="Assigned",L6="In Progress",L6="Held"),IFERROR(ROUND((NOW()-B6)*1440,0),""),""))) | Q6: =IF(OR(A6="",N6=""),"",IF(O6<>"",IFERROR(ROUND((O6-N6)*1440,0),""),IF(OR(L6="In Progress",L6="Held"),IFERROR(ROUND((NOW()-N6)*1440,0),""),""))) | R6: =IF(OR(A6="",B6=""),"",IF(O6<>"",IFERROR(ROUND((O6-B6)*1440,0),""),IF(L6="Canceled","",IF(OR(L6="Requested",L6="Assigned",L6="In Progress",L6="Held"),IFERROR(ROUND((NOW()-B6)*1440,0),""),"")))) | S6: =IF(A6="","",IFERROR(VLOOKUP(C6,'Settings'!$A$11:$B$14,2,FALSE),"")) | T6: =IF(A6="","",IF(L6="Canceled","N/A",IF(OR(L6="",R6="",S6=""),"",IF(R6<=S6,IF(L6="Completed","Met","Open - On Track"),IF(L6="Completed","Missed","Open - Overdue"))))) | U6: None | V6: Seal verified at gate. | W6: =IF(OR(A6="",Q6=""),"",IFERROR(ROUND(Q6/60*'Settings'!$B$4,2),"")) | X6: =IFERROR(IF(A6="","",IF(COUNTIF($A$6:$A$305,A6)>1,"Duplicate Move ID",IF(OR(B6="",C6="",D6="",E6="",F6="",G6="",H6="",I6="",L6=""),"Missing Required Input",IF(OR(COUNTIF('Assets'!$K$5:$K$104,H6)=0,COUNTIF('Assets'!$K$5:$K$104,I6)=0),"Unknown Location",IF(H6=I6,"Origin Equals Destination",IF(AND(OR(L6="Assigned",L6="In Progress",L6="Held",L6="Completed"),OR(J6="",K6="",M6="")),"Missing Assignment Details",IF(AND(OR(L6="In Progress",L6="Held",L6="Completed"),N6=""),"Missing Start Time",IF(AND(L6="Completed",O6=""),"Missing Completion Time",IF(AND(M6<>"",B6<>"",M6<B6),"Check Assigned Time",IF(AND(N6<>"",M6<>"",N6<M6),"Check Start Time",IF(AND(O6<>"",N6<>"",O6<N6),"Check Completion Time",IF(AND(L6="Held",OR(U6="",U6="None")),"Missing Delay Reason",IF(OR(AND(J6<>"",COUNTIF('Assets'!$F$5:$F$104,J6)=0),AND(K6<>"",COUNTIF('Assets'!$A$5:$A$104,K6)=0)),"Unknown Resource","OK")))))))))))))),"Check Formula")
A7: YM-1002 | B7: 46272.726 | C7: High | D7: Dock-to-Yard | E7: TRL-73104 | F7: Old Dominion | G7: Empty | H7: Door 7 | I7: Empty Row A | J7: Daniel Reed | K7: YT-02 | L7: Completed | M7: 46272.733 | N7: 46272.736 | O7: 46272.771 | P7: =IF(OR(A7="",B7=""),"",IF(M7<>"",IFERROR(ROUND((M7-B7)*1440,0),""),IF(OR(L7="Requested",L7="Assigned",L7="In Progress",L7="Held"),IFERROR(ROUND((NOW()-B7)*1440,0),""),""))) | Q7: =IF(OR(A7="",N7=""),"",IF(O7<>"",IFERROR(ROUND((O7-N7)*1440,0),""),IF(OR(L7="In Progress",L7="Held"),IFERROR(ROUND((NOW()-N7)*1440,0),""),""))) | R7: =IF(OR(A7="",B7=""),"",IF(O7<>"",IFERROR(ROUND((O7-B7)*1440,0),""),IF(L7="Canceled","",IF(OR(L7="Requested",L7="Assigned",L7="In Progress",L7="Held"),IFERROR(ROUND((NOW()-B7)*1440,0),""),"")))) | S7: =IF(A7="","",IFERROR(VLOOKUP(C7,'Settings'!$A$11:$B$14,2,FALSE),"")) | T7: =IF(A7="","",IF(L7="Canceled","N/A",IF(OR(L7="",R7="",S7=""),"",IF(R7<=S7,IF(L7="Completed","Met","Open - On Track"),IF(L7="Completed","Missed","Open - Overdue"))))) | U7: Dock Occupied | V7: Door released after cleanup. | W7: =IF(OR(A7="",Q7=""),"",IFERROR(ROUND(Q7/60*'Settings'!$B$4,2),"")) | X7: =IFERROR(IF(A7="","",IF(COUNTIF($A$6:$A$305,A7)>1,"Duplicate Move ID",IF(OR(B7="",C7="",D7="",E7="",F7="",G7="",H7="",I7="",L7=""),"Missing Required Input",IF(OR(COUNTIF('Assets'!$K$5:$K$104,H7)=0,COUNTIF('Assets'!$K$5:$K$104,I7)=0),"Unknown Location",IF(H7=I7,"Origin Equals Destination",IF(AND(OR(L7="Assigned",L7="In Progress",L7="Held",L7="Completed"),OR(J7="",K7="",M7="")),"Missing Assignment Details",IF(AND(OR(L7="In Progress",L7="Held",L7="Completed"),N7=""),"Missing Start Time",IF(AND(L7="Completed",O7=""),"Missing Completion Time",IF(AND(M7<>"",B7<>"",M7<B7),"Check Assigned Time",IF(AND(N7<>"",M7<>"",N7<M7),"Check Start Time",IF(AND(O7<>"",N7<>"",O7<N7),"Check Completion Time",IF(AND(L7="Held",OR(U7="",U7="None")),"Missing Delay Reason",IF(OR(AND(J7<>"",COUNTIF('Assets'!$F$5:$F$104,J7)=0),AND(K7<>"",COUNTIF('Assets'!$A$5:$A$104,K7)=0)),"Unknown Resource","OK")))))))))))))),"Check Formula")
A8: YM-1003 | B8: 46272.826 | C8: High | D8: Yard Reposition | E8: TRL-51688 | F8: FedEx Freight | G8: Loaded | H8: Inbound Row B | I8: Outbound Row A | J8: Aisha Carter | K8: YT-03 | L8: In Progress | M8: 46272.83 | N8: 46272.833 | P8: =IF(OR(A8="",B8=""),"",IF(M8<>"",IFERROR(ROUND((M8-B8)*1440,0),""),IF(OR(L8="Requested",L8="Assigned",L8="In Progress",L8="Held"),IFERROR(ROUND((NOW()-B8)*1440,0),""),""))) | Q8: =IF(OR(A8="",N8=""),"",IF(O8<>"",IFERROR(ROUND((O8-N8)*1440,0),""),IF(OR(L8="In Progress",L8="Held"),IFERROR(ROUND((NOW()-N8)*1440,0),""),""))) | R8: =IF(OR(A8="",B8=""),"",IF(O8<>"",IFERROR(ROUND((O8-B8)*1440,0),""),IF(L8="Canceled","",IF(OR(L8="Requested",L8="Assigned",L8="In Progress",L8="Held"),IFERROR(ROUND((NOW()-B8)*1440,0),""),"")))) | S8: =IF(A8="","",IFERROR(VLOOKUP(C8,'Settings'!$A$11:$B$14,2,FALSE),"")) | T8: =IF(A8="","",IF(L8="Canceled","N/A",IF(OR(L8="",R8="",S8=""),"",IF(R8<=S8,IF(L8="Completed","Met","Open - On Track"),IF(L8="Completed","Missed","Open - Overdue"))))) | U8: None | V8: Outbound staging. | W8: =IF(OR(A8="",Q8=""),"",IFERROR(ROUND(Q8/60*'Settings'!$B$4,2),"")) | X8: =IFERROR(IF(A8="","",IF(COUNTIF($A$6:$A$305,A8)>1,"Duplicate Move ID",IF(OR(B8="",C8="",D8="",E8="",F8="",G8="",H8="",I8="",L8=""),"Missing Required Input",IF(OR(COUNTIF('Assets'!$K$5:$K$104,H8)=0,COUNTIF('Assets'!$K$5:$K$104,I8)=0),"Unknown Location",IF(H8=I8,"Origin Equals Destination",IF(AND(OR(L8="Assigned",L8="In Progress",L8="Held",L8="Completed"),OR(J8="",K8="",M8="")),"Missing Assignment Details",IF(AND(OR(L8="In Progress",L8="Held",L8="Completed"),N8=""),"Missing Start Time",IF(AND(L8="Completed",O8=""),"Missing Completion Time",IF(AND(M8<>"",B8<>"",M8<B8),"Check Assigned Time",IF(AND(N8<>"",M8<>"",N8<M8),"Check Start Time",IF(AND(O8<>"",N8<>"",O8<N8),"Check Completion Time",IF(AND(L8="Held",OR(U8="",U8="None")),"Missing Delay Reason",IF(OR(AND(J8<>"",COUNTIF('Assets'!$F$5:$F$104,J8)=0),AND(K8<>"",COUNTIF('Assets'!$A$5:$A$104,K8)=0)),"Unknown Resource","OK")))))))))))))),"Check Formula")
A9: YM-1004 | B9: 46272.847 | C9: Normal | D9: Empty Spot | E9: TRL-88027 | F9: XPO | G9: Empty | H9: Empty Row A | I9: Door 18 | J9: Kevin Brooks | K9: YT-02 | L9: Assigned | M9: 46272.854 | P9: =IF(OR(A9="",B9=""),"",IF(M9<>"",IFERROR(ROUND((M9-B9)*1440,0),""),IF(OR(L9="Requested",L9="Assigned",L9="In Progress",L9="Held"),IFERROR(ROUND((NOW()-B9)*1440,0),""),""))) | Q9: =IF(OR(A9="",N9=""),"",IF(O9<>"",IFERROR(ROUND((O9-N9)*1440,0),""),IF(OR(L9="In Progress",L9="Held"),IFERROR(ROUND((NOW()-N9)*1440,0),""),""))) | R9: =IF(OR(A9="",B9=""),"",IF(O9<>"",IFERROR(ROUND((O9-B9)*1440,0),""),IF(L9="Canceled","",IF(OR(L9="Requested",L9="Assigned",L9="In Progress",L9="Held"),IFERROR(ROUND((NOW()-B9)*1440,0),""),"")))) | S9: =IF(A9="","",IFERROR(VLOOKUP(C9,'Settings'!$A$11:$B$14,2,FALSE),"")) | T9: =IF(A9="","",IF(L9="Canceled","N/A",IF(OR(L9="",R9="",S9=""),"",IF(R9<=S9,IF(L9="Completed","Met","Open - On Track"),IF(L9="Completed","Missed","Open - Overdue"))))) | U9: None | V9: Empty needed for next load. | W9: =IF(OR(A9="",Q9=""),"",IFERROR(ROUND(Q9/60*'Settings'!$B$4,2),"")) | X9: =IFERROR(IF(A9="","",IF(COUNTIF($A$6:$A$305,A9)>1,"Duplicate Move ID",IF(OR(B9="",C9="",D9="",E9="",F9="",G9="",H9="",I9="",L9=""),"Missing Required Input",IF(OR(COUNTIF('Assets'!$K$5:$K$104,H9)=0,COUNTIF('Assets'!$K$5:$K$104,I9)=0),"Unknown Location",IF(H9=I9,"Origin Equals Destination",IF(AND(OR(L9="Assigned",L9="In Progress",L9="Held",L9="Completed"),OR(J9="",K9="",M9="")),"Missing Assignment Details",IF(AND(OR(L9="In Progress",L9="Held",L9="Completed"),N9=""),"Missing Start Time",IF(AND(L9="Completed",O9=""),"Missing Completion Time",IF(AND(M9<>"",B9<>"",M9<B9),"Check Assigned Time",IF(AND(N9<>"",M9<>"",N9<M9),"Check Start Time",IF(AND(O9<>"",N9<>"",O9<N9),"Check Completion Time",IF(AND(L9="Held",OR(U9="",U9="None")),"Missing Delay Reason",IF(OR(AND(J9<>"",COUNTIF('Assets'!$F$5:$F$104,J9)=0),AND(K9<>"",COUNTIF('Assets'!$A$5:$A$104,K9)=0)),"Unknown Resource","OK")))))))))))))),"Check Formula")
A10: YM-1005 | B10: 46272.856 | C10: Critical | D10: Gate-to-Dock | E10: TRL-29461 | F10: TForce Freight | G10: Loaded | H10: Gate Check-In | I10: Door 7 | L10: Requested | P10: =IF(OR(A10="",B10=""),"",IF(M10<>"",IFERROR(ROUND((M10-B10)*1440,0),""),IF(OR(L10="Requested",L10="Assigned",L10="In Progress",L10="Held"),IFERROR(ROUND((NOW()-B10)*1440,0),""),""))) | Q10: =IF(OR(A10="",N10=""),"",IF(O10<>"",IFERROR(ROUND((O10-N10)*1440,0),""),IF(OR(L10="In Progress",L10="Held"),IFERROR(ROUND((NOW()-N10)*1440,0),""),""))) | R10: =IF(OR(A10="",B10=""),"",IF(O10<>"",IFERROR(ROUND((O10-B10)*1440,0),""),IF(L10="Canceled","",IF(OR(L10="Requested",L10="Assigned",L10="In Progress",L10="Held"),IFERROR(ROUND((NOW()-B10)*1440,0),""),"")))) | S10: =IF(A10="","",IFERROR(VLOOKUP(C10,'Settings'!$A$11:$B$14,2,FALSE),"")) | T10: =IF(A10="","",IF(L10="Canceled","N/A",IF(OR(L10="",R10="",S10=""),"",IF(R10<=S10,IF(L10="Completed","Met","Open - On Track"),IF(L10="Completed","Missed","Open - Overdue"))))) | U10: None | V10: Expedite live unload. | W10: =IF(OR(A10="",Q10=""),"",IFERROR(ROUND(Q10/60*'Settings'!$B$4,2),"")) | X10: =IFERROR(IF(A10="","",IF(COUNTIF($A$6:$A$305,A10)>1,"Duplicate Move ID",IF(OR(B10="",C10="",D10="",E10="",F10="",G10="",H10="",I10="",L10=""),"Missing Required Input",IF(OR(COUNTIF('Assets'!$K$5:$K$104,H10)=0,COUNTIF('Assets'!$K$5:$K$104,I10)=0),"Unknown Location",IF(H10=I10,"Origin Equals Destination",IF(AND(OR(L10="Assigned",L10="In Progress",L10="Held",L10="Completed"),OR(J10="",K10="",M10="")),"Missing Assignment Details",IF(AND(OR(L10="In Progress",L10="Held",L10="Completed"),N10=""),"Missing Start Time",IF(AND(L10="Completed",O10=""),"Missing Completion Time",IF(AND(M10<>"",B10<>"",M10<B10),"Check Assigned Time",IF(AND(N10<>"",M10<>"",N10<M10),"Check Start Time",IF(AND(O10<>"",N10<>"",O10<N10),"Check Completion Time",IF(AND(L10="Held",OR(U10="",U10="None")),"Missing Delay Reason",IF(OR(AND(J10<>"",COUNTIF('Assets'!$F$5:$F$104,J10)=0),AND(K10<>"",COUNTIF('Assets'!$A$5:$A$104,K10)=0)),"Unknown Resource","OK")))))))))))))),"Check Formula")
A11: YM-1006 | B11: 46272.816 | C11: High | D11: Dock-to-Yard | E11: TRL-66732 | F11: Saia | G11: Loaded | H11: Door 12 | I11: Outbound Row B | J11: Maria Lopez | K11: YT-01 | L11: Held | M11: 46272.819 | N11: 46272.823 | P11: =IF(OR(A11="",B11=""),"",IF(M11<>"",IFERROR(ROUND((M11-B11)*1440,0),""),IF(OR(L11="Requested",L11="Assigned",L11="In Progress",L11="Held"),IFERROR(ROUND((NOW()-B11)*1440,0),""),""))) | Q11: =IF(OR(A11="",N11=""),"",IF(O11<>"",IFERROR(ROUND((O11-N11)*1440,0),""),IF(OR(L11="In Progress",L11="Held"),IFERROR(ROUND((NOW()-N11)*1440,0),""),""))) | R11: =IF(OR(A11="",B11=""),"",IF(O11<>"",IFERROR(ROUND((O11-B11)*1440,0),""),IF(L11="Canceled","",IF(OR(L11="Requested",L11="Assigned",L11="In Progress",L11="Held"),IFERROR(ROUND((NOW()-B11)*1440,0),""),"")))) | S11: =IF(A11="","",IFERROR(VLOOKUP(C11,'Settings'!$A$11:$B$14,2,FALSE),"")) | T11: =IF(A11="","",IF(L11="Canceled","N/A",IF(OR(L11="",R11="",S11=""),"",IF(R11<=S11,IF(L11="Completed","Met","Open - On Track"),IF(L11="Completed","Missed","Open - Overdue"))))) | U11: Blocked Lane | V11: Destination lane blocked. | W11: =IF(OR(A11="",Q11=""),"",IFERROR(ROUND(Q11/60*'Settings'!$B$4,2),"")) | X11: =IFERROR(IF(A11="","",IF(COUNTIF($A$6:$A$305,A11)>1,"Duplicate Move ID",IF(OR(B11="",C11="",D11="",E11="",F11="",G11="",H11="",I11="",L11=""),"Missing Required Input",IF(OR(COUNTIF('Assets'!$K$5:$K$104,H11)=0,COUNTIF('Assets'!$K$5:$K$104,I11)=0),"Unknown Location",IF(H11=I11,"Origin Equals Destination",IF(AND(OR(L11="Assigned",L11="In Progress",L11="Held",L11="Completed"),OR(J11="",K11="",M11="")),"Missing Assignment Details",IF(AND(OR(L11="In Progress",L11="Held",L11="Completed"),N11=""),"Missing Start Time",IF(AND(L11="Completed",O11=""),"Missing Completion Time",IF(AND(M11<>"",B11<>"",M11<B11),"Check Assigned Time",IF(AND(N11<>"",M11<>"",N11<M11),"Check Start Time",IF(AND(O11<>"",N11<>"",O11<N11),"Check Completion Time",IF(AND(L11="Held",OR(U11="",U11="None")),"Missing Delay Reason",IF(OR(AND(J11<>"",COUNTIF('Assets'!$F$5:$F$104,J11)=0),AND(K11<>"",COUNTIF('Assets'!$A$5:$A$104,K11)=0)),"Unknown Resource","OK")))))))))))))),"Check Formula")
A12: YM-1007 | B12: 46272.774 | C12: Normal | D12: Maintenance Move | E12: TRL-10294 | F12: Ryder | G12: Empty | H12: Drop Lot | I12: Maintenance Pad | J12: Daniel Reed | K12: YT-04 | L12: Completed | M12: 46272.778 | N12: 46272.781 | O12: 46272.799 | P12: =IF(OR(A12="",B12=""),"",IF(M12<>"",IFERROR(ROUND((M12-B12)*1440,0),""),IF(OR(L12="Requested",L12="Assigned",L12="In Progress",L12="Held"),IFERROR(ROUND((NOW()-B12)*1440,0),""),""))) | Q12: =IF(OR(A12="",N12=""),"",IF(O12<>"",IFERROR(ROUND((O12-N12)*1440,0),""),IF(OR(L12="In Progress",L12="Held"),IFERROR(ROUND((NOW()-N12)*1440,0),""),""))) | R12: =IF(OR(A12="",B12=""),"",IF(O12<>"",IFERROR(ROUND((O12-B12)*1440,0),""),IF(L12="Canceled","",IF(OR(L12="Requested",L12="Assigned",L12="In Progress",L12="Held"),IFERROR(ROUND((NOW()-B12)*1440,0),""),"")))) | S12: =IF(A12="","",IFERROR(VLOOKUP(C12,'Settings'!$A$11:$B$14,2,FALSE),"")) | T12: =IF(A12="","",IF(L12="Canceled","N/A",IF(OR(L12="",R12="",S12=""),"",IF(R12<=S12,IF(L12="Completed","Met","Open - On Track"),IF(L12="Completed","Missed","Open - Overdue"))))) | U12: None | V12: Tire inspection requested. | W12: =IF(OR(A12="",Q12=""),"",IFERROR(ROUND(Q12/60*'Settings'!$B$4,2),"")) | X12: =IFERROR(IF(A12="","",IF(COUNTIF($A$6:$A$305,A12)>1,"Duplicate Move ID",IF(OR(B12="",C12="",D12="",E12="",F12="",G12="",H12="",I12="",L12=""),"Missing Required Input",IF(OR(COUNTIF('Assets'!$K$5:$K$104,H12)=0,COUNTIF('Assets'!$K$5:$K$104,I12)=0),"Unknown Location",IF(H12=I12,"Origin Equals Destination",IF(AND(OR(L12="Assigned",L12="In Progress",L12="Held",L12="Completed"),OR(J12="",K12="",M12="")),"Missing Assignment Details",IF(AND(OR(L12="In Progress",L12="Held",L12="Completed"),N12=""),"Missing Start Time",IF(AND(L12="Completed",O12=""),"Missing Completion Time",IF(AND(M12<>"",B12<>"",M12<B12),"Check Assigned Time",IF(AND(N12<>"",M12<>"",N12<M12),"Check Start Time",IF(AND(O12<>"",N12<>"",O12<N12),"Check Completion Time",IF(AND(L12="Held",OR(U12="",U12="None")),"Missing Delay Reason",IF(OR(AND(J12<>"",COUNTIF('Assets'!$F$5:$F$104,J12)=0),AND(K12<>"",COUNTIF('Assets'!$A$5:$A$104,K12)=0)),"Unknown Resource","OK")))))))))))))),"Check Formula")
A13: YM-1008 | B13: 46272.788 | C13: Low | D13: Yard Reposition | E13: TRL-45376 | F13: Schneider | G13: Empty | H13: Empty Row B | I13: Wash Bay | L13: Canceled | P13: =IF(OR(A13="",B13=""),"",IF(M13<>"",IFERROR(ROUND((M13-B13)*1440,0),""),IF(OR(L13="Requested",L13="Assigned",L13="In Progress",L13="Held"),IFERROR(ROUND((NOW()-B13)*1440,0),""),""))) | Q13: =IF(OR(A13="",N13=""),"",IF(O13<>"",IFERROR(ROUND((O13-N13)*1440,0),""),IF(OR(L13="In Progress",L13="Held"),IFERROR(ROUND((NOW()-N13)*1440,0),""),""))) | R13: =IF(OR(A13="",B13=""),"",IF(O13<>"",IFERROR(ROUND((O13-B13)*1440,0),""),IF(L13="Canceled","",IF(OR(L13="Requested",L13="Assigned",L13="In Progress",L13="Held"),IFERROR(ROUND((NOW()-B13)*1440,0),""),"")))) | S13: =IF(A13="","",IFERROR(VLOOKUP(C13,'Settings'!$A$11:$B$14,2,FALSE),"")) | T13: =IF(A13="","",IF(L13="Canceled","N/A",IF(OR(L13="",R13="",S13=""),"",IF(R13<=S13,IF(L13="Completed","Met","Open - On Track"),IF(L13="Completed","Missed","Open - Overdue"))))) | U13: Trailer Not Ready | V13: Duplicate request withdrawn. | W13: =IF(OR(A13="",Q13=""),"",IFERROR(ROUND(Q13/60*'Settings'!$B$4,2),"")) | X13: =IFERROR(IF(A13="","",IF(COUNTIF($A$6:$A$305,A13)>1,"Duplicate Move ID",IF(OR(B13="",C13="",D13="",E13="",F13="",G13="",H13="",I13="",L13=""),"Missing Required Input",IF(OR(COUNTIF('Assets'!$K$5:$K$104,H13)=0,COUNTIF('Assets'!$K$5:$K$104,I13)=0),"Unknown Location",IF(H13=I13,"Origin Equals Destination",IF(AND(OR(L13="Assigned",L13="In Progress",L13="Held",L13="Completed"),OR(J13="",K13="",M13="")),"Missing Assignment Details",IF(AND(OR(L13="In Progress",L13="Held",L13="Completed"),N13=""),"Missing Start Time",IF(AND(L13="Completed",O13=""),"Missing Completion Time",IF(AND(M13<>"",B13<>"",M13<B13),"Check Assigned Time",IF(AND(N13<>"",M13<>"",N13<M13),"Check Start Time",IF(AND(O13<>"",N13<>"",O13<N13),"Check Completion Time",IF(AND(L13="Held",OR(U13="",U13="None")),"Missing Delay Reason",IF(OR(AND(J13<>"",COUNTIF('Assets'!$F$5:$F$104,J13)=0),AND(K13<>"",COUNTIF('Assets'!$A$5:$A$104,K13)=0)),"Unknown Resource","OK")))))))))))))),"Check Formula")
A14: YM-1009 | B14: 46272.802 | C14: Critical | D14: Gate-to-Dock | E14: TRL-90518 | F14: J.B. Hunt | G14: Loaded | H14: Gate Check-In | I14: Door 18 | J14: Aisha Carter | K14: YT-03 | L14: Completed | M14: 46272.806 | N14: 46272.809 | O14: 46272.83 | P14: =IF(OR(A14="",B14=""),"",IF(M14<>"",IFERROR(ROUND((M14-B14)*1440,0),""),IF(OR(L14="Requested",L14="Assigned",L14="In Progress",L14="Held"),IFERROR(ROUND((NOW()-B14)*1440,0),""),""))) | Q14: =IF(OR(A14="",N14=""),"",IF(O14<>"",IFERROR(ROUND((O14-N14)*1440,0),""),IF(OR(L14="In Progress",L14="Held"),IFERROR(ROUND((NOW()-N14)*1440,0),""),""))) | R14: =IF(OR(A14="",B14=""),"",IF(O14<>"",IFERROR(ROUND((O14-B14)*1440,0),""),IF(L14="Canceled","",IF(OR(L14="Requested",L14="Assigned",L14="In Progress",L14="Held"),IFERROR(ROUND((NOW()-B14)*1440,0),""),"")))) | S14: =IF(A14="","",IFERROR(VLOOKUP(C14,'Settings'!$A$11:$B$14,2,FALSE),"")) | T14: =IF(A14="","",IF(L14="Canceled","N/A",IF(OR(L14="",R14="",S14=""),"",IF(R14<=S14,IF(L14="Completed","Met","Open - On Track"),IF(L14="Completed","Missed","Open - Overdue"))))) | U14: Documentation | V14: Bill of lading release delayed. | W14: =IF(OR(A14="",Q14=""),"",IFERROR(ROUND(Q14/60*'Settings'!$B$4,2),"")) | X14: =IFERROR(IF(A14="","",IF(COUNTIF($A$6:$A$305,A14)>1,"Duplicate Move ID",IF(OR(B14="",C14="",D14="",E14="",F14="",G14="",H14="",I14="",L14=""),"Missing Required Input",IF(OR(COUNTIF('Assets'!$K$5:$K$104,H14)=0,COUNTIF('Assets'!$K$5:$K$104,I14)=0),"Unknown Location",IF(H14=I14,"Origin Equals Destination",IF(AND(OR(L14="Assigned",L14="In Progress",L14="Held",L14="Completed"),OR(J14="",K14="",M14="")),"Missing Assignment Details",IF(AND(OR(L14="In Progress",L14="Held",L14="Completed"),N14=""),"Missing Start Time",IF(AND(L14="Completed",O14=""),"Missing Completion Time",IF(AND(M14<>"",B14<>"",M14<B14),"Check Assigned Time",IF(AND(N14<>"",M14<>"",N14<M14),"Check Start Time",IF(AND(O14<>"",N14<>"",O14<N14),"Check Completion Time",IF(AND(L14="Held",OR(U14="",U14="None")),"Missing Delay Reason",IF(OR(AND(J14<>"",COUNTIF('Assets'!$F$5:$F$104,J14)=0),AND(K14<>"",COUNTIF('Assets'!$A$5:$A$104,K14)=0)),"Unknown Resource","OK")))))))))))))),"Check Formula")
A15: YM-1010 | B15: 46272.833 | C15: High | D15: Dock-to-Yard | E15: TRL-34802 | F15: Werner | G15: Loaded | H15: Door 7 | I15: Outbound Row A | J15: Kevin Brooks | K15: YT-02 | L15: Completed | M15: 46272.835 | N15: 46272.837 | O15: 46272.854 | P15: =IF(OR(A15="",B15=""),"",IF(M15<>"",IFERROR(ROUND((M15-B15)*1440,0),""),IF(OR(L15="Requested",L15="Assigned",L15="In Progress",L15="Held"),IFERROR(ROUND((NOW()-B15)*1440,0),""),""))) | Q15: =IF(OR(A15="",N15=""),"",IF(O15<>"",IFERROR(ROUND((O15-N15)*1440,0),""),IF(OR(L15="In Progress",L15="Held"),IFERROR(ROUND((NOW()-N15)*1440,0),""),""))) | R15: =IF(OR(A15="",B15=""),"",IF(O15<>"",IFERROR(ROUND((O15-B15)*1440,0),""),IF(L15="Canceled","",IF(OR(L15="Requested",L15="Assigned",L15="In Progress",L15="Held"),IFERROR(ROUND((NOW()-B15)*1440,0),""),"")))) | S15: =IF(A15="","",IFERROR(VLOOKUP(C15,'Settings'!$A$11:$B$14,2,FALSE),"")) | T15: =IF(A15="","",IF(L15="Canceled","N/A",IF(OR(L15="",R15="",S15=""),"",IF(R15<=S15,IF(L15="Completed","Met","Open - On Track"),IF(L15="Completed","Missed","Open - Overdue"))))) | U15: None | V15: Staged for afternoon departure. | W15: =IF(OR(A15="",Q15=""),"",IFERROR(ROUND(Q15/60*'Settings'!$B$4,2),"")) | X15: =IFERROR(IF(A15="","",IF(COUNTIF($A$6:$A$305,A15)>1,"Duplicate Move ID",IF(OR(B15="",C15="",D15="",E15="",F15="",G15="",H15="",I15="",L15=""),"Missing Required Input",IF(OR(COUNTIF('Assets'!$K$5:$K$104,H15)=0,COUNTIF('Assets'!$K$5:$K$104,I15)=0),"Unknown Location",IF(H15=I15,"Origin Equals Destination",IF(AND(OR(L15="Assigned",L15="In Progress",L15="Held",L15="Completed"),OR(J15="",K15="",M15="")),"Missing Assignment Details",IF(AND(OR(L15="In Progress",L15="Held",L15="Completed"),N15=""),"Missing Start Time",IF(AND(L15="Completed",O15=""),"Missing Completion Time",IF(AND(M15<>"",B15<>"",M15<B15),"Check Assigned Time",IF(AND(N15<>"",M15<>"",N15<M15),"Check Start Time",IF(AND(O15<>"",N15<>"",O15<N15),"Check Completion Time",IF(AND(L15="Held",OR(U15="",U15="None")),"Missing Delay Reason",IF(OR(AND(J15<>"",COUNTIF('Assets'!$F$5:$F$104,J15)=0),AND(K15<>"",COUNTIF('Assets'!$A$5:$A$104,K15)=0)),"Unknown Resource","OK")))))))))))))),"Check Formula")
P16: =IF(OR(A16="",B16=""),"",IF(M16<>"",IFERROR(ROUND((M16-B16)*1440,0),""),IF(OR(L16="Requested",L16="Assigned",L16="In Progress",L16="Held"),IFERROR(ROUND((NOW()-B16)*1440,0),""),""))) | Q16: =IF(OR(A16="",N16=""),"",IF(O16<>"",IFERROR(ROUND((O16-N16)*1440,0),""),IF(OR(L16="In Progress",L16="Held"),IFERROR(ROUND((NOW()-N16)*1440,0),""),""))) | R16: =IF(OR(A16="",B16=""),"",IF(O16<>"",IFERROR(ROUND((O16-B16)*1440,0),""),IF(L16="Canceled","",IF(OR(L16="Requested",L16="Assigned",L16="In Progress",L16="Held"),IFERROR(ROUND((NOW()-B16)*1440,0),""),"")))) | S16: =IF(A16="","",IFERROR(VLOOKUP(C16,'Settings'!$A$11:$B$14,2,FALSE),"")) | T16: =IF(A16="","",IF(L16="Canceled","N/A",IF(OR(L16="",R16="",S16=""),"",IF(R16<=S16,IF(L16="Completed","Met","Open - On Track"),IF(L16="Completed","Missed","Open - Overdue"))))) | W16: =IF(OR(A16="",Q16=""),"",IFERROR(ROUND(Q16/60*'Settings'!$B$4,2),"")) | X16: =IFERROR(IF(A16="","",IF(COUNTIF($A$6:$A$305,A16)>1,"Duplicate Move ID",IF(OR(B16="",C16="",D16="",E16="",F16="",G16="",H16="",I16="",L16=""),"Missing Required Input",IF(OR(COUNTIF('Assets'!$K$5:$K$104,H16)=0,COUNTIF('Assets'!$K$5:$K$104,I16)=0),"Unknown Location",IF(H16=I16,"Origin Equals Destination",IF(AND(OR(L16="Assigned",L16="In Progress",L16="Held",L16="Completed"),OR(J16="",K16="",M16="")),"Missing Assignment Details",IF(AND(OR(L16="In Progress",L16="Held",L16="Completed"),N16=""),"Missing Start Time",IF(AND(L16="Completed",O16=""),"Missing Completion Time",IF(AND(M16<>"",B16<>"",M16<B16),"Check Assigned Time",IF(AND(N16<>"",M16<>"",N16<M16),"Check Start Time",IF(AND(O16<>"",N16<>"",O16<N16),"Check Completion Time",IF(AND(L16="Held",OR(U16="",U16="None")),"Missing Delay Reason",IF(OR(AND(J16<>"",COUNTIF('Assets'!$F$5:$F$104,J16)=0),AND(K16<>"",COUNTIF('Assets'!$A$5:$A$104,K16)=0)),"Unknown Resource","OK")))))))))))))),"Check Formula")
P17: =IF(OR(A17="",B17=""),"",IF(M17<>"",IFERROR(ROUND((M17-B17)*1440,0),""),IF(OR(L17="Requested",L17="Assigned",L17="In Progress",L17="Held"),IFERROR(ROUND((NOW()-B17)*1440,0),""),""))) | Q17: =IF(OR(A17="",N17=""),"",IF(O17<>"",IFERROR(ROUND((O17-N17)*1440,0),""),IF(OR(L17="In Progress",L17="Held"),IFERROR(ROUND((NOW()-N17)*1440,0),""),""))) | R17: =IF(OR(A17="",B17=""),"",IF(O17<>"",IFERROR(ROUND((O17-B17)*1440,0),""),IF(L17="Canceled","",IF(OR(L17="Requested",L17="Assigned",L17="In Progress",L17="Held"),IFERROR(ROUND((NOW()-B17)*1440,0),""),"")))) | S17: =IF(A17="","",IFERROR(VLOOKUP(C17,'Settings'!$A$11:$B$14,2,FALSE),"")) | T17: =IF(A17="","",IF(L17="Canceled","N/A",IF(OR(L17="",R17="",S17=""),"",IF(R17<=S17,IF(L17="Completed","Met","Open - On Track"),IF(L17="Completed","Missed","Open - Overdue"))))) | W17: =IF(OR(A17="",Q17=""),"",IFERROR(ROUND(Q17/60*'Settings'!$B$4,2),"")) | X17: =IFERROR(IF(A17="","",IF(COUNTIF($A$6:$A$305,A17)>1,"Duplicate Move ID",IF(OR(B17="",C17="",D17="",E17="",F17="",G17="",H17="",I17="",L17=""),"Missing Required Input",IF(OR(COUNTIF('Assets'!$K$5:$K$104,H17)=0,COUNTIF('Assets'!$K$5:$K$104,I17)=0),"Unknown Location",IF(H17=I17,"Origin Equals Destination",IF(AND(OR(L17="Assigned",L17="In Progress",L17="Held",L17="Completed"),OR(J17="",K17="",M17="")),"Missing Assignment Details",IF(AND(OR(L17="In Progress",L17="Held",L17="Completed"),N17=""),"Missing Start Time",IF(AND(L17="Completed",O17=""),"Missing Completion Time",IF(AND(M17<>"",B17<>"",M17<B17),"Check Assigned Time",IF(AND(N17<>"",M17<>"",N17<M17),"Check Start Time",IF(AND(O17<>"",N17<>"",O17<N17),"Check Completion Time",IF(AND(L17="Held",OR(U17="",U17="None")),"Missing Delay Reason",IF(OR(AND(J17<>"",COUNTIF('Assets'!$F$5:$F$104,J17)=0),AND(K17<>"",COUNTIF('Assets'!$A$5:$A$104,K17)=0)),"Unknown Resource","OK")))))))))))))),"Check Formula")
P18: =IF(OR(A18="",B18=""),"",IF(M18<>"",IFERROR(ROUND((M18-B18)*1440,0),""),IF(OR(L18="Requested",L18="Assigned",L18="In Progress",L18="Held"),IFERROR(ROUND((NOW()-B18)*1440,0),""),""))) | Q18: =IF(OR(A18="",N18=""),"",IF(O18<>"",IFERROR(ROUND((O18-N18)*1440,0),""),IF(OR(L18="In Progress",L18="Held"),IFERROR(ROUND((NOW()-N18)*1440,0),""),""))) | R18: =IF(OR(A18="",B18=""),"",IF(O18<>"",IFERROR(ROUND((O18-B18)*1440,0),""),IF(L18="Canceled","",IF(OR(L18="Requested",L18="Assigned",L18="In Progress",L18="Held"),IFERROR(ROUND((NOW()-B18)*1440,0),""),"")))) | S18: =IF(A18="","",IFERROR(VLOOKUP(C18,'Settings'!$A$11:$B$14,2,FALSE),"")) | T18: =IF(A18="","",IF(L18="Canceled","N/A",IF(OR(L18="",R18="",S18=""),"",IF(R18<=S18,IF(L18="Completed","Met","Open - On Track"),IF(L18="Completed","Missed","Open - Overdue"))))) | W18: =IF(OR(A18="",Q18=""),"",IFERROR(ROUND(Q18/60*'Settings'!$B$4,2),"")) | X18: =IFERROR(IF(A18="","",IF(COUNTIF($A$6:$A$305,A18)>1,"Duplicate Move ID",IF(OR(B18="",C18="",D18="",E18="",F18="",G18="",H18="",I18="",L18=""),"Missing Required Input",IF(OR(COUNTIF('Assets'!$K$5:$K$104,H18)=0,COUNTIF('Assets'!$K$5:$K$104,I18)=0),"Unknown Location",IF(H18=I18,"Origin Equals Destination",IF(AND(OR(L18="Assigned",L18="In Progress",L18="Held",L18="Completed"),OR(J18="",K18="",M18="")),"Missing Assignment Details",IF(AND(OR(L18="In Progress",L18="Held",L18="Completed"),N18=""),"Missing Start Time",IF(AND(L18="Completed",O18=""),"Missing Completion Time",IF(AND(M18<>"",B18<>"",M18<B18),"Check Assigned Time",IF(AND(N18<>"",M18<>"",N18<M18),"Check Start Time",IF(AND(O18<>"",N18<>"",O18<N18),"Check Completion Time",IF(AND(L18="Held",OR(U18="",U18="None")),"Missing Delay Reason",IF(OR(AND(J18<>"",COUNTIF('Assets'!$F$5:$F$104,J18)=0),AND(K18<>"",COUNTIF('Assets'!$A$5:$A$104,K18)=0)),"Unknown Resource","OK")))))))))))))),"Check Formula")
P19: =IF(OR(A19="",B19=""),"",IF(M19<>"",IFERROR(ROUND((M19-B19)*1440,0),""),IF(OR(L19="Requested",L19="Assigned",L19="In Progress",L19="Held"),IFERROR(ROUND((NOW()-B19)*1440,0),""),""))) | Q19: =IF(OR(A19="",N19=""),"",IF(O19<>"",IFERROR(ROUND((O19-N19)*1440,0),""),IF(OR(L19="In Progress",L19="Held"),IFERROR(ROUND((NOW()-N19)*1440,0),""),""))) | R19: =IF(OR(A19="",B19=""),"",IF(O19<>"",IFERROR(ROUND((O19-B19)*1440,0),""),IF(L19="Canceled","",IF(OR(L19="Requested",L19="Assigned",L19="In Progress",L19="Held"),IFERROR(ROUND((NOW()-B19)*1440,0),""),"")))) | S19: =IF(A19="","",IFERROR(VLOOKUP(C19,'Settings'!$A$11:$B$14,2,FALSE),"")) | T19: =IF(A19="","",IF(L19="Canceled","N/A",IF(OR(L19="",R19="",S19=""),"",IF(R19<=S19,IF(L19="Completed","Met","Open - On Track"),IF(L19="Completed","Missed","Open - Overdue"))))) | W19: =IF(OR(A19="",Q19=""),"",IFERROR(ROUND(Q19/60*'Settings'!$B$4,2),"")) | X19: =IFERROR(IF(A19="","",IF(COUNTIF($A$6:$A$305,A19)>1,"Duplicate Move ID",IF(OR(B19="",C19="",D19="",E19="",F19="",G19="",H19="",I19="",L19=""),"Missing Required Input",IF(OR(COUNTIF('Assets'!$K$5:$K$104,H19)=0,COUNTIF('Assets'!$K$5:$K$104,I19)=0),"Unknown Location",IF(H19=I19,"Origin Equals Destination",IF(AND(OR(L19="Assigned",L19="In Progress",L19="Held",L19="Completed"),OR(J19="",K19="",M19="")),"Missing Assignment Details",IF(AND(OR(L19="In Progress",L19="Held",L19="Completed"),N19=""),"Missing Start Time",IF(AND(L19="Completed",O19=""),"Missing Completion Time",IF(AND(M19<>"",B19<>"",M19<B19),"Check Assigned Time",IF(AND(N19<>"",M19<>"",N19<M19),"Check Start Time",IF(AND(O19<>"",N19<>"",O19<N19),"Check Completion Time",IF(AND(L19="Held",OR(U19="",U19="None")),"Missing Delay Reason",IF(OR(AND(J19<>"",COUNTIF('Assets'!$F$5:$F$104,J19)=0),AND(K19<>"",COUNTIF('Assets'!$A$5:$A$104,K19)=0)),"Unknown Resource","OK")))))))))))))),"Check Formula")
P20: =IF(OR(A20="",B20=""),"",IF(M20<>"",IFERROR(ROUND((M20-B20)*1440,0),""),IF(OR(L20="Requested",L20="Assigned",L20="In Progress",L20="Held"),IFERROR(ROUND((NOW()-B20)*1440,0),""),""))) | Q20: =IF(OR(A20="",N20=""),"",IF(O20<>"",IFERROR(ROUND((O20-N20)*1440,0),""),IF(OR(L20="In Progress",L20="Held"),IFERROR(ROUND((NOW()-N20)*1440,0),""),""))) | R20: =IF(OR(A20="",B20=""),"",IF(O20<>"",IFERROR(ROUND((O20-B20)*1440,0),""),IF(L20="Canceled","",IF(OR(L20="Requested",L20="Assigned",L20="In Progress",L20="Held"),IFERROR(ROUND((NOW()-B20)*1440,0),""),"")))) | S20: =IF(A20="","",IFERROR(VLOOKUP(C20,'Settings'!$A$11:$B$14,2,FALSE),"")) | T20: =IF(A20="","",IF(L20="Canceled","N/A",IF(OR(L20="",R20="",S20=""),"",IF(R20<=S20,IF(L20="Completed","Met","Open - On Track"),IF(L20="Completed","Missed","Open - Overdue"))))) | W20: =IF(OR(A20="",Q20=""),"",IFERROR(ROUND(Q20/60*'Settings'!$B$4,2),"")) | X20: =IFERROR(IF(A20="","",IF(COUNTIF($A$6:$A$305,A20)>1,"Duplicate Move ID",IF(OR(B20="",C20="",D20="",E20="",F20="",G20="",H20="",I20="",L20=""),"Missing Required Input",IF(OR(COUNTIF('Assets'!$K$5:$K$104,H20)=0,COUNTIF('Assets'!$K$5:$K$104,I20)=0),"Unknown Location",IF(H20=I20,"Origin Equals Destination",IF(AND(OR(L20="Assigned",L20="In Progress",L20="Held",L20="Completed"),OR(J20="",K20="",M20="")),"Missing Assignment Details",IF(AND(OR(L20="In Progress",L20="Held",L20="Completed"),N20=""),"Missing Start Time",IF(AND(L20="Completed",O20=""),"Missing Completion Time",IF(AND(M20<>"",B20<>"",M20<B20),"Check Assigned Time",IF(AND(N20<>"",M20<>"",N20<M20),"Check Start Time",IF(AND(O20<>"",N20<>"",O20<N20),"Check Completion Time",IF(AND(L20="Held",OR(U20="",U20="None")),"Missing Delay Reason",IF(OR(AND(J20<>"",COUNTIF('Assets'!$F$5:$F$104,J20)=0),AND(K20<>"",COUNTIF('Assets'!$A$5:$A$104,K20)=0)),"Unknown Resource","OK")))))))))))))),"Check Formula")
P21: =IF(OR(A21="",B21=""),"",IF(M21<>"",IFERROR(ROUND((M21-B21)*1440,0),""),IF(OR(L21="Requested",L21="Assigned",L21="In Progress",L21="Held"),IFERROR(ROUND((NOW()-B21)*1440,0),""),""))) | Q21: =IF(OR(A21="",N21=""),"",IF(O21<>"",IFERROR(ROUND((O21-N21)*1440,0),""),IF(OR(L21="In Progress",L21="Held"),IFERROR(ROUND((NOW()-N21)*1440,0),""),""))) | R21: =IF(OR(A21="",B21=""),"",IF(O21<>"",IFERROR(ROUND((O21-B21)*1440,0),""),IF(L21="Canceled","",IF(OR(L21="Requested",L21="Assigned",L21="In Progress",L21="Held"),IFERROR(ROUND((NOW()-B21)*1440,0),""),"")))) | S21: =IF(A21="","",IFERROR(VLOOKUP(C21,'Settings'!$A$11:$B$14,2,FALSE),"")) | T21: =IF(A21="","",IF(L21="Canceled","N/A",IF(OR(L21="",R21="",S21=""),"",IF(R21<=S21,IF(L21="Completed","Met","Open - On Track"),IF(L21="Completed","Missed","Open - Overdue"))))) | W21: =IF(OR(A21="",Q21=""),"",IFERROR(ROUND(Q21/60*'Settings'!$B$4,2),"")) | X21: =IFERROR(IF(A21="","",IF(COUNTIF($A$6:$A$305,A21)>1,"Duplicate Move ID",IF(OR(B21="",C21="",D21="",E21="",F21="",G21="",H21="",I21="",L21=""),"Missing Required Input",IF(OR(COUNTIF('Assets'!$K$5:$K$104,H21)=0,COUNTIF('Assets'!$K$5:$K$104,I21)=0),"Unknown Location",IF(H21=I21,"Origin Equals Destination",IF(AND(OR(L21="Assigned",L21="In Progress",L21="Held",L21="Completed"),OR(J21="",K21="",M21="")),"Missing Assignment Details",IF(AND(OR(L21="In Progress",L21="Held",L21="Completed"),N21=""),"Missing Start Time",IF(AND(L21="Completed",O21=""),"Missing Completion Time",IF(AND(M21<>"",B21<>"",M21<B21),"Check Assigned Time",IF(AND(N21<>"",M21<>"",N21<M21),"Check Start Time",IF(AND(O21<>"",N21<>"",O21<N21),"Check Completion Time",IF(AND(L21="Held",OR(U21="",U21="None")),"Missing Delay Reason",IF(OR(AND(J21<>"",COUNTIF('Assets'!$F$5:$F$104,J21)=0),AND(K21<>"",COUNTIF('Assets'!$A$5:$A$104,K21)=0)),"Unknown Resource","OK")))))))))))))),"Check Formula")
P22: =IF(OR(A22="",B22=""),"",IF(M22<>"",IFERROR(ROUND((M22-B22)*1440,0),""),IF(OR(L22="Requested",L22="Assigned",L22="In Progress",L22="Held"),IFERROR(ROUND((NOW()-B22)*1440,0),""),""))) | Q22: =IF(OR(A22="",N22=""),"",IF(O22<>"",IFERROR(ROUND((O22-N22)*1440,0),""),IF(OR(L22="In Progress",L22="Held"),IFERROR(ROUND((NOW()-N22)*1440,0),""),""))) | R22: =IF(OR(A22="",B22=""),"",IF(O22<>"",IFERROR(ROUND((O22-B22)*1440,0),""),IF(L22="Canceled","",IF(OR(L22="Requested",L22="Assigned",L22="In Progress",L22="Held"),IFERROR(ROUND((NOW()-B22)*1440,0),""),"")))) | S22: =IF(A22="","",IFERROR(VLOOKUP(C22,'Settings'!$A$11:$B$14,2,FALSE),"")) | T22: =IF(A22="","",IF(L22="Canceled","N/A",IF(OR(L22="",R22="",S22=""),"",IF(R22<=S22,IF(L22="Completed","Met","Open - On Track"),IF(L22="Completed","Missed","Open - Overdue"))))) | W22: =IF(OR(A22="",Q22=""),"",IFERROR(ROUND(Q22/60*'Settings'!$B$4,2),"")) | X22: =IFERROR(IF(A22="","",IF(COUNTIF($A$6:$A$305,A22)>1,"Duplicate Move ID",IF(OR(B22="",C22="",D22="",E22="",F22="",G22="",H22="",I22="",L22=""),"Missing Required Input",IF(OR(COUNTIF('Assets'!$K$5:$K$104,H22)=0,COUNTIF('Assets'!$K$5:$K$104,I22)=0),"Unknown Location",IF(H22=I22,"Origin Equals Destination",IF(AND(OR(L22="Assigned",L22="In Progress",L22="Held",L22="Completed"),OR(J22="",K22="",M22="")),"Missing Assignment Details",IF(AND(OR(L22="In Progress",L22="Held",L22="Completed"),N22=""),"Missing Start Time",IF(AND(L22="Completed",O22=""),"Missing Completion Time",IF(AND(M22<>"",B22<>"",M22<B22),"Check Assigned Time",IF(AND(N22<>"",M22<>"",N22<M22),"Check Start Time",IF(AND(O22<>"",N22<>"",O22<N22),"Check Completion Time",IF(AND(L22="Held",OR(U22="",U22="None")),"Missing Delay Reason",IF(OR(AND(J22<>"",COUNTIF('Assets'!$F$5:$F$104,J22)=0),AND(K22<>"",COUNTIF('Assets'!$A$5:$A$104,K22)=0)),"Unknown Resource","OK")))))))))))))),"Check Formula")
P23: =IF(OR(A23="",B23=""),"",IF(M23<>"",IFERROR(ROUND((M23-B23)*1440,0),""),IF(OR(L23="Requested",L23="Assigned",L23="In Progress",L23="Held"),IFERROR(ROUND((NOW()-B23)*1440,0),""),""))) | Q23: =IF(OR(A23="",N23=""),"",IF(O23<>"",IFERROR(ROUND((O23-N23)*1440,0),""),IF(OR(L23="In Progress",L23="Held"),IFERROR(ROUND((NOW()-N23)*1440,0),""),""))) | R23: =IF(OR(A23="",B23=""),"",IF(O23<>"",IFERROR(ROUND((O23-B23)*1440,0),""),IF(L23="Canceled","",IF(OR(L23="Requested",L23="Assigned",L23="In Progress",L23="Held"),IFERROR(ROUND((NOW()-B23)*1440,0),""),"")))) | S23: =IF(A23="","",IFERROR(VLOOKUP(C23,'Settings'!$A$11:$B$14,2,FALSE),"")) | T23: =IF(A23="","",IF(L23="Canceled","N/A",IF(OR(L23="",R23="",S23=""),"",IF(R23<=S23,IF(L23="Completed","Met","Open - On Track"),IF(L23="Completed","Missed","Open - Overdue"))))) | W23: =IF(OR(A23="",Q23=""),"",IFERROR(ROUND(Q23/60*'Settings'!$B$4,2),"")) | X23: =IFERROR(IF(A23="","",IF(COUNTIF($A$6:$A$305,A23)>1,"Duplicate Move ID",IF(OR(B23="",C23="",D23="",E23="",F23="",G23="",H23="",I23="",L23=""),"Missing Required Input",IF(OR(COUNTIF('Assets'!$K$5:$K$104,H23)=0,COUNTIF('Assets'!$K$5:$K$104,I23)=0),"Unknown Location",IF(H23=I23,"Origin Equals Destination",IF(AND(OR(L23="Assigned",L23="In Progress",L23="Held",L23="Completed"),OR(J23="",K23="",M23="")),"Missing Assignment Details",IF(AND(OR(L23="In Progress",L23="Held",L23="Completed"),N23=""),"Missing Start Time",IF(AND(L23="Completed",O23=""),"Missing Completion Time",IF(AND(M23<>"",B23<>"",M23<B23),"Check Assigned Time",IF(AND(N23<>"",M23<>"",N23<M23),"Check Start Time",IF(AND(O23<>"",N23<>"",O23<N23),"Check Completion Time",IF(AND(L23="Held",OR(U23="",U23="None")),"Missing Delay Reason",IF(OR(AND(J23<>"",COUNTIF('Assets'!$F$5:$F$104,J23)=0),AND(K23<>"",COUNTIF('Assets'!$A$5:$A$104,K23)=0)),"Unknown Resource","OK")))))))))))))),"Check Formula")
P24: =IF(OR(A24="",B24=""),"",IF(M24<>"",IFERROR(ROUND((M24-B24)*1440,0),""),IF(OR(L24="Requested",L24="Assigned",L24="In Progress",L24="Held"),IFERROR(ROUND((NOW()-B24)*1440,0),""),""))) | Q24: =IF(OR(A24="",N24=""),"",IF(O24<>"",IFERROR(ROUND((O24-N24)*1440,0),""),IF(OR(L24="In Progress",L24="Held"),IFERROR(ROUND((NOW()-N24)*1440,0),""),""))) | R24: =IF(OR(A24="",B24=""),"",IF(O24<>"",IFERROR(ROUND((O24-B24)*1440,0),""),IF(L24="Canceled","",IF(OR(L24="Requested",L24="Assigned",L24="In Progress",L24="Held"),IFERROR(ROUND((NOW()-B24)*1440,0),""),"")))) | S24: =IF(A24="","",IFERROR(VLOOKUP(C24,'Settings'!$A$11:$B$14,2,FALSE),"")) | T24: =IF(A24="","",IF(L24="Canceled","N/A",IF(OR(L24="",R24="",S24=""),"",IF(R24<=S24,IF(L24="Completed","Met","Open - On Track"),IF(L24="Completed","Missed","Open - Overdue"))))) | W24: =IF(OR(A24="",Q24=""),"",IFERROR(ROUND(Q24/60*'Settings'!$B$4,2),"")) | X24: =IFERROR(IF(A24="","",IF(COUNTIF($A$6:$A$305,A24)>1,"Duplicate Move ID",IF(OR(B24="",C24="",D24="",E24="",F24="",G24="",H24="",I24="",L24=""),"Missing Required Input",IF(OR(COUNTIF('Assets'!$K$5:$K$104,H24)=0,COUNTIF('Assets'!$K$5:$K$104,I24)=0),"Unknown Location",IF(H24=I24,"Origin Equals Destination",IF(AND(OR(L24="Assigned",L24="In Progress",L24="Held",L24="Completed"),OR(J24="",K24="",M24="")),"Missing Assignment Details",IF(AND(OR(L24="In Progress",L24="Held",L24="Completed"),N24=""),"Missing Start Time",IF(AND(L24="Completed",O24=""),"Missing Completion Time",IF(AND(M24<>"",B24<>"",M24<B24),"Check Assigned Time",IF(AND(N24<>"",M24<>"",N24<M24),"Check Start Time",IF(AND(O24<>"",N24<>"",O24<N24),"Check Completion Time",IF(AND(L24="Held",OR(U24="",U24="None")),"Missing Delay Reason",IF(OR(AND(J24<>"",COUNTIF('Assets'!$F$5:$F$104,J24)=0),AND(K24<>"",COUNTIF('Assets'!$A$5:$A$104,K24)=0)),"Unknown Resource","OK")))))))))))))),"Check Formula")
P25: =IF(OR(A25="",B25=""),"",IF(M25<>"",IFERROR(ROUND((M25-B25)*1440,0),""),IF(OR(L25="Requested",L25="Assigned",L25="In Progress",L25="Held"),IFERROR(ROUND((NOW()-B25)*1440,0),""),""))) | Q25: =IF(OR(A25="",N25=""),"",IF(O25<>"",IFERROR(ROUND((O25-N25)*1440,0),""),IF(OR(L25="In Progress",L25="Held"),IFERROR(ROUND((NOW()-N25)*1440,0),""),""))) | R25: =IF(OR(A25="",B25=""),"",IF(O25<>"",IFERROR(ROUND((O25-B25)*1440,0),""),IF(L25="Canceled","",IF(OR(L25="Requested",L25="Assigned",L25="In Progress",L25="Held"),IFERROR(ROUND((NOW()-B25)*1440,0),""),"")))) | S25: =IF(A25="","",IFERROR(VLOOKUP(C25,'Settings'!$A$11:$B$14,2,FALSE),"")) | T25: =IF(A25="","",IF(L25="Canceled","N/A",IF(OR(L25="",R25="",S25=""),"",IF(R25<=S25,IF(L25="Completed","Met","Open - On Track"),IF(L25="Completed","Missed","Open - Overdue"))))) | W25: =IF(OR(A25="",Q25=""),"",IFERROR(ROUND(Q25/60*'Settings'!$B$4,2),"")) | X25: =IFERROR(IF(A25="","",IF(COUNTIF($A$6:$A$305,A25)>1,"Duplicate Move ID",IF(OR(B25="",C25="",D25="",E25="",F25="",G25="",H25="",I25="",L25=""),"Missing Required Input",IF(OR(COUNTIF('Assets'!$K$5:$K$104,H25)=0,COUNTIF('Assets'!$K$5:$K$104,I25)=0),"Unknown Location",IF(H25=I25,"Origin Equals Destination",IF(AND(OR(L25="Assigned",L25="In Progress",L25="Held",L25="Completed"),OR(J25="",K25="",M25="")),"Missing Assignment Details",IF(AND(OR(L25="In Progress",L25="Held",L25="Completed"),N25=""),"Missing Start Time",IF(AND(L25="Completed",O25=""),"Missing Completion Time",IF(AND(M25<>"",B25<>"",M25<B25),"Check Assigned Time",IF(AND(N25<>"",M25<>"",N25<M25),"Check Start Time",IF(AND(O25<>"",N25<>"",O25<N25),"Check Completion Time",IF(AND(L25="Held",OR(U25="",U25="None")),"Missing Delay Reason",IF(OR(AND(J25<>"",COUNTIF('Assets'!$F$5:$F$104,J25)=0),AND(K25<>"",COUNTIF('Assets'!$A$5:$A$104,K25)=0)),"Unknown Resource","OK")))))))))))))),"Check Formula")
P26: =IF(OR(A26="",B26=""),"",IF(M26<>"",IFERROR(ROUND((M26-B26)*1440,0),""),IF(OR(L26="Requested",L26="Assigned",L26="In Progress",L26="Held"),IFERROR(ROUND((NOW()-B26)*1440,0),""),""))) | Q26: =IF(OR(A26="",N26=""),"",IF(O26<>"",IFERROR(ROUND((O26-N26)*1440,0),""),IF(OR(L26="In Progress",L26="Held"),IFERROR(ROUND((NOW()-N26)*1440,0),""),""))) | R26: =IF(OR(A26="",B26=""),"",IF(O26<>"",IFERROR(ROUND((O26-B26)*1440,0),""),IF(L26="Canceled","",IF(OR(L26="Requested",L26="Assigned",L26="In Progress",L26="Held"),IFERROR(ROUND((NOW()-B26)*1440,0),""),"")))) | S26: =IF(A26="","",IFERROR(VLOOKUP(C26,'Settings'!$A$11:$B$14,2,FALSE),"")) | T26: =IF(A26="","",IF(L26="Canceled","N/A",IF(OR(L26="",R26="",S26=""),"",IF(R26<=S26,IF(L26="Completed","Met","Open - On Track"),IF(L26="Completed","Missed","Open - Overdue"))))) | W26: =IF(OR(A26="",Q26=""),"",IFERROR(ROUND(Q26/60*'Settings'!$B$4,2),"")) | X26: =IFERROR(IF(A26="","",IF(COUNTIF($A$6:$A$305,A26)>1,"Duplicate Move ID",IF(OR(B26="",C26="",D26="",E26="",F26="",G26="",H26="",I26="",L26=""),"Missing Required Input",IF(OR(COUNTIF('Assets'!$K$5:$K$104,H26)=0,COUNTIF('Assets'!$K$5:$K$104,I26)=0),"Unknown Location",IF(H26=I26,"Origin Equals Destination",IF(AND(OR(L26="Assigned",L26="In Progress",L26="Held",L26="Completed"),OR(J26="",K26="",M26="")),"Missing Assignment Details",IF(AND(OR(L26="In Progress",L26="Held",L26="Completed"),N26=""),"Missing Start Time",IF(AND(L26="Completed",O26=""),"Missing Completion Time",IF(AND(M26<>"",B26<>"",M26<B26),"Check Assigned Time",IF(AND(N26<>"",M26<>"",N26<M26),"Check Start Time",IF(AND(O26<>"",N26<>"",O26<N26),"Check Completion Time",IF(AND(L26="Held",OR(U26="",U26="None")),"Missing Delay Reason",IF(OR(AND(J26<>"",COUNTIF('Assets'!$F$5:$F$104,J26)=0),AND(K26<>"",COUNTIF('Assets'!$A$5:$A$104,K26)=0)),"Unknown Resource","OK")))))))))))))),"Check Formula")
P27: =IF(OR(A27="",B27=""),"",IF(M27<>"",IFERROR(ROUND((M27-B27)*1440,0),""),IF(OR(L27="Requested",L27="Assigned",L27="In Progress",L27="Held"),IFERROR(ROUND((NOW()-B27)*1440,0),""),""))) | Q27: =IF(OR(A27="",N27=""),"",IF(O27<>"",IFERROR(ROUND((O27-N27)*1440,0),""),IF(OR(L27="In Progress",L27="Held"),IFERROR(ROUND((NOW()-N27)*1440,0),""),""))) | R27: =IF(OR(A27="",B27=""),"",IF(O27<>"",IFERROR(ROUND((O27-B27)*1440,0),""),IF(L27="Canceled","",IF(OR(L27="Requested",L27="Assigned",L27="In Progress",L27="Held"),IFERROR(ROUND((NOW()-B27)*1440,0),""),"")))) | S27: =IF(A27="","",IFERROR(VLOOKUP(C27,'Settings'!$A$11:$B$14,2,FALSE),"")) | T27: =IF(A27="","",IF(L27="Canceled","N/A",IF(OR(L27="",R27="",S27=""),"",IF(R27<=S27,IF(L27="Completed","Met","Open - On Track"),IF(L27="Completed","Missed","Open - Overdue"))))) | W27: =IF(OR(A27="",Q27=""),"",IFERROR(ROUND(Q27/60*'Settings'!$B$4,2),"")) | X27: =IFERROR(IF(A27="","",IF(COUNTIF($A$6:$A$305,A27)>1,"Duplicate Move ID",IF(OR(B27="",C27="",D27="",E27="",F27="",G27="",H27="",I27="",L27=""),"Missing Required Input",IF(OR(COUNTIF('Assets'!$K$5:$K$104,H27)=0,COUNTIF('Assets'!$K$5:$K$104,I27)=0),"Unknown Location",IF(H27=I27,"Origin Equals Destination",IF(AND(OR(L27="Assigned",L27="In Progress",L27="Held",L27="Completed"),OR(J27="",K27="",M27="")),"Missing Assignment Details",IF(AND(OR(L27="In Progress",L27="Held",L27="Completed"),N27=""),"Missing Start Time",IF(AND(L27="Completed",O27=""),"Missing Completion Time",IF(AND(M27<>"",B27<>"",M27<B27),"Check Assigned Time",IF(AND(N27<>"",M27<>"",N27<M27),"Check Start Time",IF(AND(O27<>"",N27<>"",O27<N27),"Check Completion Time",IF(AND(L27="Held",OR(U27="",U27="None")),"Missing Delay Reason",IF(OR(AND(J27<>"",COUNTIF('Assets'!$F$5:$F$104,J27)=0),AND(K27<>"",COUNTIF('Assets'!$A$5:$A$104,K27)=0)),"Unknown Resource","OK")))))))))))))),"Check Formula")
... P305: =IF(OR(A305="",B305=""),"",IF(M305<>"",IFERROR(ROUND((M305-B305)*1440,0),""),IF(OR(L305="Requested",L305="Assigned",L305="In Progress",L305="Held"),IFERROR(ROUND((NOW()-B305)*1440,0),""),""))) | Q305: =IF(OR(A305="",N305=""),"",IF(O305<>"",IFERROR(ROUND((O305-N305)*1440,0),""),IF(OR(L305="In Progress",L305="Held"),IFERROR(ROUND((NOW()-N305)*1440,0),""),""))) | R305: =IF(OR(A305="",B305=""),"",IF(O305<>"",IFERROR(ROUND((O305-B305)*1440,0),""),IF(L305="Canceled","",IF(OR(L305="Requested",L305="Assigned",L305="In Progress",L305="Held"),IFERROR(ROUND((NOW()-B305)*1440,0),""),"")))) | S305: =IF(A305="","",IFERROR(VLOOKUP(C305,'Settings'!$A$11:$B$14,2,FALSE),"")) | T305: =IF(A305="","",IF(L305="Canceled","N/A",IF(OR(L305="",R305="",S305=""),"",IF(R305<=S305,IF(L305="Completed","Met","Open - On Track"),IF(L305="Completed","Missed","Open - Overdue"))))) | W305: =IF(OR(A305="",Q305=""),"",IFERROR(ROUND(Q305/60*'Settings'!$B$4,2),"")) | X305: =IFERROR(IF(A305="","",IF(COUNTIF($A$6:$A$305,A305)>1,"Duplicate Move ID",IF(OR(B305="",C305="",D305="",E305="",F305="",G305="",H305="",I305="",L305=""),"Missing Required Input",IF(OR(COUNTIF('Assets'!$K$5:$K$104,H305)=0,COUNTIF('Assets'!$K$5:$K$104,I305)=0),"Unknown Location",IF(H305=I305,"Origin Equals Destination",IF(AND(OR(L305="Assigned",L305="In Progress",L305="Held",L305="Completed"),OR(J305="",K305="",M305="")),"Missing Assignment Details",IF(AND(OR(L305="In Progress",L305="Held",L305="Completed"),N305=""),"Missing Start Time",IF(AND(L305="Completed",O305=""),"Missing Completion Time",IF(AND(M305<>"",B305<>"",M305<B305),"Check Assigned Time",IF(AND(N305<>"",M305<>"",N305<M305),"Check Start Time",IF(AND(O305<>"",N305<>"",O305<N305),"Check Completion Time",IF(AND(L305="Held",OR(U305="",U305="None")),"Missing Delay Reason",IF(OR(AND(J305<>"",COUNTIF('Assets'!$F$5:$F$104,J305)=0),AND(K305<>"",COUNTIF('Assets'!$A$5:$A$104,K305)=0)),"Unknown Resource","OK")))))))))))))),"Check Formula")

Sheet Assets
A1: Yard Dispatch Assets
A2: Keep inactive resources in the master list for historical reference, but do not assign them to new moves.
A4: Truck ID | B4: Description | C4: Home Zone | D4: Active? | F4: Spotter Name | G4: Shift | H4: Radio Call Sign | I4: Active? | K4: Location Name | L4: Location Type | M4: Active?
A5: YT-01 | B5: Orange Ottawa T2 | C5: Inbound Yard | D5: Yes | F5: Maria Lopez | G5: 1st | H5: SP-21 | I5: Yes | K5: Gate Check-In | L5: Gate | M5: Yes
A6: YT-02 | B6: White Capacity TJ5000 | C6: Dock Bank | D6: Yes | F6: Daniel Reed | G6: 1st | H6: SP-14 | I6: Yes | K6: Door 7 | L6: Dock Door | M6: Yes
A7: YT-03 | B7: Blue Kalmar Ottawa | C7: Outbound Yard | D7: Yes | F7: Aisha Carter | G7: 1st | H7: SP-08 | I7: Yes | K7: Door 12 | L7: Dock Door | M7: Yes
A8: YT-04 | B8: Yellow Ottawa T2 | C8: Maintenance/Overflow | D8: Yes | F8: Kevin Brooks | G8: 1st | H8: SP-17 | I8: Yes | K8: Door 18 | L8: Dock Door | M8: Yes
F9: James Nguyen | G9: 2nd | H9: SP-24 | I9: Yes | K9: Inbound Row A | L9: Yard Row | M9: Yes
K10: Inbound Row B | L10: Yard Row | M10: Yes
K11: Outbound Row A | L11: Yard Row | M11: Yes
K12: Outbound Row B | L12: Yard Row | M12: Yes
K13: Empty Row A | L13: Empty Trailer Row | M13: Yes
K14: Empty Row B | L14: Empty Trailer Row | M14: Yes
K15: Drop Lot | L15: Yard Area | M15: Yes
K16: Wash Bay | L16: Service Area | M16: Yes
K17: Maintenance Pad | L17: Service Area | M17: Yes

Sheet Settings
A1: Yard Move Settings
D2: Move Type | E2: Load Status | F2: Move Status | G2: Delay Reason | H2: Active Flag
A3: Open Wait Alert Minutes | B3: 30 | D3: Dock Move | E3: Empty | F3: Requested | G3: None | H3: Yes
A4: Estimated Yard Truck Operating Cost per Hour | B4: 52 | D4: Yard Reposition | E4: Loaded | F4: Assigned | G4: Dock Occupied | H4: No
A5: Cost Basis Note | B5: Planning estimate only | D5: Gate-to-Dock | E5: Partial | F5: In Progress | G5: Trailer Not Ready
D6: Dock-to-Yard | E6: Unknown | F6: Held | G6: Tractor Unavailable
D7: Empty Spot | F7: Completed | G7: Spotter Unavailable
D8: Maintenance Move | F8: Canceled | G8: Blocked Lane
G9: Documentation
A10: Priority | B10: Target Turnaround Minutes | G10: Maintenance
A11: Critical | B11: 20 | G11: Weather
A12: High | B12: 45 | G12: Other
A13: Normal | B13: 90
A14: Low | B14: 180
A16: Update assumptions and dropdown lists carefully. Changes affect formulas and future dispatch entries.
