Workbook

Sheet Dashboard
A1: Dispatch Summary
A3: As of | B3: =TODAY() -> 46271
A4: Key Performance Indicators
A5: Active Loads | B5: =COUNTIF('Dispatch Board'!$B$6:$B$205,"Planned")+COUNTIF('Dispatch Board'!$B$6:$B$205,"Dispatched")+COUNTIF('Dispatch Board'!$B$6:$B$205,"At Pickup")+COUNTIF('Dispatch Board'!$B$6:$B$205,"In Transit") -> 5
A6: Loads Delivered | B6: =COUNTIF('Dispatch Board'!$B$6:$B$205,"Delivered") -> 2
A7: Open PODs | B7: =COUNTIFS('Dispatch Board'!$B$6:$B$205,"Delivered",'Dispatch Board'!$AN$6:$AN$205,"<>Yes") -> 1
A8: Upcoming Pickups | B8: =COUNTIFS('Dispatch Board'!$L$6:$L$205,">="&TODAY(),'Dispatch Board'!$L$6:$L$205,"<"&TODAY()+Settings!$B$9+1,'Dispatch Board'!$B$6:$B$205,"<>Canceled") -> 4
A9: Overdue Invoices | B9: =COUNTIFS('Dispatch Board'!$AM$6:$AM$205,">0",'Dispatch Board'!$AM$6:$AM$205,"<"&TODAY(),'Dispatch Board'!$B$6:$B$205,"<>Paid",'Dispatch Board'!$AJ$6:$AJ$205,"<>") -> 0
A10: Booked Gross Revenue | B10: =SUMIFS('Dispatch Board'!$AA$6:$AA$205,'Dispatch Board'!$B$6:$B$205,"<>Canceled") -> 11742.25
A11: Estimated Fuel Cost | B11: =SUMIFS('Dispatch Board'!$AD$6:$AD$205,'Dispatch Board'!$B$6:$B$205,"<>Canceled") -> 1537.5524
A12: Estimated Driver Pay | B12: =SUMIFS('Dispatch Board'!$AG$6:$AG$205,'Dispatch Board'!$B$6:$B$205,"<>Canceled") -> 3031.05
A13: Estimated Margin | B13: =SUMIFS('Dispatch Board'!$AH$6:$AH$205,'Dispatch Board'!$B$6:$B$205,"<>Canceled") -> 7173.6476
A14: Estimated Margin % | B14: =IFERROR(B13/B10,0) -> 0.61092615
A15: Loaded Miles | B15: =SUMIFS('Dispatch Board'!$R$6:$R$205,'Dispatch Board'!$B$6:$B$205,"<>Canceled") -> 2425
A18: Dispatcher | B18: Active Loads | C18: Booked Loads | D18: Gross Revenue | E18: Estimated Margin | F18: Loaded Miles | G18: Margin % | I18: Status | J18: Load Count | K18: Gross Revenue
A19: =Settings!$N$4 -> Jordan Lee | B19: =COUNTIFS('Dispatch Board'!$D$6:$D$205,$A19,'Dispatch Board'!$B$6:$B$205,"Planned")+COUNTIFS('Dispatch Board'!$D$6:$D$205,$A19,'Dispatch Board'!$B$6:$B$205,"Dispatched")+COUNTIFS('Dispatch Board'!$D$6:$D$205,$A19,'Dispatch Board'!$B$6:$B$205,"At Pickup")+COUNTIFS('Dispatch Board'!$D$6:$D$205,$A19,'Dispatch Board'!$B$6:$B$205,"In Transit") -> 2 | C19: =COUNTIFS('Dispatch Board'!$D$6:$D$205,$A19,'Dispatch Board'!$A$6:$A$205,"<>",'Dispatch Board'!$B$6:$B$205,"<>Canceled") -> 3 | D19: =SUMIFS('Dispatch Board'!$AA$6:$AA$205,'Dispatch Board'!$D$6:$D$205,$A19,'Dispatch Board'!$B$6:$B$205,"<>Canceled") -> 3815 | E19: =SUMIFS('Dispatch Board'!$AH$6:$AH$205,'Dispatch Board'!$D$6:$D$205,$A19,'Dispatch Board'!$B$6:$B$205,"<>Canceled") -> 2577.5768 | F19: =SUMIFS('Dispatch Board'!$R$6:$R$205,'Dispatch Board'!$D$6:$D$205,$A19,'Dispatch Board'!$B$6:$B$205,"<>Canceled") -> 600 | G19: =IFERROR(E19/D19,0) -> 0.67564267 | I19: Planned | J19: =COUNTIF('Dispatch Board'!$B$6:$B$205,$I19) -> 2 | K19: =SUMIF('Dispatch Board'!$B$6:$B$205,$I19,'Dispatch Board'!$AA$6:$AA$205) -> 2490
A20: =Settings!$N$5 -> Casey Morgan | B20: =COUNTIFS('Dispatch Board'!$D$6:$D$205,$A20,'Dispatch Board'!$B$6:$B$205,"Planned")+COUNTIFS('Dispatch Board'!$D$6:$D$205,$A20,'Dispatch Board'!$B$6:$B$205,"Dispatched")+COUNTIFS('Dispatch Board'!$D$6:$D$205,$A20,'Dispatch Board'!$B$6:$B$205,"At Pickup")+COUNTIFS('Dispatch Board'!$D$6:$D$205,$A20,'Dispatch Board'!$B$6:$B$205,"In Transit") -> 1 | C20: =COUNTIFS('Dispatch Board'!$D$6:$D$205,$A20,'Dispatch Board'!$A$6:$A$205,"<>",'Dispatch Board'!$B$6:$B$205,"<>Canceled") -> 3 | D20: =SUMIFS('Dispatch Board'!$AA$6:$AA$205,'Dispatch Board'!$D$6:$D$205,$A20,'Dispatch Board'!$B$6:$B$205,"<>Canceled") -> 3091 | E20: =SUMIFS('Dispatch Board'!$AH$6:$AH$205,'Dispatch Board'!$D$6:$D$205,$A20,'Dispatch Board'!$B$6:$B$205,"<>Canceled") -> 1440.4236 | F20: =SUMIFS('Dispatch Board'!$R$6:$R$205,'Dispatch Board'!$D$6:$D$205,$A20,'Dispatch Board'!$B$6:$B$205,"<>Canceled") -> 910 | G20: =IFERROR(E20/D20,0) -> 0.4660057 | I20: Dispatched | J20: =COUNTIF('Dispatch Board'!$B$6:$B$205,$I20) -> 1 | K20: =SUMIF('Dispatch Board'!$B$6:$B$205,$I20,'Dispatch Board'!$AA$6:$AA$205) -> 736
A21: =Settings!$N$6 -> Taylor Reed | B21: =COUNTIFS('Dispatch Board'!$D$6:$D$205,$A21,'Dispatch Board'!$B$6:$B$205,"Planned")+COUNTIFS('Dispatch Board'!$D$6:$D$205,$A21,'Dispatch Board'!$B$6:$B$205,"Dispatched")+COUNTIFS('Dispatch Board'!$D$6:$D$205,$A21,'Dispatch Board'!$B$6:$B$205,"At Pickup")+COUNTIFS('Dispatch Board'!$D$6:$D$205,$A21,'Dispatch Board'!$B$6:$B$205,"In Transit") -> 1 | C21: =COUNTIFS('Dispatch Board'!$D$6:$D$205,$A21,'Dispatch Board'!$A$6:$A$205,"<>",'Dispatch Board'!$B$6:$B$205,"<>Canceled") -> 2 | D21: =SUMIFS('Dispatch Board'!$AA$6:$AA$205,'Dispatch Board'!$D$6:$D$205,$A21,'Dispatch Board'!$B$6:$B$205,"<>Canceled") -> 2970 | E21: =SUMIFS('Dispatch Board'!$AH$6:$AH$205,'Dispatch Board'!$D$6:$D$205,$A21,'Dispatch Board'!$B$6:$B$205,"<>Canceled") -> 2127.6574 | F21: =SUMIFS('Dispatch Board'!$R$6:$R$205,'Dispatch Board'!$D$6:$D$205,$A21,'Dispatch Board'!$B$6:$B$205,"<>Canceled") -> 390 | G21: =IFERROR(E21/D21,0) -> 0.71638295 | I21: At Pickup | J21: =COUNTIF('Dispatch Board'!$B$6:$B$205,$I21) -> 1 | K21: =SUMIF('Dispatch Board'!$B$6:$B$205,$I21,'Dispatch Board'!$AA$6:$AA$205) -> 1675
A22: =Settings!$N$7 -> Morgan Hayes | B22: =COUNTIFS('Dispatch Board'!$D$6:$D$205,$A22,'Dispatch Board'!$B$6:$B$205,"Planned")+COUNTIFS('Dispatch Board'!$D$6:$D$205,$A22,'Dispatch Board'!$B$6:$B$205,"Dispatched")+COUNTIFS('Dispatch Board'!$D$6:$D$205,$A22,'Dispatch Board'!$B$6:$B$205,"At Pickup")+COUNTIFS('Dispatch Board'!$D$6:$D$205,$A22,'Dispatch Board'!$B$6:$B$205,"In Transit") -> 1 | C22: =COUNTIFS('Dispatch Board'!$D$6:$D$205,$A22,'Dispatch Board'!$A$6:$A$205,"<>",'Dispatch Board'!$B$6:$B$205,"<>Canceled") -> 1 | D22: =SUMIFS('Dispatch Board'!$AA$6:$AA$205,'Dispatch Board'!$D$6:$D$205,$A22,'Dispatch Board'!$B$6:$B$205,"<>Canceled") -> 1866.25 | E22: =SUMIFS('Dispatch Board'!$AH$6:$AH$205,'Dispatch Board'!$D$6:$D$205,$A22,'Dispatch Board'!$B$6:$B$205,"<>Canceled") -> 1027.9899 | F22: =SUMIFS('Dispatch Board'!$R$6:$R$205,'Dispatch Board'!$D$6:$D$205,$A22,'Dispatch Board'!$B$6:$B$205,"<>Canceled") -> 525 | G22: =IFERROR(E22/D22,0) -> 0.5508318 | I22: In Transit | J22: =COUNTIF('Dispatch Board'!$B$6:$B$205,$I22) -> 1 | K22: =SUMIF('Dispatch Board'!$B$6:$B$205,$I22,'Dispatch Board'!$AA$6:$AA$205) -> 1866.25
A23: ="" | C23: ="" | D23: ="" | E23: ="" | F23: ="" | G23: ="" | I23: Delivered | J23: =COUNTIF('Dispatch Board'!$B$6:$B$205,$I23) -> 2 | K23: =SUMIF('Dispatch Board'!$B$6:$B$205,$I23,'Dispatch Board'!$AA$6:$AA$205) -> 1875
A24: ="" | C24: ="" | D24: ="" | E24: ="" | F24: ="" | G24: ="" | I24: Invoiced | J24: =COUNTIF('Dispatch Board'!$B$6:$B$205,$I24) -> 1 | K24: =SUMIF('Dispatch Board'!$B$6:$B$205,$I24,'Dispatch Board'!$AA$6:$AA$205) -> 1805
A25: Workbook Checks | C25: ="" | D25: ="" | E25: ="" | F25: ="" | G25: ="" | I25: Paid | J25: =COUNTIF('Dispatch Board'!$B$6:$B$205,$I25) -> 1 | K25: =SUMIF('Dispatch Board'!$B$6:$B$205,$I25,'Dispatch Board'!$AA$6:$AA$205) -> 1295
A26: ="" | C26: ="" | D26: ="" | E26: ="" | F26: ="" | G26: ="" | I26: Canceled | J26: =COUNTIF('Dispatch Board'!$B$6:$B$205,$I26) -> 1 | K26: =SUMIF('Dispatch Board'!$B$6:$B$205,$I26,'Dispatch Board'!$AA$6:$AA$205) -> 710
A27: Rows Needing Attention | B27: =COUNTIFS('Dispatch Board'!$AO$6:$AO$205,"<>OK",'Dispatch Board'!$AO$6:$AO$205,"<>") -> 193 | C27: ="" | D27: ="" | E27: ="" | F27: ="" | G27: ="" | J27: ="" | K27: =""
A28: Duplicate Load Rows | B28: =COUNTIF('Dispatch Board'!$AO$6:$AO$205,"DUPLICATE LOAD ID") -> 0 | C28: ="" | D28: ="" | E28: ="" | F28: ="" | G28: ="" | J28: ="" | K28: =""
A29: Missing Customer | B29: =COUNTIFS('Dispatch Board'!$A$6:$A$205,"<>",'Dispatch Board'!$C$6:$C$205,"") -> 0 | C29: ="" | D29: ="" | E29: ="" | F29: ="" | G29: ="" | J29: ="" | K29: =""
A30: Missing Driver | B30: =COUNTIFS('Dispatch Board'!$A$6:$A$205,"<>",'Dispatch Board'!$E$6:$E$205,"") -> 0 | C30: ="" | D30: ="" | E30: ="" | F30: ="" | G30: ="" | J30: ="" | K30: =""
A31: Missing Truck | B31: =COUNTIFS('Dispatch Board'!$A$6:$A$205,"<>",'Dispatch Board'!$F$6:$F$205,"") -> 0 | C31: ="" | D31: ="" | E31: ="" | F31: ="" | G31: ="" | J31: ="" | K31: =""
A32: Appointment Errors | B32: =COUNTIF('Dispatch Board'!$AO$6:$AO$205,"CHECK APPOINTMENTS") -> 0 | C32: ="" | D32: ="" | E32: ="" | F32: ="" | G32: ="" | J32: ="" | K32: =""
A33: ="" | B33: ="" | C33: ="" | D33: ="" | E33: ="" | F33: ="" | G33: ="" | J33: ="" | K33: =""
A34: ="" | B34: ="" | C34: ="" | D34: ="" | E34: ="" | F34: ="" | G34: ="" | J34: ="" | K34: =""
A35: ="" | B35: ="" | C35: ="" | D35: ="" | E35: ="" | F35: ="" | G35: ="" | J35: ="" | K35: =""
A36: ="" | B36: ="" | C36: ="" | D36: ="" | E36: ="" | F36: ="" | G36: ="" | J36: ="" | K36: =""
A37: ="" | B37: ="" | C37: ="" | D37: ="" | E37: ="" | F37: ="" | G37: ="" | J37: ="" | K37: =""
A38: ="" | B38: ="" | C38: ="" | D38: ="" | E38: ="" | F38: ="" | G38: ="" | J38: ="" | K38: =""
A39: ="" | B39: ="" | C39: ="" | D39: ="" | E39: ="" | F39: ="" | G39: ="" | J39: ="" | K39: =""
A40: ="" | B40: ="" | C40: ="" | D40: ="" | E40: ="" | F40: ="" | G40: ="" | J40: ="" | K40: =""
A41: ="" | B41: ="" | C41: ="" | D41: ="" | E41: ="" | F41: ="" | G41: ="" | J41: ="" | K41: =""
A42: ="" | B42: ="" | C42: ="" | D42: ="" | E42: ="" | F42: ="" | G42: ="" | J42: ="" | K42: =""
A43: ="" | B43: ="" | C43: ="" | D43: ="" | E43: ="" | F43: ="" | G43: ="" | J43: ="" | K43: =""
...

Sheet Dispatch Board
A1: Truck Dispatch Board
A2: Yellow cells are user inputs. Blue cells are calculated. Review the Dispatch Check column before assigning or closing a load.
A3: Input | B3: Yellow fill = Input | C3: Calculated | D3: Light blue fill = Calculated | E3: Attention | F3: Red/orange fill = Attention needed
A5: Load ID | B5: Status | C5: Customer | D5: Dispatcher | E5: Driver | F5: Truck ID | G5: Trailer ID | H5: Origin City | I5: Origin State | J5: Destination City | K5: Destination State | L5: Pickup Appointment | M5: Delivery Appointment | N5: Load Type | O5: Commodity | P5: Weight (lb) | Q5: Deadhead Miles | R5: Loaded Miles | S5: Total Miles | T5: Rate Type | U5: Linehaul Rate | V5: Linehaul Revenue | W5: Fuel Surcharge | X5: Detention | Y5: Lumper | Z5: Other Accessorial | AA5: Gross Revenue | AB5: Estimated MPG | AC5: Estimated Gallons | AD5: Estimated Fuel Cost | AE5: Driver Pay Type | AF5: Driver Pay Rate | AG5: Estimated Driver Pay | AH5: Estimated Margin | AI5: Margin % | AJ5: Invoice # | AK5: Invoice Date | AL5: Terms Days | AM5: Due Date | AN5: POD Received? | AO5: Dispatch Check | AP5: Notes
A6: LD-10481 | B6: Planned | C6: Blue Ridge Foods | D6: Jordan Lee | E6: Maria Lopez | F6: T-101 | G6: TR-202 | H6: Atlanta | I6: GA | J6: Nashville | K6: TN | L6: 46272.333 | M6: 46273.25 | N6: Refrigerated | O6: Frozen poultry | P6: 39500 | Q6: 42 | R6: 250 | S6: =IF($A6="","",IF(COUNTA($Q6:$R6)=0,"",SUM($Q6:$R6))) -> 292 | T6: Flat | U6: 1250 | V6: =IF($A6="","",IF(OR($T6="",$U6=""),"",IFERROR(IF($T6="Flat",$U6,IF($T6="Per Loaded Mile",$R6*$U6,"")),""))) -> 1250 | W6: 175 | X6: 0 | Y6: 85 | Z6: 0 | AA6: =IF(OR($A6="",$V6=""),"",IFERROR(SUM($V6:$Z6),"")) -> 1510 | AB6: =IF($A6="","",IFERROR(IF(INDEX(Resources!$J$5:$J$104,MATCH($F6,Resources!$G$5:$G$104,0))>0,INDEX(Resources!$J$5:$J$104,MATCH($F6,Resources!$G$5:$G$104,0)),Settings!$B$5),Settings!$B$5)) -> 7.2 | AC6: =IF($A6="","",IF(OR($S6="",$AB6=""),"",IFERROR($S6/$AB6,""))) -> 40.555556 | AD6: =IF($A6="","",IF($AC6="","",IFERROR($AC6*Settings!$B$4,""))) -> 157.76111 | AE6: % of Gross | AF6: 0.27 | AG6: =IF($A6="","",IF(OR($AE6="",$AF6=""),"",IFERROR(IF($AE6="% of Gross",$AA6*$AF6,IF($AE6="Per Loaded Mile",$R6*$AF6,IF($AE6="Flat",$AF6,""))),""))) -> 407.7 | AH6: =IF($A6="","",IFERROR(IF(OR($AA6="",$AD6="",$AG6=""),"",$AA6-$AD6-$AG6),"")) -> 944.53889 | AI6: =IF($A6="","",IFERROR($AH6/$AA6,"")) -> 0.62552244 | AL6: =IF($A6="","",IFERROR(IF(INDEX(Resources!$S$5:$S$104,MATCH($C6,Resources!$P$5:$P$104,0))>0,INDEX(Resources!$S$5:$S$104,MATCH($C6,Resources!$P$5:$P$104,0)),Settings!$B$6),Settings!$B$6)) -> 30 | AM6: =IF($AK6="","",IFERROR($AK6+$AL6,"")) | AN6: No | AO6: =IF($A6="","",IF($B6="Canceled","OK",IF(COUNTIF($A$6:$A$205,$A6)>1,"DUPLICATE LOAD ID",IF(AND($L6<>"",$M6<>"",$M6<=$L6),"CHECK APPOINTMENTS",IF(AND($P6<>"",$P6>Settings!$B$8),"CHECK WEIGHT",IF(IFERROR(INDEX(Resources!$C$5:$C$104,MATCH($E6,Resources!$A$5:$A$104,0)),"Missing")<>"Active","CHECK DRIVER",IF(IFERROR(INDEX(Resources!$I$5:$I$104,MATCH($F6,Resources!$G$5:$G$104,0)),"Missing")<>"Active","CHECK TRUCK",IF(AND($G6<>"",IFERROR(INDEX(Resources!$N$5:$N$104,MATCH($G6,Resources!$L$5:$L$104,0)),"Missing")<>"Active"),"CHECK TRAILER",IF(AND($B6="Delivered",$AN6<>"Yes"),"POD NEEDED",IF(AND(OR($B6="Planned",$B6="Dispatched",$B6="At Pickup",$B6="In Transit"),$M6<>"",$M6<NOW()),"DELIVERY OVERDUE",IF(AND($AI6<>"",$AI6<Settings!$B$7),"LOW MARGIN","OK"))))))))))) -> OK | AP6: Reefer setpoint -10°F
A7: LD-10482 | B7: Dispatched | C7: Metro Retail Distribution | D7: Casey Morgan | E7: James Carter | F7: T-102 | G7: TR-203 | H7: Dallas | I7: TX | J7: Oklahoma City | K7: OK | L7: 46271.583 | M7: 46272.333 | N7: Dry Van | O7: Consumer goods | P7: 31200 | Q7: 25 | R7: 210 | S7: =IF($A7="","",IF(COUNTA($Q7:$R7)=0,"",SUM($Q7:$R7))) -> 235 | T7: Per Loaded Mile | U7: 3.1 | V7: =IF($A7="","",IF(OR($T7="",$U7=""),"",IFERROR(IF($T7="Flat",$U7,IF($T7="Per Loaded Mile",$R7*$U7,"")),""))) -> 651 | W7: 85 | X7: 0 | Y7: 0 | Z7: 0 | AA7: =IF(OR($A7="",$V7=""),"",IFERROR(SUM($V7:$Z7),"")) -> 736 | AB7: =IF($A7="","",IFERROR(IF(INDEX(Resources!$J$5:$J$104,MATCH($F7,Resources!$G$5:$G$104,0))>0,INDEX(Resources!$J$5:$J$104,MATCH($F7,Resources!$G$5:$G$104,0)),Settings!$B$5),Settings!$B$5)) -> 6.7 | AC7: =IF($A7="","",IF(OR($S7="",$AB7=""),"",IFERROR($S7/$AB7,""))) -> 35.074627 | AD7: =IF($A7="","",IF($AC7="","",IFERROR($AC7*Settings!$B$4,""))) -> 136.4403 | AE7: Per Loaded Mile | AF7: 0.65 | AG7: =IF($A7="","",IF(OR($AE7="",$AF7=""),"",IFERROR(IF($AE7="% of Gross",$AA7*$AF7,IF($AE7="Per Loaded Mile",$R7*$AF7,IF($AE7="Flat",$AF7,""))),""))) -> 136.5 | AH7: =IF($A7="","",IFERROR(IF(OR($AA7="",$AD7="",$AG7=""),"",$AA7-$AD7-$AG7),"")) -> 463.0597 | AI7: =IF($A7="","",IFERROR($AH7/$AA7,"")) -> 0.6291572 | AL7: =IF($A7="","",IFERROR(IF(INDEX(Resources!$S$5:$S$104,MATCH($C7,Resources!$P$5:$P$104,0))>0,INDEX(Resources!$S$5:$S$104,MATCH($C7,Resources!$P$5:$P$104,0)),Settings!$B$6),Settings!$B$6)) -> 45 | AM7: =IF($AK7="","",IFERROR($AK7+$AL7,"")) | AN7: No | AO7: =IF($A7="","",IF($B7="Canceled","OK",IF(COUNTIF($A$6:$A$205,$A7)>1,"DUPLICATE LOAD ID",IF(AND($L7<>"",$M7<>"",$M7<=$L7),"CHECK APPOINTMENTS",IF(AND($P7<>"",$P7>Settings!$B$8),"CHECK WEIGHT",IF(IFERROR(INDEX(Resources!$C$5:$C$104,MATCH($E7,Resources!$A$5:$A$104,0)),"Missing")<>"Active","CHECK DRIVER",IF(IFERROR(INDEX(Resources!$I$5:$I$104,MATCH($F7,Resources!$G$5:$G$104,0)),"Missing")<>"Active","CHECK TRUCK",IF(AND($G7<>"",IFERROR(INDEX(Resources!$N$5:$N$104,MATCH($G7,Resources!$L$5:$L$104,0)),"Missing")<>"Active"),"CHECK TRAILER",IF(AND($B7="Delivered",$AN7<>"Yes"),"POD NEEDED",IF(AND(OR($B7="Planned",$B7="Dispatched",$B7="At Pickup",$B7="In Transit"),$M7<>"",$M7<NOW()),"DELIVERY OVERDUE",IF(AND($AI7<>"",$AI7<Settings!$B$7),"LOW MARGIN","OK"))))))))))) -> OK | AP7: Driver to call on arrival
A8: LD-10483 | B8: At Pickup | C8: Great Plains Manufacturing | D8: Taylor Reed | E8: DeShawn Brooks | F8: T-106 | G8: TR-204 | H8: Kansas City | I8: MO | J8: Wichita | K8: KS | L8: 46271.417 | M8: 46272.292 | N8: Flatbed | O8: Machinery | P8: 46000 | Q8: 60 | R8: 205 | S8: =IF($A8="","",IF(COUNTA($Q8:$R8)=0,"",SUM($Q8:$R8))) -> 265 | T8: Flat | U8: 1400 | V8: =IF($A8="","",IF(OR($T8="",$U8=""),"",IFERROR(IF($T8="Flat",$U8,IF($T8="Per Loaded Mile",$R8*$U8,"")),""))) -> 1400 | W8: 200 | X8: 0 | Y8: 0 | Z8: 75 | AA8: =IF(OR($A8="",$V8=""),"",IFERROR(SUM($V8:$Z8),"")) -> 1675 | AB8: =IF($A8="","",IFERROR(IF(INDEX(Resources!$J$5:$J$104,MATCH($F8,Resources!$G$5:$G$104,0))>0,INDEX(Resources!$J$5:$J$104,MATCH($F8,Resources!$G$5:$G$104,0)),Settings!$B$5),Settings!$B$5)) -> 7 | AC8: =IF($A8="","",IF(OR($S8="",$AB8=""),"",IFERROR($S8/$AB8,""))) -> 37.857143 | AD8: =IF($A8="","",IF($AC8="","",IFERROR($AC8*Settings!$B$4,""))) -> 147.26429 | AE8: Flat | AF8: 450 | AG8: =IF($A8="","",IF(OR($AE8="",$AF8=""),"",IFERROR(IF($AE8="% of Gross",$AA8*$AF8,IF($AE8="Per Loaded Mile",$R8*$AF8,IF($AE8="Flat",$AF8,""))),""))) -> 450 | AH8: =IF($A8="","",IFERROR(IF(OR($AA8="",$AD8="",$AG8=""),"",$AA8-$AD8-$AG8),"")) -> 1077.7357 | AI8: =IF($A8="","",IFERROR($AH8/$AA8,"")) -> 0.64342431 | AL8: =IF($A8="","",IFERROR(IF(INDEX(Resources!$S$5:$S$104,MATCH($C8,Resources!$P$5:$P$104,0))>0,INDEX(Resources!$S$5:$S$104,MATCH($C8,Resources!$P$5:$P$104,0)),Settings!$B$6),Settings!$B$6)) -> 30 | AM8: =IF($AK8="","",IFERROR($AK8+$AL8,"")) | AN8: No | AO8: =IF($A8="","",IF($B8="Canceled","OK",IF(COUNTIF($A$6:$A$205,$A8)>1,"DUPLICATE LOAD ID",IF(AND($L8<>"",$M8<>"",$M8<=$L8),"CHECK APPOINTMENTS",IF(AND($P8<>"",$P8>Settings!$B$8),"CHECK WEIGHT",IF(IFERROR(INDEX(Resources!$C$5:$C$104,MATCH($E8,Resources!$A$5:$A$104,0)),"Missing")<>"Active","CHECK DRIVER",IF(IFERROR(INDEX(Resources!$I$5:$I$104,MATCH($F8,Resources!$G$5:$G$104,0)),"Missing")<>"Active","CHECK TRUCK",IF(AND($G8<>"",IFERROR(INDEX(Resources!$N$5:$N$104,MATCH($G8,Resources!$L$5:$L$104,0)),"Missing")<>"Active"),"CHECK TRAILER",IF(AND($B8="Delivered",$AN8<>"Yes"),"POD NEEDED",IF(AND(OR($B8="Planned",$B8="Dispatched",$B8="At Pickup",$B8="In Transit"),$M8<>"",$M8<NOW()),"DELIVERY OVERDUE",IF(AND($AI8<>"",$AI8<Settings!$B$7),"LOW MARGIN","OK"))))))))))) -> OK | AP8: Tarp required
A9: LD-10484 | B9: In Transit | C9: SunCoast Produce | D9: Morgan Hayes | E9: Emily Nguyen | F9: T-105 | G9: TR-202 | H9: Orlando | I9: FL | J9: Charlotte | K9: NC | L9: 46270.292 | M9: 46272.375 | N9: Refrigerated | O9: Fresh produce | P9: 41800 | Q9: 35 | R9: 525 | S9: =IF($A9="","",IF(COUNTA($Q9:$R9)=0,"",SUM($Q9:$R9))) -> 560 | T9: Per Loaded Mile | U9: 2.85 | V9: =IF($A9="","",IF(OR($T9="",$U9=""),"",IFERROR(IF($T9="Flat",$U9,IF($T9="Per Loaded Mile",$R9*$U9,"")),""))) -> 1496.25 | W9: 250 | X9: 0 | Y9: 120 | Z9: 0 | AA9: =IF(OR($A9="",$V9=""),"",IFERROR(SUM($V9:$Z9),"")) -> 1866.25 | AB9: =IF($A9="","",IFERROR(IF(INDEX(Resources!$J$5:$J$104,MATCH($F9,Resources!$G$5:$G$104,0))>0,INDEX(Resources!$J$5:$J$104,MATCH($F9,Resources!$G$5:$G$104,0)),Settings!$B$5),Settings!$B$5)) -> 6.9 | AC9: =IF($A9="","",IF(OR($S9="",$AB9=""),"",IFERROR($S9/$AB9,""))) -> 81.15942 | AD9: =IF($A9="","",IF($AC9="","",IFERROR($AC9*Settings!$B$4,""))) -> 315.71014 | AE9: % of Gross | AF9: 0.28 | AG9: =IF($A9="","",IF(OR($AE9="",$AF9=""),"",IFERROR(IF($AE9="% of Gross",$AA9*$AF9,IF($AE9="Per Loaded Mile",$R9*$AF9,IF($AE9="Flat",$AF9,""))),""))) -> 522.55 | AH9: =IF($A9="","",IFERROR(IF(OR($AA9="",$AD9="",$AG9=""),"",$AA9-$AD9-$AG9),"")) -> 1027.9899 | AI9: =IF($A9="","",IFERROR($AH9/$AA9,"")) -> 0.5508318 | AL9: =IF($A9="","",IFERROR(IF(INDEX(Resources!$S$5:$S$104,MATCH($C9,Resources!$P$5:$P$104,0))>0,INDEX(Resources!$S$5:$S$104,MATCH($C9,Resources!$P$5:$P$104,0)),Settings!$B$6),Settings!$B$6)) -> 21 | AM9: =IF($AK9="","",IFERROR($AK9+$AL9,"")) | AN9: No | AO9: =IF($A9="","",IF($B9="Canceled","OK",IF(COUNTIF($A$6:$A$205,$A9)>1,"DUPLICATE LOAD ID",IF(AND($L9<>"",$M9<>"",$M9<=$L9),"CHECK APPOINTMENTS",IF(AND($P9<>"",$P9>Settings!$B$8),"CHECK WEIGHT",IF(IFERROR(INDEX(Resources!$C$5:$C$104,MATCH($E9,Resources!$A$5:$A$104,0)),"Missing")<>"Active","CHECK DRIVER",IF(IFERROR(INDEX(Resources!$I$5:$I$104,MATCH($F9,Resources!$G$5:$G$104,0)),"Missing")<>"Active","CHECK TRUCK",IF(AND($G9<>"",IFERROR(INDEX(Resources!$N$5:$N$104,MATCH($G9,Resources!$L$5:$L$104,0)),"Missing")<>"Active"),"CHECK TRAILER",IF(AND($B9="Delivered",$AN9<>"Yes"),"POD NEEDED",IF(AND(OR($B9="Planned",$B9="Dispatched",$B9="At Pickup",$B9="In Transit"),$M9<>"",$M9<NOW()),"DELIVERY OVERDUE",IF(AND($AI9<>"",$AI9<Settings!$B$7),"LOW MARGIN","OK"))))))))))) -> OK | AP9: Lumper expected
A10: LD-10485 | B10: Delivered | C10: Liberty Home Goods | D10: Jordan Lee | E10: Anita Patel | F10: T-101 | G10: TR-206 | H10: Columbus | I10: OH | J10: Pittsburgh | K10: PA | L10: 46268.333 | M10: 46269.625 | N10: Dry Van | O10: Furniture | P10: 36000 | Q10: 18 | R10: 185 | S10: =IF($A10="","",IF(COUNTA($Q10:$R10)=0,"",SUM($Q10:$R10))) -> 203 | T10: Flat | U10: 1050 | V10: =IF($A10="","",IF(OR($T10="",$U10=""),"",IFERROR(IF($T10="Flat",$U10,IF($T10="Per Loaded Mile",$R10*$U10,"")),""))) -> 1050 | W10: 125 | X10: 150 | Y10: 0 | Z10: 0 | AA10: =IF(OR($A10="",$V10=""),"",IFERROR(SUM($V10:$Z10),"")) -> 1325 | AB10: =IF($A10="","",IFERROR(IF(INDEX(Resources!$J$5:$J$104,MATCH($F10,Resources!$G$5:$G$104,0))>0,INDEX(Resources!$J$5:$J$104,MATCH($F10,Resources!$G$5:$G$104,0)),Settings!$B$5),Settings!$B$5)) -> 7.2 | AC10: =IF($A10="","",IF(OR($S10="",$AB10=""),"",IFERROR($S10/$AB10,""))) -> 28.194444 | AD10: =IF($A10="","",IF($AC10="","",IFERROR($AC10*Settings!$B$4,""))) -> 109.67639 | AE10: % of Gross | AF10: 0.26 | AG10: =IF($A10="","",IF(OR($AE10="",$AF10=""),"",IFERROR(IF($AE10="% of Gross",$AA10*$AF10,IF($AE10="Per Loaded Mile",$R10*$AF10,IF($AE10="Flat",$AF10,""))),""))) -> 344.5 | AH10: =IF($A10="","",IFERROR(IF(OR($AA10="",$AD10="",$AG10=""),"",$AA10-$AD10-$AG10),"")) -> 870.82361 | AI10: =IF($A10="","",IFERROR($AH10/$AA10,"")) -> 0.65722537 | AL10: =IF($A10="","",IFERROR(IF(INDEX(Resources!$S$5:$S$104,MATCH($C10,Resources!$P$5:$P$104,0))>0,INDEX(Resources!$S$5:$S$104,MATCH($C10,Resources!$P$5:$P$104,0)),Settings!$B$6),Settings!$B$6)) -> 30 | AM10: =IF($AK10="","",IFERROR($AK10+$AL10,"")) | AN10: No | AO10: =IF($A10="","",IF($B10="Canceled","OK",IF(COUNTIF($A$6:$A$205,$A10)>1,"DUPLICATE LOAD ID",IF(AND($L10<>"",$M10<>"",$M10<=$L10),"CHECK APPOINTMENTS",IF(AND($P10<>"",$P10>Settings!$B$8),"CHECK WEIGHT",IF(IFERROR(INDEX(Resources!$C$5:$C$104,MATCH($E10,Resources!$A$5:$A$104,0)),"Missing")<>"Active","CHECK DRIVER",IF(IFERROR(INDEX(Resources!$I$5:$I$104,MATCH($F10,Resources!$G$5:$G$104,0)),"Missing")<>"Active","CHECK TRUCK",IF(AND($G10<>"",IFERROR(INDEX(Resources!$N$5:$N$104,MATCH($G10,Resources!$L$5:$L$104,0)),"Missing")<>"Active"),"CHECK TRAILER",IF(AND($B10="Delivered",$AN10<>"Yes"),"POD NEEDED",IF(AND(OR($B10="Planned",$B10="Dispatched",$B10="At Pickup",$B10="In Transit"),$M10<>"",$M10<NOW()),"DELIVERY OVERDUE",IF(AND($AI10<>"",$AI10<Settings!$B$7),"LOW MARGIN","OK"))))))))))) -> POD NEEDED | AP10: Waiting on signed POD
A11: LD-10486 | B11: Invoiced | C11: Rocky Mountain Parts | D11: Casey Morgan | E11: Maria Lopez | F11: T-105 | G11: TR-203 | H11: Denver | I11: CO | J11: Salt Lake City | K11: UT | L11: 46264.25 | M11: 46265.75 | N11: Dry Van | O11: Auto parts | P11: 38500 | Q11: 55 | R11: 520 | S11: =IF($A11="","",IF(COUNTA($Q11:$R11)=0,"",SUM($Q11:$R11))) -> 575 | T11: Per Loaded Mile | U11: 3 | V11: =IF($A11="","",IF(OR($T11="",$U11=""),"",IFERROR(IF($T11="Flat",$U11,IF($T11="Per Loaded Mile",$R11*$U11,"")),""))) -> 1560 | W11: 210 | X11: 0 | Y11: 0 | Z11: 35 | AA11: =IF(OR($A11="",$V11=""),"",IFERROR(SUM($V11:$Z11),"")) -> 1805 | AB11: =IF($A11="","",IFERROR(IF(INDEX(Resources!$J$5:$J$104,MATCH($F11,Resources!$G$5:$G$104,0))>0,INDEX(Resources!$J$5:$J$104,MATCH($F11,Resources!$G$5:$G$104,0)),Settings!$B$5),Settings!$B$5)) -> 6.9 | AC11: =IF($A11="","",IF(OR($S11="",$AB11=""),"",IFERROR($S11/$AB11,""))) -> 83.333333 | AD11: =IF($A11="","",IF($AC11="","",IFERROR($AC11*Settings!$B$4,""))) -> 324.16667 | AE11: % of Gross | AF11: 0.27 | AG11: =IF($A11="","",IF(OR($AE11="",$AF11=""),"",IFERROR(IF($AE11="% of Gross",$AA11*$AF11,IF($AE11="Per Loaded Mile",$R11*$AF11,IF($AE11="Flat",$AF11,""))),""))) -> 487.35 | AH11: =IF($A11="","",IFERROR(IF(OR($AA11="",$AD11="",$AG11=""),"",$AA11-$AD11-$AG11),"")) -> 993.48333 | AI11: =IF($A11="","",IFERROR($AH11/$AA11,"")) -> 0.55040628 | AJ11: INV-10486 | AK11: 46266 | AL11: =IF($A11="","",IFERROR(IF(INDEX(Resources!$S$5:$S$104,MATCH($C11,Resources!$P$5:$P$104,0))>0,INDEX(Resources!$S$5:$S$104,MATCH($C11,Resources!$P$5:$P$104,0)),Settings!$B$6),Settings!$B$6)) -> 45 | AM11: =IF($AK11="","",IFERROR($AK11+$AL11,"")) -> 46311 | AN11: Yes | AO11: =IF($A11="","",IF($B11="Canceled","OK",IF(COUNTIF($A$6:$A$205,$A11)>1,"DUPLICATE LOAD ID",IF(AND($L11<>"",$M11<>"",$M11<=$L11),"CHECK APPOINTMENTS",IF(AND($P11<>"",$P11>Settings!$B$8),"CHECK WEIGHT",IF(IFERROR(INDEX(Resources!$C$5:$C$104,MATCH($E11,Resources!$A$5:$A$104,0)),"Missing")<>"Active","CHECK DRIVER",IF(IFERROR(INDEX(Resources!$I$5:$I$104,MATCH($F11,Resources!$G$5:$G$104,0)),"Missing")<>"Active","CHECK TRUCK",IF(AND($G11<>"",IFERROR(INDEX(Resources!$N$5:$N$104,MATCH($G11,Resources!$L$5:$L$104,0)),"Missing")<>"Active"),"CHECK TRAILER",IF(AND($B11="Delivered",$AN11<>"Yes"),"POD NEEDED",IF(AND(OR($B11="Planned",$B11="Dispatched",$B11="At Pickup",$B11="In Transit"),$M11<>"",$M11<NOW()),"DELIVERY OVERDUE",IF(AND($AI11<>"",$AI11<Settings!$B$7),"LOW MARGIN","OK"))))))))))) -> OK | AP11: Invoice sent by email
A12: LD-10487 | B12: Paid | C12: Heartland Paper | D12: Taylor Reed | E12: James Carter | F12: T-102 | G12: TR-201 | H12: Chicago | I12: IL | J12: Indianapolis | K12: IN | L12: 46251.375 | M12: 46252.667 | N12: Dry Van | O12: Paper rolls | P12: 43200 | Q12: 30 | R12: 185 | S12: =IF($A12="","",IF(COUNTA($Q12:$R12)=0,"",SUM($Q12:$R12))) -> 215 | T12: Flat | U12: 1125 | V12: =IF($A12="","",IF(OR($T12="",$U12=""),"",IFERROR(IF($T12="Flat",$U12,IF($T12="Per Loaded Mile",$R12*$U12,"")),""))) -> 1125 | W12: 95 | X12: 75 | Y12: 0 | Z12: 0 | AA12: =IF(OR($A12="",$V12=""),"",IFERROR(SUM($V12:$Z12),"")) -> 1295 | AB12: =IF($A12="","",IFERROR(IF(INDEX(Resources!$J$5:$J$104,MATCH($F12,Resources!$G$5:$G$104,0))>0,INDEX(Resources!$J$5:$J$104,MATCH($F12,Resources!$G$5:$G$104,0)),Settings!$B$5),Settings!$B$5)) -> 6.7 | AC12: =IF($A12="","",IF(OR($S12="",$AB12=""),"",IFERROR($S12/$AB12,""))) -> 32.089552 | AD12: =IF($A12="","",IF($AC12="","",IFERROR($AC12*Settings!$B$4,""))) -> 124.82836 | AE12: Per Loaded Mile | AF12: 0.65 | AG12: =IF($A12="","",IF(OR($AE12="",$AF12=""),"",IFERROR(IF($AE12="% of Gross",$AA12*$AF12,IF($AE12="Per Loaded Mile",$R12*$AF12,IF($AE12="Flat",$AF12,""))),""))) -> 120.25 | AH12: =IF($A12="","",IFERROR(IF(OR($AA12="",$AD12="",$AG12=""),"",$AA12-$AD12-$AG12),"")) -> 1049.9216 | AI12: =IF($A12="","",IFERROR($AH12/$AA12,"")) -> 0.8107503 | AJ12: INV-10487 | AK12: 46253 | AL12: =IF($A12="","",IFERROR(IF(INDEX(Resources!$S$5:$S$104,MATCH($C12,Resources!$P$5:$P$104,0))>0,INDEX(Resources!$S$5:$S$104,MATCH($C12,Resources!$P$5:$P$104,0)),Settings!$B$6),Settings!$B$6)) -> 30 | AM12: =IF($AK12="","",IFERROR($AK12+$AL12,"")) -> 46283 | AN12: Yes | AO12: =IF($A12="","",IF($B12="Canceled","OK",IF(COUNTIF($A$6:$A$205,$A12)>1,"DUPLICATE LOAD ID",IF(AND($L12<>"",$M12<>"",$M12<=$L12),"CHECK APPOINTMENTS",IF(AND($P12<>"",$P12>Settings!$B$8),"CHECK WEIGHT",IF(IFERROR(INDEX(Resources!$C$5:$C$104,MATCH($E12,Resources!$A$5:$A$104,0)),"Missing")<>"Active","CHECK DRIVER",IF(IFERROR(INDEX(Resources!$I$5:$I$104,MATCH($F12,Resources!$G$5:$G$104,0)),"Missing")<>"Active","CHECK TRUCK",IF(AND($G12<>"",IFERROR(INDEX(Resources!$N$5:$N$104,MATCH($G12,Resources!$L$5:$L$104,0)),"Missing")<>"Active"),"CHECK TRAILER",IF(AND($B12="Delivered",$AN12<>"Yes"),"POD NEEDED",IF(AND(OR($B12="Planned",$B12="Dispatched",$B12="At Pickup",$B12="In Transit"),$M12<>"",$M12<NOW()),"DELIVERY OVERDUE",IF(AND($AI12<>"",$AI12<Settings!$B$7),"LOW MARGIN","OK"))))))))))) -> OK | AP12: Paid by ACH
A13: LD-10488 | B13: Canceled | C13: Pacific Medical Supply | D13: Morgan Hayes | E13: Emily Nguyen | F13: T-104 | H13: Phoenix | I13: AZ | J13: Tucson | K13: AZ | L13: 46274.542 | M13: 46274.792 | N13: Box Truck | O13: Medical supplies | P13: 6200 | Q13: 12 | R13: 115 | S13: =IF($A13="","",IF(COUNTA($Q13:$R13)=0,"",SUM($Q13:$R13))) -> 127 | T13: Flat | U13: 650 | V13: =IF($A13="","",IF(OR($T13="",$U13=""),"",IFERROR(IF($T13="Flat",$U13,IF($T13="Per Loaded Mile",$R13*$U13,"")),""))) -> 650 | W13: 60 | X13: 0 | Y13: 0 | Z13: 0 | AA13: =IF(OR($A13="",$V13=""),"",IFERROR(SUM($V13:$Z13),"")) -> 710 | AB13: =IF($A13="","",IFERROR(IF(INDEX(Resources!$J$5:$J$104,MATCH($F13,Resources!$G$5:$G$104,0))>0,INDEX(Resources!$J$5:$J$104,MATCH($F13,Resources!$G$5:$G$104,0)),Settings!$B$5),Settings!$B$5)) -> 9.5 | AC13: =IF($A13="","",IF(OR($S13="",$AB13=""),"",IFERROR($S13/$AB13,""))) -> 13.368421 | AD13: =IF($A13="","",IF($AC13="","",IFERROR($AC13*Settings!$B$4,""))) -> 52.003158 | AE13: % of Gross | AF13: 0.28 | AG13: =IF($A13="","",IF(OR($AE13="",$AF13=""),"",IFERROR(IF($AE13="% of Gross",$AA13*$AF13,IF($AE13="Per Loaded Mile",$R13*$AF13,IF($AE13="Flat",$AF13,""))),""))) -> 198.8 | AH13: =IF($A13="","",IFERROR(IF(OR($AA13="",$AD13="",$AG13=""),"",$AA13-$AD13-$AG13),"")) -> 459.19684 | AI13: =IF($A13="","",IFERROR($AH13/$AA13,"")) -> 0.64675612 | AL13: =IF($A13="","",IFERROR(IF(INDEX(Resources!$S$5:$S$104,MATCH($C13,Resources!$P$5:$P$104,0))>0,INDEX(Resources!$S$5:$S$104,MATCH($C13,Resources!$P$5:$P$104,0)),Settings!$B$6),Settings!$B$6)) -> 15 | AM13: =IF($AK13="","",IFERROR($AK13+$AL13,"")) | AN13: No | AO13: =IF($A13="","",IF($B13="Canceled","OK",IF(COUNTIF($A$6:$A$205,$A13)>1,"DUPLICATE LOAD ID",IF(AND($L13<>"",$M13<>"",$M13<=$L13),"CHECK APPOINTMENTS",IF(AND($P13<>"",$P13>Settings!$B$8),"CHECK WEIGHT",IF(IFERROR(INDEX(Resources!$C$5:$C$104,MATCH($E13,Resources!$A$5:$A$104,0)),"Missing")<>"Active","CHECK DRIVER",IF(IFERROR(INDEX(Resources!$I$5:$I$104,MATCH($F13,Resources!$G$5:$G$104,0)),"Missing")<>"Active","CHECK TRUCK",IF(AND($G13<>"",IFERROR(INDEX(Resources!$N$5:$N$104,MATCH($G13,Resources!$L$5:$L$104,0)),"Missing")<>"Active"),"CHECK TRAILER",IF(AND($B13="Delivered",$AN13<>"Yes"),"POD NEEDED",IF(AND(OR($B13="Planned",$B13="Dispatched",$B13="At Pickup",$B13="In Transit"),$M13<>"",$M13<NOW()),"DELIVERY OVERDUE",IF(AND($AI13<>"",$AI13<Settings!$B$7),"LOW MARGIN","OK"))))))))))) -> OK | AP13: Customer canceled before pickup
A14: LD-10489 | B14: Planned | C14: Great Plains Manufacturing | D14: Jordan Lee | E14: Robert King | F14: T-106 | G14: TR-204 | H14: Austin | I14: TX | J14: Houston | K14: TX | L14: 46273.292 | M14: 46274.708 | N14: Flatbed | O14: Building materials | P14: 48000 | Q14: 25 | R14: 165 | S14: =IF($A14="","",IF(COUNTA($Q14:$R14)=0,"",SUM($Q14:$R14))) -> 190 | T14: Flat | U14: 900 | V14: =IF($A14="","",IF(OR($T14="",$U14=""),"",IFERROR(IF($T14="Flat",$U14,IF($T14="Per Loaded Mile",$R14*$U14,"")),""))) -> 900 | W14: 80 | X14: 0 | Y14: 0 | Z14: 0 | AA14: =IF(OR($A14="",$V14=""),"",IFERROR(SUM($V14:$Z14),"")) -> 980 | AB14: =IF($A14="","",IFERROR(IF(INDEX(Resources!$J$5:$J$104,MATCH($F14,Resources!$G$5:$G$104,0))>0,INDEX(Resources!$J$5:$J$104,MATCH($F14,Resources!$G$5:$G$104,0)),Settings!$B$5),Settings!$B$5)) -> 7 | AC14: =IF($A14="","",IF(OR($S14="",$AB14=""),"",IFERROR($S14/$AB14,""))) -> 27.142857 | AD14: =IF($A14="","",IF($AC14="","",IFERROR($AC14*Settings!$B$4,""))) -> 105.58571 | AE14: Per Loaded Mile | AF14: 0.68 | AG14: =IF($A14="","",IF(OR($AE14="",$AF14=""),"",IFERROR(IF($AE14="% of Gross",$AA14*$AF14,IF($AE14="Per Loaded Mile",$R14*$AF14,IF($AE14="Flat",$AF14,""))),""))) -> 112.2 | AH14: =IF($A14="","",IFERROR(IF(OR($AA14="",$AD14="",$AG14=""),"",$AA14-$AD14-$AG14),"")) -> 762.21429 | AI14: =IF($A14="","",IFERROR($AH14/$AA14,"")) -> 0.77776968 | AL14: =IF($A14="","",IFERROR(IF(INDEX(Resources!$S$5:$S$104,MATCH($C14,Resources!$P$5:$P$104,0))>0,INDEX(Resources!$S$5:$S$104,MATCH($C14,Resources!$P$5:$P$104,0)),Settings!$B$6),Settings!$B$6)) -> 30 | AM14: =IF($AK14="","",IFERROR($AK14+$AL14,"")) | AN14: No | AO14: =IF($A14="","",IF($B14="Canceled","OK",IF(COUNTIF($A$6:$A$205,$A14)>1,"DUPLICATE LOAD ID",IF(AND($L14<>"",$M14<>"",$M14<=$L14),"CHECK APPOINTMENTS",IF(AND($P14<>"",$P14>Settings!$B$8),"CHECK WEIGHT",IF(IFERROR(INDEX(Resources!$C$5:$C$104,MATCH($E14,Resources!$A$5:$A$104,0)),"Missing")<>"Active","CHECK DRIVER",IF(IFERROR(INDEX(Resources!$I$5:$I$104,MATCH($F14,Resources!$G$5:$G$104,0)),"Missing")<>"Active","CHECK TRUCK",IF(AND($G14<>"",IFERROR(INDEX(Resources!$N$5:$N$104,MATCH($G14,Resources!$L$5:$L$104,0)),"Missing")<>"Active"),"CHECK TRAILER",IF(AND($B14="Delivered",$AN14<>"Yes"),"POD NEEDED",IF(AND(OR($B14="Planned",$B14="Dispatched",$B14="At Pickup",$B14="In Transit"),$M14<>"",$M14<NOW()),"DELIVERY OVERDUE",IF(AND($AI14<>"",$AI14<Settings!$B$7),"LOW MARGIN","OK"))))))))))) -> CHECK DRIVER | AP14: Reassign driver before dispatch
A15: LD-10490 | B15: Delivered | C15: Pacific Medical Supply | D15: Casey Morgan | E15: DeShawn Brooks | F15: T-102 | G15: TR-203 | H15: Newark | I15: NJ | J15: Baltimore | K15: MD | L15: 46269.333 | M15: 46270.5 | N15: Dry Van | O15: Medical supplies | P15: 7500 | Q15: 20 | R15: 180 | S15: =IF($A15="","",IF(COUNTA($Q15:$R15)=0,"",SUM($Q15:$R15))) -> 200 | T15: Flat | U15: 500 | V15: =IF($A15="","",IF(OR($T15="",$U15=""),"",IFERROR(IF($T15="Flat",$U15,IF($T15="Per Loaded Mile",$R15*$U15,"")),""))) -> 500 | W15: 50 | X15: 0 | Y15: 0 | Z15: 0 | AA15: =IF(OR($A15="",$V15=""),"",IFERROR(SUM($V15:$Z15),"")) -> 550 | AB15: =IF($A15="","",IFERROR(IF(INDEX(Resources!$J$5:$J$104,MATCH($F15,Resources!$G$5:$G$104,0))>0,INDEX(Resources!$J$5:$J$104,MATCH($F15,Resources!$G$5:$G$104,0)),Settings!$B$5),Settings!$B$5)) -> 6.7 | AC15: =IF($A15="","",IF(OR($S15="",$AB15=""),"",IFERROR($S15/$AB15,""))) -> 29.850746 | AD15: =IF($A15="","",IF($AC15="","",IFERROR($AC15*Settings!$B$4,""))) -> 116.1194 | AE15: Flat | AF15: 450 | AG15: =IF($A15="","",IF(OR($AE15="",$AF15=""),"",IFERROR(IF($AE15="% of Gross",$AA15*$AF15,IF($AE15="Per Loaded Mile",$R15*$AF15,IF($AE15="Flat",$AF15,""))),""))) -> 450 | AH15: =IF($A15="","",IFERROR(IF(OR($AA15="",$AD15="",$AG15=""),"",$AA15-$AD15-$AG15),"")) -> -16.119403 | AI15: =IF($A15="","",IFERROR($AH15/$AA15,"")) -> -0.029308005 | AL15: =IF($A15="","",IFERROR(IF(INDEX(Resources!$S$5:$S$104,MATCH($C15,Resources!$P$5:$P$104,0))>0,INDEX(Resources!$S$5:$S$104,MATCH($C15,Resources!$P$5:$P$104,0)),Settings!$B$6),Settings!$B$6)) -> 15 | AM15: =IF($AK15="","",IFERROR($AK15+$AL15,"")) | AN15: Yes | AO15: =IF($A15="","",IF($B15="Canceled","OK",IF(COUNTIF($A$6:$A$205,$A15)>1,"DUPLICATE LOAD ID",IF(AND($L15<>"",$M15<>"",$M15<=$L15),"CHECK APPOINTMENTS",IF(AND($P15<>"",$P15>Settings!$B$8),"CHECK WEIGHT",IF(IFERROR(INDEX(Resources!$C$5:$C$104,MATCH($E15,Resources!$A$5:$A$104,0)),"Missing")<>"Active","CHECK DRIVER",IF(IFERROR(INDEX(Resources!$I$5:$I$104,MATCH($F15,Resources!$G$5:$G$104,0)),"Missing")<>"Active","CHECK TRUCK",IF(AND($G15<>"",IFERROR(INDEX(Resources!$N$5:$N$104,MATCH($G15,Resources!$L$5:$L$104,0)),"Missing")<>"Active"),"CHECK TRAILER",IF(AND($B15="Delivered",$AN15<>"Yes"),"POD NEEDED",IF(AND(OR($B15="Planned",$B15="Dispatched",$B15="At Pickup",$B15="In Transit"),$M15<>"",$M15<NOW()),"DELIVERY OVERDUE",IF(AND($AI15<>"",$AI15<Settings!$B$7),"LOW MARGIN","OK"))))))))))) -> LOW MARGIN | AP15: Pricing exception
S16: =IF($A16="","",IF(COUNTA($Q16:$R16)=0,"",SUM($Q16:$R16))) | V16: =IF($A16="","",IF(OR($T16="",$U16=""),"",IFERROR(IF($T16="Flat",$U16,IF($T16="Per Loaded Mile",$R16*$U16,"")),""))) | AA16: =IF(OR($A16="",$V16=""),"",IFERROR(SUM($V16:$Z16),"")) | AB16: =IF($A16="","",IFERROR(IF(INDEX(Resources!$J$5:$J$104,MATCH($F16,Resources!$G$5:$G$104,0))>0,INDEX(Resources!$J$5:$J$104,MATCH($F16,Resources!$G$5:$G$104,0)),Settings!$B$5),Settings!$B$5)) | AC16: =IF($A16="","",IF(OR($S16="",$AB16=""),"",IFERROR($S16/$AB16,""))) | AD16: =IF($A16="","",IF($AC16="","",IFERROR($AC16*Settings!$B$4,""))) | AG16: =IF($A16="","",IF(OR($AE16="",$AF16=""),"",IFERROR(IF($AE16="% of Gross",$AA16*$AF16,IF($AE16="Per Loaded Mile",$R16*$AF16,IF($AE16="Flat",$AF16,""))),""))) | AH16: =IF($A16="","",IFERROR(IF(OR($AA16="",$AD16="",$AG16=""),"",$AA16-$AD16-$AG16),"")) | AI16: =IF($A16="","",IFERROR($AH16/$AA16,"")) | AL16: =IF($A16="","",IFERROR(IF(INDEX(Resources!$S$5:$S$104,MATCH($C16,Resources!$P$5:$P$104,0))>0,INDEX(Resources!$S$5:$S$104,MATCH($C16,Resources!$P$5:$P$104,0)),Settings!$B$6),Settings!$B$6)) | AM16: =IF($AK16="","",IFERROR($AK16+$AL16,"")) | AO16: =IF($A16="","",IF($B16="Canceled","OK",IF(COUNTIF($A$6:$A$205,$A16)>1,"DUPLICATE LOAD ID",IF(AND($L16<>"",$M16<>"",$M16<=$L16),"CHECK APPOINTMENTS",IF(AND($P16<>"",$P16>Settings!$B$8),"CHECK WEIGHT",IF(IFERROR(INDEX(Resources!$C$5:$C$104,MATCH($E16,Resources!$A$5:$A$104,0)),"Missing")<>"Active","CHECK DRIVER",IF(IFERROR(INDEX(Resources!$I$5:$I$104,MATCH($F16,Resources!$G$5:$G$104,0)),"Missing")<>"Active","CHECK TRUCK",IF(AND($G16<>"",IFERROR(INDEX(Resources!$N$5:$N$104,MATCH($G16,Resources!$L$5:$L$104,0)),"Missing")<>"Active"),"CHECK TRAILER",IF(AND($B16="Delivered",$AN16<>"Yes"),"POD NEEDED",IF(AND(OR($B16="Planned",$B16="Dispatched",$B16="At Pickup",$B16="In Transit"),$M16<>"",$M16<NOW()),"DELIVERY OVERDUE",IF(AND($AI16<>"",$AI16<Settings!$B$7),"LOW MARGIN","OK")))))))))))
S17: =IF($A17="","",IF(COUNTA($Q17:$R17)=0,"",SUM($Q17:$R17))) | V17: =IF($A17="","",IF(OR($T17="",$U17=""),"",IFERROR(IF($T17="Flat",$U17,IF($T17="Per Loaded Mile",$R17*$U17,"")),""))) | AA17: =IF(OR($A17="",$V17=""),"",IFERROR(SUM($V17:$Z17),"")) | AB17: =IF($A17="","",IFERROR(IF(INDEX(Resources!$J$5:$J$104,MATCH($F17,Resources!$G$5:$G$104,0))>0,INDEX(Resources!$J$5:$J$104,MATCH($F17,Resources!$G$5:$G$104,0)),Settings!$B$5),Settings!$B$5)) | AC17: =IF($A17="","",IF(OR($S17="",$AB17=""),"",IFERROR($S17/$AB17,""))) | AD17: =IF($A17="","",IF($AC17="","",IFERROR($AC17*Settings!$B$4,""))) | AG17: =IF($A17="","",IF(OR($AE17="",$AF17=""),"",IFERROR(IF($AE17="% of Gross",$AA17*$AF17,IF($AE17="Per Loaded Mile",$R17*$AF17,IF($AE17="Flat",$AF17,""))),""))) | AH17: =IF($A17="","",IFERROR(IF(OR($AA17="",$AD17="",$AG17=""),"",$AA17-$AD17-$AG17),"")) | AI17: =IF($A17="","",IFERROR($AH17/$AA17,"")) | AL17: =IF($A17="","",IFERROR(IF(INDEX(Resources!$S$5:$S$104,MATCH($C17,Resources!$P$5:$P$104,0))>0,INDEX(Resources!$S$5:$S$104,MATCH($C17,Resources!$P$5:$P$104,0)),Settings!$B$6),Settings!$B$6)) | AM17: =IF($AK17="","",IFERROR($AK17+$AL17,"")) | AO17: =IF($A17="","",IF($B17="Canceled","OK",IF(COUNTIF($A$6:$A$205,$A17)>1,"DUPLICATE LOAD ID",IF(AND($L17<>"",$M17<>"",$M17<=$L17),"CHECK APPOINTMENTS",IF(AND($P17<>"",$P17>Settings!$B$8),"CHECK WEIGHT",IF(IFERROR(INDEX(Resources!$C$5:$C$104,MATCH($E17,Resources!$A$5:$A$104,0)),"Missing")<>"Active","CHECK DRIVER",IF(IFERROR(INDEX(Resources!$I$5:$I$104,MATCH($F17,Resources!$G$5:$G$104,0)),"Missing")<>"Active","CHECK TRUCK",IF(AND($G17<>"",IFERROR(INDEX(Resources!$N$5:$N$104,MATCH($G17,Resources!$L$5:$L$104,0)),"Missing")<>"Active"),"CHECK TRAILER",IF(AND($B17="Delivered",$AN17<>"Yes"),"POD NEEDED",IF(AND(OR($B17="Planned",$B17="Dispatched",$B17="At Pickup",$B17="In Transit"),$M17<>"",$M17<NOW()),"DELIVERY OVERDUE",IF(AND($AI17<>"",$AI17<Settings!$B$7),"LOW MARGIN","OK")))))))))))
S18: =IF($A18="","",IF(COUNTA($Q18:$R18)=0,"",SUM($Q18:$R18))) | V18: =IF($A18="","",IF(OR($T18="",$U18=""),"",IFERROR(IF($T18="Flat",$U18,IF($T18="Per Loaded Mile",$R18*$U18,"")),""))) | AA18: =IF(OR($A18="",$V18=""),"",IFERROR(SUM($V18:$Z18),"")) | AB18: =IF($A18="","",IFERROR(IF(INDEX(Resources!$J$5:$J$104,MATCH($F18,Resources!$G$5:$G$104,0))>0,INDEX(Resources!$J$5:$J$104,MATCH($F18,Resources!$G$5:$G$104,0)),Settings!$B$5),Settings!$B$5)) | AC18: =IF($A18="","",IF(OR($S18="",$AB18=""),"",IFERROR($S18/$AB18,""))) | AD18: =IF($A18="","",IF($AC18="","",IFERROR($AC18*Settings!$B$4,""))) | AG18: =IF($A18="","",IF(OR($AE18="",$AF18=""),"",IFERROR(IF($AE18="% of Gross",$AA18*$AF18,IF($AE18="Per Loaded Mile",$R18*$AF18,IF($AE18="Flat",$AF18,""))),""))) | AH18: =IF($A18="","",IFERROR(IF(OR($AA18="",$AD18="",$AG18=""),"",$AA18-$AD18-$AG18),"")) | AI18: =IF($A18="","",IFERROR($AH18/$AA18,"")) | AL18: =IF($A18="","",IFERROR(IF(INDEX(Resources!$S$5:$S$104,MATCH($C18,Resources!$P$5:$P$104,0))>0,INDEX(Resources!$S$5:$S$104,MATCH($C18,Resources!$P$5:$P$104,0)),Settings!$B$6),Settings!$B$6)) | AM18: =IF($AK18="","",IFERROR($AK18+$AL18,"")) | AO18: =IF($A18="","",IF($B18="Canceled","OK",IF(COUNTIF($A$6:$A$205,$A18)>1,"DUPLICATE LOAD ID",IF(AND($L18<>"",$M18<>"",$M18<=$L18),"CHECK APPOINTMENTS",IF(AND($P18<>"",$P18>Settings!$B$8),"CHECK WEIGHT",IF(IFERROR(INDEX(Resources!$C$5:$C$104,MATCH($E18,Resources!$A$5:$A$104,0)),"Missing")<>"Active","CHECK DRIVER",IF(IFERROR(INDEX(Resources!$I$5:$I$104,MATCH($F18,Resources!$G$5:$G$104,0)),"Missing")<>"Active","CHECK TRUCK",IF(AND($G18<>"",IFERROR(INDEX(Resources!$N$5:$N$104,MATCH($G18,Resources!$L$5:$L$104,0)),"Missing")<>"Active"),"CHECK TRAILER",IF(AND($B18="Delivered",$AN18<>"Yes"),"POD NEEDED",IF(AND(OR($B18="Planned",$B18="Dispatched",$B18="At Pickup",$B18="In Transit"),$M18<>"",$M18<NOW()),"DELIVERY OVERDUE",IF(AND($AI18<>"",$AI18<Settings!$B$7),"LOW MARGIN","OK")))))))))))
S19: =IF($A19="","",IF(COUNTA($Q19:$R19)=0,"",SUM($Q19:$R19))) | V19: =IF($A19="","",IF(OR($T19="",$U19=""),"",IFERROR(IF($T19="Flat",$U19,IF($T19="Per Loaded Mile",$R19*$U19,"")),""))) | AA19: =IF(OR($A19="",$V19=""),"",IFERROR(SUM($V19:$Z19),"")) | AB19: =IF($A19="","",IFERROR(IF(INDEX(Resources!$J$5:$J$104,MATCH($F19,Resources!$G$5:$G$104,0))>0,INDEX(Resources!$J$5:$J$104,MATCH($F19,Resources!$G$5:$G$104,0)),Settings!$B$5),Settings!$B$5)) | AC19: =IF($A19="","",IF(OR($S19="",$AB19=""),"",IFERROR($S19/$AB19,""))) | AD19: =IF($A19="","",IF($AC19="","",IFERROR($AC19*Settings!$B$4,""))) | AG19: =IF($A19="","",IF(OR($AE19="",$AF19=""),"",IFERROR(IF($AE19="% of Gross",$AA19*$AF19,IF($AE19="Per Loaded Mile",$R19*$AF19,IF($AE19="Flat",$AF19,""))),""))) | AH19: =IF($A19="","",IFERROR(IF(OR($AA19="",$AD19="",$AG19=""),"",$AA19-$AD19-$AG19),"")) | AI19: =IF($A19="","",IFERROR($AH19/$AA19,"")) | AL19: =IF($A19="","",IFERROR(IF(INDEX(Resources!$S$5:$S$104,MATCH($C19,Resources!$P$5:$P$104,0))>0,INDEX(Resources!$S$5:$S$104,MATCH($C19,Resources!$P$5:$P$104,0)),Settings!$B$6),Settings!$B$6)) | AM19: =IF($AK19="","",IFERROR($AK19+$AL19,"")) | AO19: =IF($A19="","",IF($B19="Canceled","OK",IF(COUNTIF($A$6:$A$205,$A19)>1,"DUPLICATE LOAD ID",IF(AND($L19<>"",$M19<>"",$M19<=$L19),"CHECK APPOINTMENTS",IF(AND($P19<>"",$P19>Settings!$B$8),"CHECK WEIGHT",IF(IFERROR(INDEX(Resources!$C$5:$C$104,MATCH($E19,Resources!$A$5:$A$104,0)),"Missing")<>"Active","CHECK DRIVER",IF(IFERROR(INDEX(Resources!$I$5:$I$104,MATCH($F19,Resources!$G$5:$G$104,0)),"Missing")<>"Active","CHECK TRUCK",IF(AND($G19<>"",IFERROR(INDEX(Resources!$N$5:$N$104,MATCH($G19,Resources!$L$5:$L$104,0)),"Missing")<>"Active"),"CHECK TRAILER",IF(AND($B19="Delivered",$AN19<>"Yes"),"POD NEEDED",IF(AND(OR($B19="Planned",$B19="Dispatched",$B19="At Pickup",$B19="In Transit"),$M19<>"",$M19<NOW()),"DELIVERY OVERDUE",IF(AND($AI19<>"",$AI19<Settings!$B$7),"LOW MARGIN","OK")))))))))))
S20: =IF($A20="","",IF(COUNTA($Q20:$R20)=0,"",SUM($Q20:$R20))) | V20: =IF($A20="","",IF(OR($T20="",$U20=""),"",IFERROR(IF($T20="Flat",$U20,IF($T20="Per Loaded Mile",$R20*$U20,"")),""))) | AA20: =IF(OR($A20="",$V20=""),"",IFERROR(SUM($V20:$Z20),"")) | AB20: =IF($A20="","",IFERROR(IF(INDEX(Resources!$J$5:$J$104,MATCH($F20,Resources!$G$5:$G$104,0))>0,INDEX(Resources!$J$5:$J$104,MATCH($F20,Resources!$G$5:$G$104,0)),Settings!$B$5),Settings!$B$5)) | AC20: =IF($A20="","",IF(OR($S20="",$AB20=""),"",IFERROR($S20/$AB20,""))) | AD20: =IF($A20="","",IF($AC20="","",IFERROR($AC20*Settings!$B$4,""))) | AG20: =IF($A20="","",IF(OR($AE20="",$AF20=""),"",IFERROR(IF($AE20="% of Gross",$AA20*$AF20,IF($AE20="Per Loaded Mile",$R20*$AF20,IF($AE20="Flat",$AF20,""))),""))) | AH20: =IF($A20="","",IFERROR(IF(OR($AA20="",$AD20="",$AG20=""),"",$AA20-$AD20-$AG20),"")) | AI20: =IF($A20="","",IFERROR($AH20/$AA20,"")) | AL20: =IF($A20="","",IFERROR(IF(INDEX(Resources!$S$5:$S$104,MATCH($C20,Resources!$P$5:$P$104,0))>0,INDEX(Resources!$S$5:$S$104,MATCH($C20,Resources!$P$5:$P$104,0)),Settings!$B$6),Settings!$B$6)) | AM20: =IF($AK20="","",IFERROR($AK20+$AL20,"")) | AO20: =IF($A20="","",IF($B20="Canceled","OK",IF(COUNTIF($A$6:$A$205,$A20)>1,"DUPLICATE LOAD ID",IF(AND($L20<>"",$M20<>"",$M20<=$L20),"CHECK APPOINTMENTS",IF(AND($P20<>"",$P20>Settings!$B$8),"CHECK WEIGHT",IF(IFERROR(INDEX(Resources!$C$5:$C$104,MATCH($E20,Resources!$A$5:$A$104,0)),"Missing")<>"Active","CHECK DRIVER",IF(IFERROR(INDEX(Resources!$I$5:$I$104,MATCH($F20,Resources!$G$5:$G$104,0)),"Missing")<>"Active","CHECK TRUCK",IF(AND($G20<>"",IFERROR(INDEX(Resources!$N$5:$N$104,MATCH($G20,Resources!$L$5:$L$104,0)),"Missing")<>"Active"),"CHECK TRAILER",IF(AND($B20="Delivered",$AN20<>"Yes"),"POD NEEDED",IF(AND(OR($B20="Planned",$B20="Dispatched",$B20="At Pickup",$B20="In Transit"),$M20<>"",$M20<NOW()),"DELIVERY OVERDUE",IF(AND($AI20<>"",$AI20<Settings!$B$7),"LOW MARGIN","OK")))))))))))
S21: =IF($A21="","",IF(COUNTA($Q21:$R21)=0,"",SUM($Q21:$R21))) | V21: =IF($A21="","",IF(OR($T21="",$U21=""),"",IFERROR(IF($T21="Flat",$U21,IF($T21="Per Loaded Mile",$R21*$U21,"")),""))) | AA21: =IF(OR($A21="",$V21=""),"",IFERROR(SUM($V21:$Z21),"")) | AB21: =IF($A21="","",IFERROR(IF(INDEX(Resources!$J$5:$J$104,MATCH($F21,Resources!$G$5:$G$104,0))>0,INDEX(Resources!$J$5:$J$104,MATCH($F21,Resources!$G$5:$G$104,0)),Settings!$B$5),Settings!$B$5)) | AC21: =IF($A21="","",IF(OR($S21="",$AB21=""),"",IFERROR($S21/$AB21,""))) | AD21: =IF($A21="","",IF($AC21="","",IFERROR($AC21*Settings!$B$4,""))) | AG21: =IF($A21="","",IF(OR($AE21="",$AF21=""),"",IFERROR(IF($AE21="% of Gross",$AA21*$AF21,IF($AE21="Per Loaded Mile",$R21*$AF21,IF($AE21="Flat",$AF21,""))),""))) | AH21: =IF($A21="","",IFERROR(IF(OR($AA21="",$AD21="",$AG21=""),"",$AA21-$AD21-$AG21),"")) | AI21: =IF($A21="","",IFERROR($AH21/$AA21,"")) | AL21: =IF($A21="","",IFERROR(IF(INDEX(Resources!$S$5:$S$104,MATCH($C21,Resources!$P$5:$P$104,0))>0,INDEX(Resources!$S$5:$S$104,MATCH($C21,Resources!$P$5:$P$104,0)),Settings!$B$6),Settings!$B$6)) | AM21: =IF($AK21="","",IFERROR($AK21+$AL21,"")) | AO21: =IF($A21="","",IF($B21="Canceled","OK",IF(COUNTIF($A$6:$A$205,$A21)>1,"DUPLICATE LOAD ID",IF(AND($L21<>"",$M21<>"",$M21<=$L21),"CHECK APPOINTMENTS",IF(AND($P21<>"",$P21>Settings!$B$8),"CHECK WEIGHT",IF(IFERROR(INDEX(Resources!$C$5:$C$104,MATCH($E21,Resources!$A$5:$A$104,0)),"Missing")<>"Active","CHECK DRIVER",IF(IFERROR(INDEX(Resources!$I$5:$I$104,MATCH($F21,Resources!$G$5:$G$104,0)),"Missing")<>"Active","CHECK TRUCK",IF(AND($G21<>"",IFERROR(INDEX(Resources!$N$5:$N$104,MATCH($G21,Resources!$L$5:$L$104,0)),"Missing")<>"Active"),"CHECK TRAILER",IF(AND($B21="Delivered",$AN21<>"Yes"),"POD NEEDED",IF(AND(OR($B21="Planned",$B21="Dispatched",$B21="At Pickup",$B21="In Transit"),$M21<>"",$M21<NOW()),"DELIVERY OVERDUE",IF(AND($AI21<>"",$AI21<Settings!$B$7),"LOW MARGIN","OK")))))))))))
S22: =IF($A22="","",IF(COUNTA($Q22:$R22)=0,"",SUM($Q22:$R22))) | V22: =IF($A22="","",IF(OR($T22="",$U22=""),"",IFERROR(IF($T22="Flat",$U22,IF($T22="Per Loaded Mile",$R22*$U22,"")),""))) | AA22: =IF(OR($A22="",$V22=""),"",IFERROR(SUM($V22:$Z22),"")) | AB22: =IF($A22="","",IFERROR(IF(INDEX(Resources!$J$5:$J$104,MATCH($F22,Resources!$G$5:$G$104,0))>0,INDEX(Resources!$J$5:$J$104,MATCH($F22,Resources!$G$5:$G$104,0)),Settings!$B$5),Settings!$B$5)) | AC22: =IF($A22="","",IF(OR($S22="",$AB22=""),"",IFERROR($S22/$AB22,""))) | AD22: =IF($A22="","",IF($AC22="","",IFERROR($AC22*Settings!$B$4,""))) | AG22: =IF($A22="","",IF(OR($AE22="",$AF22=""),"",IFERROR(IF($AE22="% of Gross",$AA22*$AF22,IF($AE22="Per Loaded Mile",$R22*$AF22,IF($AE22="Flat",$AF22,""))),""))) | AH22: =IF($A22="","",IFERROR(IF(OR($AA22="",$AD22="",$AG22=""),"",$AA22-$AD22-$AG22),"")) | AI22: =IF($A22="","",IFERROR($AH22/$AA22,"")) | AL22: =IF($A22="","",IFERROR(IF(INDEX(Resources!$S$5:$S$104,MATCH($C22,Resources!$P$5:$P$104,0))>0,INDEX(Resources!$S$5:$S$104,MATCH($C22,Resources!$P$5:$P$104,0)),Settings!$B$6),Settings!$B$6)) | AM22: =IF($AK22="","",IFERROR($AK22+$AL22,"")) | AO22: =IF($A22="","",IF($B22="Canceled","OK",IF(COUNTIF($A$6:$A$205,$A22)>1,"DUPLICATE LOAD ID",IF(AND($L22<>"",$M22<>"",$M22<=$L22),"CHECK APPOINTMENTS",IF(AND($P22<>"",$P22>Settings!$B$8),"CHECK WEIGHT",IF(IFERROR(INDEX(Resources!$C$5:$C$104,MATCH($E22,Resources!$A$5:$A$104,0)),"Missing")<>"Active","CHECK DRIVER",IF(IFERROR(INDEX(Resources!$I$5:$I$104,MATCH($F22,Resources!$G$5:$G$104,0)),"Missing")<>"Active","CHECK TRUCK",IF(AND($G22<>"",IFERROR(INDEX(Resources!$N$5:$N$104,MATCH($G22,Resources!$L$5:$L$104,0)),"Missing")<>"Active"),"CHECK TRAILER",IF(AND($B22="Delivered",$AN22<>"Yes"),"POD NEEDED",IF(AND(OR($B22="Planned",$B22="Dispatched",$B22="At Pickup",$B22="In Transit"),$M22<>"",$M22<NOW()),"DELIVERY OVERDUE",IF(AND($AI22<>"",$AI22<Settings!$B$7),"LOW MARGIN","OK")))))))))))
S23: =IF($A23="","",IF(COUNTA($Q23:$R23)=0,"",SUM($Q23:$R23))) | V23: =IF($A23="","",IF(OR($T23="",$U23=""),"",IFERROR(IF($T23="Flat",$U23,IF($T23="Per Loaded Mile",$R23*$U23,"")),""))) | AA23: =IF(OR($A23="",$V23=""),"",IFERROR(SUM($V23:$Z23),"")) | AB23: =IF($A23="","",IFERROR(IF(INDEX(Resources!$J$5:$J$104,MATCH($F23,Resources!$G$5:$G$104,0))>0,INDEX(Resources!$J$5:$J$104,MATCH($F23,Resources!$G$5:$G$104,0)),Settings!$B$5),Settings!$B$5)) | AC23: =IF($A23="","",IF(OR($S23="",$AB23=""),"",IFERROR($S23/$AB23,""))) | AD23: =IF($A23="","",IF($AC23="","",IFERROR($AC23*Settings!$B$4,""))) | AG23: =IF($A23="","",IF(OR($AE23="",$AF23=""),"",IFERROR(IF($AE23="% of Gross",$AA23*$AF23,IF($AE23="Per Loaded Mile",$R23*$AF23,IF($AE23="Flat",$AF23,""))),""))) | AH23: =IF($A23="","",IFERROR(IF(OR($AA23="",$AD23="",$AG23=""),"",$AA23-$AD23-$AG23),"")) | AI23: =IF($A23="","",IFERROR($AH23/$AA23,"")) | AL23: =IF($A23="","",IFERROR(IF(INDEX(Resources!$S$5:$S$104,MATCH($C23,Resources!$P$5:$P$104,0))>0,INDEX(Resources!$S$5:$S$104,MATCH($C23,Resources!$P$5:$P$104,0)),Settings!$B$6),Settings!$B$6)) | AM23: =IF($AK23="","",IFERROR($AK23+$AL23,"")) | AO23: =IF($A23="","",IF($B23="Canceled","OK",IF(COUNTIF($A$6:$A$205,$A23)>1,"DUPLICATE LOAD ID",IF(AND($L23<>"",$M23<>"",$M23<=$L23),"CHECK APPOINTMENTS",IF(AND($P23<>"",$P23>Settings!$B$8),"CHECK WEIGHT",IF(IFERROR(INDEX(Resources!$C$5:$C$104,MATCH($E23,Resources!$A$5:$A$104,0)),"Missing")<>"Active","CHECK DRIVER",IF(IFERROR(INDEX(Resources!$I$5:$I$104,MATCH($F23,Resources!$G$5:$G$104,0)),"Missing")<>"Active","CHECK TRUCK",IF(AND($G23<>"",IFERROR(INDEX(Resources!$N$5:$N$104,MATCH($G23,Resources!$L$5:$L$104,0)),"Missing")<>"Active"),"CHECK TRAILER",IF(AND($B23="Delivered",$AN23<>"Yes"),"POD NEEDED",IF(AND(OR($B23="Planned",$B23="Dispatched",$B23="At Pickup",$B23="In Transit"),$M23<>"",$M23<NOW()),"DELIVERY OVERDUE",IF(AND($AI23<>"",$AI23<Settings!$B$7),"LOW MARGIN","OK")))))))))))
S24: =IF($A24="","",IF(COUNTA($Q24:$R24)=0,"",SUM($Q24:$R24))) | V24: =IF($A24="","",IF(OR($T24="",$U24=""),"",IFERROR(IF($T24="Flat",$U24,IF($T24="Per Loaded Mile",$R24*$U24,"")),""))) | AA24: =IF(OR($A24="",$V24=""),"",IFERROR(SUM($V24:$Z24),"")) | AB24: =IF($A24="","",IFERROR(IF(INDEX(Resources!$J$5:$J$104,MATCH($F24,Resources!$G$5:$G$104,0))>0,INDEX(Resources!$J$5:$J$104,MATCH($F24,Resources!$G$5:$G$104,0)),Settings!$B$5),Settings!$B$5)) | AC24: =IF($A24="","",IF(OR($S24="",$AB24=""),"",IFERROR($S24/$AB24,""))) | AD24: =IF($A24="","",IF($AC24="","",IFERROR($AC24*Settings!$B$4,""))) | AG24: =IF($A24="","",IF(OR($AE24="",$AF24=""),"",IFERROR(IF($AE24="% of Gross",$AA24*$AF24,IF($AE24="Per Loaded Mile",$R24*$AF24,IF($AE24="Flat",$AF24,""))),""))) | AH24: =IF($A24="","",IFERROR(IF(OR($AA24="",$AD24="",$AG24=""),"",$AA24-$AD24-$AG24),"")) | AI24: =IF($A24="","",IFERROR($AH24/$AA24,"")) | AL24: =IF($A24="","",IFERROR(IF(INDEX(Resources!$S$5:$S$104,MATCH($C24,Resources!$P$5:$P$104,0))>0,INDEX(Resources!$S$5:$S$104,MATCH($C24,Resources!$P$5:$P$104,0)),Settings!$B$6),Settings!$B$6)) | AM24: =IF($AK24="","",IFERROR($AK24+$AL24,"")) | AO24: =IF($A24="","",IF($B24="Canceled","OK",IF(COUNTIF($A$6:$A$205,$A24)>1,"DUPLICATE LOAD ID",IF(AND($L24<>"",$M24<>"",$M24<=$L24),"CHECK APPOINTMENTS",IF(AND($P24<>"",$P24>Settings!$B$8),"CHECK WEIGHT",IF(IFERROR(INDEX(Resources!$C$5:$C$104,MATCH($E24,Resources!$A$5:$A$104,0)),"Missing")<>"Active","CHECK DRIVER",IF(IFERROR(INDEX(Resources!$I$5:$I$104,MATCH($F24,Resources!$G$5:$G$104,0)),"Missing")<>"Active","CHECK TRUCK",IF(AND($G24<>"",IFERROR(INDEX(Resources!$N$5:$N$104,MATCH($G24,Resources!$L$5:$L$104,0)),"Missing")<>"Active"),"CHECK TRAILER",IF(AND($B24="Delivered",$AN24<>"Yes"),"POD NEEDED",IF(AND(OR($B24="Planned",$B24="Dispatched",$B24="At Pickup",$B24="In Transit"),$M24<>"",$M24<NOW()),"DELIVERY OVERDUE",IF(AND($AI24<>"",$AI24<Settings!$B$7),"LOW MARGIN","OK")))))))))))
S25: =IF($A25="","",IF(COUNTA($Q25:$R25)=0,"",SUM($Q25:$R25))) | V25: =IF($A25="","",IF(OR($T25="",$U25=""),"",IFERROR(IF($T25="Flat",$U25,IF($T25="Per Loaded Mile",$R25*$U25,"")),""))) | AA25: =IF(OR($A25="",$V25=""),"",IFERROR(SUM($V25:$Z25),"")) | AB25: =IF($A25="","",IFERROR(IF(INDEX(Resources!$J$5:$J$104,MATCH($F25,Resources!$G$5:$G$104,0))>0,INDEX(Resources!$J$5:$J$104,MATCH($F25,Resources!$G$5:$G$104,0)),Settings!$B$5),Settings!$B$5)) | AC25: =IF($A25="","",IF(OR($S25="",$AB25=""),"",IFERROR($S25/$AB25,""))) | AD25: =IF($A25="","",IF($AC25="","",IFERROR($AC25*Settings!$B$4,""))) | AG25: =IF($A25="","",IF(OR($AE25="",$AF25=""),"",IFERROR(IF($AE25="% of Gross",$AA25*$AF25,IF($AE25="Per Loaded Mile",$R25*$AF25,IF($AE25="Flat",$AF25,""))),""))) | AH25: =IF($A25="","",IFERROR(IF(OR($AA25="",$AD25="",$AG25=""),"",$AA25-$AD25-$AG25),"")) | AI25: =IF($A25="","",IFERROR($AH25/$AA25,"")) | AL25: =IF($A25="","",IFERROR(IF(INDEX(Resources!$S$5:$S$104,MATCH($C25,Resources!$P$5:$P$104,0))>0,INDEX(Resources!$S$5:$S$104,MATCH($C25,Resources!$P$5:$P$104,0)),Settings!$B$6),Settings!$B$6)) | AM25: =IF($AK25="","",IFERROR($AK25+$AL25,"")) | AO25: =IF($A25="","",IF($B25="Canceled","OK",IF(COUNTIF($A$6:$A$205,$A25)>1,"DUPLICATE LOAD ID",IF(AND($L25<>"",$M25<>"",$M25<=$L25),"CHECK APPOINTMENTS",IF(AND($P25<>"",$P25>Settings!$B$8),"CHECK WEIGHT",IF(IFERROR(INDEX(Resources!$C$5:$C$104,MATCH($E25,Resources!$A$5:$A$104,0)),"Missing")<>"Active","CHECK DRIVER",IF(IFERROR(INDEX(Resources!$I$5:$I$104,MATCH($F25,Resources!$G$5:$G$104,0)),"Missing")<>"Active","CHECK TRUCK",IF(AND($G25<>"",IFERROR(INDEX(Resources!$N$5:$N$104,MATCH($G25,Resources!$L$5:$L$104,0)),"Missing")<>"Active"),"CHECK TRAILER",IF(AND($B25="Delivered",$AN25<>"Yes"),"POD NEEDED",IF(AND(OR($B25="Planned",$B25="Dispatched",$B25="At Pickup",$B25="In Transit"),$M25<>"",$M25<NOW()),"DELIVERY OVERDUE",IF(AND($AI25<>"",$AI25<Settings!$B$7),"LOW MARGIN","OK")))))))))))
S26: =IF($A26="","",IF(COUNTA($Q26:$R26)=0,"",SUM($Q26:$R26))) | V26: =IF($A26="","",IF(OR($T26="",$U26=""),"",IFERROR(IF($T26="Flat",$U26,IF($T26="Per Loaded Mile",$R26*$U26,"")),""))) | AA26: =IF(OR($A26="",$V26=""),"",IFERROR(SUM($V26:$Z26),"")) | AB26: =IF($A26="","",IFERROR(IF(INDEX(Resources!$J$5:$J$104,MATCH($F26,Resources!$G$5:$G$104,0))>0,INDEX(Resources!$J$5:$J$104,MATCH($F26,Resources!$G$5:$G$104,0)),Settings!$B$5),Settings!$B$5)) | AC26: =IF($A26="","",IF(OR($S26="",$AB26=""),"",IFERROR($S26/$AB26,""))) | AD26: =IF($A26="","",IF($AC26="","",IFERROR($AC26*Settings!$B$4,""))) | AG26: =IF($A26="","",IF(OR($AE26="",$AF26=""),"",IFERROR(IF($AE26="% of Gross",$AA26*$AF26,IF($AE26="Per Loaded Mile",$R26*$AF26,IF($AE26="Flat",$AF26,""))),""))) | AH26: =IF($A26="","",IFERROR(IF(OR($AA26="",$AD26="",$AG26=""),"",$AA26-$AD26-$AG26),"")) | AI26: =IF($A26="","",IFERROR($AH26/$AA26,"")) | AL26: =IF($A26="","",IFERROR(IF(INDEX(Resources!$S$5:$S$104,MATCH($C26,Resources!$P$5:$P$104,0))>0,INDEX(Resources!$S$5:$S$104,MATCH($C26,Resources!$P$5:$P$104,0)),Settings!$B$6),Settings!$B$6)) | AM26: =IF($AK26="","",IFERROR($AK26+$AL26,"")) | AO26: =IF($A26="","",IF($B26="Canceled","OK",IF(COUNTIF($A$6:$A$205,$A26)>1,"DUPLICATE LOAD ID",IF(AND($L26<>"",$M26<>"",$M26<=$L26),"CHECK APPOINTMENTS",IF(AND($P26<>"",$P26>Settings!$B$8),"CHECK WEIGHT",IF(IFERROR(INDEX(Resources!$C$5:$C$104,MATCH($E26,Resources!$A$5:$A$104,0)),"Missing")<>"Active","CHECK DRIVER",IF(IFERROR(INDEX(Resources!$I$5:$I$104,MATCH($F26,Resources!$G$5:$G$104,0)),"Missing")<>"Active","CHECK TRUCK",IF(AND($G26<>"",IFERROR(INDEX(Resources!$N$5:$N$104,MATCH($G26,Resources!$L$5:$L$104,0)),"Missing")<>"Active"),"CHECK TRAILER",IF(AND($B26="Delivered",$AN26<>"Yes"),"POD NEEDED",IF(AND(OR($B26="Planned",$B26="Dispatched",$B26="At Pickup",$B26="In Transit"),$M26<>"",$M26<NOW()),"DELIVERY OVERDUE",IF(AND($AI26<>"",$AI26<Settings!$B$7),"LOW MARGIN","OK")))))))))))
S27: =IF($A27="","",IF(COUNTA($Q27:$R27)=0,"",SUM($Q27:$R27))) | V27: =IF($A27="","",IF(OR($T27="",$U27=""),"",IFERROR(IF($T27="Flat",$U27,IF($T27="Per Loaded Mile",$R27*$U27,"")),""))) | AA27: =IF(OR($A27="",$V27=""),"",IFERROR(SUM($V27:$Z27),"")) | AB27: =IF($A27="","",IFERROR(IF(INDEX(Resources!$J$5:$J$104,MATCH($F27,Resources!$G$5:$G$104,0))>0,INDEX(Resources!$J$5:$J$104,MATCH($F27,Resources!$G$5:$G$104,0)),Settings!$B$5),Settings!$B$5)) | AC27: =IF($A27="","",IF(OR($S27="",$AB27=""),"",IFERROR($S27/$AB27,""))) | AD27: =IF($A27="","",IF($AC27="","",IFERROR($AC27*Settings!$B$4,""))) | AG27: =IF($A27="","",IF(OR($AE27="",$AF27=""),"",IFERROR(IF($AE27="% of Gross",$AA27*$AF27,IF($AE27="Per Loaded Mile",$R27*$AF27,IF($AE27="Flat",$AF27,""))),""))) | AH27: =IF($A27="","",IFERROR(IF(OR($AA27="",$AD27="",$AG27=""),"",$AA27-$AD27-$AG27),"")) | AI27: =IF($A27="","",IFERROR($AH27/$AA27,"")) | AL27: =IF($A27="","",IFERROR(IF(INDEX(Resources!$S$5:$S$104,MATCH($C27,Resources!$P$5:$P$104,0))>0,INDEX(Resources!$S$5:$S$104,MATCH($C27,Resources!$P$5:$P$104,0)),Settings!$B$6),Settings!$B$6)) | AM27: =IF($AK27="","",IFERROR($AK27+$AL27,"")) | AO27: =IF($A27="","",IF($B27="Canceled","OK",IF(COUNTIF($A$6:$A$205,$A27)>1,"DUPLICATE LOAD ID",IF(AND($L27<>"",$M27<>"",$M27<=$L27),"CHECK APPOINTMENTS",IF(AND($P27<>"",$P27>Settings!$B$8),"CHECK WEIGHT",IF(IFERROR(INDEX(Resources!$C$5:$C$104,MATCH($E27,Resources!$A$5:$A$104,0)),"Missing")<>"Active","CHECK DRIVER",IF(IFERROR(INDEX(Resources!$I$5:$I$104,MATCH($F27,Resources!$G$5:$G$104,0)),"Missing")<>"Active","CHECK TRUCK",IF(AND($G27<>"",IFERROR(INDEX(Resources!$N$5:$N$104,MATCH($G27,Resources!$L$5:$L$104,0)),"Missing")<>"Active"),"CHECK TRAILER",IF(AND($B27="Delivered",$AN27<>"Yes"),"POD NEEDED",IF(AND(OR($B27="Planned",$B27="Dispatched",$B27="At Pickup",$B27="In Transit"),$M27<>"",$M27<NOW()),"DELIVERY OVERDUE",IF(AND($AI27<>"",$AI27<Settings!$B$7),"LOW MARGIN","OK")))))))))))
