Workbook

Sheet Dashboard
A1: Trailer Availability Dashboard
A2: Snapshot based on the As of Date in Settings. Update trailer and booking inputs before using the results.
A4: Fleet Status | D4: Planning and Data Checks
A5: Total Trailers | B5: =IFERROR(COUNTIF('Trailer Availability'!$A$6:$A$505,"<>"),0) | D5: Upcoming Returns | E5: =IFERROR(COUNTIFS('Booking Schedule'!$K$6:$K$505,"Dispatched",'Booking Schedule'!$F$6:$F$505,"",'Booking Schedule'!$E$6:$E$505,">="&'Settings'!$B$4,'Booking Schedule'!$E$6:$E$505,"<="&'Settings'!$B$4+'Settings'!$B$6),0)
A6: Available | B6: =IFERROR(COUNTIF('Trailer Availability'!$M$6:$M$505,"Available"),0) | D6: PM Past Due | E6: =IFERROR(COUNTIF('Trailer Availability'!$Q$6:$Q$505,"Past Due"),0)
A7: In Use | B7: =IFERROR(COUNTIF('Trailer Availability'!$M$6:$M$505,"In Use"),0) | D7: PM Due Soon | E7: =IFERROR(COUNTIF('Trailer Availability'!$Q$6:$Q$505,"Due Soon"),0)
A8: Reserved Soon | B8: =IFERROR(COUNTIF('Trailer Availability'!$M$6:$M$505,"Reserved Soon"),0) | D8: Schedule Rows With Overlap | E8: =IFERROR(COUNTIF('Booking Schedule'!$M$6:$M$505,"Overlap"),0)
A9: Maintenance | B9: =IFERROR(COUNTIF('Trailer Availability'!$M$6:$M$505,"Maintenance"),0) | D9: Other Schedule Errors | E9: =IFERROR(MAX(0,COUNTIFS('Booking Schedule'!$M$6:$M$505,"<>OK",'Booking Schedule'!$A$6:$A$505,"<>")-COUNTIF('Booking Schedule'!$M$6:$M$505,"Overlap")),0)
A10: Out of Service | B10: =IFERROR(COUNTIF('Trailer Availability'!$M$6:$M$505,"Out of Service"),0) | D10: Trailer Data Issues | E10: =IFERROR(COUNTIFS('Trailer Availability'!$R$6:$R$505,"<>OK",'Trailer Availability'!$A$6:$A$505,"<>"),0)
A11: Overdue Return | B11: =IFERROR(COUNTIF('Trailer Availability'!$M$6:$M$505,"Overdue Return"),0) | D11: As of Date | E11: =IFERROR('Settings'!$B$4,"")
A12: Return Date Missing | B12: =IFERROR(COUNTIF('Trailer Availability'!$M$6:$M$505,"Return Date Missing"),0) | D12: Reservation Look-Ahead (Days) | E12: =IFERROR('Settings'!$B$5,0)
A13: Available % | B13: =IFERROR(B6/B5,0) | D13: PM Due Soon Window (Days) | E13: =IFERROR('Settings'!$B$7,0)
D14: Status Reconciliation | E14: =IFERROR(B5-SUM(B6:B12),0) | F14: Should equal 0
A16: Availability by Home Terminal
A17: Home Terminal | B17: Total | C17: Available | D17: In Use | E17: Reserved Soon | F17: Unavailable / Exception
A18: Dallas | B18: =IFERROR(COUNTIF('Trailer Availability'!$F$6:$F$505,$A18),0) | C18: =IFERROR(COUNTIFS('Trailer Availability'!$F$6:$F$505,$A18,'Trailer Availability'!$M$6:$M$505,"Available"),0) | D18: =IFERROR(COUNTIFS('Trailer Availability'!$F$6:$F$505,$A18,'Trailer Availability'!$M$6:$M$505,"In Use"),0) | E18: =IFERROR(COUNTIFS('Trailer Availability'!$F$6:$F$505,$A18,'Trailer Availability'!$M$6:$M$505,"Reserved Soon"),0) | F18: =IFERROR(MAX(0,$B18-SUM($C18:$E18)),0)
A19: Houston | B19: =IFERROR(COUNTIF('Trailer Availability'!$F$6:$F$505,$A19),0) | C19: =IFERROR(COUNTIFS('Trailer Availability'!$F$6:$F$505,$A19,'Trailer Availability'!$M$6:$M$505,"Available"),0) | D19: =IFERROR(COUNTIFS('Trailer Availability'!$F$6:$F$505,$A19,'Trailer Availability'!$M$6:$M$505,"In Use"),0) | E19: =IFERROR(COUNTIFS('Trailer Availability'!$F$6:$F$505,$A19,'Trailer Availability'!$M$6:$M$505,"Reserved Soon"),0) | F19: =IFERROR(MAX(0,$B19-SUM($C19:$E19)),0)
A20: Atlanta | B20: =IFERROR(COUNTIF('Trailer Availability'!$F$6:$F$505,$A20),0) | C20: =IFERROR(COUNTIFS('Trailer Availability'!$F$6:$F$505,$A20,'Trailer Availability'!$M$6:$M$505,"Available"),0) | D20: =IFERROR(COUNTIFS('Trailer Availability'!$F$6:$F$505,$A20,'Trailer Availability'!$M$6:$M$505,"In Use"),0) | E20: =IFERROR(COUNTIFS('Trailer Availability'!$F$6:$F$505,$A20,'Trailer Availability'!$M$6:$M$505,"Reserved Soon"),0) | F20: =IFERROR(MAX(0,$B20-SUM($C20:$E20)),0)
A21: Chicago | B21: =IFERROR(COUNTIF('Trailer Availability'!$F$6:$F$505,$A21),0) | C21: =IFERROR(COUNTIFS('Trailer Availability'!$F$6:$F$505,$A21,'Trailer Availability'!$M$6:$M$505,"Available"),0) | D21: =IFERROR(COUNTIFS('Trailer Availability'!$F$6:$F$505,$A21,'Trailer Availability'!$M$6:$M$505,"In Use"),0) | E21: =IFERROR(COUNTIFS('Trailer Availability'!$F$6:$F$505,$A21,'Trailer Availability'!$M$6:$M$505,"Reserved Soon"),0) | F21: =IFERROR(MAX(0,$B21-SUM($C21:$E21)),0)
A22: Los Angeles | B22: =IFERROR(COUNTIF('Trailer Availability'!$F$6:$F$505,$A22),0) | C22: =IFERROR(COUNTIFS('Trailer Availability'!$F$6:$F$505,$A22,'Trailer Availability'!$M$6:$M$505,"Available"),0) | D22: =IFERROR(COUNTIFS('Trailer Availability'!$F$6:$F$505,$A22,'Trailer Availability'!$M$6:$M$505,"In Use"),0) | E22: =IFERROR(COUNTIFS('Trailer Availability'!$F$6:$F$505,$A22,'Trailer Availability'!$M$6:$M$505,"Reserved Soon"),0) | F22: =IFERROR(MAX(0,$B22-SUM($C22:$E22)),0)
A23: Total | B23: =IFERROR(SUM(B18:B22),0) | C23: =IFERROR(SUM(C18:C22),0) | D23: =IFERROR(SUM(D18:D22),0) | E23: =IFERROR(SUM(E18:E22),0) | F23: =IFERROR(SUM(F18:F22),0)
B24: ="" | C24: ="" | D24: ="" | E24: ="" | F24: =""
B25: ="" | C25: ="" | D25: ="" | E25: ="" | F25: =""
A26: Dashboard Instructions | B26: ="" | C26: ="" | D26: ="" | E26: ="" | F26: =""
A27: Update the yellow input cells on the Trailer Availability, Booking Schedule, and Settings sheets. | B27: ="" | C27: ="" | D27: ="" | E27: ="" | F27: =""
A28: Mark dispatched bookings as Completed and enter the Actual Return Date when a trailer is returned. | B28: ="" | C28: ="" | D28: ="" | E28: ="" | F28: =""
A29: Review red counts and highlighted rows before assigning a trailer. | B29: ="" | C29: ="" | D29: ="" | E29: ="" | F29: =""
A30: This workbook is a manually maintained planning tool and does not connect to telematics or dispatch systems. | B30: ="" | C30: ="" | D30: ="" | E30: ="" | F30: =""
B31: ="" | C31: ="" | D31: ="" | E31: ="" | F31: =""
B32: ="" | C32: ="" | D32: ="" | E32: ="" | F32: =""
B33: ="" | C33: ="" | D33: ="" | E33: ="" | F33: =""
B34: ="" | C34: ="" | D34: ="" | E34: ="" | F34: =""
B35: ="" | C35: ="" | D35: ="" | E35: ="" | F35: =""
B36: ="" | C36: ="" | D36: ="" | E36: ="" | F36: =""
B37: ="" | C37: ="" | D37: ="" | E37: ="" | F37: =""
B38: ="" | C38: ="" | D38: ="" | E38: ="" | F38: =""
B39: ="" | C39: ="" | D39: ="" | E39: ="" | F39: =""
B40: ="" | C40: ="" | D40: ="" | E40: ="" | F40: =""
B41: ="" | C41: ="" | D41: ="" | E41: ="" | F41: =""
B42: ="" | C42: ="" | D42: ="" | E42: ="" | F42: =""
... B101: ="" | C101: ="" | D101: ="" | E101: ="" | F101: =""

Sheet Trailer Availability
A1: Trailer Availability
A2: Enter trailer details in yellow cells. Blue cells are calculated from the booking schedule and Settings assumptions.
B3: User Input | D3: Calculated
A5: Trailer ID | B5: Plate Number | C5: License State | D5: Trailer Type | E5: Length (ft) | F5: Home Terminal | G5: Current Location | H5: Operational Status | I5: Estimated Ready Date | J5: Next PM Due | K5: Last Updated | L5: Notes | M5: Availability Status | N5: Expected Ready Date | O5: Days Until Ready | P5: Next Reservation Date | Q5: PM Status | R5: Data Check
A6: TR-101 | B6: 6148KJ | C6: TX | D6: Dry Van | E6: 53 | F6: Dallas | G6: Dallas Yard | H6: Ready | J6: 46297 | K6: 46272 | L6: Clean and ready at Door 8 | M6: =IFERROR(IF($A6="","",IF($H6<>"Ready",$H6,IF(COUNTIFS('Booking Schedule'!$B$6:$B$505,$A6,'Booking Schedule'!$K$6:$K$505,"Dispatched",'Booking Schedule'!$F$6:$F$505,"",'Booking Schedule'!$E$6:$E$505,"")>0,"Return Date Missing",IF(COUNTIFS('Booking Schedule'!$B$6:$B$505,$A6,'Booking Schedule'!$K$6:$K$505,"Dispatched",'Booking Schedule'!$F$6:$F$505,"",'Booking Schedule'!$E$6:$E$505,"<"&'Settings'!$B$4)>0,"Overdue Return",IF(COUNTIFS('Booking Schedule'!$B$6:$B$505,$A6,'Booking Schedule'!$K$6:$K$505,"Dispatched",'Booking Schedule'!$F$6:$F$505,"",'Booking Schedule'!$D$6:$D$505,"<="&'Settings'!$B$4,'Booking Schedule'!$E$6:$E$505,">="&'Settings'!$B$4)>0,"In Use",IF(COUNTIFS('Booking Schedule'!$B$6:$B$505,$A6,'Booking Schedule'!$K$6:$K$505,"Reserved",'Booking Schedule'!$D$6:$D$505,">="&'Settings'!$B$4,'Booking Schedule'!$D$6:$D$505,"<="&'Settings'!$B$4+'Settings'!$B$5)>0,"Reserved Soon","Available")))))),"Check Status") | N6: =IFERROR(IF($A6="","",IF($H6<>"Ready",$I6,IF(OR($M6="In Use",$M6="Overdue Return"),MAXIFS('Booking Schedule'!$E$6:$E$505,'Booking Schedule'!$B$6:$B$505,$A6,'Booking Schedule'!$K$6:$K$505,"Dispatched",'Booking Schedule'!$F$6:$F$505,""),IF($M6="Return Date Missing","",'Settings'!$B$4)))),"") | O6: =IFERROR(IF($N6="","",MAX(0,$N6-'Settings'!$B$4)),"") | P6: =IFERROR(IF($A6="","",IF(COUNTIFS('Booking Schedule'!$B$6:$B$505,$A6,'Booking Schedule'!$K$6:$K$505,"Reserved",'Booking Schedule'!$D$6:$D$505,">="&'Settings'!$B$4)=0,"",MINIFS('Booking Schedule'!$D$6:$D$505,'Booking Schedule'!$B$6:$B$505,$A6,'Booking Schedule'!$K$6:$K$505,"Reserved",'Booking Schedule'!$D$6:$D$505,">="&'Settings'!$B$4))),"") | Q6: =IFERROR(IF($A6="","",IF($J6="","Missing PM Date",IF($J6<'Settings'!$B$4,"Past Due",IF($J6<='Settings'!$B$4+'Settings'!$B$7,"Due Soon","OK")))),"Check Date") | R6: =IFERROR(IF($A6="","",IF(COUNTIF('Trailer Availability'!$A$6:$A$505,$A6)>1,"Duplicate Trailer ID",IF($F6="","Missing Home Terminal",IF($G6="","Missing Location",IF($H6="","Missing Operational Status",IF(AND($H6<>"Ready",$I6=""),"Ready Date Missing",IF($K6="","Last Update Missing","OK"))))))),"Check Row")
A7: TR-102 | B7: 7294LM | C7: TX | D7: Dry Van | E7: 53 | F7: Dallas | G7: Memphis, TN | H7: Ready | J7: 46285 | K7: 46272 | L7: Assigned to outbound retail load | M7: =IFERROR(IF($A7="","",IF($H7<>"Ready",$H7,IF(COUNTIFS('Booking Schedule'!$B$6:$B$505,$A7,'Booking Schedule'!$K$6:$K$505,"Dispatched",'Booking Schedule'!$F$6:$F$505,"",'Booking Schedule'!$E$6:$E$505,"")>0,"Return Date Missing",IF(COUNTIFS('Booking Schedule'!$B$6:$B$505,$A7,'Booking Schedule'!$K$6:$K$505,"Dispatched",'Booking Schedule'!$F$6:$F$505,"",'Booking Schedule'!$E$6:$E$505,"<"&'Settings'!$B$4)>0,"Overdue Return",IF(COUNTIFS('Booking Schedule'!$B$6:$B$505,$A7,'Booking Schedule'!$K$6:$K$505,"Dispatched",'Booking Schedule'!$F$6:$F$505,"",'Booking Schedule'!$D$6:$D$505,"<="&'Settings'!$B$4,'Booking Schedule'!$E$6:$E$505,">="&'Settings'!$B$4)>0,"In Use",IF(COUNTIFS('Booking Schedule'!$B$6:$B$505,$A7,'Booking Schedule'!$K$6:$K$505,"Reserved",'Booking Schedule'!$D$6:$D$505,">="&'Settings'!$B$4,'Booking Schedule'!$D$6:$D$505,"<="&'Settings'!$B$4+'Settings'!$B$5)>0,"Reserved Soon","Available")))))),"Check Status") | N7: =IFERROR(IF($A7="","",IF($H7<>"Ready",$I7,IF(OR($M7="In Use",$M7="Overdue Return"),MAXIFS('Booking Schedule'!$E$6:$E$505,'Booking Schedule'!$B$6:$B$505,$A7,'Booking Schedule'!$K$6:$K$505,"Dispatched",'Booking Schedule'!$F$6:$F$505,""),IF($M7="Return Date Missing","",'Settings'!$B$4)))),"") | O7: =IFERROR(IF($N7="","",MAX(0,$N7-'Settings'!$B$4)),"") | P7: =IFERROR(IF($A7="","",IF(COUNTIFS('Booking Schedule'!$B$6:$B$505,$A7,'Booking Schedule'!$K$6:$K$505,"Reserved",'Booking Schedule'!$D$6:$D$505,">="&'Settings'!$B$4)=0,"",MINIFS('Booking Schedule'!$D$6:$D$505,'Booking Schedule'!$B$6:$B$505,$A7,'Booking Schedule'!$K$6:$K$505,"Reserved",'Booking Schedule'!$D$6:$D$505,">="&'Settings'!$B$4))),"") | Q7: =IFERROR(IF($A7="","",IF($J7="","Missing PM Date",IF($J7<'Settings'!$B$4,"Past Due",IF($J7<='Settings'!$B$4+'Settings'!$B$7,"Due Soon","OK")))),"Check Date") | R7: =IFERROR(IF($A7="","",IF(COUNTIF('Trailer Availability'!$A$6:$A$505,$A7)>1,"Duplicate Trailer ID",IF($F7="","Missing Home Terminal",IF($G7="","Missing Location",IF($H7="","Missing Operational Status",IF(AND($H7<>"Ready",$I7=""),"Ready Date Missing",IF($K7="","Last Update Missing","OK"))))))),"Check Row")
A8: TR-103 | B8: 3817RP | C8: TX | D8: Reefer | E8: 53 | F8: Houston | G8: Houston Yard | H8: Ready | J8: 46333 | K8: 46272 | L8: Pre-cooling check complete | M8: =IFERROR(IF($A8="","",IF($H8<>"Ready",$H8,IF(COUNTIFS('Booking Schedule'!$B$6:$B$505,$A8,'Booking Schedule'!$K$6:$K$505,"Dispatched",'Booking Schedule'!$F$6:$F$505,"",'Booking Schedule'!$E$6:$E$505,"")>0,"Return Date Missing",IF(COUNTIFS('Booking Schedule'!$B$6:$B$505,$A8,'Booking Schedule'!$K$6:$K$505,"Dispatched",'Booking Schedule'!$F$6:$F$505,"",'Booking Schedule'!$E$6:$E$505,"<"&'Settings'!$B$4)>0,"Overdue Return",IF(COUNTIFS('Booking Schedule'!$B$6:$B$505,$A8,'Booking Schedule'!$K$6:$K$505,"Dispatched",'Booking Schedule'!$F$6:$F$505,"",'Booking Schedule'!$D$6:$D$505,"<="&'Settings'!$B$4,'Booking Schedule'!$E$6:$E$505,">="&'Settings'!$B$4)>0,"In Use",IF(COUNTIFS('Booking Schedule'!$B$6:$B$505,$A8,'Booking Schedule'!$K$6:$K$505,"Reserved",'Booking Schedule'!$D$6:$D$505,">="&'Settings'!$B$4,'Booking Schedule'!$D$6:$D$505,"<="&'Settings'!$B$4+'Settings'!$B$5)>0,"Reserved Soon","Available")))))),"Check Status") | N8: =IFERROR(IF($A8="","",IF($H8<>"Ready",$I8,IF(OR($M8="In Use",$M8="Overdue Return"),MAXIFS('Booking Schedule'!$E$6:$E$505,'Booking Schedule'!$B$6:$B$505,$A8,'Booking Schedule'!$K$6:$K$505,"Dispatched",'Booking Schedule'!$F$6:$F$505,""),IF($M8="Return Date Missing","",'Settings'!$B$4)))),"") | O8: =IFERROR(IF($N8="","",MAX(0,$N8-'Settings'!$B$4)),"") | P8: =IFERROR(IF($A8="","",IF(COUNTIFS('Booking Schedule'!$B$6:$B$505,$A8,'Booking Schedule'!$K$6:$K$505,"Reserved",'Booking Schedule'!$D$6:$D$505,">="&'Settings'!$B$4)=0,"",MINIFS('Booking Schedule'!$D$6:$D$505,'Booking Schedule'!$B$6:$B$505,$A8,'Booking Schedule'!$K$6:$K$505,"Reserved",'Booking Schedule'!$D$6:$D$505,">="&'Settings'!$B$4))),"") | Q8: =IFERROR(IF($A8="","",IF($J8="","Missing PM Date",IF($J8<'Settings'!$B$4,"Past Due",IF($J8<='Settings'!$B$4+'Settings'!$B$7,"Due Soon","OK")))),"Check Date") | R8: =IFERROR(IF($A8="","",IF(COUNTIF('Trailer Availability'!$A$6:$A$505,$A8)>1,"Duplicate Trailer ID",IF($F8="","Missing Home Terminal",IF($G8="","Missing Location",IF($H8="","Missing Operational Status",IF(AND($H8<>"Ready",$I8=""),"Ready Date Missing",IF($K8="","Last Update Missing","OK"))))))),"Check Row")
A9: TR-104 | B9: 4821FS | C9: TX | D9: Flatbed | E9: 48 | F9: Houston | G9: Houston Shop | H9: Maintenance | I9: 46275 | J9: 46277 | K9: 46272 | L9: Replacing two deck boards | M9: =IFERROR(IF($A9="","",IF($H9<>"Ready",$H9,IF(COUNTIFS('Booking Schedule'!$B$6:$B$505,$A9,'Booking Schedule'!$K$6:$K$505,"Dispatched",'Booking Schedule'!$F$6:$F$505,"",'Booking Schedule'!$E$6:$E$505,"")>0,"Return Date Missing",IF(COUNTIFS('Booking Schedule'!$B$6:$B$505,$A9,'Booking Schedule'!$K$6:$K$505,"Dispatched",'Booking Schedule'!$F$6:$F$505,"",'Booking Schedule'!$E$6:$E$505,"<"&'Settings'!$B$4)>0,"Overdue Return",IF(COUNTIFS('Booking Schedule'!$B$6:$B$505,$A9,'Booking Schedule'!$K$6:$K$505,"Dispatched",'Booking Schedule'!$F$6:$F$505,"",'Booking Schedule'!$D$6:$D$505,"<="&'Settings'!$B$4,'Booking Schedule'!$E$6:$E$505,">="&'Settings'!$B$4)>0,"In Use",IF(COUNTIFS('Booking Schedule'!$B$6:$B$505,$A9,'Booking Schedule'!$K$6:$K$505,"Reserved",'Booking Schedule'!$D$6:$D$505,">="&'Settings'!$B$4,'Booking Schedule'!$D$6:$D$505,"<="&'Settings'!$B$4+'Settings'!$B$5)>0,"Reserved Soon","Available")))))),"Check Status") | N9: =IFERROR(IF($A9="","",IF($H9<>"Ready",$I9,IF(OR($M9="In Use",$M9="Overdue Return"),MAXIFS('Booking Schedule'!$E$6:$E$505,'Booking Schedule'!$B$6:$B$505,$A9,'Booking Schedule'!$K$6:$K$505,"Dispatched",'Booking Schedule'!$F$6:$F$505,""),IF($M9="Return Date Missing","",'Settings'!$B$4)))),"") | O9: =IFERROR(IF($N9="","",MAX(0,$N9-'Settings'!$B$4)),"") | P9: =IFERROR(IF($A9="","",IF(COUNTIFS('Booking Schedule'!$B$6:$B$505,$A9,'Booking Schedule'!$K$6:$K$505,"Reserved",'Booking Schedule'!$D$6:$D$505,">="&'Settings'!$B$4)=0,"",MINIFS('Booking Schedule'!$D$6:$D$505,'Booking Schedule'!$B$6:$B$505,$A9,'Booking Schedule'!$K$6:$K$505,"Reserved",'Booking Schedule'!$D$6:$D$505,">="&'Settings'!$B$4))),"") | Q9: =IFERROR(IF($A9="","",IF($J9="","Missing PM Date",IF($J9<'Settings'!$B$4,"Past Due",IF($J9<='Settings'!$B$4+'Settings'!$B$7,"Due Soon","OK")))),"Check Date") | R9: =IFERROR(IF($A9="","",IF(COUNTIF('Trailer Availability'!$A$6:$A$505,$A9)>1,"Duplicate Trailer ID",IF($F9="","Missing Home Terminal",IF($G9="","Missing Location",IF($H9="","Missing Operational Status",IF(AND($H9<>"Ready",$I9=""),"Ready Date Missing",IF($K9="","Last Update Missing","OK"))))))),"Check Row")
A10: TR-105 | B10: TLA-5832 | C10: GA | D10: Dry Van | E10: 53 | F10: Atlanta | G10: Charlotte, NC | H10: Ready | J10: 46271 | K10: 46272 | L10: Driver has not confirmed return | M10: =IFERROR(IF($A10="","",IF($H10<>"Ready",$H10,IF(COUNTIFS('Booking Schedule'!$B$6:$B$505,$A10,'Booking Schedule'!$K$6:$K$505,"Dispatched",'Booking Schedule'!$F$6:$F$505,"",'Booking Schedule'!$E$6:$E$505,"")>0,"Return Date Missing",IF(COUNTIFS('Booking Schedule'!$B$6:$B$505,$A10,'Booking Schedule'!$K$6:$K$505,"Dispatched",'Booking Schedule'!$F$6:$F$505,"",'Booking Schedule'!$E$6:$E$505,"<"&'Settings'!$B$4)>0,"Overdue Return",IF(COUNTIFS('Booking Schedule'!$B$6:$B$505,$A10,'Booking Schedule'!$K$6:$K$505,"Dispatched",'Booking Schedule'!$F$6:$F$505,"",'Booking Schedule'!$D$6:$D$505,"<="&'Settings'!$B$4,'Booking Schedule'!$E$6:$E$505,">="&'Settings'!$B$4)>0,"In Use",IF(COUNTIFS('Booking Schedule'!$B$6:$B$505,$A10,'Booking Schedule'!$K$6:$K$505,"Reserved",'Booking Schedule'!$D$6:$D$505,">="&'Settings'!$B$4,'Booking Schedule'!$D$6:$D$505,"<="&'Settings'!$B$4+'Settings'!$B$5)>0,"Reserved Soon","Available")))))),"Check Status") | N10: =IFERROR(IF($A10="","",IF($H10<>"Ready",$I10,IF(OR($M10="In Use",$M10="Overdue Return"),MAXIFS('Booking Schedule'!$E$6:$E$505,'Booking Schedule'!$B$6:$B$505,$A10,'Booking Schedule'!$K$6:$K$505,"Dispatched",'Booking Schedule'!$F$6:$F$505,""),IF($M10="Return Date Missing","",'Settings'!$B$4)))),"") | O10: =IFERROR(IF($N10="","",MAX(0,$N10-'Settings'!$B$4)),"") | P10: =IFERROR(IF($A10="","",IF(COUNTIFS('Booking Schedule'!$B$6:$B$505,$A10,'Booking Schedule'!$K$6:$K$505,"Reserved",'Booking Schedule'!$D$6:$D$505,">="&'Settings'!$B$4)=0,"",MINIFS('Booking Schedule'!$D$6:$D$505,'Booking Schedule'!$B$6:$B$505,$A10,'Booking Schedule'!$K$6:$K$505,"Reserved",'Booking Schedule'!$D$6:$D$505,">="&'Settings'!$B$4))),"") | Q10: =IFERROR(IF($A10="","",IF($J10="","Missing PM Date",IF($J10<'Settings'!$B$4,"Past Due",IF($J10<='Settings'!$B$4+'Settings'!$B$7,"Due Soon","OK")))),"Check Date") | R10: =IFERROR(IF($A10="","",IF(COUNTIF('Trailer Availability'!$A$6:$A$505,$A10)>1,"Duplicate Trailer ID",IF($F10="","Missing Home Terminal",IF($G10="","Missing Location",IF($H10="","Missing Operational Status",IF(AND($H10<>"Ready",$I10=""),"Ready Date Missing",IF($K10="","Last Update Missing","OK"))))))),"Check Row")
A11: TR-106 | B11: TLA-6119 | C11: GA | D11: Reefer | E11: 53 | F11: Atlanta | G11: Atlanta Shop | H11: Out of Service | I11: 46282 | J11: 46317 | K11: 46272 | L11: Refrigeration unit repair | M11: =IFERROR(IF($A11="","",IF($H11<>"Ready",$H11,IF(COUNTIFS('Booking Schedule'!$B$6:$B$505,$A11,'Booking Schedule'!$K$6:$K$505,"Dispatched",'Booking Schedule'!$F$6:$F$505,"",'Booking Schedule'!$E$6:$E$505,"")>0,"Return Date Missing",IF(COUNTIFS('Booking Schedule'!$B$6:$B$505,$A11,'Booking Schedule'!$K$6:$K$505,"Dispatched",'Booking Schedule'!$F$6:$F$505,"",'Booking Schedule'!$E$6:$E$505,"<"&'Settings'!$B$4)>0,"Overdue Return",IF(COUNTIFS('Booking Schedule'!$B$6:$B$505,$A11,'Booking Schedule'!$K$6:$K$505,"Dispatched",'Booking Schedule'!$F$6:$F$505,"",'Booking Schedule'!$D$6:$D$505,"<="&'Settings'!$B$4,'Booking Schedule'!$E$6:$E$505,">="&'Settings'!$B$4)>0,"In Use",IF(COUNTIFS('Booking Schedule'!$B$6:$B$505,$A11,'Booking Schedule'!$K$6:$K$505,"Reserved",'Booking Schedule'!$D$6:$D$505,">="&'Settings'!$B$4,'Booking Schedule'!$D$6:$D$505,"<="&'Settings'!$B$4+'Settings'!$B$5)>0,"Reserved Soon","Available")))))),"Check Status") | N11: =IFERROR(IF($A11="","",IF($H11<>"Ready",$I11,IF(OR($M11="In Use",$M11="Overdue Return"),MAXIFS('Booking Schedule'!$E$6:$E$505,'Booking Schedule'!$B$6:$B$505,$A11,'Booking Schedule'!$K$6:$K$505,"Dispatched",'Booking Schedule'!$F$6:$F$505,""),IF($M11="Return Date Missing","",'Settings'!$B$4)))),"") | O11: =IFERROR(IF($N11="","",MAX(0,$N11-'Settings'!$B$4)),"") | P11: =IFERROR(IF($A11="","",IF(COUNTIFS('Booking Schedule'!$B$6:$B$505,$A11,'Booking Schedule'!$K$6:$K$505,"Reserved",'Booking Schedule'!$D$6:$D$505,">="&'Settings'!$B$4)=0,"",MINIFS('Booking Schedule'!$D$6:$D$505,'Booking Schedule'!$B$6:$B$505,$A11,'Booking Schedule'!$K$6:$K$505,"Reserved",'Booking Schedule'!$D$6:$D$505,">="&'Settings'!$B$4))),"") | Q11: =IFERROR(IF($A11="","",IF($J11="","Missing PM Date",IF($J11<'Settings'!$B$4,"Past Due",IF($J11<='Settings'!$B$4+'Settings'!$B$7,"Due Soon","OK")))),"Check Date") | R11: =IFERROR(IF($A11="","",IF(COUNTIF('Trailer Availability'!$A$6:$A$505,$A11)>1,"Duplicate Trailer ID",IF($F11="","Missing Home Terminal",IF($G11="","Missing Location",IF($H11="","Missing Operational Status",IF(AND($H11<>"Ready",$I11=""),"Ready Date Missing",IF($K11="","Last Update Missing","OK"))))))),"Check Row")
A12: TR-107 | B12: 81247ST | C12: IL | D12: Box Trailer | E12: 28 | F12: Chicago | G12: Chicago Yard | H12: Ready | J12: 46292 | K12: 46272 | L12: City route trailer | M12: =IFERROR(IF($A12="","",IF($H12<>"Ready",$H12,IF(COUNTIFS('Booking Schedule'!$B$6:$B$505,$A12,'Booking Schedule'!$K$6:$K$505,"Dispatched",'Booking Schedule'!$F$6:$F$505,"",'Booking Schedule'!$E$6:$E$505,"")>0,"Return Date Missing",IF(COUNTIFS('Booking Schedule'!$B$6:$B$505,$A12,'Booking Schedule'!$K$6:$K$505,"Dispatched",'Booking Schedule'!$F$6:$F$505,"",'Booking Schedule'!$E$6:$E$505,"<"&'Settings'!$B$4)>0,"Overdue Return",IF(COUNTIFS('Booking Schedule'!$B$6:$B$505,$A12,'Booking Schedule'!$K$6:$K$505,"Dispatched",'Booking Schedule'!$F$6:$F$505,"",'Booking Schedule'!$D$6:$D$505,"<="&'Settings'!$B$4,'Booking Schedule'!$E$6:$E$505,">="&'Settings'!$B$4)>0,"In Use",IF(COUNTIFS('Booking Schedule'!$B$6:$B$505,$A12,'Booking Schedule'!$K$6:$K$505,"Reserved",'Booking Schedule'!$D$6:$D$505,">="&'Settings'!$B$4,'Booking Schedule'!$D$6:$D$505,"<="&'Settings'!$B$4+'Settings'!$B$5)>0,"Reserved Soon","Available")))))),"Check Status") | N12: =IFERROR(IF($A12="","",IF($H12<>"Ready",$I12,IF(OR($M12="In Use",$M12="Overdue Return"),MAXIFS('Booking Schedule'!$E$6:$E$505,'Booking Schedule'!$B$6:$B$505,$A12,'Booking Schedule'!$K$6:$K$505,"Dispatched",'Booking Schedule'!$F$6:$F$505,""),IF($M12="Return Date Missing","",'Settings'!$B$4)))),"") | O12: =IFERROR(IF($N12="","",MAX(0,$N12-'Settings'!$B$4)),"") | P12: =IFERROR(IF($A12="","",IF(COUNTIFS('Booking Schedule'!$B$6:$B$505,$A12,'Booking Schedule'!$K$6:$K$505,"Reserved",'Booking Schedule'!$D$6:$D$505,">="&'Settings'!$B$4)=0,"",MINIFS('Booking Schedule'!$D$6:$D$505,'Booking Schedule'!$B$6:$B$505,$A12,'Booking Schedule'!$K$6:$K$505,"Reserved",'Booking Schedule'!$D$6:$D$505,">="&'Settings'!$B$4))),"") | Q12: =IFERROR(IF($A12="","",IF($J12="","Missing PM Date",IF($J12<'Settings'!$B$4,"Past Due",IF($J12<='Settings'!$B$4+'Settings'!$B$7,"Due Soon","OK")))),"Check Date") | R12: =IFERROR(IF($A12="","",IF(COUNTIF('Trailer Availability'!$A$6:$A$505,$A12)>1,"Duplicate Trailer ID",IF($F12="","Missing Home Terminal",IF($G12="","Missing Location",IF($H12="","Missing Operational Status",IF(AND($H12<>"Ready",$I12=""),"Ready Date Missing",IF($K12="","Last Update Missing","OK"))))))),"Check Row")
A13: TR-108 | B13: 74392ST | C13: IL | D13: Flatbed | E13: 53 | F13: Chicago | G13: Chicago Yard | H13: Ready | J13: 46362 | K13: 46272 | L13: Reserved for steel shipment | M13: =IFERROR(IF($A13="","",IF($H13<>"Ready",$H13,IF(COUNTIFS('Booking Schedule'!$B$6:$B$505,$A13,'Booking Schedule'!$K$6:$K$505,"Dispatched",'Booking Schedule'!$F$6:$F$505,"",'Booking Schedule'!$E$6:$E$505,"")>0,"Return Date Missing",IF(COUNTIFS('Booking Schedule'!$B$6:$B$505,$A13,'Booking Schedule'!$K$6:$K$505,"Dispatched",'Booking Schedule'!$F$6:$F$505,"",'Booking Schedule'!$E$6:$E$505,"<"&'Settings'!$B$4)>0,"Overdue Return",IF(COUNTIFS('Booking Schedule'!$B$6:$B$505,$A13,'Booking Schedule'!$K$6:$K$505,"Dispatched",'Booking Schedule'!$F$6:$F$505,"",'Booking Schedule'!$D$6:$D$505,"<="&'Settings'!$B$4,'Booking Schedule'!$E$6:$E$505,">="&'Settings'!$B$4)>0,"In Use",IF(COUNTIFS('Booking Schedule'!$B$6:$B$505,$A13,'Booking Schedule'!$K$6:$K$505,"Reserved",'Booking Schedule'!$D$6:$D$505,">="&'Settings'!$B$4,'Booking Schedule'!$D$6:$D$505,"<="&'Settings'!$B$4+'Settings'!$B$5)>0,"Reserved Soon","Available")))))),"Check Status") | N13: =IFERROR(IF($A13="","",IF($H13<>"Ready",$I13,IF(OR($M13="In Use",$M13="Overdue Return"),MAXIFS('Booking Schedule'!$E$6:$E$505,'Booking Schedule'!$B$6:$B$505,$A13,'Booking Schedule'!$K$6:$K$505,"Dispatched",'Booking Schedule'!$F$6:$F$505,""),IF($M13="Return Date Missing","",'Settings'!$B$4)))),"") | O13: =IFERROR(IF($N13="","",MAX(0,$N13-'Settings'!$B$4)),"") | P13: =IFERROR(IF($A13="","",IF(COUNTIFS('Booking Schedule'!$B$6:$B$505,$A13,'Booking Schedule'!$K$6:$K$505,"Reserved",'Booking Schedule'!$D$6:$D$505,">="&'Settings'!$B$4)=0,"",MINIFS('Booking Schedule'!$D$6:$D$505,'Booking Schedule'!$B$6:$B$505,$A13,'Booking Schedule'!$K$6:$K$505,"Reserved",'Booking Schedule'!$D$6:$D$505,">="&'Settings'!$B$4))),"") | Q13: =IFERROR(IF($A13="","",IF($J13="","Missing PM Date",IF($J13<'Settings'!$B$4,"Past Due",IF($J13<='Settings'!$B$4+'Settings'!$B$7,"Due Soon","OK")))),"Check Date") | R13: =IFERROR(IF($A13="","",IF(COUNTIF('Trailer Availability'!$A$6:$A$505,$A13)>1,"Duplicate Trailer ID",IF($F13="","Missing Home Terminal",IF($G13="","Missing Location",IF($H13="","Missing Operational Status",IF(AND($H13<>"Ready",$I13=""),"Ready Date Missing",IF($K13="","Last Update Missing","OK"))))))),"Check Row")
A14: TR-109 | B14: 4TR9182 | C14: CA | D14: Dry Van | E14: 53 | F14: Los Angeles | G14: Phoenix, AZ | H14: Ready | J14: 46287 | K14: 46272 | L14: Planned return date needs confirmation | M14: =IFERROR(IF($A14="","",IF($H14<>"Ready",$H14,IF(COUNTIFS('Booking Schedule'!$B$6:$B$505,$A14,'Booking Schedule'!$K$6:$K$505,"Dispatched",'Booking Schedule'!$F$6:$F$505,"",'Booking Schedule'!$E$6:$E$505,"")>0,"Return Date Missing",IF(COUNTIFS('Booking Schedule'!$B$6:$B$505,$A14,'Booking Schedule'!$K$6:$K$505,"Dispatched",'Booking Schedule'!$F$6:$F$505,"",'Booking Schedule'!$E$6:$E$505,"<"&'Settings'!$B$4)>0,"Overdue Return",IF(COUNTIFS('Booking Schedule'!$B$6:$B$505,$A14,'Booking Schedule'!$K$6:$K$505,"Dispatched",'Booking Schedule'!$F$6:$F$505,"",'Booking Schedule'!$D$6:$D$505,"<="&'Settings'!$B$4,'Booking Schedule'!$E$6:$E$505,">="&'Settings'!$B$4)>0,"In Use",IF(COUNTIFS('Booking Schedule'!$B$6:$B$505,$A14,'Booking Schedule'!$K$6:$K$505,"Reserved",'Booking Schedule'!$D$6:$D$505,">="&'Settings'!$B$4,'Booking Schedule'!$D$6:$D$505,"<="&'Settings'!$B$4+'Settings'!$B$5)>0,"Reserved Soon","Available")))))),"Check Status") | N14: =IFERROR(IF($A14="","",IF($H14<>"Ready",$I14,IF(OR($M14="In Use",$M14="Overdue Return"),MAXIFS('Booking Schedule'!$E$6:$E$505,'Booking Schedule'!$B$6:$B$505,$A14,'Booking Schedule'!$K$6:$K$505,"Dispatched",'Booking Schedule'!$F$6:$F$505,""),IF($M14="Return Date Missing","",'Settings'!$B$4)))),"") | O14: =IFERROR(IF($N14="","",MAX(0,$N14-'Settings'!$B$4)),"") | P14: =IFERROR(IF($A14="","",IF(COUNTIFS('Booking Schedule'!$B$6:$B$505,$A14,'Booking Schedule'!$K$6:$K$505,"Reserved",'Booking Schedule'!$D$6:$D$505,">="&'Settings'!$B$4)=0,"",MINIFS('Booking Schedule'!$D$6:$D$505,'Booking Schedule'!$B$6:$B$505,$A14,'Booking Schedule'!$K$6:$K$505,"Reserved",'Booking Schedule'!$D$6:$D$505,">="&'Settings'!$B$4))),"") | Q14: =IFERROR(IF($A14="","",IF($J14="","Missing PM Date",IF($J14<'Settings'!$B$4,"Past Due",IF($J14<='Settings'!$B$4+'Settings'!$B$7,"Due Soon","OK")))),"Check Date") | R14: =IFERROR(IF($A14="","",IF(COUNTIF('Trailer Availability'!$A$6:$A$505,$A14)>1,"Duplicate Trailer ID",IF($F14="","Missing Home Terminal",IF($G14="","Missing Location",IF($H14="","Missing Operational Status",IF(AND($H14<>"Ready",$I14=""),"Ready Date Missing",IF($K14="","Last Update Missing","OK"))))))),"Check Row")
A15: TR-110 | B15: 4TR9237 | C15: CA | D15: Reefer | E15: 53 | F15: Los Angeles | G15: Los Angeles Yard | H15: Ready | J15: 46258 | K15: 46272 | L15: Available; PM needs scheduling | M15: =IFERROR(IF($A15="","",IF($H15<>"Ready",$H15,IF(COUNTIFS('Booking Schedule'!$B$6:$B$505,$A15,'Booking Schedule'!$K$6:$K$505,"Dispatched",'Booking Schedule'!$F$6:$F$505,"",'Booking Schedule'!$E$6:$E$505,"")>0,"Return Date Missing",IF(COUNTIFS('Booking Schedule'!$B$6:$B$505,$A15,'Booking Schedule'!$K$6:$K$505,"Dispatched",'Booking Schedule'!$F$6:$F$505,"",'Booking Schedule'!$E$6:$E$505,"<"&'Settings'!$B$4)>0,"Overdue Return",IF(COUNTIFS('Booking Schedule'!$B$6:$B$505,$A15,'Booking Schedule'!$K$6:$K$505,"Dispatched",'Booking Schedule'!$F$6:$F$505,"",'Booking Schedule'!$D$6:$D$505,"<="&'Settings'!$B$4,'Booking Schedule'!$E$6:$E$505,">="&'Settings'!$B$4)>0,"In Use",IF(COUNTIFS('Booking Schedule'!$B$6:$B$505,$A15,'Booking Schedule'!$K$6:$K$505,"Reserved",'Booking Schedule'!$D$6:$D$505,">="&'Settings'!$B$4,'Booking Schedule'!$D$6:$D$505,"<="&'Settings'!$B$4+'Settings'!$B$5)>0,"Reserved Soon","Available")))))),"Check Status") | N15: =IFERROR(IF($A15="","",IF($H15<>"Ready",$I15,IF(OR($M15="In Use",$M15="Overdue Return"),MAXIFS('Booking Schedule'!$E$6:$E$505,'Booking Schedule'!$B$6:$B$505,$A15,'Booking Schedule'!$K$6:$K$505,"Dispatched",'Booking Schedule'!$F$6:$F$505,""),IF($M15="Return Date Missing","",'Settings'!$B$4)))),"") | O15: =IFERROR(IF($N15="","",MAX(0,$N15-'Settings'!$B$4)),"") | P15: =IFERROR(IF($A15="","",IF(COUNTIFS('Booking Schedule'!$B$6:$B$505,$A15,'Booking Schedule'!$K$6:$K$505,"Reserved",'Booking Schedule'!$D$6:$D$505,">="&'Settings'!$B$4)=0,"",MINIFS('Booking Schedule'!$D$6:$D$505,'Booking Schedule'!$B$6:$B$505,$A15,'Booking Schedule'!$K$6:$K$505,"Reserved",'Booking Schedule'!$D$6:$D$505,">="&'Settings'!$B$4))),"") | Q15: =IFERROR(IF($A15="","",IF($J15="","Missing PM Date",IF($J15<'Settings'!$B$4,"Past Due",IF($J15<='Settings'!$B$4+'Settings'!$B$7,"Due Soon","OK")))),"Check Date") | R15: =IFERROR(IF($A15="","",IF(COUNTIF('Trailer Availability'!$A$6:$A$505,$A15)>1,"Duplicate Trailer ID",IF($F15="","Missing Home Terminal",IF($G15="","Missing Location",IF($H15="","Missing Operational Status",IF(AND($H15<>"Ready",$I15=""),"Ready Date Missing",IF($K15="","Last Update Missing","OK"))))))),"Check Row")
M16: =IFERROR(IF($A16="","",IF($H16<>"Ready",$H16,IF(COUNTIFS('Booking Schedule'!$B$6:$B$505,$A16,'Booking Schedule'!$K$6:$K$505,"Dispatched",'Booking Schedule'!$F$6:$F$505,"",'Booking Schedule'!$E$6:$E$505,"")>0,"Return Date Missing",IF(COUNTIFS('Booking Schedule'!$B$6:$B$505,$A16,'Booking Schedule'!$K$6:$K$505,"Dispatched",'Booking Schedule'!$F$6:$F$505,"",'Booking Schedule'!$E$6:$E$505,"<"&'Settings'!$B$4)>0,"Overdue Return",IF(COUNTIFS('Booking Schedule'!$B$6:$B$505,$A16,'Booking Schedule'!$K$6:$K$505,"Dispatched",'Booking Schedule'!$F$6:$F$505,"",'Booking Schedule'!$D$6:$D$505,"<="&'Settings'!$B$4,'Booking Schedule'!$E$6:$E$505,">="&'Settings'!$B$4)>0,"In Use",IF(COUNTIFS('Booking Schedule'!$B$6:$B$505,$A16,'Booking Schedule'!$K$6:$K$505,"Reserved",'Booking Schedule'!$D$6:$D$505,">="&'Settings'!$B$4,'Booking Schedule'!$D$6:$D$505,"<="&'Settings'!$B$4+'Settings'!$B$5)>0,"Reserved Soon","Available")))))),"Check Status") | N16: =IFERROR(IF($A16="","",IF($H16<>"Ready",$I16,IF(OR($M16="In Use",$M16="Overdue Return"),MAXIFS('Booking Schedule'!$E$6:$E$505,'Booking Schedule'!$B$6:$B$505,$A16,'Booking Schedule'!$K$6:$K$505,"Dispatched",'Booking Schedule'!$F$6:$F$505,""),IF($M16="Return Date Missing","",'Settings'!$B$4)))),"") | O16: =IFERROR(IF($N16="","",MAX(0,$N16-'Settings'!$B$4)),"") | P16: =IFERROR(IF($A16="","",IF(COUNTIFS('Booking Schedule'!$B$6:$B$505,$A16,'Booking Schedule'!$K$6:$K$505,"Reserved",'Booking Schedule'!$D$6:$D$505,">="&'Settings'!$B$4)=0,"",MINIFS('Booking Schedule'!$D$6:$D$505,'Booking Schedule'!$B$6:$B$505,$A16,'Booking Schedule'!$K$6:$K$505,"Reserved",'Booking Schedule'!$D$6:$D$505,">="&'Settings'!$B$4))),"") | Q16: =IFERROR(IF($A16="","",IF($J16="","Missing PM Date",IF($J16<'Settings'!$B$4,"Past Due",IF($J16<='Settings'!$B$4+'Settings'!$B$7,"Due Soon","OK")))),"Check Date") | R16: =IFERROR(IF($A16="","",IF(COUNTIF('Trailer Availability'!$A$6:$A$505,$A16)>1,"Duplicate Trailer ID",IF($F16="","Missing Home Terminal",IF($G16="","Missing Location",IF($H16="","Missing Operational Status",IF(AND($H16<>"Ready",$I16=""),"Ready Date Missing",IF($K16="","Last Update Missing","OK"))))))),"Check Row")
M17: =IFERROR(IF($A17="","",IF($H17<>"Ready",$H17,IF(COUNTIFS('Booking Schedule'!$B$6:$B$505,$A17,'Booking Schedule'!$K$6:$K$505,"Dispatched",'Booking Schedule'!$F$6:$F$505,"",'Booking Schedule'!$E$6:$E$505,"")>0,"Return Date Missing",IF(COUNTIFS('Booking Schedule'!$B$6:$B$505,$A17,'Booking Schedule'!$K$6:$K$505,"Dispatched",'Booking Schedule'!$F$6:$F$505,"",'Booking Schedule'!$E$6:$E$505,"<"&'Settings'!$B$4)>0,"Overdue Return",IF(COUNTIFS('Booking Schedule'!$B$6:$B$505,$A17,'Booking Schedule'!$K$6:$K$505,"Dispatched",'Booking Schedule'!$F$6:$F$505,"",'Booking Schedule'!$D$6:$D$505,"<="&'Settings'!$B$4,'Booking Schedule'!$E$6:$E$505,">="&'Settings'!$B$4)>0,"In Use",IF(COUNTIFS('Booking Schedule'!$B$6:$B$505,$A17,'Booking Schedule'!$K$6:$K$505,"Reserved",'Booking Schedule'!$D$6:$D$505,">="&'Settings'!$B$4,'Booking Schedule'!$D$6:$D$505,"<="&'Settings'!$B$4+'Settings'!$B$5)>0,"Reserved Soon","Available")))))),"Check Status") | N17: =IFERROR(IF($A17="","",IF($H17<>"Ready",$I17,IF(OR($M17="In Use",$M17="Overdue Return"),MAXIFS('Booking Schedule'!$E$6:$E$505,'Booking Schedule'!$B$6:$B$505,$A17,'Booking Schedule'!$K$6:$K$505,"Dispatched",'Booking Schedule'!$F$6:$F$505,""),IF($M17="Return Date Missing","",'Settings'!$B$4)))),"") | O17: =IFERROR(IF($N17="","",MAX(0,$N17-'Settings'!$B$4)),"") | P17: =IFERROR(IF($A17="","",IF(COUNTIFS('Booking Schedule'!$B$6:$B$505,$A17,'Booking Schedule'!$K$6:$K$505,"Reserved",'Booking Schedule'!$D$6:$D$505,">="&'Settings'!$B$4)=0,"",MINIFS('Booking Schedule'!$D$6:$D$505,'Booking Schedule'!$B$6:$B$505,$A17,'Booking Schedule'!$K$6:$K$505,"Reserved",'Booking Schedule'!$D$6:$D$505,">="&'Settings'!$B$4))),"") | Q17: =IFERROR(IF($A17="","",IF($J17="","Missing PM Date",IF($J17<'Settings'!$B$4,"Past Due",IF($J17<='Settings'!$B$4+'Settings'!$B$7,"Due Soon","OK")))),"Check Date") | R17: =IFERROR(IF($A17="","",IF(COUNTIF('Trailer Availability'!$A$6:$A$505,$A17)>1,"Duplicate Trailer ID",IF($F17="","Missing Home Terminal",IF($G17="","Missing Location",IF($H17="","Missing Operational Status",IF(AND($H17<>"Ready",$I17=""),"Ready Date Missing",IF($K17="","Last Update Missing","OK"))))))),"Check Row")
M18: =IFERROR(IF($A18="","",IF($H18<>"Ready",$H18,IF(COUNTIFS('Booking Schedule'!$B$6:$B$505,$A18,'Booking Schedule'!$K$6:$K$505,"Dispatched",'Booking Schedule'!$F$6:$F$505,"",'Booking Schedule'!$E$6:$E$505,"")>0,"Return Date Missing",IF(COUNTIFS('Booking Schedule'!$B$6:$B$505,$A18,'Booking Schedule'!$K$6:$K$505,"Dispatched",'Booking Schedule'!$F$6:$F$505,"",'Booking Schedule'!$E$6:$E$505,"<"&'Settings'!$B$4)>0,"Overdue Return",IF(COUNTIFS('Booking Schedule'!$B$6:$B$505,$A18,'Booking Schedule'!$K$6:$K$505,"Dispatched",'Booking Schedule'!$F$6:$F$505,"",'Booking Schedule'!$D$6:$D$505,"<="&'Settings'!$B$4,'Booking Schedule'!$E$6:$E$505,">="&'Settings'!$B$4)>0,"In Use",IF(COUNTIFS('Booking Schedule'!$B$6:$B$505,$A18,'Booking Schedule'!$K$6:$K$505,"Reserved",'Booking Schedule'!$D$6:$D$505,">="&'Settings'!$B$4,'Booking Schedule'!$D$6:$D$505,"<="&'Settings'!$B$4+'Settings'!$B$5)>0,"Reserved Soon","Available")))))),"Check Status") | N18: =IFERROR(IF($A18="","",IF($H18<>"Ready",$I18,IF(OR($M18="In Use",$M18="Overdue Return"),MAXIFS('Booking Schedule'!$E$6:$E$505,'Booking Schedule'!$B$6:$B$505,$A18,'Booking Schedule'!$K$6:$K$505,"Dispatched",'Booking Schedule'!$F$6:$F$505,""),IF($M18="Return Date Missing","",'Settings'!$B$4)))),"") | O18: =IFERROR(IF($N18="","",MAX(0,$N18-'Settings'!$B$4)),"") | P18: =IFERROR(IF($A18="","",IF(COUNTIFS('Booking Schedule'!$B$6:$B$505,$A18,'Booking Schedule'!$K$6:$K$505,"Reserved",'Booking Schedule'!$D$6:$D$505,">="&'Settings'!$B$4)=0,"",MINIFS('Booking Schedule'!$D$6:$D$505,'Booking Schedule'!$B$6:$B$505,$A18,'Booking Schedule'!$K$6:$K$505,"Reserved",'Booking Schedule'!$D$6:$D$505,">="&'Settings'!$B$4))),"") | Q18: =IFERROR(IF($A18="","",IF($J18="","Missing PM Date",IF($J18<'Settings'!$B$4,"Past Due",IF($J18<='Settings'!$B$4+'Settings'!$B$7,"Due Soon","OK")))),"Check Date") | R18: =IFERROR(IF($A18="","",IF(COUNTIF('Trailer Availability'!$A$6:$A$505,$A18)>1,"Duplicate Trailer ID",IF($F18="","Missing Home Terminal",IF($G18="","Missing Location",IF($H18="","Missing Operational Status",IF(AND($H18<>"Ready",$I18=""),"Ready Date Missing",IF($K18="","Last Update Missing","OK"))))))),"Check Row")
M19: =IFERROR(IF($A19="","",IF($H19<>"Ready",$H19,IF(COUNTIFS('Booking Schedule'!$B$6:$B$505,$A19,'Booking Schedule'!$K$6:$K$505,"Dispatched",'Booking Schedule'!$F$6:$F$505,"",'Booking Schedule'!$E$6:$E$505,"")>0,"Return Date Missing",IF(COUNTIFS('Booking Schedule'!$B$6:$B$505,$A19,'Booking Schedule'!$K$6:$K$505,"Dispatched",'Booking Schedule'!$F$6:$F$505,"",'Booking Schedule'!$E$6:$E$505,"<"&'Settings'!$B$4)>0,"Overdue Return",IF(COUNTIFS('Booking Schedule'!$B$6:$B$505,$A19,'Booking Schedule'!$K$6:$K$505,"Dispatched",'Booking Schedule'!$F$6:$F$505,"",'Booking Schedule'!$D$6:$D$505,"<="&'Settings'!$B$4,'Booking Schedule'!$E$6:$E$505,">="&'Settings'!$B$4)>0,"In Use",IF(COUNTIFS('Booking Schedule'!$B$6:$B$505,$A19,'Booking Schedule'!$K$6:$K$505,"Reserved",'Booking Schedule'!$D$6:$D$505,">="&'Settings'!$B$4,'Booking Schedule'!$D$6:$D$505,"<="&'Settings'!$B$4+'Settings'!$B$5)>0,"Reserved Soon","Available")))))),"Check Status") | N19: =IFERROR(IF($A19="","",IF($H19<>"Ready",$I19,IF(OR($M19="In Use",$M19="Overdue Return"),MAXIFS('Booking Schedule'!$E$6:$E$505,'Booking Schedule'!$B$6:$B$505,$A19,'Booking Schedule'!$K$6:$K$505,"Dispatched",'Booking Schedule'!$F$6:$F$505,""),IF($M19="Return Date Missing","",'Settings'!$B$4)))),"") | O19: =IFERROR(IF($N19="","",MAX(0,$N19-'Settings'!$B$4)),"") | P19: =IFERROR(IF($A19="","",IF(COUNTIFS('Booking Schedule'!$B$6:$B$505,$A19,'Booking Schedule'!$K$6:$K$505,"Reserved",'Booking Schedule'!$D$6:$D$505,">="&'Settings'!$B$4)=0,"",MINIFS('Booking Schedule'!$D$6:$D$505,'Booking Schedule'!$B$6:$B$505,$A19,'Booking Schedule'!$K$6:$K$505,"Reserved",'Booking Schedule'!$D$6:$D$505,">="&'Settings'!$B$4))),"") | Q19: =IFERROR(IF($A19="","",IF($J19="","Missing PM Date",IF($J19<'Settings'!$B$4,"Past Due",IF($J19<='Settings'!$B$4+'Settings'!$B$7,"Due Soon","OK")))),"Check Date") | R19: =IFERROR(IF($A19="","",IF(COUNTIF('Trailer Availability'!$A$6:$A$505,$A19)>1,"Duplicate Trailer ID",IF($F19="","Missing Home Terminal",IF($G19="","Missing Location",IF($H19="","Missing Operational Status",IF(AND($H19<>"Ready",$I19=""),"Ready Date Missing",IF($K19="","Last Update Missing","OK"))))))),"Check Row")
M20: =IFERROR(IF($A20="","",IF($H20<>"Ready",$H20,IF(COUNTIFS('Booking Schedule'!$B$6:$B$505,$A20,'Booking Schedule'!$K$6:$K$505,"Dispatched",'Booking Schedule'!$F$6:$F$505,"",'Booking Schedule'!$E$6:$E$505,"")>0,"Return Date Missing",IF(COUNTIFS('Booking Schedule'!$B$6:$B$505,$A20,'Booking Schedule'!$K$6:$K$505,"Dispatched",'Booking Schedule'!$F$6:$F$505,"",'Booking Schedule'!$E$6:$E$505,"<"&'Settings'!$B$4)>0,"Overdue Return",IF(COUNTIFS('Booking Schedule'!$B$6:$B$505,$A20,'Booking Schedule'!$K$6:$K$505,"Dispatched",'Booking Schedule'!$F$6:$F$505,"",'Booking Schedule'!$D$6:$D$505,"<="&'Settings'!$B$4,'Booking Schedule'!$E$6:$E$505,">="&'Settings'!$B$4)>0,"In Use",IF(COUNTIFS('Booking Schedule'!$B$6:$B$505,$A20,'Booking Schedule'!$K$6:$K$505,"Reserved",'Booking Schedule'!$D$6:$D$505,">="&'Settings'!$B$4,'Booking Schedule'!$D$6:$D$505,"<="&'Settings'!$B$4+'Settings'!$B$5)>0,"Reserved Soon","Available")))))),"Check Status") | N20: =IFERROR(IF($A20="","",IF($H20<>"Ready",$I20,IF(OR($M20="In Use",$M20="Overdue Return"),MAXIFS('Booking Schedule'!$E$6:$E$505,'Booking Schedule'!$B$6:$B$505,$A20,'Booking Schedule'!$K$6:$K$505,"Dispatched",'Booking Schedule'!$F$6:$F$505,""),IF($M20="Return Date Missing","",'Settings'!$B$4)))),"") | O20: =IFERROR(IF($N20="","",MAX(0,$N20-'Settings'!$B$4)),"") | P20: =IFERROR(IF($A20="","",IF(COUNTIFS('Booking Schedule'!$B$6:$B$505,$A20,'Booking Schedule'!$K$6:$K$505,"Reserved",'Booking Schedule'!$D$6:$D$505,">="&'Settings'!$B$4)=0,"",MINIFS('Booking Schedule'!$D$6:$D$505,'Booking Schedule'!$B$6:$B$505,$A20,'Booking Schedule'!$K$6:$K$505,"Reserved",'Booking Schedule'!$D$6:$D$505,">="&'Settings'!$B$4))),"") | Q20: =IFERROR(IF($A20="","",IF($J20="","Missing PM Date",IF($J20<'Settings'!$B$4,"Past Due",IF($J20<='Settings'!$B$4+'Settings'!$B$7,"Due Soon","OK")))),"Check Date") | R20: =IFERROR(IF($A20="","",IF(COUNTIF('Trailer Availability'!$A$6:$A$505,$A20)>1,"Duplicate Trailer ID",IF($F20="","Missing Home Terminal",IF($G20="","Missing Location",IF($H20="","Missing Operational Status",IF(AND($H20<>"Ready",$I20=""),"Ready Date Missing",IF($K20="","Last Update Missing","OK"))))))),"Check Row")
M21: =IFERROR(IF($A21="","",IF($H21<>"Ready",$H21,IF(COUNTIFS('Booking Schedule'!$B$6:$B$505,$A21,'Booking Schedule'!$K$6:$K$505,"Dispatched",'Booking Schedule'!$F$6:$F$505,"",'Booking Schedule'!$E$6:$E$505,"")>0,"Return Date Missing",IF(COUNTIFS('Booking Schedule'!$B$6:$B$505,$A21,'Booking Schedule'!$K$6:$K$505,"Dispatched",'Booking Schedule'!$F$6:$F$505,"",'Booking Schedule'!$E$6:$E$505,"<"&'Settings'!$B$4)>0,"Overdue Return",IF(COUNTIFS('Booking Schedule'!$B$6:$B$505,$A21,'Booking Schedule'!$K$6:$K$505,"Dispatched",'Booking Schedule'!$F$6:$F$505,"",'Booking Schedule'!$D$6:$D$505,"<="&'Settings'!$B$4,'Booking Schedule'!$E$6:$E$505,">="&'Settings'!$B$4)>0,"In Use",IF(COUNTIFS('Booking Schedule'!$B$6:$B$505,$A21,'Booking Schedule'!$K$6:$K$505,"Reserved",'Booking Schedule'!$D$6:$D$505,">="&'Settings'!$B$4,'Booking Schedule'!$D$6:$D$505,"<="&'Settings'!$B$4+'Settings'!$B$5)>0,"Reserved Soon","Available")))))),"Check Status") | N21: =IFERROR(IF($A21="","",IF($H21<>"Ready",$I21,IF(OR($M21="In Use",$M21="Overdue Return"),MAXIFS('Booking Schedule'!$E$6:$E$505,'Booking Schedule'!$B$6:$B$505,$A21,'Booking Schedule'!$K$6:$K$505,"Dispatched",'Booking Schedule'!$F$6:$F$505,""),IF($M21="Return Date Missing","",'Settings'!$B$4)))),"") | O21: =IFERROR(IF($N21="","",MAX(0,$N21-'Settings'!$B$4)),"") | P21: =IFERROR(IF($A21="","",IF(COUNTIFS('Booking Schedule'!$B$6:$B$505,$A21,'Booking Schedule'!$K$6:$K$505,"Reserved",'Booking Schedule'!$D$6:$D$505,">="&'Settings'!$B$4)=0,"",MINIFS('Booking Schedule'!$D$6:$D$505,'Booking Schedule'!$B$6:$B$505,$A21,'Booking Schedule'!$K$6:$K$505,"Reserved",'Booking Schedule'!$D$6:$D$505,">="&'Settings'!$B$4))),"") | Q21: =IFERROR(IF($A21="","",IF($J21="","Missing PM Date",IF($J21<'Settings'!$B$4,"Past Due",IF($J21<='Settings'!$B$4+'Settings'!$B$7,"Due Soon","OK")))),"Check Date") | R21: =IFERROR(IF($A21="","",IF(COUNTIF('Trailer Availability'!$A$6:$A$505,$A21)>1,"Duplicate Trailer ID",IF($F21="","Missing Home Terminal",IF($G21="","Missing Location",IF($H21="","Missing Operational Status",IF(AND($H21<>"Ready",$I21=""),"Ready Date Missing",IF($K21="","Last Update Missing","OK"))))))),"Check Row")
M22: =IFERROR(IF($A22="","",IF($H22<>"Ready",$H22,IF(COUNTIFS('Booking Schedule'!$B$6:$B$505,$A22,'Booking Schedule'!$K$6:$K$505,"Dispatched",'Booking Schedule'!$F$6:$F$505,"",'Booking Schedule'!$E$6:$E$505,"")>0,"Return Date Missing",IF(COUNTIFS('Booking Schedule'!$B$6:$B$505,$A22,'Booking Schedule'!$K$6:$K$505,"Dispatched",'Booking Schedule'!$F$6:$F$505,"",'Booking Schedule'!$E$6:$E$505,"<"&'Settings'!$B$4)>0,"Overdue Return",IF(COUNTIFS('Booking Schedule'!$B$6:$B$505,$A22,'Booking Schedule'!$K$6:$K$505,"Dispatched",'Booking Schedule'!$F$6:$F$505,"",'Booking Schedule'!$D$6:$D$505,"<="&'Settings'!$B$4,'Booking Schedule'!$E$6:$E$505,">="&'Settings'!$B$4)>0,"In Use",IF(COUNTIFS('Booking Schedule'!$B$6:$B$505,$A22,'Booking Schedule'!$K$6:$K$505,"Reserved",'Booking Schedule'!$D$6:$D$505,">="&'Settings'!$B$4,'Booking Schedule'!$D$6:$D$505,"<="&'Settings'!$B$4+'Settings'!$B$5)>0,"Reserved Soon","Available")))))),"Check Status") | N22: =IFERROR(IF($A22="","",IF($H22<>"Ready",$I22,IF(OR($M22="In Use",$M22="Overdue Return"),MAXIFS('Booking Schedule'!$E$6:$E$505,'Booking Schedule'!$B$6:$B$505,$A22,'Booking Schedule'!$K$6:$K$505,"Dispatched",'Booking Schedule'!$F$6:$F$505,""),IF($M22="Return Date Missing","",'Settings'!$B$4)))),"") | O22: =IFERROR(IF($N22="","",MAX(0,$N22-'Settings'!$B$4)),"") | P22: =IFERROR(IF($A22="","",IF(COUNTIFS('Booking Schedule'!$B$6:$B$505,$A22,'Booking Schedule'!$K$6:$K$505,"Reserved",'Booking Schedule'!$D$6:$D$505,">="&'Settings'!$B$4)=0,"",MINIFS('Booking Schedule'!$D$6:$D$505,'Booking Schedule'!$B$6:$B$505,$A22,'Booking Schedule'!$K$6:$K$505,"Reserved",'Booking Schedule'!$D$6:$D$505,">="&'Settings'!$B$4))),"") | Q22: =IFERROR(IF($A22="","",IF($J22="","Missing PM Date",IF($J22<'Settings'!$B$4,"Past Due",IF($J22<='Settings'!$B$4+'Settings'!$B$7,"Due Soon","OK")))),"Check Date") | R22: =IFERROR(IF($A22="","",IF(COUNTIF('Trailer Availability'!$A$6:$A$505,$A22)>1,"Duplicate Trailer ID",IF($F22="","Missing Home Terminal",IF($G22="","Missing Location",IF($H22="","Missing Operational Status",IF(AND($H22<>"Ready",$I22=""),"Ready Date Missing",IF($K22="","Last Update Missing","OK"))))))),"Check Row")
M23: =IFERROR(IF($A23="","",IF($H23<>"Ready",$H23,IF(COUNTIFS('Booking Schedule'!$B$6:$B$505,$A23,'Booking Schedule'!$K$6:$K$505,"Dispatched",'Booking Schedule'!$F$6:$F$505,"",'Booking Schedule'!$E$6:$E$505,"")>0,"Return Date Missing",IF(COUNTIFS('Booking Schedule'!$B$6:$B$505,$A23,'Booking Schedule'!$K$6:$K$505,"Dispatched",'Booking Schedule'!$F$6:$F$505,"",'Booking Schedule'!$E$6:$E$505,"<"&'Settings'!$B$4)>0,"Overdue Return",IF(COUNTIFS('Booking Schedule'!$B$6:$B$505,$A23,'Booking Schedule'!$K$6:$K$505,"Dispatched",'Booking Schedule'!$F$6:$F$505,"",'Booking Schedule'!$D$6:$D$505,"<="&'Settings'!$B$4,'Booking Schedule'!$E$6:$E$505,">="&'Settings'!$B$4)>0,"In Use",IF(COUNTIFS('Booking Schedule'!$B$6:$B$505,$A23,'Booking Schedule'!$K$6:$K$505,"Reserved",'Booking Schedule'!$D$6:$D$505,">="&'Settings'!$B$4,'Booking Schedule'!$D$6:$D$505,"<="&'Settings'!$B$4+'Settings'!$B$5)>0,"Reserved Soon","Available")))))),"Check Status") | N23: =IFERROR(IF($A23="","",IF($H23<>"Ready",$I23,IF(OR($M23="In Use",$M23="Overdue Return"),MAXIFS('Booking Schedule'!$E$6:$E$505,'Booking Schedule'!$B$6:$B$505,$A23,'Booking Schedule'!$K$6:$K$505,"Dispatched",'Booking Schedule'!$F$6:$F$505,""),IF($M23="Return Date Missing","",'Settings'!$B$4)))),"") | O23: =IFERROR(IF($N23="","",MAX(0,$N23-'Settings'!$B$4)),"") | P23: =IFERROR(IF($A23="","",IF(COUNTIFS('Booking Schedule'!$B$6:$B$505,$A23,'Booking Schedule'!$K$6:$K$505,"Reserved",'Booking Schedule'!$D$6:$D$505,">="&'Settings'!$B$4)=0,"",MINIFS('Booking Schedule'!$D$6:$D$505,'Booking Schedule'!$B$6:$B$505,$A23,'Booking Schedule'!$K$6:$K$505,"Reserved",'Booking Schedule'!$D$6:$D$505,">="&'Settings'!$B$4))),"") | Q23: =IFERROR(IF($A23="","",IF($J23="","Missing PM Date",IF($J23<'Settings'!$B$4,"Past Due",IF($J23<='Settings'!$B$4+'Settings'!$B$7,"Due Soon","OK")))),"Check Date") | R23: =IFERROR(IF($A23="","",IF(COUNTIF('Trailer Availability'!$A$6:$A$505,$A23)>1,"Duplicate Trailer ID",IF($F23="","Missing Home Terminal",IF($G23="","Missing Location",IF($H23="","Missing Operational Status",IF(AND($H23<>"Ready",$I23=""),"Ready Date Missing",IF($K23="","Last Update Missing","OK"))))))),"Check Row")
M24: =IFERROR(IF($A24="","",IF($H24<>"Ready",$H24,IF(COUNTIFS('Booking Schedule'!$B$6:$B$505,$A24,'Booking Schedule'!$K$6:$K$505,"Dispatched",'Booking Schedule'!$F$6:$F$505,"",'Booking Schedule'!$E$6:$E$505,"")>0,"Return Date Missing",IF(COUNTIFS('Booking Schedule'!$B$6:$B$505,$A24,'Booking Schedule'!$K$6:$K$505,"Dispatched",'Booking Schedule'!$F$6:$F$505,"",'Booking Schedule'!$E$6:$E$505,"<"&'Settings'!$B$4)>0,"Overdue Return",IF(COUNTIFS('Booking Schedule'!$B$6:$B$505,$A24,'Booking Schedule'!$K$6:$K$505,"Dispatched",'Booking Schedule'!$F$6:$F$505,"",'Booking Schedule'!$D$6:$D$505,"<="&'Settings'!$B$4,'Booking Schedule'!$E$6:$E$505,">="&'Settings'!$B$4)>0,"In Use",IF(COUNTIFS('Booking Schedule'!$B$6:$B$505,$A24,'Booking Schedule'!$K$6:$K$505,"Reserved",'Booking Schedule'!$D$6:$D$505,">="&'Settings'!$B$4,'Booking Schedule'!$D$6:$D$505,"<="&'Settings'!$B$4+'Settings'!$B$5)>0,"Reserved Soon","Available")))))),"Check Status") | N24: =IFERROR(IF($A24="","",IF($H24<>"Ready",$I24,IF(OR($M24="In Use",$M24="Overdue Return"),MAXIFS('Booking Schedule'!$E$6:$E$505,'Booking Schedule'!$B$6:$B$505,$A24,'Booking Schedule'!$K$6:$K$505,"Dispatched",'Booking Schedule'!$F$6:$F$505,""),IF($M24="Return Date Missing","",'Settings'!$B$4)))),"") | O24: =IFERROR(IF($N24="","",MAX(0,$N24-'Settings'!$B$4)),"") | P24: =IFERROR(IF($A24="","",IF(COUNTIFS('Booking Schedule'!$B$6:$B$505,$A24,'Booking Schedule'!$K$6:$K$505,"Reserved",'Booking Schedule'!$D$6:$D$505,">="&'Settings'!$B$4)=0,"",MINIFS('Booking Schedule'!$D$6:$D$505,'Booking Schedule'!$B$6:$B$505,$A24,'Booking Schedule'!$K$6:$K$505,"Reserved",'Booking Schedule'!$D$6:$D$505,">="&'Settings'!$B$4))),"") | Q24: =IFERROR(IF($A24="","",IF($J24="","Missing PM Date",IF($J24<'Settings'!$B$4,"Past Due",IF($J24<='Settings'!$B$4+'Settings'!$B$7,"Due Soon","OK")))),"Check Date") | R24: =IFERROR(IF($A24="","",IF(COUNTIF('Trailer Availability'!$A$6:$A$505,$A24)>1,"Duplicate Trailer ID",IF($F24="","Missing Home Terminal",IF($G24="","Missing Location",IF($H24="","Missing Operational Status",IF(AND($H24<>"Ready",$I24=""),"Ready Date Missing",IF($K24="","Last Update Missing","OK"))))))),"Check Row")
M25: =IFERROR(IF($A25="","",IF($H25<>"Ready",$H25,IF(COUNTIFS('Booking Schedule'!$B$6:$B$505,$A25,'Booking Schedule'!$K$6:$K$505,"Dispatched",'Booking Schedule'!$F$6:$F$505,"",'Booking Schedule'!$E$6:$E$505,"")>0,"Return Date Missing",IF(COUNTIFS('Booking Schedule'!$B$6:$B$505,$A25,'Booking Schedule'!$K$6:$K$505,"Dispatched",'Booking Schedule'!$F$6:$F$505,"",'Booking Schedule'!$E$6:$E$505,"<"&'Settings'!$B$4)>0,"Overdue Return",IF(COUNTIFS('Booking Schedule'!$B$6:$B$505,$A25,'Booking Schedule'!$K$6:$K$505,"Dispatched",'Booking Schedule'!$F$6:$F$505,"",'Booking Schedule'!$D$6:$D$505,"<="&'Settings'!$B$4,'Booking Schedule'!$E$6:$E$505,">="&'Settings'!$B$4)>0,"In Use",IF(COUNTIFS('Booking Schedule'!$B$6:$B$505,$A25,'Booking Schedule'!$K$6:$K$505,"Reserved",'Booking Schedule'!$D$6:$D$505,">="&'Settings'!$B$4,'Booking Schedule'!$D$6:$D$505,"<="&'Settings'!$B$4+'Settings'!$B$5)>0,"Reserved Soon","Available")))))),"Check Status") | N25: =IFERROR(IF($A25="","",IF($H25<>"Ready",$I25,IF(OR($M25="In Use",$M25="Overdue Return"),MAXIFS('Booking Schedule'!$E$6:$E$505,'Booking Schedule'!$B$6:$B$505,$A25,'Booking Schedule'!$K$6:$K$505,"Dispatched",'Booking Schedule'!$F$6:$F$505,""),IF($M25="Return Date Missing","",'Settings'!$B$4)))),"") | O25: =IFERROR(IF($N25="","",MAX(0,$N25-'Settings'!$B$4)),"") | P25: =IFERROR(IF($A25="","",IF(COUNTIFS('Booking Schedule'!$B$6:$B$505,$A25,'Booking Schedule'!$K$6:$K$505,"Reserved",'Booking Schedule'!$D$6:$D$505,">="&'Settings'!$B$4)=0,"",MINIFS('Booking Schedule'!$D$6:$D$505,'Booking Schedule'!$B$6:$B$505,$A25,'Booking Schedule'!$K$6:$K$505,"Reserved",'Booking Schedule'!$D$6:$D$505,">="&'Settings'!$B$4))),"") | Q25: =IFERROR(IF($A25="","",IF($J25="","Missing PM Date",IF($J25<'Settings'!$B$4,"Past Due",IF($J25<='Settings'!$B$4+'Settings'!$B$7,"Due Soon","OK")))),"Check Date") | R25: =IFERROR(IF($A25="","",IF(COUNTIF('Trailer Availability'!$A$6:$A$505,$A25)>1,"Duplicate Trailer ID",IF($F25="","Missing Home Terminal",IF($G25="","Missing Location",IF($H25="","Missing Operational Status",IF(AND($H25<>"Ready",$I25=""),"Ready Date Missing",IF($K25="","Last Update Missing","OK"))))))),"Check Row")
M26: =IFERROR(IF($A26="","",IF($H26<>"Ready",$H26,IF(COUNTIFS('Booking Schedule'!$B$6:$B$505,$A26,'Booking Schedule'!$K$6:$K$505,"Dispatched",'Booking Schedule'!$F$6:$F$505,"",'Booking Schedule'!$E$6:$E$505,"")>0,"Return Date Missing",IF(COUNTIFS('Booking Schedule'!$B$6:$B$505,$A26,'Booking Schedule'!$K$6:$K$505,"Dispatched",'Booking Schedule'!$F$6:$F$505,"",'Booking Schedule'!$E$6:$E$505,"<"&'Settings'!$B$4)>0,"Overdue Return",IF(COUNTIFS('Booking Schedule'!$B$6:$B$505,$A26,'Booking Schedule'!$K$6:$K$505,"Dispatched",'Booking Schedule'!$F$6:$F$505,"",'Booking Schedule'!$D$6:$D$505,"<="&'Settings'!$B$4,'Booking Schedule'!$E$6:$E$505,">="&'Settings'!$B$4)>0,"In Use",IF(COUNTIFS('Booking Schedule'!$B$6:$B$505,$A26,'Booking Schedule'!$K$6:$K$505,"Reserved",'Booking Schedule'!$D$6:$D$505,">="&'Settings'!$B$4,'Booking Schedule'!$D$6:$D$505,"<="&'Settings'!$B$4+'Settings'!$B$5)>0,"Reserved Soon","Available")))))),"Check Status") | N26: =IFERROR(IF($A26="","",IF($H26<>"Ready",$I26,IF(OR($M26="In Use",$M26="Overdue Return"),MAXIFS('Booking Schedule'!$E$6:$E$505,'Booking Schedule'!$B$6:$B$505,$A26,'Booking Schedule'!$K$6:$K$505,"Dispatched",'Booking Schedule'!$F$6:$F$505,""),IF($M26="Return Date Missing","",'Settings'!$B$4)))),"") | O26: =IFERROR(IF($N26="","",MAX(0,$N26-'Settings'!$B$4)),"") | P26: =IFERROR(IF($A26="","",IF(COUNTIFS('Booking Schedule'!$B$6:$B$505,$A26,'Booking Schedule'!$K$6:$K$505,"Reserved",'Booking Schedule'!$D$6:$D$505,">="&'Settings'!$B$4)=0,"",MINIFS('Booking Schedule'!$D$6:$D$505,'Booking Schedule'!$B$6:$B$505,$A26,'Booking Schedule'!$K$6:$K$505,"Reserved",'Booking Schedule'!$D$6:$D$505,">="&'Settings'!$B$4))),"") | Q26: =IFERROR(IF($A26="","",IF($J26="","Missing PM Date",IF($J26<'Settings'!$B$4,"Past Due",IF($J26<='Settings'!$B$4+'Settings'!$B$7,"Due Soon","OK")))),"Check Date") | R26: =IFERROR(IF($A26="","",IF(COUNTIF('Trailer Availability'!$A$6:$A$505,$A26)>1,"Duplicate Trailer ID",IF($F26="","Missing Home Terminal",IF($G26="","Missing Location",IF($H26="","Missing Operational Status",IF(AND($H26<>"Ready",$I26=""),"Ready Date Missing",IF($K26="","Last Update Missing","OK"))))))),"Check Row")
M27: =IFERROR(IF($A27="","",IF($H27<>"Ready",$H27,IF(COUNTIFS('Booking Schedule'!$B$6:$B$505,$A27,'Booking Schedule'!$K$6:$K$505,"Dispatched",'Booking Schedule'!$F$6:$F$505,"",'Booking Schedule'!$E$6:$E$505,"")>0,"Return Date Missing",IF(COUNTIFS('Booking Schedule'!$B$6:$B$505,$A27,'Booking Schedule'!$K$6:$K$505,"Dispatched",'Booking Schedule'!$F$6:$F$505,"",'Booking Schedule'!$E$6:$E$505,"<"&'Settings'!$B$4)>0,"Overdue Return",IF(COUNTIFS('Booking Schedule'!$B$6:$B$505,$A27,'Booking Schedule'!$K$6:$K$505,"Dispatched",'Booking Schedule'!$F$6:$F$505,"",'Booking Schedule'!$D$6:$D$505,"<="&'Settings'!$B$4,'Booking Schedule'!$E$6:$E$505,">="&'Settings'!$B$4)>0,"In Use",IF(COUNTIFS('Booking Schedule'!$B$6:$B$505,$A27,'Booking Schedule'!$K$6:$K$505,"Reserved",'Booking Schedule'!$D$6:$D$505,">="&'Settings'!$B$4,'Booking Schedule'!$D$6:$D$505,"<="&'Settings'!$B$4+'Settings'!$B$5)>0,"Reserved Soon","Available")))))),"Check Status") | N27: =IFERROR(IF($A27="","",IF($H27<>"Ready",$I27,IF(OR($M27="In Use",$M27="Overdue Return"),MAXIFS('Booking Schedule'!$E$6:$E$505,'Booking Schedule'!$B$6:$B$505,$A27,'Booking Schedule'!$K$6:$K$505,"Dispatched",'Booking Schedule'!$F$6:$F$505,""),IF($M27="Return Date Missing","",'Settings'!$B$4)))),"") | O27: =IFERROR(IF($N27="","",MAX(0,$N27-'Settings'!$B$4)),"") | P27: =IFERROR(IF($A27="","",IF(COUNTIFS('Booking Schedule'!$B$6:$B$505,$A27,'Booking Schedule'!$K$6:$K$505,"Reserved",'Booking Schedule'!$D$6:$D$505,">="&'Settings'!$B$4)=0,"",MINIFS('Booking Schedule'!$D$6:$D$505,'Booking Schedule'!$B$6:$B$505,$A27,'Booking Schedule'!$K$6:$K$505,"Reserved",'Booking Schedule'!$D$6:$D$505,">="&'Settings'!$B$4))),"") | Q27: =IFERROR(IF($A27="","",IF($J27="","Missing PM Date",IF($J27<'Settings'!$B$4,"Past Due",IF($J27<='Settings'!$B$4+'Settings'!$B$7,"Due Soon","OK")))),"Check Date") | R27: =IFERROR(IF($A27="","",IF(COUNTIF('Trailer Availability'!$A$6:$A$505,$A27)>1,"Duplicate Trailer ID",IF($F27="","Missing Home Terminal",IF($G27="","Missing Location",IF($H27="","Missing Operational Status",IF(AND($H27<>"Ready",$I27=""),"Ready Date Missing",IF($K27="","Last Update Missing","OK"))))))),"Check Row")
... M505: =IFERROR(IF($A505="","",IF($H505<>"Ready",$H505,IF(COUNTIFS('Booking Schedule'!$B$6:$B$505,$A505,'Booking Schedule'!$K$6:$K$505,"Dispatched",'Booking Schedule'!$F$6:$F$505,"",'Booking Schedule'!$E$6:$E$505,"")>0,"Return Date Missing",IF(COUNTIFS('Booking Schedule'!$B$6:$B$505,$A505,'Booking Schedule'!$K$6:$K$505,"Dispatched",'Booking Schedule'!$F$6:$F$505,"",'Booking Schedule'!$E$6:$E$505,"<"&'Settings'!$B$4)>0,"Overdue Return",IF(COUNTIFS('Booking Schedule'!$B$6:$B$505,$A505,'Booking Schedule'!$K$6:$K$505,"Dispatched",'Booking Schedule'!$F$6:$F$505,"",'Booking Schedule'!$D$6:$D$505,"<="&'Settings'!$B$4,'Booking Schedule'!$E$6:$E$505,">="&'Settings'!$B$4)>0,"In Use",IF(COUNTIFS('Booking Schedule'!$B$6:$B$505,$A505,'Booking Schedule'!$K$6:$K$505,"Reserved",'Booking Schedule'!$D$6:$D$505,">="&'Settings'!$B$4,'Booking Schedule'!$D$6:$D$505,"<="&'Settings'!$B$4+'Settings'!$B$5)>0,"Reserved Soon","Available")))))),"Check Status") | N505: =IFERROR(IF($A505="","",IF($H505<>"Ready",$I505,IF(OR($M505="In Use",$M505="Overdue Return"),MAXIFS('Booking Schedule'!$E$6:$E$505,'Booking Schedule'!$B$6:$B$505,$A505,'Booking Schedule'!$K$6:$K$505,"Dispatched",'Booking Schedule'!$F$6:$F$505,""),IF($M505="Return Date Missing","",'Settings'!$B$4)))),"") | O505: =IFERROR(IF($N505="","",MAX(0,$N505-'Settings'!$B$4)),"") | P505: =IFERROR(IF($A505="","",IF(COUNTIFS('Booking Schedule'!$B$6:$B$505,$A505,'Booking Schedule'!$K$6:$K$505,"Reserved",'Booking Schedule'!$D$6:$D$505,">="&'Settings'!$B$4)=0,"",MINIFS('Booking Schedule'!$D$6:$D$505,'Booking Schedule'!$B$6:$B$505,$A505,'Booking Schedule'!$K$6:$K$505,"Reserved",'Booking Schedule'!$D$6:$D$505,">="&'Settings'!$B$4))),"") | Q505: =IFERROR(IF($A505="","",IF($J505="","Missing PM Date",IF($J505<'Settings'!$B$4,"Past Due",IF($J505<='Settings'!$B$4+'Settings'!$B$7,"Due Soon","OK")))),"Check Date") | R505: =IFERROR(IF($A505="","",IF(COUNTIF('Trailer Availability'!$A$6:$A$505,$A505)>1,"Duplicate Trailer ID",IF($F505="","Missing Home Terminal",IF($G505="","Missing Location",IF($H505="","Missing Operational Status",IF(AND($H505<>"Ready",$I505=""),"Ready Date Missing",IF($K505="","Last Update Missing","OK"))))))),"Check Row")

Sheet Booking Schedule
A1: Booking Schedule
A2: Enter reservations and dispatched loads in yellow cells. Update Actual Return Date and Booking Status when a trailer is returned.
B3: User Input | D3: Calculated
A5: Booking ID | B5: Trailer ID | C5: Customer / Load | D5: Pickup Date | E5: Planned Return Date | F5: Actual Return Date | G5: Origin | H5: Destination | I5: Planned Miles | J5: Dispatcher | K5: Booking Status | L5: Notes | M5: Schedule Check
A6: BK-26041 | B6: TR-102 | C6: Acme Retail / L-86421 | D6: 46271 | E6: 46274 | G6: Dallas, TX | H6: Memphis, TN | I6: 645 | J6: J. Carter | K6: Dispatched | L6: Store replenishment load | M6: =IFERROR(IF($A6="","",IF(OR($B6="",$D6="",$K6=""),"Missing Required Field",IF(COUNTIF('Trailer Availability'!$A$6:$A$505,$B6)=0,"Unknown Trailer ID",IF(AND($K6<>"Canceled",$E6=""),"Missing Planned Return",IF(AND($E6<>"",$D6>$E6),"Date Order Error",IF(AND($K6="Completed",$F6=""),"Actual Return Missing",IF(AND($F6<>"",$F6<$D6),"Actual Return Before Pickup",IF(AND($K6="Dispatched",$F6<>""),"Update Status to Completed",IF(AND(OR($K6="Reserved",$K6="Dispatched"),COUNTIFS('Booking Schedule'!$B$6:$B$505,$B6,'Booking Schedule'!$D$6:$D$505,"<="&$E6,'Booking Schedule'!$E$6:$E$505,">="&$D6,'Booking Schedule'!$K$6:$K$505,"Reserved")+COUNTIFS('Booking Schedule'!$B$6:$B$505,$B6,'Booking Schedule'!$D$6:$D$505,"<="&$E6,'Booking Schedule'!$E$6:$E$505,">="&$D6,'Booking Schedule'!$K$6:$K$505,"Dispatched")>1),"Overlap","OK"))))))))),"Check Row")
A7: BK-26042 | B7: TR-103 | C7: Gulf Foods / L-86435 | D7: 46273 | E7: 46276 | G7: Houston, TX | H7: New Orleans, LA | I7: 350 | J7: M. Lopez | K7: Reserved | L7: Temperature-controlled shipment | M7: =IFERROR(IF($A7="","",IF(OR($B7="",$D7="",$K7=""),"Missing Required Field",IF(COUNTIF('Trailer Availability'!$A$6:$A$505,$B7)=0,"Unknown Trailer ID",IF(AND($K7<>"Canceled",$E7=""),"Missing Planned Return",IF(AND($E7<>"",$D7>$E7),"Date Order Error",IF(AND($K7="Completed",$F7=""),"Actual Return Missing",IF(AND($F7<>"",$F7<$D7),"Actual Return Before Pickup",IF(AND($K7="Dispatched",$F7<>""),"Update Status to Completed",IF(AND(OR($K7="Reserved",$K7="Dispatched"),COUNTIFS('Booking Schedule'!$B$6:$B$505,$B7,'Booking Schedule'!$D$6:$D$505,"<="&$E7,'Booking Schedule'!$E$6:$E$505,">="&$D7,'Booking Schedule'!$K$6:$K$505,"Reserved")+COUNTIFS('Booking Schedule'!$B$6:$B$505,$B7,'Booking Schedule'!$D$6:$D$505,"<="&$E7,'Booking Schedule'!$E$6:$E$505,">="&$D7,'Booking Schedule'!$K$6:$K$505,"Dispatched")>1),"Overlap","OK"))))))))),"Check Row")
A8: BK-26043 | B8: TR-105 | C8: Peach State Paper / L-86398 | D8: 46267 | E8: 46270 | G8: Atlanta, GA | H8: Charlotte, NC | I8: 245 | J8: R. Davis | K8: Dispatched | L8: Return confirmation overdue | M8: =IFERROR(IF($A8="","",IF(OR($B8="",$D8="",$K8=""),"Missing Required Field",IF(COUNTIF('Trailer Availability'!$A$6:$A$505,$B8)=0,"Unknown Trailer ID",IF(AND($K8<>"Canceled",$E8=""),"Missing Planned Return",IF(AND($E8<>"",$D8>$E8),"Date Order Error",IF(AND($K8="Completed",$F8=""),"Actual Return Missing",IF(AND($F8<>"",$F8<$D8),"Actual Return Before Pickup",IF(AND($K8="Dispatched",$F8<>""),"Update Status to Completed",IF(AND(OR($K8="Reserved",$K8="Dispatched"),COUNTIFS('Booking Schedule'!$B$6:$B$505,$B8,'Booking Schedule'!$D$6:$D$505,"<="&$E8,'Booking Schedule'!$E$6:$E$505,">="&$D8,'Booking Schedule'!$K$6:$K$505,"Reserved")+COUNTIFS('Booking Schedule'!$B$6:$B$505,$B8,'Booking Schedule'!$D$6:$D$505,"<="&$E8,'Booking Schedule'!$E$6:$E$505,">="&$D8,'Booking Schedule'!$K$6:$K$505,"Dispatched")>1),"Overlap","OK"))))))))),"Check Row")
A9: BK-26044 | B9: TR-108 | C9: Midwest Steel / L-86450 | D9: 46277 | E9: 46280 | G9: Chicago, IL | H9: Detroit, MI | I9: 285 | J9: K. Wilson | K9: Reserved | L9: Coil racks required | M9: =IFERROR(IF($A9="","",IF(OR($B9="",$D9="",$K9=""),"Missing Required Field",IF(COUNTIF('Trailer Availability'!$A$6:$A$505,$B9)=0,"Unknown Trailer ID",IF(AND($K9<>"Canceled",$E9=""),"Missing Planned Return",IF(AND($E9<>"",$D9>$E9),"Date Order Error",IF(AND($K9="Completed",$F9=""),"Actual Return Missing",IF(AND($F9<>"",$F9<$D9),"Actual Return Before Pickup",IF(AND($K9="Dispatched",$F9<>""),"Update Status to Completed",IF(AND(OR($K9="Reserved",$K9="Dispatched"),COUNTIFS('Booking Schedule'!$B$6:$B$505,$B9,'Booking Schedule'!$D$6:$D$505,"<="&$E9,'Booking Schedule'!$E$6:$E$505,">="&$D9,'Booking Schedule'!$K$6:$K$505,"Reserved")+COUNTIFS('Booking Schedule'!$B$6:$B$505,$B9,'Booking Schedule'!$D$6:$D$505,"<="&$E9,'Booking Schedule'!$E$6:$E$505,">="&$D9,'Booking Schedule'!$K$6:$K$505,"Dispatched")>1),"Overlap","OK"))))))))),"Check Row")
A10: BK-26045 | B10: TR-109 | C10: West Coast Home / L-86412 | D10: 46272 | G10: Los Angeles, CA | H10: Phoenix, AZ | I10: 370 | J10: S. Nguyen | K10: Dispatched | L10: Planned return date not entered | M10: =IFERROR(IF($A10="","",IF(OR($B10="",$D10="",$K10=""),"Missing Required Field",IF(COUNTIF('Trailer Availability'!$A$6:$A$505,$B10)=0,"Unknown Trailer ID",IF(AND($K10<>"Canceled",$E10=""),"Missing Planned Return",IF(AND($E10<>"",$D10>$E10),"Date Order Error",IF(AND($K10="Completed",$F10=""),"Actual Return Missing",IF(AND($F10<>"",$F10<$D10),"Actual Return Before Pickup",IF(AND($K10="Dispatched",$F10<>""),"Update Status to Completed",IF(AND(OR($K10="Reserved",$K10="Dispatched"),COUNTIFS('Booking Schedule'!$B$6:$B$505,$B10,'Booking Schedule'!$D$6:$D$505,"<="&$E10,'Booking Schedule'!$E$6:$E$505,">="&$D10,'Booking Schedule'!$K$6:$K$505,"Reserved")+COUNTIFS('Booking Schedule'!$B$6:$B$505,$B10,'Booking Schedule'!$D$6:$D$505,"<="&$E10,'Booking Schedule'!$E$6:$E$505,">="&$D10,'Booking Schedule'!$K$6:$K$505,"Dispatched")>1),"Overlap","OK"))))))))),"Check Row")
A11: BK-26046 | B11: TR-101 | C11: Lone Star Packaging / L-86200 | D11: 46258 | E11: 46260 | F11: 46260 | G11: Dallas, TX | H11: Houston, TX | I11: 238 | J11: J. Carter | K11: Completed | L11: Returned clean | M11: =IFERROR(IF($A11="","",IF(OR($B11="",$D11="",$K11=""),"Missing Required Field",IF(COUNTIF('Trailer Availability'!$A$6:$A$505,$B11)=0,"Unknown Trailer ID",IF(AND($K11<>"Canceled",$E11=""),"Missing Planned Return",IF(AND($E11<>"",$D11>$E11),"Date Order Error",IF(AND($K11="Completed",$F11=""),"Actual Return Missing",IF(AND($F11<>"",$F11<$D11),"Actual Return Before Pickup",IF(AND($K11="Dispatched",$F11<>""),"Update Status to Completed",IF(AND(OR($K11="Reserved",$K11="Dispatched"),COUNTIFS('Booking Schedule'!$B$6:$B$505,$B11,'Booking Schedule'!$D$6:$D$505,"<="&$E11,'Booking Schedule'!$E$6:$E$505,">="&$D11,'Booking Schedule'!$K$6:$K$505,"Reserved")+COUNTIFS('Booking Schedule'!$B$6:$B$505,$B11,'Booking Schedule'!$D$6:$D$505,"<="&$E11,'Booking Schedule'!$E$6:$E$505,">="&$D11,'Booking Schedule'!$K$6:$K$505,"Dispatched")>1),"Overlap","OK"))))))))),"Check Row")
A12: BK-26047 | B12: TR-110 | C12: Pacific Produce / L-86288 | D12: 46262 | E12: 46264 | F12: 46264 | G12: Los Angeles, CA | H12: San Francisco, CA | I12: 380 | J12: S. Nguyen | K12: Completed | L12: Reefer washed after return | M12: =IFERROR(IF($A12="","",IF(OR($B12="",$D12="",$K12=""),"Missing Required Field",IF(COUNTIF('Trailer Availability'!$A$6:$A$505,$B12)=0,"Unknown Trailer ID",IF(AND($K12<>"Canceled",$E12=""),"Missing Planned Return",IF(AND($E12<>"",$D12>$E12),"Date Order Error",IF(AND($K12="Completed",$F12=""),"Actual Return Missing",IF(AND($F12<>"",$F12<$D12),"Actual Return Before Pickup",IF(AND($K12="Dispatched",$F12<>""),"Update Status to Completed",IF(AND(OR($K12="Reserved",$K12="Dispatched"),COUNTIFS('Booking Schedule'!$B$6:$B$505,$B12,'Booking Schedule'!$D$6:$D$505,"<="&$E12,'Booking Schedule'!$E$6:$E$505,">="&$D12,'Booking Schedule'!$K$6:$K$505,"Reserved")+COUNTIFS('Booking Schedule'!$B$6:$B$505,$B12,'Booking Schedule'!$D$6:$D$505,"<="&$E12,'Booking Schedule'!$E$6:$E$505,">="&$D12,'Booking Schedule'!$K$6:$K$505,"Dispatched")>1),"Overlap","OK"))))))))),"Check Row")
A13: BK-26048 | B13: TR-103 | C13: Bayou Grocers / L-86510 | D13: 46275 | E13: 46278 | G13: Houston, TX | H13: Mobile, AL | I13: 470 | J13: M. Lopez | K13: Reserved | L13: Conflicts with existing reservation | M13: =IFERROR(IF($A13="","",IF(OR($B13="",$D13="",$K13=""),"Missing Required Field",IF(COUNTIF('Trailer Availability'!$A$6:$A$505,$B13)=0,"Unknown Trailer ID",IF(AND($K13<>"Canceled",$E13=""),"Missing Planned Return",IF(AND($E13<>"",$D13>$E13),"Date Order Error",IF(AND($K13="Completed",$F13=""),"Actual Return Missing",IF(AND($F13<>"",$F13<$D13),"Actual Return Before Pickup",IF(AND($K13="Dispatched",$F13<>""),"Update Status to Completed",IF(AND(OR($K13="Reserved",$K13="Dispatched"),COUNTIFS('Booking Schedule'!$B$6:$B$505,$B13,'Booking Schedule'!$D$6:$D$505,"<="&$E13,'Booking Schedule'!$E$6:$E$505,">="&$D13,'Booking Schedule'!$K$6:$K$505,"Reserved")+COUNTIFS('Booking Schedule'!$B$6:$B$505,$B13,'Booking Schedule'!$D$6:$D$505,"<="&$E13,'Booking Schedule'!$E$6:$E$505,">="&$D13,'Booking Schedule'!$K$6:$K$505,"Dispatched")>1),"Overlap","OK"))))))))),"Check Row")
M14: =IFERROR(IF($A14="","",IF(OR($B14="",$D14="",$K14=""),"Missing Required Field",IF(COUNTIF('Trailer Availability'!$A$6:$A$505,$B14)=0,"Unknown Trailer ID",IF(AND($K14<>"Canceled",$E14=""),"Missing Planned Return",IF(AND($E14<>"",$D14>$E14),"Date Order Error",IF(AND($K14="Completed",$F14=""),"Actual Return Missing",IF(AND($F14<>"",$F14<$D14),"Actual Return Before Pickup",IF(AND($K14="Dispatched",$F14<>""),"Update Status to Completed",IF(AND(OR($K14="Reserved",$K14="Dispatched"),COUNTIFS('Booking Schedule'!$B$6:$B$505,$B14,'Booking Schedule'!$D$6:$D$505,"<="&$E14,'Booking Schedule'!$E$6:$E$505,">="&$D14,'Booking Schedule'!$K$6:$K$505,"Reserved")+COUNTIFS('Booking Schedule'!$B$6:$B$505,$B14,'Booking Schedule'!$D$6:$D$505,"<="&$E14,'Booking Schedule'!$E$6:$E$505,">="&$D14,'Booking Schedule'!$K$6:$K$505,"Dispatched")>1),"Overlap","OK"))))))))),"Check Row")
M15: =IFERROR(IF($A15="","",IF(OR($B15="",$D15="",$K15=""),"Missing Required Field",IF(COUNTIF('Trailer Availability'!$A$6:$A$505,$B15)=0,"Unknown Trailer ID",IF(AND($K15<>"Canceled",$E15=""),"Missing Planned Return",IF(AND($E15<>"",$D15>$E15),"Date Order Error",IF(AND($K15="Completed",$F15=""),"Actual Return Missing",IF(AND($F15<>"",$F15<$D15),"Actual Return Before Pickup",IF(AND($K15="Dispatched",$F15<>""),"Update Status to Completed",IF(AND(OR($K15="Reserved",$K15="Dispatched"),COUNTIFS('Booking Schedule'!$B$6:$B$505,$B15,'Booking Schedule'!$D$6:$D$505,"<="&$E15,'Booking Schedule'!$E$6:$E$505,">="&$D15,'Booking Schedule'!$K$6:$K$505,"Reserved")+COUNTIFS('Booking Schedule'!$B$6:$B$505,$B15,'Booking Schedule'!$D$6:$D$505,"<="&$E15,'Booking Schedule'!$E$6:$E$505,">="&$D15,'Booking Schedule'!$K$6:$K$505,"Dispatched")>1),"Overlap","OK"))))))))),"Check Row")
M16: =IFERROR(IF($A16="","",IF(OR($B16="",$D16="",$K16=""),"Missing Required Field",IF(COUNTIF('Trailer Availability'!$A$6:$A$505,$B16)=0,"Unknown Trailer ID",IF(AND($K16<>"Canceled",$E16=""),"Missing Planned Return",IF(AND($E16<>"",$D16>$E16),"Date Order Error",IF(AND($K16="Completed",$F16=""),"Actual Return Missing",IF(AND($F16<>"",$F16<$D16),"Actual Return Before Pickup",IF(AND($K16="Dispatched",$F16<>""),"Update Status to Completed",IF(AND(OR($K16="Reserved",$K16="Dispatched"),COUNTIFS('Booking Schedule'!$B$6:$B$505,$B16,'Booking Schedule'!$D$6:$D$505,"<="&$E16,'Booking Schedule'!$E$6:$E$505,">="&$D16,'Booking Schedule'!$K$6:$K$505,"Reserved")+COUNTIFS('Booking Schedule'!$B$6:$B$505,$B16,'Booking Schedule'!$D$6:$D$505,"<="&$E16,'Booking Schedule'!$E$6:$E$505,">="&$D16,'Booking Schedule'!$K$6:$K$505,"Dispatched")>1),"Overlap","OK"))))))))),"Check Row")
M17: =IFERROR(IF($A17="","",IF(OR($B17="",$D17="",$K17=""),"Missing Required Field",IF(COUNTIF('Trailer Availability'!$A$6:$A$505,$B17)=0,"Unknown Trailer ID",IF(AND($K17<>"Canceled",$E17=""),"Missing Planned Return",IF(AND($E17<>"",$D17>$E17),"Date Order Error",IF(AND($K17="Completed",$F17=""),"Actual Return Missing",IF(AND($F17<>"",$F17<$D17),"Actual Return Before Pickup",IF(AND($K17="Dispatched",$F17<>""),"Update Status to Completed",IF(AND(OR($K17="Reserved",$K17="Dispatched"),COUNTIFS('Booking Schedule'!$B$6:$B$505,$B17,'Booking Schedule'!$D$6:$D$505,"<="&$E17,'Booking Schedule'!$E$6:$E$505,">="&$D17,'Booking Schedule'!$K$6:$K$505,"Reserved")+COUNTIFS('Booking Schedule'!$B$6:$B$505,$B17,'Booking Schedule'!$D$6:$D$505,"<="&$E17,'Booking Schedule'!$E$6:$E$505,">="&$D17,'Booking Schedule'!$K$6:$K$505,"Dispatched")>1),"Overlap","OK"))))))))),"Check Row")
M18: =IFERROR(IF($A18="","",IF(OR($B18="",$D18="",$K18=""),"Missing Required Field",IF(COUNTIF('Trailer Availability'!$A$6:$A$505,$B18)=0,"Unknown Trailer ID",IF(AND($K18<>"Canceled",$E18=""),"Missing Planned Return",IF(AND($E18<>"",$D18>$E18),"Date Order Error",IF(AND($K18="Completed",$F18=""),"Actual Return Missing",IF(AND($F18<>"",$F18<$D18),"Actual Return Before Pickup",IF(AND($K18="Dispatched",$F18<>""),"Update Status to Completed",IF(AND(OR($K18="Reserved",$K18="Dispatched"),COUNTIFS('Booking Schedule'!$B$6:$B$505,$B18,'Booking Schedule'!$D$6:$D$505,"<="&$E18,'Booking Schedule'!$E$6:$E$505,">="&$D18,'Booking Schedule'!$K$6:$K$505,"Reserved")+COUNTIFS('Booking Schedule'!$B$6:$B$505,$B18,'Booking Schedule'!$D$6:$D$505,"<="&$E18,'Booking Schedule'!$E$6:$E$505,">="&$D18,'Booking Schedule'!$K$6:$K$505,"Dispatched")>1),"Overlap","OK"))))))))),"Check Row")
M19: =IFERROR(IF($A19="","",IF(OR($B19="",$D19="",$K19=""),"Missing Required Field",IF(COUNTIF('Trailer Availability'!$A$6:$A$505,$B19)=0,"Unknown Trailer ID",IF(AND($K19<>"Canceled",$E19=""),"Missing Planned Return",IF(AND($E19<>"",$D19>$E19),"Date Order Error",IF(AND($K19="Completed",$F19=""),"Actual Return Missing",IF(AND($F19<>"",$F19<$D19),"Actual Return Before Pickup",IF(AND($K19="Dispatched",$F19<>""),"Update Status to Completed",IF(AND(OR($K19="Reserved",$K19="Dispatched"),COUNTIFS('Booking Schedule'!$B$6:$B$505,$B19,'Booking Schedule'!$D$6:$D$505,"<="&$E19,'Booking Schedule'!$E$6:$E$505,">="&$D19,'Booking Schedule'!$K$6:$K$505,"Reserved")+COUNTIFS('Booking Schedule'!$B$6:$B$505,$B19,'Booking Schedule'!$D$6:$D$505,"<="&$E19,'Booking Schedule'!$E$6:$E$505,">="&$D19,'Booking Schedule'!$K$6:$K$505,"Dispatched")>1),"Overlap","OK"))))))))),"Check Row")
M20: =IFERROR(IF($A20="","",IF(OR($B20="",$D20="",$K20=""),"Missing Required Field",IF(COUNTIF('Trailer Availability'!$A$6:$A$505,$B20)=0,"Unknown Trailer ID",IF(AND($K20<>"Canceled",$E20=""),"Missing Planned Return",IF(AND($E20<>"",$D20>$E20),"Date Order Error",IF(AND($K20="Completed",$F20=""),"Actual Return Missing",IF(AND($F20<>"",$F20<$D20),"Actual Return Before Pickup",IF(AND($K20="Dispatched",$F20<>""),"Update Status to Completed",IF(AND(OR($K20="Reserved",$K20="Dispatched"),COUNTIFS('Booking Schedule'!$B$6:$B$505,$B20,'Booking Schedule'!$D$6:$D$505,"<="&$E20,'Booking Schedule'!$E$6:$E$505,">="&$D20,'Booking Schedule'!$K$6:$K$505,"Reserved")+COUNTIFS('Booking Schedule'!$B$6:$B$505,$B20,'Booking Schedule'!$D$6:$D$505,"<="&$E20,'Booking Schedule'!$E$6:$E$505,">="&$D20,'Booking Schedule'!$K$6:$K$505,"Dispatched")>1),"Overlap","OK"))))))))),"Check Row")
M21: =IFERROR(IF($A21="","",IF(OR($B21="",$D21="",$K21=""),"Missing Required Field",IF(COUNTIF('Trailer Availability'!$A$6:$A$505,$B21)=0,"Unknown Trailer ID",IF(AND($K21<>"Canceled",$E21=""),"Missing Planned Return",IF(AND($E21<>"",$D21>$E21),"Date Order Error",IF(AND($K21="Completed",$F21=""),"Actual Return Missing",IF(AND($F21<>"",$F21<$D21),"Actual Return Before Pickup",IF(AND($K21="Dispatched",$F21<>""),"Update Status to Completed",IF(AND(OR($K21="Reserved",$K21="Dispatched"),COUNTIFS('Booking Schedule'!$B$6:$B$505,$B21,'Booking Schedule'!$D$6:$D$505,"<="&$E21,'Booking Schedule'!$E$6:$E$505,">="&$D21,'Booking Schedule'!$K$6:$K$505,"Reserved")+COUNTIFS('Booking Schedule'!$B$6:$B$505,$B21,'Booking Schedule'!$D$6:$D$505,"<="&$E21,'Booking Schedule'!$E$6:$E$505,">="&$D21,'Booking Schedule'!$K$6:$K$505,"Dispatched")>1),"Overlap","OK"))))))))),"Check Row")
M22: =IFERROR(IF($A22="","",IF(OR($B22="",$D22="",$K22=""),"Missing Required Field",IF(COUNTIF('Trailer Availability'!$A$6:$A$505,$B22)=0,"Unknown Trailer ID",IF(AND($K22<>"Canceled",$E22=""),"Missing Planned Return",IF(AND($E22<>"",$D22>$E22),"Date Order Error",IF(AND($K22="Completed",$F22=""),"Actual Return Missing",IF(AND($F22<>"",$F22<$D22),"Actual Return Before Pickup",IF(AND($K22="Dispatched",$F22<>""),"Update Status to Completed",IF(AND(OR($K22="Reserved",$K22="Dispatched"),COUNTIFS('Booking Schedule'!$B$6:$B$505,$B22,'Booking Schedule'!$D$6:$D$505,"<="&$E22,'Booking Schedule'!$E$6:$E$505,">="&$D22,'Booking Schedule'!$K$6:$K$505,"Reserved")+COUNTIFS('Booking Schedule'!$B$6:$B$505,$B22,'Booking Schedule'!$D$6:$D$505,"<="&$E22,'Booking Schedule'!$E$6:$E$505,">="&$D22,'Booking Schedule'!$K$6:$K$505,"Dispatched")>1),"Overlap","OK"))))))))),"Check Row")
M23: =IFERROR(IF($A23="","",IF(OR($B23="",$D23="",$K23=""),"Missing Required Field",IF(COUNTIF('Trailer Availability'!$A$6:$A$505,$B23)=0,"Unknown Trailer ID",IF(AND($K23<>"Canceled",$E23=""),"Missing Planned Return",IF(AND($E23<>"",$D23>$E23),"Date Order Error",IF(AND($K23="Completed",$F23=""),"Actual Return Missing",IF(AND($F23<>"",$F23<$D23),"Actual Return Before Pickup",IF(AND($K23="Dispatched",$F23<>""),"Update Status to Completed",IF(AND(OR($K23="Reserved",$K23="Dispatched"),COUNTIFS('Booking Schedule'!$B$6:$B$505,$B23,'Booking Schedule'!$D$6:$D$505,"<="&$E23,'Booking Schedule'!$E$6:$E$505,">="&$D23,'Booking Schedule'!$K$6:$K$505,"Reserved")+COUNTIFS('Booking Schedule'!$B$6:$B$505,$B23,'Booking Schedule'!$D$6:$D$505,"<="&$E23,'Booking Schedule'!$E$6:$E$505,">="&$D23,'Booking Schedule'!$K$6:$K$505,"Dispatched")>1),"Overlap","OK"))))))))),"Check Row")
M24: =IFERROR(IF($A24="","",IF(OR($B24="",$D24="",$K24=""),"Missing Required Field",IF(COUNTIF('Trailer Availability'!$A$6:$A$505,$B24)=0,"Unknown Trailer ID",IF(AND($K24<>"Canceled",$E24=""),"Missing Planned Return",IF(AND($E24<>"",$D24>$E24),"Date Order Error",IF(AND($K24="Completed",$F24=""),"Actual Return Missing",IF(AND($F24<>"",$F24<$D24),"Actual Return Before Pickup",IF(AND($K24="Dispatched",$F24<>""),"Update Status to Completed",IF(AND(OR($K24="Reserved",$K24="Dispatched"),COUNTIFS('Booking Schedule'!$B$6:$B$505,$B24,'Booking Schedule'!$D$6:$D$505,"<="&$E24,'Booking Schedule'!$E$6:$E$505,">="&$D24,'Booking Schedule'!$K$6:$K$505,"Reserved")+COUNTIFS('Booking Schedule'!$B$6:$B$505,$B24,'Booking Schedule'!$D$6:$D$505,"<="&$E24,'Booking Schedule'!$E$6:$E$505,">="&$D24,'Booking Schedule'!$K$6:$K$505,"Dispatched")>1),"Overlap","OK"))))))))),"Check Row")
M25: =IFERROR(IF($A25="","",IF(OR($B25="",$D25="",$K25=""),"Missing Required Field",IF(COUNTIF('Trailer Availability'!$A$6:$A$505,$B25)=0,"Unknown Trailer ID",IF(AND($K25<>"Canceled",$E25=""),"Missing Planned Return",IF(AND($E25<>"",$D25>$E25),"Date Order Error",IF(AND($K25="Completed",$F25=""),"Actual Return Missing",IF(AND($F25<>"",$F25<$D25),"Actual Return Before Pickup",IF(AND($K25="Dispatched",$F25<>""),"Update Status to Completed",IF(AND(OR($K25="Reserved",$K25="Dispatched"),COUNTIFS('Booking Schedule'!$B$6:$B$505,$B25,'Booking Schedule'!$D$6:$D$505,"<="&$E25,'Booking Schedule'!$E$6:$E$505,">="&$D25,'Booking Schedule'!$K$6:$K$505,"Reserved")+COUNTIFS('Booking Schedule'!$B$6:$B$505,$B25,'Booking Schedule'!$D$6:$D$505,"<="&$E25,'Booking Schedule'!$E$6:$E$505,">="&$D25,'Booking Schedule'!$K$6:$K$505,"Dispatched")>1),"Overlap","OK"))))))))),"Check Row")
... M505: =IFERROR(IF($A505="","",IF(OR($B505="",$D505="",$K505=""),"Missing Required Field",IF(COUNTIF('Trailer Availability'!$A$6:$A$505,$B505)=0,"Unknown Trailer ID",IF(AND($K505<>"Canceled",$E505=""),"Missing Planned Return",IF(AND($E505<>"",$D505>$E505),"Date Order Error",IF(AND($K505="Completed",$F505=""),"Actual Return Missing",IF(AND($F505<>"",$F505<$D505),"Actual Return Before Pickup",IF(AND($K505="Dispatched",$F505<>""),"Update Status to Completed",IF(AND(OR($K505="Reserved",$K505="Dispatched"),COUNTIFS('Booking Schedule'!$B$6:$B$505,$B505,'Booking Schedule'!$D$6:$D$505,"<="&$E505,'Booking Schedule'!$E$6:$E$505,">="&$D505,'Booking Schedule'!$K$6:$K$505,"Reserved")+COUNTIFS('Booking Schedule'!$B$6:$B$505,$B505,'Booking Schedule'!$D$6:$D$505,"<="&$E505,'Booking Schedule'!$E$6:$E$505,">="&$D505,'Booking Schedule'!$K$6:$K$505,"Dispatched")>1),"Overlap","OK"))))))))),"Check Row")

Sheet Settings
A1: Settings
A2: Update yellow assumption cells to change the reporting date and planning windows.
A3: Assumption | B3: Value | C3: Purpose | D3: Trailer Types | E3: Operational Status | F3: Booking Status | G3: Home Terminals
A4: As of Date | B4: 46272 | C4: Date used for all dashboard and availability calculations | D4: Dry Van | E4: Ready | F4: Reserved | G4: Dallas
A5: Reservation Look-Ahead (Days) | B5: 7 | C5: Future window used to classify Reserved Soon | D5: Reefer | E5: Maintenance | F5: Dispatched | G5: Houston
A6: Upcoming Return Window (Days) | B6: 7 | C6: Future return window shown on Dashboard | D6: Flatbed | E6: Out of Service | F6: Completed | G6: Atlanta
A7: PM Due Soon Window (Days) | B7: 30 | C7: Number of days before PM is classified as Due Soon | D7: Step Deck | F7: Canceled | G7: Chicago
D8: Box Trailer | G8: Los Angeles
