Workbook

Sheet Dashboard
A1: Tractor Availability Dashboard
A2: Current tractor readiness and return-to-service outlook
A3: As of: | B3: =IFERROR('Settings'!$B$4,"") | E3: Dispatch-Ready Target: | F3: =IFERROR('Settings'!$B$9,0)
A5: Total Tractors | C5: Dispatch Ready | E5: Dispatch-Ready Rate | G5: Assigned / In Transit | I5: Maintenance / Out of Service
A6: =IFERROR(COUNTA('Tractor Availability'!$A$6:$A$505),0) | C6: =IFERROR(COUNTIF('Tractor Availability'!$V$6:$V$505,"Yes"),0) | E6: =IFERROR(C6/A6,0) | G6: =IFERROR(COUNTIF('Tractor Availability'!$H$6:$H$505,"Assigned")+COUNTIF('Tractor Availability'!$H$6:$H$505,"In Transit"),0) | I6: =IFERROR(COUNTIF('Tractor Availability'!$H$6:$H$505,"Maintenance")+COUNTIF('Tractor Availability'!$H$6:$H$505,"Out of Service"),0)
A9: Fleet Status Summary | E9: Availability Outlook | I9: Attention Needed
A10: Current Status | B10: Tractor Count | C10: Percent of Fleet | E10: Availability Window | F10: Tractor Count | G10: Percent of Fleet | I10: Issue | J10: Count
A11: Available | B11: =IFERROR(COUNTIF('Tractor Availability'!$H$6:$H$505,A11),0) | C11: =IFERROR(B11/$A$6,0) | E11: Available Now | F11: =IFERROR(COUNTIF('Tractor Availability'!$W$6:$W$505,E11),0) | G11: =IFERROR(F11/$A$6,0) | I11: Overdue PM | J11: =IFERROR(COUNTIF('Tractor Availability'!$U$6:$U$505,"Overdue"),0)
A12: Assigned | B12: =IFERROR(COUNTIF('Tractor Availability'!$H$6:$H$505,A12),0) | C12: =IFERROR(B12/$A$6,0) | E12: Within 24 Hours | F12: =IFERROR(COUNTIF('Tractor Availability'!$W$6:$W$505,E12),0) | G12: =IFERROR(F12/$A$6,0) | I12: PM Due Soon | J12: =IFERROR(COUNTIF('Tractor Availability'!$U$6:$U$505,"Due Soon"),0)
A13: In Transit | B13: =IFERROR(COUNTIF('Tractor Availability'!$H$6:$H$505,A13),0) | C13: =IFERROR(B13/$A$6,0) | E13: 2–3 Days | F13: =IFERROR(COUNTIF('Tractor Availability'!$W$6:$W$505,E13),0) | G13: =IFERROR(F13/$A$6,0) | I13: Past Due ETA | J13: =IFERROR(COUNTIF('Tractor Availability'!$W$6:$W$505,"Past Due ETA"),0)
A14: Maintenance | B14: =IFERROR(COUNTIF('Tractor Availability'!$H$6:$H$505,A14),0) | C14: =IFERROR(B14/$A$6,0) | E14: 4–7 Days | F14: =IFERROR(COUNTIF('Tractor Availability'!$W$6:$W$505,E14),0) | G14: =IFERROR(F14/$A$6,0) | I14: No ETA | J14: =IFERROR(COUNTIF('Tractor Availability'!$W$6:$W$505,"No ETA"),0)
A15: Out of Service | B15: =IFERROR(COUNTIF('Tractor Availability'!$H$6:$H$505,A15),0) | C15: =IFERROR(B15/$A$6,0) | E15: More Than 7 Days | F15: =IFERROR(COUNTIF('Tractor Availability'!$W$6:$W$505,E15),0) | G15: =IFERROR(F15/$A$6,0) | I15: Safety Holds | J15: =IFERROR(COUNTIF('Tractor Availability'!$P$6:$P$505,"Yes"),0)
A16: Reserved | B16: =IFERROR(COUNTIF('Tractor Availability'!$H$6:$H$505,A16),0) | C16: =IFERROR(B16/$A$6,0) | E16: Past Due ETA | F16: =IFERROR(COUNTIF('Tractor Availability'!$W$6:$W$505,E16),0) | G16: =IFERROR(F16/$A$6,0) | I16: Low Fuel - Available | J16: =IFERROR(COUNTIFS('Tractor Availability'!$H$6:$H$505,"Available",'Tractor Availability'!$M$6:$M$505,"<"&'Settings'!$B$7),0)
A17: Total | B17: =IFERROR(SUM(B11:B16),0) | C17: =IFERROR(B17/$A$6,0) | E17: No ETA | F17: =IFERROR(COUNTIF('Tractor Availability'!$W$6:$W$505,E17),0) | G17: =IFERROR(F17/$A$6,0) | I17: Stale Updates | J17: =IFERROR(COUNTIFS('Tractor Availability'!$A$6:$A$505,"<>",'Tractor Availability'!$R$6:$R$505,"<>",'Tractor Availability'!$R$6:$R$505,"<"&'Settings'!$B$4-'Settings'!$B$8),0)
F18: ="" | G18: ="" | I18: Data Check Exceptions | J18: =IFERROR(COUNTIFS('Tractor Availability'!$A$6:$A$505,"<>",'Tractor Availability'!$X$6:$X$505,"<>OK"),0)
F19: ="" | G19: ="" | J19: =""
A20: Availability by Home Terminal | F20: ="" | G20: ="" | J20: =""
A21: Home Terminal | B21: Total | C21: Dispatch Ready | D21: Ready Rate | F21: ="" | G21: ="" | J21: =""
A22: =IFERROR('Settings'!$E$4,"") | B22: =IFERROR(COUNTIF('Tractor Availability'!$F$6:$F$505,A22),0) | C22: =IFERROR(COUNTIFS('Tractor Availability'!$F$6:$F$505,A22,'Tractor Availability'!$V$6:$V$505,"Yes"),0) | D22: =IFERROR(C22/B22,0) | F22: ="" | G22: ="" | J22: =""
A23: =IFERROR('Settings'!$E$5,"") | B23: =IFERROR(COUNTIF('Tractor Availability'!$F$6:$F$505,A23),0) | C23: =IFERROR(COUNTIFS('Tractor Availability'!$F$6:$F$505,A23,'Tractor Availability'!$V$6:$V$505,"Yes"),0) | D23: =IFERROR(C23/B23,0) | F23: ="" | G23: ="" | J23: =""
A24: =IFERROR('Settings'!$E$6,"") | B24: =IFERROR(COUNTIF('Tractor Availability'!$F$6:$F$505,A24),0) | C24: =IFERROR(COUNTIFS('Tractor Availability'!$F$6:$F$505,A24,'Tractor Availability'!$V$6:$V$505,"Yes"),0) | D24: =IFERROR(C24/B24,0) | F24: ="" | G24: ="" | J24: =""
A25: =IFERROR('Settings'!$E$7,"") | B25: =IFERROR(COUNTIF('Tractor Availability'!$F$6:$F$505,A25),0) | C25: =IFERROR(COUNTIFS('Tractor Availability'!$F$6:$F$505,A25,'Tractor Availability'!$V$6:$V$505,"Yes"),0) | D25: =IFERROR(C25/B25,0) | F25: ="" | G25: ="" | J25: =""
A26: =IFERROR('Settings'!$E$8,"") | B26: =IFERROR(COUNTIF('Tractor Availability'!$F$6:$F$505,A26),0) | C26: =IFERROR(COUNTIFS('Tractor Availability'!$F$6:$F$505,A26,'Tractor Availability'!$V$6:$V$505,"Yes"),0) | D26: =IFERROR(C26/B26,0) | F26: ="" | G26: ="" | J26: =""
A27: ="" | B27: ="" | C27: ="" | D27: ="" | F27: ="" | G27: ="" | J27: =""
A28: ="" | B28: ="" | C28: ="" | D28: ="" | F28: ="" | G28: ="" | J28: =""
A29: ="" | B29: ="" | C29: ="" | D29: ="" | F29: ="" | G29: ="" | J29: =""
A30: ="" | B30: ="" | C30: ="" | D30: ="" | F30: ="" | G30: ="" | J30: =""
A31: ="" | B31: ="" | C31: ="" | D31: ="" | F31: ="" | G31: ="" | J31: =""
A32: ="" | B32: ="" | C32: ="" | D32: ="" | F32: ="" | G32: ="" | J32: =""
A33: ="" | B33: ="" | C33: ="" | D33: ="" | F33: ="" | G33: ="" | J33: =""
A34: ="" | B34: ="" | C34: ="" | D34: ="" | F34: ="" | G34: ="" | J34: =""
A35: Update yellow input cells on Tractor Availability and orange assumption cells on Settings. Dashboard results recalculate from the current fleet snapshot. | B35: ="" | C35: ="" | D35: ="" | F35: ="" | G35: ="" | J35: =""
A36: ="" | B36: ="" | C36: ="" | D36: ="" | F36: ="" | G36: ="" | J36: =""
A37: ="" | B37: ="" | C37: ="" | D37: ="" | F37: ="" | G37: ="" | J37: =""
A38: ="" | B38: ="" | C38: ="" | D38: ="" | F38: ="" | G38: ="" | J38: =""
A39: ="" | B39: ="" | C39: ="" | D39: ="" | F39: ="" | G39: ="" | J39: =""
A40: ="" | B40: ="" | C40: ="" | D40: ="" | F40: ="" | G40: ="" | J40: =""
A41: ="" | B41: ="" | C41: ="" | D41: ="" | F41: ="" | G41: ="" | J41: =""
A42: ="" | B42: ="" | C42: ="" | D42: ="" | F42: ="" | G42: ="" | J42: =""
A43: ="" | B43: ="" | C43: ="" | D43: ="" | F43: ="" | G43: ="" | J43: =""
A44: ="" | B44: ="" | C44: ="" | D44: ="" | F44: ="" | G44: ="" | J44: =""
A45: ="" | B45: ="" | C45: ="" | D45: ="" | F45: ="" | G45: ="" | J45: =""
A46: ="" | B46: ="" | C46: ="" | D46: ="" | F46: ="" | G46: ="" | J46: =""
A47: ="" | B47: ="" | C47: ="" | D47: ="" | F47: ="" | G47: ="" | J47: =""
... A101: ="" | B101: ="" | C101: ="" | D101: ="" | F101: ="" | G101: ="" | J101: =""

Sheet Tractor Availability
A1: Tractor Availability
A2: Enter one current row per tractor. Yellow cells are user inputs; gray cells are calculated. Update status, expected availability, fuel, holds, and last-updated time whenever the operating condition changes.
A3: Input | C3: Calculated | E3: Prepared Rows | F3: 6 through 505
A5: Unit ID | B5: Year | C5: Make | D5: Model | E5: VIN Last 8 | F5: Home Terminal | G5: Current Location | H5: Current Status | I5: Assigned Driver | J5: Load / Route | K5: Expected Available | L5: Odometer | M5: Fuel Level | N5: Next PM Due Miles | O5: Next PM Due Date | P5: Safety Hold? | Q5: Open Issue / Hold Reason | R5: Last Updated | S5: Miles to PM | T5: Days Until Available | U5: PM Status | V5: Dispatch Ready? | W5: Availability Bucket | X5: Data Check
A6: T-101 | B6: 2022 | C6: Freightliner | D6: Cascadia | E6: NJ421087 | F6: Dallas | G6: Dallas Yard | H6: Available | K6: 46272.333 | L6: 312450 | M6: 0.68 | N6: 314000 | O6: 46285 | P6: No | R6: 46272.302 | S6: =IFERROR(IF($A6="","",IF(OR($L6="",$N6=""),"",$N6-$L6)),"") | T6: =IFERROR(IF($A6="","",IF($H6="Available",0,IF($K6="","",MAX(0,$K6-'Settings'!$B$4)))),"") | U6: =IFERROR(IF($A6="","",IF(OR($S6="",$O6=""),"Missing PM Data",IF(OR($S6<=0,$O6<INT('Settings'!$B$4)),"Overdue",IF(OR($S6<='Settings'!$B$5,$O6<=INT('Settings'!$B$4)+'Settings'!$B$6),"Due Soon","OK")))),"Check PM Data") | V6: =IFERROR(IF($A6="","",IF(AND($H6="Available",$P6="No",$M6>='Settings'!$B$7,OR($U6="OK",$U6="Due Soon")),"Yes","No")),"No") | W6: =IFERROR(IF($A6="","",IF($H6="Available","Available Now",IF($K6="","No ETA",IF($K6<'Settings'!$B$4,"Past Due ETA",IF($K6<='Settings'!$B$4+1,"Within 24 Hours",IF($K6<='Settings'!$B$4+3,"2–3 Days",IF($K6<='Settings'!$B$4+7,"4–7 Days","More Than 7 Days"))))))),"Check ETA") | X6: =IFERROR(IF($A6="","",IF(COUNTIF('Tractor Availability'!$A$6:$A$505,$A6)>1,"Duplicate Unit ID",IF($H6="","Missing status",IF($M6="","Missing fuel level",IF(AND($H6<>"Available",$K6=""),"Missing ETA",IF(AND($P6="Yes",$Q6=""),"Missing hold reason",IF($R6="","Missing update time",IF('Settings'!$B$4-$R6>'Settings'!$B$8,"Stale update",IF(AND($H6="Available",$P6="Yes"),"Available with safety hold","OK"))))))))),"Formula Error")
A7: T-102 | B7: 2021 | C7: Kenworth | D7: T680 | E7: MJ883214 | F7: Dallas | G7: Houston Customer | H7: Assigned | I7: Maria Lopez | J7: DFW-HOU-442 | K7: 46273.708 | L7: 428900 | M7: 0.52 | N7: 430000 | O7: 46277 | P7: No | R7: 46272.319 | S7: =IFERROR(IF($A7="","",IF(OR($L7="",$N7=""),"",$N7-$L7)),"") | T7: =IFERROR(IF($A7="","",IF($H7="Available",0,IF($K7="","",MAX(0,$K7-'Settings'!$B$4)))),"") | U7: =IFERROR(IF($A7="","",IF(OR($S7="",$O7=""),"Missing PM Data",IF(OR($S7<=0,$O7<INT('Settings'!$B$4)),"Overdue",IF(OR($S7<='Settings'!$B$5,$O7<=INT('Settings'!$B$4)+'Settings'!$B$6),"Due Soon","OK")))),"Check PM Data") | V7: =IFERROR(IF($A7="","",IF(AND($H7="Available",$P7="No",$M7>='Settings'!$B$7,OR($U7="OK",$U7="Due Soon")),"Yes","No")),"No") | W7: =IFERROR(IF($A7="","",IF($H7="Available","Available Now",IF($K7="","No ETA",IF($K7<'Settings'!$B$4,"Past Due ETA",IF($K7<='Settings'!$B$4+1,"Within 24 Hours",IF($K7<='Settings'!$B$4+3,"2–3 Days",IF($K7<='Settings'!$B$4+7,"4–7 Days","More Than 7 Days"))))))),"Check ETA") | X7: =IFERROR(IF($A7="","",IF(COUNTIF('Tractor Availability'!$A$6:$A$505,$A7)>1,"Duplicate Unit ID",IF($H7="","Missing status",IF($M7="","Missing fuel level",IF(AND($H7<>"Available",$K7=""),"Missing ETA",IF(AND($P7="Yes",$Q7=""),"Missing hold reason",IF($R7="","Missing update time",IF('Settings'!$B$4-$R7>'Settings'!$B$8,"Stale update",IF(AND($H7="Available",$P7="Yes"),"Available with safety hold","OK"))))))))),"Formula Error")
A8: T-103 | B8: 2020 | C8: Peterbilt | D8: 579 | E8: LJ719405 | F8: Atlanta | G8: Atlanta Service Bay | H8: Maintenance | K8: 46275.5 | L8: 501240 | M8: 0.47 | N8: 500000 | O8: 46267 | P8: Yes | Q8: Brake chamber replacement | R8: 46272.295 | S8: =IFERROR(IF($A8="","",IF(OR($L8="",$N8=""),"",$N8-$L8)),"") | T8: =IFERROR(IF($A8="","",IF($H8="Available",0,IF($K8="","",MAX(0,$K8-'Settings'!$B$4)))),"") | U8: =IFERROR(IF($A8="","",IF(OR($S8="",$O8=""),"Missing PM Data",IF(OR($S8<=0,$O8<INT('Settings'!$B$4)),"Overdue",IF(OR($S8<='Settings'!$B$5,$O8<=INT('Settings'!$B$4)+'Settings'!$B$6),"Due Soon","OK")))),"Check PM Data") | V8: =IFERROR(IF($A8="","",IF(AND($H8="Available",$P8="No",$M8>='Settings'!$B$7,OR($U8="OK",$U8="Due Soon")),"Yes","No")),"No") | W8: =IFERROR(IF($A8="","",IF($H8="Available","Available Now",IF($K8="","No ETA",IF($K8<'Settings'!$B$4,"Past Due ETA",IF($K8<='Settings'!$B$4+1,"Within 24 Hours",IF($K8<='Settings'!$B$4+3,"2–3 Days",IF($K8<='Settings'!$B$4+7,"4–7 Days","More Than 7 Days"))))))),"Check ETA") | X8: =IFERROR(IF($A8="","",IF(COUNTIF('Tractor Availability'!$A$6:$A$505,$A8)>1,"Duplicate Unit ID",IF($H8="","Missing status",IF($M8="","Missing fuel level",IF(AND($H8<>"Available",$K8=""),"Missing ETA",IF(AND($P8="Yes",$Q8=""),"Missing hold reason",IF($R8="","Missing update time",IF('Settings'!$B$4-$R8>'Settings'!$B$8,"Stale update",IF(AND($H8="Available",$P8="Yes"),"Available with safety hold","OK"))))))))),"Formula Error")
A9: T-104 | B9: 2023 | C9: Volvo | D9: VNL 760 | E9: PN560118 | F9: Chicago | G9: I-55 near Springfield, IL | H9: In Transit | I9: James Carter | J9: CHI-STL-118 | K9: 46273.333 | L9: 188760 | M9: 0.61 | N9: 192000 | O9: 46297 | P9: No | R9: 46272.285 | S9: =IFERROR(IF($A9="","",IF(OR($L9="",$N9=""),"",$N9-$L9)),"") | T9: =IFERROR(IF($A9="","",IF($H9="Available",0,IF($K9="","",MAX(0,$K9-'Settings'!$B$4)))),"") | U9: =IFERROR(IF($A9="","",IF(OR($S9="",$O9=""),"Missing PM Data",IF(OR($S9<=0,$O9<INT('Settings'!$B$4)),"Overdue",IF(OR($S9<='Settings'!$B$5,$O9<=INT('Settings'!$B$4)+'Settings'!$B$6),"Due Soon","OK")))),"Check PM Data") | V9: =IFERROR(IF($A9="","",IF(AND($H9="Available",$P9="No",$M9>='Settings'!$B$7,OR($U9="OK",$U9="Due Soon")),"Yes","No")),"No") | W9: =IFERROR(IF($A9="","",IF($H9="Available","Available Now",IF($K9="","No ETA",IF($K9<'Settings'!$B$4,"Past Due ETA",IF($K9<='Settings'!$B$4+1,"Within 24 Hours",IF($K9<='Settings'!$B$4+3,"2–3 Days",IF($K9<='Settings'!$B$4+7,"4–7 Days","More Than 7 Days"))))))),"Check ETA") | X9: =IFERROR(IF($A9="","",IF(COUNTIF('Tractor Availability'!$A$6:$A$505,$A9)>1,"Duplicate Unit ID",IF($H9="","Missing status",IF($M9="","Missing fuel level",IF(AND($H9<>"Available",$K9=""),"Missing ETA",IF(AND($P9="Yes",$Q9=""),"Missing hold reason",IF($R9="","Missing update time",IF('Settings'!$B$4-$R9>'Settings'!$B$8,"Stale update",IF(AND($H9="Available",$P9="Yes"),"Available with safety hold","OK"))))))))),"Formula Error")
A10: T-105 | B10: 2019 | C10: International | D10: LT | E10: KS440932 | F10: Phoenix | G10: Phoenix Dealer | H10: Out of Service | L10: 612430 | M10: 0.34 | N10: 613000 | O10: 46279 | P10: Yes | Q10: DPF fault; diagnosis pending | R10: 46268.625 | S10: =IFERROR(IF($A10="","",IF(OR($L10="",$N10=""),"",$N10-$L10)),"") | T10: =IFERROR(IF($A10="","",IF($H10="Available",0,IF($K10="","",MAX(0,$K10-'Settings'!$B$4)))),"") | U10: =IFERROR(IF($A10="","",IF(OR($S10="",$O10=""),"Missing PM Data",IF(OR($S10<=0,$O10<INT('Settings'!$B$4)),"Overdue",IF(OR($S10<='Settings'!$B$5,$O10<=INT('Settings'!$B$4)+'Settings'!$B$6),"Due Soon","OK")))),"Check PM Data") | V10: =IFERROR(IF($A10="","",IF(AND($H10="Available",$P10="No",$M10>='Settings'!$B$7,OR($U10="OK",$U10="Due Soon")),"Yes","No")),"No") | W10: =IFERROR(IF($A10="","",IF($H10="Available","Available Now",IF($K10="","No ETA",IF($K10<'Settings'!$B$4,"Past Due ETA",IF($K10<='Settings'!$B$4+1,"Within 24 Hours",IF($K10<='Settings'!$B$4+3,"2–3 Days",IF($K10<='Settings'!$B$4+7,"4–7 Days","More Than 7 Days"))))))),"Check ETA") | X10: =IFERROR(IF($A10="","",IF(COUNTIF('Tractor Availability'!$A$6:$A$505,$A10)>1,"Duplicate Unit ID",IF($H10="","Missing status",IF($M10="","Missing fuel level",IF(AND($H10<>"Available",$K10=""),"Missing ETA",IF(AND($P10="Yes",$Q10=""),"Missing hold reason",IF($R10="","Missing update time",IF('Settings'!$B$4-$R10>'Settings'!$B$8,"Stale update",IF(AND($H10="Available",$P10="Yes"),"Available with safety hold","OK"))))))))),"Formula Error")
A11: T-106 | B11: 2022 | C11: Freightliner | D11: Cascadia | E11: NN210664 | F11: Atlanta | G11: Atlanta Yard | H11: Available | K11: 46272.333 | L11: 276110 | M11: 0.18 | N11: 280000 | O11: 46292 | P11: No | Q11: Needs fuel before dispatch | R11: 46272.312 | S11: =IFERROR(IF($A11="","",IF(OR($L11="",$N11=""),"",$N11-$L11)),"") | T11: =IFERROR(IF($A11="","",IF($H11="Available",0,IF($K11="","",MAX(0,$K11-'Settings'!$B$4)))),"") | U11: =IFERROR(IF($A11="","",IF(OR($S11="",$O11=""),"Missing PM Data",IF(OR($S11<=0,$O11<INT('Settings'!$B$4)),"Overdue",IF(OR($S11<='Settings'!$B$5,$O11<=INT('Settings'!$B$4)+'Settings'!$B$6),"Due Soon","OK")))),"Check PM Data") | V11: =IFERROR(IF($A11="","",IF(AND($H11="Available",$P11="No",$M11>='Settings'!$B$7,OR($U11="OK",$U11="Due Soon")),"Yes","No")),"No") | W11: =IFERROR(IF($A11="","",IF($H11="Available","Available Now",IF($K11="","No ETA",IF($K11<'Settings'!$B$4,"Past Due ETA",IF($K11<='Settings'!$B$4+1,"Within 24 Hours",IF($K11<='Settings'!$B$4+3,"2–3 Days",IF($K11<='Settings'!$B$4+7,"4–7 Days","More Than 7 Days"))))))),"Check ETA") | X11: =IFERROR(IF($A11="","",IF(COUNTIF('Tractor Availability'!$A$6:$A$505,$A11)>1,"Duplicate Unit ID",IF($H11="","Missing status",IF($M11="","Missing fuel level",IF(AND($H11<>"Available",$K11=""),"Missing ETA",IF(AND($P11="Yes",$Q11=""),"Missing hold reason",IF($R11="","Missing update time",IF('Settings'!$B$4-$R11>'Settings'!$B$8,"Stale update",IF(AND($H11="Available",$P11="Yes"),"Available with safety hold","OK"))))))))),"Formula Error")
A12: T-107 | B12: 2021 | C12: Mack | D12: Anthem | E12: MS781522 | F12: Chicago | G12: Chicago Yard | H12: Reserved | I12: Derrick Wilson | J12: CHI-MSP-731 | K12: 46272.312 | L12: 355200 | M12: 0.58 | N12: 356000 | O12: 46275 | P12: No | Q12: Reserved handoff is late | R12: 46272.281 | S12: =IFERROR(IF($A12="","",IF(OR($L12="",$N12=""),"",$N12-$L12)),"") | T12: =IFERROR(IF($A12="","",IF($H12="Available",0,IF($K12="","",MAX(0,$K12-'Settings'!$B$4)))),"") | U12: =IFERROR(IF($A12="","",IF(OR($S12="",$O12=""),"Missing PM Data",IF(OR($S12<=0,$O12<INT('Settings'!$B$4)),"Overdue",IF(OR($S12<='Settings'!$B$5,$O12<=INT('Settings'!$B$4)+'Settings'!$B$6),"Due Soon","OK")))),"Check PM Data") | V12: =IFERROR(IF($A12="","",IF(AND($H12="Available",$P12="No",$M12>='Settings'!$B$7,OR($U12="OK",$U12="Due Soon")),"Yes","No")),"No") | W12: =IFERROR(IF($A12="","",IF($H12="Available","Available Now",IF($K12="","No ETA",IF($K12<'Settings'!$B$4,"Past Due ETA",IF($K12<='Settings'!$B$4+1,"Within 24 Hours",IF($K12<='Settings'!$B$4+3,"2–3 Days",IF($K12<='Settings'!$B$4+7,"4–7 Days","More Than 7 Days"))))))),"Check ETA") | X12: =IFERROR(IF($A12="","",IF(COUNTIF('Tractor Availability'!$A$6:$A$505,$A12)>1,"Duplicate Unit ID",IF($H12="","Missing status",IF($M12="","Missing fuel level",IF(AND($H12<>"Available",$K12=""),"Missing ETA",IF(AND($P12="Yes",$Q12=""),"Missing hold reason",IF($R12="","Missing update time",IF('Settings'!$B$4-$R12>'Settings'!$B$8,"Stale update",IF(AND($H12="Available",$P12="Yes"),"Available with safety hold","OK"))))))))),"Formula Error")
A13: T-108 | B13: 2024 | C13: Kenworth | D13: T680 | E13: RN903177 | F13: Dallas | G13: Dallas Yard | H13: Available | K13: 46272.333 | L13: 91450 | M13: 0.82 | N13: 100000 | O13: 46328 | P13: No | R13: 46272.33 | S13: =IFERROR(IF($A13="","",IF(OR($L13="",$N13=""),"",$N13-$L13)),"") | T13: =IFERROR(IF($A13="","",IF($H13="Available",0,IF($K13="","",MAX(0,$K13-'Settings'!$B$4)))),"") | U13: =IFERROR(IF($A13="","",IF(OR($S13="",$O13=""),"Missing PM Data",IF(OR($S13<=0,$O13<INT('Settings'!$B$4)),"Overdue",IF(OR($S13<='Settings'!$B$5,$O13<=INT('Settings'!$B$4)+'Settings'!$B$6),"Due Soon","OK")))),"Check PM Data") | V13: =IFERROR(IF($A13="","",IF(AND($H13="Available",$P13="No",$M13>='Settings'!$B$7,OR($U13="OK",$U13="Due Soon")),"Yes","No")),"No") | W13: =IFERROR(IF($A13="","",IF($H13="Available","Available Now",IF($K13="","No ETA",IF($K13<'Settings'!$B$4,"Past Due ETA",IF($K13<='Settings'!$B$4+1,"Within 24 Hours",IF($K13<='Settings'!$B$4+3,"2–3 Days",IF($K13<='Settings'!$B$4+7,"4–7 Days","More Than 7 Days"))))))),"Check ETA") | X13: =IFERROR(IF($A13="","",IF(COUNTIF('Tractor Availability'!$A$6:$A$505,$A13)>1,"Duplicate Unit ID",IF($H13="","Missing status",IF($M13="","Missing fuel level",IF(AND($H13<>"Available",$K13=""),"Missing ETA",IF(AND($P13="Yes",$Q13=""),"Missing hold reason",IF($R13="","Missing update time",IF('Settings'!$B$4-$R13>'Settings'!$B$8,"Stale update",IF(AND($H13="Available",$P13="Yes"),"Available with safety hold","OK"))))))))),"Formula Error")
A14: T-109 | B14: 2020 | C14: Volvo | D14: VNL 760 | E14: LN622845 | F14: Phoenix | G14: Phoenix Tire Shop | H14: Maintenance | K14: 46274.667 | L14: 467880 | M14: 0.41 | N14: 469000 | O14: 46282 | P14: Yes | Q14: Steer tire replacement | R14: 46272.299 | S14: =IFERROR(IF($A14="","",IF(OR($L14="",$N14=""),"",$N14-$L14)),"") | T14: =IFERROR(IF($A14="","",IF($H14="Available",0,IF($K14="","",MAX(0,$K14-'Settings'!$B$4)))),"") | U14: =IFERROR(IF($A14="","",IF(OR($S14="",$O14=""),"Missing PM Data",IF(OR($S14<=0,$O14<INT('Settings'!$B$4)),"Overdue",IF(OR($S14<='Settings'!$B$5,$O14<=INT('Settings'!$B$4)+'Settings'!$B$6),"Due Soon","OK")))),"Check PM Data") | V14: =IFERROR(IF($A14="","",IF(AND($H14="Available",$P14="No",$M14>='Settings'!$B$7,OR($U14="OK",$U14="Due Soon")),"Yes","No")),"No") | W14: =IFERROR(IF($A14="","",IF($H14="Available","Available Now",IF($K14="","No ETA",IF($K14<'Settings'!$B$4,"Past Due ETA",IF($K14<='Settings'!$B$4+1,"Within 24 Hours",IF($K14<='Settings'!$B$4+3,"2–3 Days",IF($K14<='Settings'!$B$4+7,"4–7 Days","More Than 7 Days"))))))),"Check ETA") | X14: =IFERROR(IF($A14="","",IF(COUNTIF('Tractor Availability'!$A$6:$A$505,$A14)>1,"Duplicate Unit ID",IF($H14="","Missing status",IF($M14="","Missing fuel level",IF(AND($H14<>"Available",$K14=""),"Missing ETA",IF(AND($P14="Yes",$Q14=""),"Missing hold reason",IF($R14="","Missing update time",IF('Settings'!$B$4-$R14>'Settings'!$B$8,"Stale update",IF(AND($H14="Available",$P14="Yes"),"Available with safety hold","OK"))))))))),"Formula Error")
A15: T-110 | B15: 2023 | C15: Peterbilt | D15: 579 | E15: PD114906 | F15: Atlanta | G15: I-85 near Charlotte, NC | H15: In Transit | I15: Alicia Brown | J15: ATL-RIC-294 | K15: 46281.375 | L15: 221340 | M15: 0.66 | N15: 224000 | O15: 46287 | P15: No | Q15: Extended customer hold | R15: 46272.271 | S15: =IFERROR(IF($A15="","",IF(OR($L15="",$N15=""),"",$N15-$L15)),"") | T15: =IFERROR(IF($A15="","",IF($H15="Available",0,IF($K15="","",MAX(0,$K15-'Settings'!$B$4)))),"") | U15: =IFERROR(IF($A15="","",IF(OR($S15="",$O15=""),"Missing PM Data",IF(OR($S15<=0,$O15<INT('Settings'!$B$4)),"Overdue",IF(OR($S15<='Settings'!$B$5,$O15<=INT('Settings'!$B$4)+'Settings'!$B$6),"Due Soon","OK")))),"Check PM Data") | V15: =IFERROR(IF($A15="","",IF(AND($H15="Available",$P15="No",$M15>='Settings'!$B$7,OR($U15="OK",$U15="Due Soon")),"Yes","No")),"No") | W15: =IFERROR(IF($A15="","",IF($H15="Available","Available Now",IF($K15="","No ETA",IF($K15<'Settings'!$B$4,"Past Due ETA",IF($K15<='Settings'!$B$4+1,"Within 24 Hours",IF($K15<='Settings'!$B$4+3,"2–3 Days",IF($K15<='Settings'!$B$4+7,"4–7 Days","More Than 7 Days"))))))),"Check ETA") | X15: =IFERROR(IF($A15="","",IF(COUNTIF('Tractor Availability'!$A$6:$A$505,$A15)>1,"Duplicate Unit ID",IF($H15="","Missing status",IF($M15="","Missing fuel level",IF(AND($H15<>"Available",$K15=""),"Missing ETA",IF(AND($P15="Yes",$Q15=""),"Missing hold reason",IF($R15="","Missing update time",IF('Settings'!$B$4-$R15>'Settings'!$B$8,"Stale update",IF(AND($H15="Available",$P15="Yes"),"Available with safety hold","OK"))))))))),"Formula Error")
S16: =IFERROR(IF($A16="","",IF(OR($L16="",$N16=""),"",$N16-$L16)),"") | T16: =IFERROR(IF($A16="","",IF($H16="Available",0,IF($K16="","",MAX(0,$K16-'Settings'!$B$4)))),"") | U16: =IFERROR(IF($A16="","",IF(OR($S16="",$O16=""),"Missing PM Data",IF(OR($S16<=0,$O16<INT('Settings'!$B$4)),"Overdue",IF(OR($S16<='Settings'!$B$5,$O16<=INT('Settings'!$B$4)+'Settings'!$B$6),"Due Soon","OK")))),"Check PM Data") | V16: =IFERROR(IF($A16="","",IF(AND($H16="Available",$P16="No",$M16>='Settings'!$B$7,OR($U16="OK",$U16="Due Soon")),"Yes","No")),"No") | W16: =IFERROR(IF($A16="","",IF($H16="Available","Available Now",IF($K16="","No ETA",IF($K16<'Settings'!$B$4,"Past Due ETA",IF($K16<='Settings'!$B$4+1,"Within 24 Hours",IF($K16<='Settings'!$B$4+3,"2–3 Days",IF($K16<='Settings'!$B$4+7,"4–7 Days","More Than 7 Days"))))))),"Check ETA") | X16: =IFERROR(IF($A16="","",IF(COUNTIF('Tractor Availability'!$A$6:$A$505,$A16)>1,"Duplicate Unit ID",IF($H16="","Missing status",IF($M16="","Missing fuel level",IF(AND($H16<>"Available",$K16=""),"Missing ETA",IF(AND($P16="Yes",$Q16=""),"Missing hold reason",IF($R16="","Missing update time",IF('Settings'!$B$4-$R16>'Settings'!$B$8,"Stale update",IF(AND($H16="Available",$P16="Yes"),"Available with safety hold","OK"))))))))),"Formula Error")
S17: =IFERROR(IF($A17="","",IF(OR($L17="",$N17=""),"",$N17-$L17)),"") | T17: =IFERROR(IF($A17="","",IF($H17="Available",0,IF($K17="","",MAX(0,$K17-'Settings'!$B$4)))),"") | U17: =IFERROR(IF($A17="","",IF(OR($S17="",$O17=""),"Missing PM Data",IF(OR($S17<=0,$O17<INT('Settings'!$B$4)),"Overdue",IF(OR($S17<='Settings'!$B$5,$O17<=INT('Settings'!$B$4)+'Settings'!$B$6),"Due Soon","OK")))),"Check PM Data") | V17: =IFERROR(IF($A17="","",IF(AND($H17="Available",$P17="No",$M17>='Settings'!$B$7,OR($U17="OK",$U17="Due Soon")),"Yes","No")),"No") | W17: =IFERROR(IF($A17="","",IF($H17="Available","Available Now",IF($K17="","No ETA",IF($K17<'Settings'!$B$4,"Past Due ETA",IF($K17<='Settings'!$B$4+1,"Within 24 Hours",IF($K17<='Settings'!$B$4+3,"2–3 Days",IF($K17<='Settings'!$B$4+7,"4–7 Days","More Than 7 Days"))))))),"Check ETA") | X17: =IFERROR(IF($A17="","",IF(COUNTIF('Tractor Availability'!$A$6:$A$505,$A17)>1,"Duplicate Unit ID",IF($H17="","Missing status",IF($M17="","Missing fuel level",IF(AND($H17<>"Available",$K17=""),"Missing ETA",IF(AND($P17="Yes",$Q17=""),"Missing hold reason",IF($R17="","Missing update time",IF('Settings'!$B$4-$R17>'Settings'!$B$8,"Stale update",IF(AND($H17="Available",$P17="Yes"),"Available with safety hold","OK"))))))))),"Formula Error")
S18: =IFERROR(IF($A18="","",IF(OR($L18="",$N18=""),"",$N18-$L18)),"") | T18: =IFERROR(IF($A18="","",IF($H18="Available",0,IF($K18="","",MAX(0,$K18-'Settings'!$B$4)))),"") | U18: =IFERROR(IF($A18="","",IF(OR($S18="",$O18=""),"Missing PM Data",IF(OR($S18<=0,$O18<INT('Settings'!$B$4)),"Overdue",IF(OR($S18<='Settings'!$B$5,$O18<=INT('Settings'!$B$4)+'Settings'!$B$6),"Due Soon","OK")))),"Check PM Data") | V18: =IFERROR(IF($A18="","",IF(AND($H18="Available",$P18="No",$M18>='Settings'!$B$7,OR($U18="OK",$U18="Due Soon")),"Yes","No")),"No") | W18: =IFERROR(IF($A18="","",IF($H18="Available","Available Now",IF($K18="","No ETA",IF($K18<'Settings'!$B$4,"Past Due ETA",IF($K18<='Settings'!$B$4+1,"Within 24 Hours",IF($K18<='Settings'!$B$4+3,"2–3 Days",IF($K18<='Settings'!$B$4+7,"4–7 Days","More Than 7 Days"))))))),"Check ETA") | X18: =IFERROR(IF($A18="","",IF(COUNTIF('Tractor Availability'!$A$6:$A$505,$A18)>1,"Duplicate Unit ID",IF($H18="","Missing status",IF($M18="","Missing fuel level",IF(AND($H18<>"Available",$K18=""),"Missing ETA",IF(AND($P18="Yes",$Q18=""),"Missing hold reason",IF($R18="","Missing update time",IF('Settings'!$B$4-$R18>'Settings'!$B$8,"Stale update",IF(AND($H18="Available",$P18="Yes"),"Available with safety hold","OK"))))))))),"Formula Error")
S19: =IFERROR(IF($A19="","",IF(OR($L19="",$N19=""),"",$N19-$L19)),"") | T19: =IFERROR(IF($A19="","",IF($H19="Available",0,IF($K19="","",MAX(0,$K19-'Settings'!$B$4)))),"") | U19: =IFERROR(IF($A19="","",IF(OR($S19="",$O19=""),"Missing PM Data",IF(OR($S19<=0,$O19<INT('Settings'!$B$4)),"Overdue",IF(OR($S19<='Settings'!$B$5,$O19<=INT('Settings'!$B$4)+'Settings'!$B$6),"Due Soon","OK")))),"Check PM Data") | V19: =IFERROR(IF($A19="","",IF(AND($H19="Available",$P19="No",$M19>='Settings'!$B$7,OR($U19="OK",$U19="Due Soon")),"Yes","No")),"No") | W19: =IFERROR(IF($A19="","",IF($H19="Available","Available Now",IF($K19="","No ETA",IF($K19<'Settings'!$B$4,"Past Due ETA",IF($K19<='Settings'!$B$4+1,"Within 24 Hours",IF($K19<='Settings'!$B$4+3,"2–3 Days",IF($K19<='Settings'!$B$4+7,"4–7 Days","More Than 7 Days"))))))),"Check ETA") | X19: =IFERROR(IF($A19="","",IF(COUNTIF('Tractor Availability'!$A$6:$A$505,$A19)>1,"Duplicate Unit ID",IF($H19="","Missing status",IF($M19="","Missing fuel level",IF(AND($H19<>"Available",$K19=""),"Missing ETA",IF(AND($P19="Yes",$Q19=""),"Missing hold reason",IF($R19="","Missing update time",IF('Settings'!$B$4-$R19>'Settings'!$B$8,"Stale update",IF(AND($H19="Available",$P19="Yes"),"Available with safety hold","OK"))))))))),"Formula Error")
S20: =IFERROR(IF($A20="","",IF(OR($L20="",$N20=""),"",$N20-$L20)),"") | T20: =IFERROR(IF($A20="","",IF($H20="Available",0,IF($K20="","",MAX(0,$K20-'Settings'!$B$4)))),"") | U20: =IFERROR(IF($A20="","",IF(OR($S20="",$O20=""),"Missing PM Data",IF(OR($S20<=0,$O20<INT('Settings'!$B$4)),"Overdue",IF(OR($S20<='Settings'!$B$5,$O20<=INT('Settings'!$B$4)+'Settings'!$B$6),"Due Soon","OK")))),"Check PM Data") | V20: =IFERROR(IF($A20="","",IF(AND($H20="Available",$P20="No",$M20>='Settings'!$B$7,OR($U20="OK",$U20="Due Soon")),"Yes","No")),"No") | W20: =IFERROR(IF($A20="","",IF($H20="Available","Available Now",IF($K20="","No ETA",IF($K20<'Settings'!$B$4,"Past Due ETA",IF($K20<='Settings'!$B$4+1,"Within 24 Hours",IF($K20<='Settings'!$B$4+3,"2–3 Days",IF($K20<='Settings'!$B$4+7,"4–7 Days","More Than 7 Days"))))))),"Check ETA") | X20: =IFERROR(IF($A20="","",IF(COUNTIF('Tractor Availability'!$A$6:$A$505,$A20)>1,"Duplicate Unit ID",IF($H20="","Missing status",IF($M20="","Missing fuel level",IF(AND($H20<>"Available",$K20=""),"Missing ETA",IF(AND($P20="Yes",$Q20=""),"Missing hold reason",IF($R20="","Missing update time",IF('Settings'!$B$4-$R20>'Settings'!$B$8,"Stale update",IF(AND($H20="Available",$P20="Yes"),"Available with safety hold","OK"))))))))),"Formula Error")
S21: =IFERROR(IF($A21="","",IF(OR($L21="",$N21=""),"",$N21-$L21)),"") | T21: =IFERROR(IF($A21="","",IF($H21="Available",0,IF($K21="","",MAX(0,$K21-'Settings'!$B$4)))),"") | U21: =IFERROR(IF($A21="","",IF(OR($S21="",$O21=""),"Missing PM Data",IF(OR($S21<=0,$O21<INT('Settings'!$B$4)),"Overdue",IF(OR($S21<='Settings'!$B$5,$O21<=INT('Settings'!$B$4)+'Settings'!$B$6),"Due Soon","OK")))),"Check PM Data") | V21: =IFERROR(IF($A21="","",IF(AND($H21="Available",$P21="No",$M21>='Settings'!$B$7,OR($U21="OK",$U21="Due Soon")),"Yes","No")),"No") | W21: =IFERROR(IF($A21="","",IF($H21="Available","Available Now",IF($K21="","No ETA",IF($K21<'Settings'!$B$4,"Past Due ETA",IF($K21<='Settings'!$B$4+1,"Within 24 Hours",IF($K21<='Settings'!$B$4+3,"2–3 Days",IF($K21<='Settings'!$B$4+7,"4–7 Days","More Than 7 Days"))))))),"Check ETA") | X21: =IFERROR(IF($A21="","",IF(COUNTIF('Tractor Availability'!$A$6:$A$505,$A21)>1,"Duplicate Unit ID",IF($H21="","Missing status",IF($M21="","Missing fuel level",IF(AND($H21<>"Available",$K21=""),"Missing ETA",IF(AND($P21="Yes",$Q21=""),"Missing hold reason",IF($R21="","Missing update time",IF('Settings'!$B$4-$R21>'Settings'!$B$8,"Stale update",IF(AND($H21="Available",$P21="Yes"),"Available with safety hold","OK"))))))))),"Formula Error")
S22: =IFERROR(IF($A22="","",IF(OR($L22="",$N22=""),"",$N22-$L22)),"") | T22: =IFERROR(IF($A22="","",IF($H22="Available",0,IF($K22="","",MAX(0,$K22-'Settings'!$B$4)))),"") | U22: =IFERROR(IF($A22="","",IF(OR($S22="",$O22=""),"Missing PM Data",IF(OR($S22<=0,$O22<INT('Settings'!$B$4)),"Overdue",IF(OR($S22<='Settings'!$B$5,$O22<=INT('Settings'!$B$4)+'Settings'!$B$6),"Due Soon","OK")))),"Check PM Data") | V22: =IFERROR(IF($A22="","",IF(AND($H22="Available",$P22="No",$M22>='Settings'!$B$7,OR($U22="OK",$U22="Due Soon")),"Yes","No")),"No") | W22: =IFERROR(IF($A22="","",IF($H22="Available","Available Now",IF($K22="","No ETA",IF($K22<'Settings'!$B$4,"Past Due ETA",IF($K22<='Settings'!$B$4+1,"Within 24 Hours",IF($K22<='Settings'!$B$4+3,"2–3 Days",IF($K22<='Settings'!$B$4+7,"4–7 Days","More Than 7 Days"))))))),"Check ETA") | X22: =IFERROR(IF($A22="","",IF(COUNTIF('Tractor Availability'!$A$6:$A$505,$A22)>1,"Duplicate Unit ID",IF($H22="","Missing status",IF($M22="","Missing fuel level",IF(AND($H22<>"Available",$K22=""),"Missing ETA",IF(AND($P22="Yes",$Q22=""),"Missing hold reason",IF($R22="","Missing update time",IF('Settings'!$B$4-$R22>'Settings'!$B$8,"Stale update",IF(AND($H22="Available",$P22="Yes"),"Available with safety hold","OK"))))))))),"Formula Error")
S23: =IFERROR(IF($A23="","",IF(OR($L23="",$N23=""),"",$N23-$L23)),"") | T23: =IFERROR(IF($A23="","",IF($H23="Available",0,IF($K23="","",MAX(0,$K23-'Settings'!$B$4)))),"") | U23: =IFERROR(IF($A23="","",IF(OR($S23="",$O23=""),"Missing PM Data",IF(OR($S23<=0,$O23<INT('Settings'!$B$4)),"Overdue",IF(OR($S23<='Settings'!$B$5,$O23<=INT('Settings'!$B$4)+'Settings'!$B$6),"Due Soon","OK")))),"Check PM Data") | V23: =IFERROR(IF($A23="","",IF(AND($H23="Available",$P23="No",$M23>='Settings'!$B$7,OR($U23="OK",$U23="Due Soon")),"Yes","No")),"No") | W23: =IFERROR(IF($A23="","",IF($H23="Available","Available Now",IF($K23="","No ETA",IF($K23<'Settings'!$B$4,"Past Due ETA",IF($K23<='Settings'!$B$4+1,"Within 24 Hours",IF($K23<='Settings'!$B$4+3,"2–3 Days",IF($K23<='Settings'!$B$4+7,"4–7 Days","More Than 7 Days"))))))),"Check ETA") | X23: =IFERROR(IF($A23="","",IF(COUNTIF('Tractor Availability'!$A$6:$A$505,$A23)>1,"Duplicate Unit ID",IF($H23="","Missing status",IF($M23="","Missing fuel level",IF(AND($H23<>"Available",$K23=""),"Missing ETA",IF(AND($P23="Yes",$Q23=""),"Missing hold reason",IF($R23="","Missing update time",IF('Settings'!$B$4-$R23>'Settings'!$B$8,"Stale update",IF(AND($H23="Available",$P23="Yes"),"Available with safety hold","OK"))))))))),"Formula Error")
S24: =IFERROR(IF($A24="","",IF(OR($L24="",$N24=""),"",$N24-$L24)),"") | T24: =IFERROR(IF($A24="","",IF($H24="Available",0,IF($K24="","",MAX(0,$K24-'Settings'!$B$4)))),"") | U24: =IFERROR(IF($A24="","",IF(OR($S24="",$O24=""),"Missing PM Data",IF(OR($S24<=0,$O24<INT('Settings'!$B$4)),"Overdue",IF(OR($S24<='Settings'!$B$5,$O24<=INT('Settings'!$B$4)+'Settings'!$B$6),"Due Soon","OK")))),"Check PM Data") | V24: =IFERROR(IF($A24="","",IF(AND($H24="Available",$P24="No",$M24>='Settings'!$B$7,OR($U24="OK",$U24="Due Soon")),"Yes","No")),"No") | W24: =IFERROR(IF($A24="","",IF($H24="Available","Available Now",IF($K24="","No ETA",IF($K24<'Settings'!$B$4,"Past Due ETA",IF($K24<='Settings'!$B$4+1,"Within 24 Hours",IF($K24<='Settings'!$B$4+3,"2–3 Days",IF($K24<='Settings'!$B$4+7,"4–7 Days","More Than 7 Days"))))))),"Check ETA") | X24: =IFERROR(IF($A24="","",IF(COUNTIF('Tractor Availability'!$A$6:$A$505,$A24)>1,"Duplicate Unit ID",IF($H24="","Missing status",IF($M24="","Missing fuel level",IF(AND($H24<>"Available",$K24=""),"Missing ETA",IF(AND($P24="Yes",$Q24=""),"Missing hold reason",IF($R24="","Missing update time",IF('Settings'!$B$4-$R24>'Settings'!$B$8,"Stale update",IF(AND($H24="Available",$P24="Yes"),"Available with safety hold","OK"))))))))),"Formula Error")
S25: =IFERROR(IF($A25="","",IF(OR($L25="",$N25=""),"",$N25-$L25)),"") | T25: =IFERROR(IF($A25="","",IF($H25="Available",0,IF($K25="","",MAX(0,$K25-'Settings'!$B$4)))),"") | U25: =IFERROR(IF($A25="","",IF(OR($S25="",$O25=""),"Missing PM Data",IF(OR($S25<=0,$O25<INT('Settings'!$B$4)),"Overdue",IF(OR($S25<='Settings'!$B$5,$O25<=INT('Settings'!$B$4)+'Settings'!$B$6),"Due Soon","OK")))),"Check PM Data") | V25: =IFERROR(IF($A25="","",IF(AND($H25="Available",$P25="No",$M25>='Settings'!$B$7,OR($U25="OK",$U25="Due Soon")),"Yes","No")),"No") | W25: =IFERROR(IF($A25="","",IF($H25="Available","Available Now",IF($K25="","No ETA",IF($K25<'Settings'!$B$4,"Past Due ETA",IF($K25<='Settings'!$B$4+1,"Within 24 Hours",IF($K25<='Settings'!$B$4+3,"2–3 Days",IF($K25<='Settings'!$B$4+7,"4–7 Days","More Than 7 Days"))))))),"Check ETA") | X25: =IFERROR(IF($A25="","",IF(COUNTIF('Tractor Availability'!$A$6:$A$505,$A25)>1,"Duplicate Unit ID",IF($H25="","Missing status",IF($M25="","Missing fuel level",IF(AND($H25<>"Available",$K25=""),"Missing ETA",IF(AND($P25="Yes",$Q25=""),"Missing hold reason",IF($R25="","Missing update time",IF('Settings'!$B$4-$R25>'Settings'!$B$8,"Stale update",IF(AND($H25="Available",$P25="Yes"),"Available with safety hold","OK"))))))))),"Formula Error")
S26: =IFERROR(IF($A26="","",IF(OR($L26="",$N26=""),"",$N26-$L26)),"") | T26: =IFERROR(IF($A26="","",IF($H26="Available",0,IF($K26="","",MAX(0,$K26-'Settings'!$B$4)))),"") | U26: =IFERROR(IF($A26="","",IF(OR($S26="",$O26=""),"Missing PM Data",IF(OR($S26<=0,$O26<INT('Settings'!$B$4)),"Overdue",IF(OR($S26<='Settings'!$B$5,$O26<=INT('Settings'!$B$4)+'Settings'!$B$6),"Due Soon","OK")))),"Check PM Data") | V26: =IFERROR(IF($A26="","",IF(AND($H26="Available",$P26="No",$M26>='Settings'!$B$7,OR($U26="OK",$U26="Due Soon")),"Yes","No")),"No") | W26: =IFERROR(IF($A26="","",IF($H26="Available","Available Now",IF($K26="","No ETA",IF($K26<'Settings'!$B$4,"Past Due ETA",IF($K26<='Settings'!$B$4+1,"Within 24 Hours",IF($K26<='Settings'!$B$4+3,"2–3 Days",IF($K26<='Settings'!$B$4+7,"4–7 Days","More Than 7 Days"))))))),"Check ETA") | X26: =IFERROR(IF($A26="","",IF(COUNTIF('Tractor Availability'!$A$6:$A$505,$A26)>1,"Duplicate Unit ID",IF($H26="","Missing status",IF($M26="","Missing fuel level",IF(AND($H26<>"Available",$K26=""),"Missing ETA",IF(AND($P26="Yes",$Q26=""),"Missing hold reason",IF($R26="","Missing update time",IF('Settings'!$B$4-$R26>'Settings'!$B$8,"Stale update",IF(AND($H26="Available",$P26="Yes"),"Available with safety hold","OK"))))))))),"Formula Error")
S27: =IFERROR(IF($A27="","",IF(OR($L27="",$N27=""),"",$N27-$L27)),"") | T27: =IFERROR(IF($A27="","",IF($H27="Available",0,IF($K27="","",MAX(0,$K27-'Settings'!$B$4)))),"") | U27: =IFERROR(IF($A27="","",IF(OR($S27="",$O27=""),"Missing PM Data",IF(OR($S27<=0,$O27<INT('Settings'!$B$4)),"Overdue",IF(OR($S27<='Settings'!$B$5,$O27<=INT('Settings'!$B$4)+'Settings'!$B$6),"Due Soon","OK")))),"Check PM Data") | V27: =IFERROR(IF($A27="","",IF(AND($H27="Available",$P27="No",$M27>='Settings'!$B$7,OR($U27="OK",$U27="Due Soon")),"Yes","No")),"No") | W27: =IFERROR(IF($A27="","",IF($H27="Available","Available Now",IF($K27="","No ETA",IF($K27<'Settings'!$B$4,"Past Due ETA",IF($K27<='Settings'!$B$4+1,"Within 24 Hours",IF($K27<='Settings'!$B$4+3,"2–3 Days",IF($K27<='Settings'!$B$4+7,"4–7 Days","More Than 7 Days"))))))),"Check ETA") | X27: =IFERROR(IF($A27="","",IF(COUNTIF('Tractor Availability'!$A$6:$A$505,$A27)>1,"Duplicate Unit ID",IF($H27="","Missing status",IF($M27="","Missing fuel level",IF(AND($H27<>"Available",$K27=""),"Missing ETA",IF(AND($P27="Yes",$Q27=""),"Missing hold reason",IF($R27="","Missing update time",IF('Settings'!$B$4-$R27>'Settings'!$B$8,"Stale update",IF(AND($H27="Available",$P27="Yes"),"Available with safety hold","OK"))))))))),"Formula Error")
... S505: =IFERROR(IF($A505="","",IF(OR($L505="",$N505=""),"",$N505-$L505)),"") | T505: =IFERROR(IF($A505="","",IF($H505="Available",0,IF($K505="","",MAX(0,$K505-'Settings'!$B$4)))),"") | U505: =IFERROR(IF($A505="","",IF(OR($S505="",$O505=""),"Missing PM Data",IF(OR($S505<=0,$O505<INT('Settings'!$B$4)),"Overdue",IF(OR($S505<='Settings'!$B$5,$O505<=INT('Settings'!$B$4)+'Settings'!$B$6),"Due Soon","OK")))),"Check PM Data") | V505: =IFERROR(IF($A505="","",IF(AND($H505="Available",$P505="No",$M505>='Settings'!$B$7,OR($U505="OK",$U505="Due Soon")),"Yes","No")),"No") | W505: =IFERROR(IF($A505="","",IF($H505="Available","Available Now",IF($K505="","No ETA",IF($K505<'Settings'!$B$4,"Past Due ETA",IF($K505<='Settings'!$B$4+1,"Within 24 Hours",IF($K505<='Settings'!$B$4+3,"2–3 Days",IF($K505<='Settings'!$B$4+7,"4–7 Days","More Than 7 Days"))))))),"Check ETA") | X505: =IFERROR(IF($A505="","",IF(COUNTIF('Tractor Availability'!$A$6:$A$505,$A505)>1,"Duplicate Unit ID",IF($H505="","Missing status",IF($M505="","Missing fuel level",IF(AND($H505<>"Available",$K505=""),"Missing ETA",IF(AND($P505="Yes",$Q505=""),"Missing hold reason",IF($R505="","Missing update time",IF('Settings'!$B$4-$R505>'Settings'!$B$8,"Stale update",IF(AND($H505="Available",$P505="Yes"),"Available with safety hold","OK"))))))))),"Formula Error")

Sheet Settings
A1: Settings
A2: Update orange cells to match the fleet's operating rules. These values control dashboard timing, PM warnings, fuel readiness, stale-update checks, and the dispatch-ready target.
A3: Setting | B3: Value | C3: Description | E3: Home Terminals | G3: Current Statuses | I3: Yes / No | K3: Tractor Makes
A4: As of Date and Time | B4: 46272.333 | C4: Current date and time for this fleet snapshot | E4: Dallas | G4: Available | I4: Yes | K4: Freightliner
A5: PM Warning Miles | B5: 1500 | C5: Flag PM as due soon at or below this mileage remaining | E5: Atlanta | G5: Assigned | I5: No | K5: Kenworth
A6: PM Warning Days | B6: 14 | C6: Flag PM as due soon within this many calendar days | E6: Chicago | G6: In Transit | K6: Peterbilt
A7: Minimum Dispatch Fuel | B7: 0.25 | C7: Minimum fuel level for an available tractor to be dispatch ready | E7: Phoenix | G7: Maintenance | K7: Volvo
A8: Stale Update Days | B8: 2 | C8: Flag records older than this many days | E8: Other | G8: Out of Service | K8: International
A9: Dispatch-Ready Target | B9: 0.8 | C9: Target percentage of tractors that are dispatch ready | G9: Reserved | K9: Mack
K10: Other
A11: Operating Note | B11: These are editable operating assumptions for this workbook and are not legal, safety, tax, or regulatory standards.
