Workbook

Sheet Dashboard
A1: Tire Replacement Forecast Dashboard
A2: Current-state planning based on manually entered mileage, tread depth, and cost assumptions.
A3: As of Date | B3: ='Settings'!$B$3 | E3: Change assumptions and the as-of date on the Settings sheet.
A5: Total Tire Records | C5: Due Now | E5: Due Now or Next 90 Days | G5: Cost Due Now or Next 90 Days
A6: =COUNTIF('Tire Forecast'!$A$5:$A$504,"<>") | C6: =COUNTIF('Tire Forecast'!$AB$5:$AB$504,"Due Now") | E6: =COUNTIFS('Tire Forecast'!$AD$5:$AD$504,"OK",'Tire Forecast'!$X$5:$X$504,"<="&'Settings'!$B$3+'Settings'!$B$6) | G6: =SUMIFS('Tire Forecast'!$AA$5:$AA$504,'Tire Forecast'!$AD$5:$AD$504,"OK",'Tire Forecast'!$X$5:$X$504,"<="&'Settings'!$B$3+'Settings'!$B$6)
A8: Forecast Cost Next 12 Months | C8: Average Forecast Miles Remaining | E8: Records Needing Review | G8: Total Forecast Replacement Cost
A9: =SUMIFS('Tire Forecast'!$AA$5:$AA$504,'Tire Forecast'!$AD$5:$AD$504,"OK",'Tire Forecast'!$X$5:$X$504,"<="&EDATE('Settings'!$B$3,'Settings'!$B$7)) | C9: =IFERROR(AVERAGEIFS('Tire Forecast'!$S$5:$S$504,'Tire Forecast'!$AD$5:$AD$504,"OK"),0) | E9: =COUNTIFS('Tire Forecast'!$A$5:$A$504,"<>",'Tire Forecast'!$AD$5:$AD$504,"<>OK") | G9: =SUMIFS('Tire Forecast'!$AA$5:$AA$504,'Tire Forecast'!$AD$5:$AD$504,"OK")
A12: Status Summary | G12: Monthly Replacement Plan
A13: Forecast Status | B13: Tire Count | C13: Estimated Cost | G13: Planning Period | H13: Tire Count | I13: Estimated Cost
A14: Due Now | B14: =COUNTIF('Tire Forecast'!$AB$5:$AB$504,A14) | C14: =SUMIF('Tire Forecast'!$AB$5:$AB$504,A14,'Tire Forecast'!$AA$5:$AA$504) | G14: Due Now / Past Due | H14: =COUNTIFS('Tire Forecast'!$AD$5:$AD$504,"OK",'Tire Forecast'!$X$5:$X$504,"<="&'Settings'!$B$3) | I14: =SUMIFS('Tire Forecast'!$AA$5:$AA$504,'Tire Forecast'!$AD$5:$AD$504,"OK",'Tire Forecast'!$X$5:$X$504,"<="&'Settings'!$B$3)
A15: Due in 30 Days | B15: =COUNTIF('Tire Forecast'!$AB$5:$AB$504,A15) | C15: =SUMIF('Tire Forecast'!$AB$5:$AB$504,A15,'Tire Forecast'!$AA$5:$AA$504) | G15: =EOMONTH('Settings'!$B$3,0) | H15: =COUNTIFS('Tire Forecast'!$AD$5:$AD$504,"OK",'Tire Forecast'!$X$5:$X$504,">"&'Settings'!$B$3,'Tire Forecast'!$X$5:$X$504,"<="&G15) | I15: =SUMIFS('Tire Forecast'!$AA$5:$AA$504,'Tire Forecast'!$AD$5:$AD$504,"OK",'Tire Forecast'!$X$5:$X$504,">"&'Settings'!$B$3,'Tire Forecast'!$X$5:$X$504,"<="&G15)
A16: Due in 90 Days | B16: =COUNTIF('Tire Forecast'!$AB$5:$AB$504,A16) | C16: =SUMIF('Tire Forecast'!$AB$5:$AB$504,A16,'Tire Forecast'!$AA$5:$AA$504) | G16: =EOMONTH(G15,1) | H16: =COUNTIFS('Tire Forecast'!$AD$5:$AD$504,"OK",'Tire Forecast'!$X$5:$X$504,">"&EOMONTH(G16,-1),'Tire Forecast'!$X$5:$X$504,"<="&G16) | I16: =SUMIFS('Tire Forecast'!$AA$5:$AA$504,'Tire Forecast'!$AD$5:$AD$504,"OK",'Tire Forecast'!$X$5:$X$504,">"&EOMONTH(G16,-1),'Tire Forecast'!$X$5:$X$504,"<="&G16)
A17: Due in 6 Months | B17: =COUNTIF('Tire Forecast'!$AB$5:$AB$504,A17) | C17: =SUMIF('Tire Forecast'!$AB$5:$AB$504,A17,'Tire Forecast'!$AA$5:$AA$504) | G17: =EOMONTH(G16,1) | H17: =COUNTIFS('Tire Forecast'!$AD$5:$AD$504,"OK",'Tire Forecast'!$X$5:$X$504,">"&EOMONTH(G17,-1),'Tire Forecast'!$X$5:$X$504,"<="&G17) | I17: =SUMIFS('Tire Forecast'!$AA$5:$AA$504,'Tire Forecast'!$AD$5:$AD$504,"OK",'Tire Forecast'!$X$5:$X$504,">"&EOMONTH(G17,-1),'Tire Forecast'!$X$5:$X$504,"<="&G17)
A18: Monitor | B18: =COUNTIF('Tire Forecast'!$AB$5:$AB$504,A18) | C18: =SUMIF('Tire Forecast'!$AB$5:$AB$504,A18,'Tire Forecast'!$AA$5:$AA$504) | G18: =EOMONTH(G17,1) | H18: =COUNTIFS('Tire Forecast'!$AD$5:$AD$504,"OK",'Tire Forecast'!$X$5:$X$504,">"&EOMONTH(G18,-1),'Tire Forecast'!$X$5:$X$504,"<="&G18) | I18: =SUMIFS('Tire Forecast'!$AA$5:$AA$504,'Tire Forecast'!$AD$5:$AD$504,"OK",'Tire Forecast'!$X$5:$X$504,">"&EOMONTH(G18,-1),'Tire Forecast'!$X$5:$X$504,"<="&G18)
A19: Review Data | B19: =COUNTIF('Tire Forecast'!$AB$5:$AB$504,A19) | C19: =SUMIF('Tire Forecast'!$AB$5:$AB$504,A19,'Tire Forecast'!$AA$5:$AA$504) | G19: =EOMONTH(G18,1) | H19: =COUNTIFS('Tire Forecast'!$AD$5:$AD$504,"OK",'Tire Forecast'!$X$5:$X$504,">"&EOMONTH(G19,-1),'Tire Forecast'!$X$5:$X$504,"<="&G19) | I19: =SUMIFS('Tire Forecast'!$AA$5:$AA$504,'Tire Forecast'!$AD$5:$AD$504,"OK",'Tire Forecast'!$X$5:$X$504,">"&EOMONTH(G19,-1),'Tire Forecast'!$X$5:$X$504,"<="&G19)
G20: =EOMONTH(G19,1) | H20: =COUNTIFS('Tire Forecast'!$AD$5:$AD$504,"OK",'Tire Forecast'!$X$5:$X$504,">"&EOMONTH(G20,-1),'Tire Forecast'!$X$5:$X$504,"<="&G20) | I20: =SUMIFS('Tire Forecast'!$AA$5:$AA$504,'Tire Forecast'!$AD$5:$AD$504,"OK",'Tire Forecast'!$X$5:$X$504,">"&EOMONTH(G20,-1),'Tire Forecast'!$X$5:$X$504,"<="&G20)
G21: =EOMONTH(G20,1) | H21: =COUNTIFS('Tire Forecast'!$AD$5:$AD$504,"OK",'Tire Forecast'!$X$5:$X$504,">"&EOMONTH(G21,-1),'Tire Forecast'!$X$5:$X$504,"<="&G21) | I21: =SUMIFS('Tire Forecast'!$AA$5:$AA$504,'Tire Forecast'!$AD$5:$AD$504,"OK",'Tire Forecast'!$X$5:$X$504,">"&EOMONTH(G21,-1),'Tire Forecast'!$X$5:$X$504,"<="&G21)
A22: Upcoming Replacements | G22: =EOMONTH(G21,1) | H22: =COUNTIFS('Tire Forecast'!$AD$5:$AD$504,"OK",'Tire Forecast'!$X$5:$X$504,">"&EOMONTH(G22,-1),'Tire Forecast'!$X$5:$X$504,"<="&G22) | I22: =SUMIFS('Tire Forecast'!$AA$5:$AA$504,'Tire Forecast'!$AD$5:$AD$504,"OK",'Tire Forecast'!$X$5:$X$504,">"&EOMONTH(G22,-1),'Tire Forecast'!$X$5:$X$504,"<="&G22)
A23: Unit ID | B23: Tire Position | C23: Forecast Date | D23: Forecast Status | E23: Estimated Cost | G23: =EOMONTH(G22,1) | H23: =COUNTIFS('Tire Forecast'!$AD$5:$AD$504,"OK",'Tire Forecast'!$X$5:$X$504,">"&EOMONTH(G23,-1),'Tire Forecast'!$X$5:$X$504,"<="&G23) | I23: =SUMIFS('Tire Forecast'!$AA$5:$AA$504,'Tire Forecast'!$AD$5:$AD$504,"OK",'Tire Forecast'!$X$5:$X$504,">"&EOMONTH(G23,-1),'Tire Forecast'!$X$5:$X$504,"<="&G23)
A24: =IFERROR(INDEX('Tire Forecast'!$A$5:$A$504,MATCH($Z24,'Tire Forecast'!$AF$5:$AF$504,0)),"") | B24: =IFERROR(INDEX('Tire Forecast'!$C$5:$C$504,MATCH($Z24,'Tire Forecast'!$AF$5:$AF$504,0)),"") | C24: =IFERROR(INDEX('Tire Forecast'!$X$5:$X$504,MATCH($Z24,'Tire Forecast'!$AF$5:$AF$504,0)),"") | D24: =IFERROR(INDEX('Tire Forecast'!$AB$5:$AB$504,MATCH($Z24,'Tire Forecast'!$AF$5:$AF$504,0)),"") | E24: =IFERROR(INDEX('Tire Forecast'!$AA$5:$AA$504,MATCH($Z24,'Tire Forecast'!$AF$5:$AF$504,0)),"") | G24: =EOMONTH(G23,1) | H24: =COUNTIFS('Tire Forecast'!$AD$5:$AD$504,"OK",'Tire Forecast'!$X$5:$X$504,">"&EOMONTH(G24,-1),'Tire Forecast'!$X$5:$X$504,"<="&G24) | I24: =SUMIFS('Tire Forecast'!$AA$5:$AA$504,'Tire Forecast'!$AD$5:$AD$504,"OK",'Tire Forecast'!$X$5:$X$504,">"&EOMONTH(G24,-1),'Tire Forecast'!$X$5:$X$504,"<="&G24) | Z24: =IFERROR(AGGREGATE(15,6,'Tire Forecast'!$AF$5:$AF$504,ROWS($Z$24:Z24)),"")
A25: =IFERROR(INDEX('Tire Forecast'!$A$5:$A$504,MATCH($Z25,'Tire Forecast'!$AF$5:$AF$504,0)),"") | B25: =IFERROR(INDEX('Tire Forecast'!$C$5:$C$504,MATCH($Z25,'Tire Forecast'!$AF$5:$AF$504,0)),"") | C25: =IFERROR(INDEX('Tire Forecast'!$X$5:$X$504,MATCH($Z25,'Tire Forecast'!$AF$5:$AF$504,0)),"") | D25: =IFERROR(INDEX('Tire Forecast'!$AB$5:$AB$504,MATCH($Z25,'Tire Forecast'!$AF$5:$AF$504,0)),"") | E25: =IFERROR(INDEX('Tire Forecast'!$AA$5:$AA$504,MATCH($Z25,'Tire Forecast'!$AF$5:$AF$504,0)),"") | G25: =EOMONTH(G24,1) | H25: =COUNTIFS('Tire Forecast'!$AD$5:$AD$504,"OK",'Tire Forecast'!$X$5:$X$504,">"&EOMONTH(G25,-1),'Tire Forecast'!$X$5:$X$504,"<="&G25) | I25: =SUMIFS('Tire Forecast'!$AA$5:$AA$504,'Tire Forecast'!$AD$5:$AD$504,"OK",'Tire Forecast'!$X$5:$X$504,">"&EOMONTH(G25,-1),'Tire Forecast'!$X$5:$X$504,"<="&G25) | Z25: =IFERROR(AGGREGATE(15,6,'Tire Forecast'!$AF$5:$AF$504,ROWS($Z$24:Z25)),"")
A26: =IFERROR(INDEX('Tire Forecast'!$A$5:$A$504,MATCH($Z26,'Tire Forecast'!$AF$5:$AF$504,0)),"") | B26: =IFERROR(INDEX('Tire Forecast'!$C$5:$C$504,MATCH($Z26,'Tire Forecast'!$AF$5:$AF$504,0)),"") | C26: =IFERROR(INDEX('Tire Forecast'!$X$5:$X$504,MATCH($Z26,'Tire Forecast'!$AF$5:$AF$504,0)),"") | D26: =IFERROR(INDEX('Tire Forecast'!$AB$5:$AB$504,MATCH($Z26,'Tire Forecast'!$AF$5:$AF$504,0)),"") | E26: =IFERROR(INDEX('Tire Forecast'!$AA$5:$AA$504,MATCH($Z26,'Tire Forecast'!$AF$5:$AF$504,0)),"") | G26: =EOMONTH(G25,1) | H26: =COUNTIFS('Tire Forecast'!$AD$5:$AD$504,"OK",'Tire Forecast'!$X$5:$X$504,">"&EOMONTH(G26,-1),'Tire Forecast'!$X$5:$X$504,"<="&G26) | I26: =SUMIFS('Tire Forecast'!$AA$5:$AA$504,'Tire Forecast'!$AD$5:$AD$504,"OK",'Tire Forecast'!$X$5:$X$504,">"&EOMONTH(G26,-1),'Tire Forecast'!$X$5:$X$504,"<="&G26) | Z26: =IFERROR(AGGREGATE(15,6,'Tire Forecast'!$AF$5:$AF$504,ROWS($Z$24:Z26)),"")
A27: =IFERROR(INDEX('Tire Forecast'!$A$5:$A$504,MATCH($Z27,'Tire Forecast'!$AF$5:$AF$504,0)),"") | B27: =IFERROR(INDEX('Tire Forecast'!$C$5:$C$504,MATCH($Z27,'Tire Forecast'!$AF$5:$AF$504,0)),"") | C27: =IFERROR(INDEX('Tire Forecast'!$X$5:$X$504,MATCH($Z27,'Tire Forecast'!$AF$5:$AF$504,0)),"") | D27: =IFERROR(INDEX('Tire Forecast'!$AB$5:$AB$504,MATCH($Z27,'Tire Forecast'!$AF$5:$AF$504,0)),"") | E27: =IFERROR(INDEX('Tire Forecast'!$AA$5:$AA$504,MATCH($Z27,'Tire Forecast'!$AF$5:$AF$504,0)),"") | G27: ="" | H27: ="" | I27: ="" | Z27: =IFERROR(AGGREGATE(15,6,'Tire Forecast'!$AF$5:$AF$504,ROWS($Z$24:Z27)),"")
A28: =IFERROR(INDEX('Tire Forecast'!$A$5:$A$504,MATCH($Z28,'Tire Forecast'!$AF$5:$AF$504,0)),"") | B28: =IFERROR(INDEX('Tire Forecast'!$C$5:$C$504,MATCH($Z28,'Tire Forecast'!$AF$5:$AF$504,0)),"") | C28: =IFERROR(INDEX('Tire Forecast'!$X$5:$X$504,MATCH($Z28,'Tire Forecast'!$AF$5:$AF$504,0)),"") | D28: =IFERROR(INDEX('Tire Forecast'!$AB$5:$AB$504,MATCH($Z28,'Tire Forecast'!$AF$5:$AF$504,0)),"") | E28: =IFERROR(INDEX('Tire Forecast'!$AA$5:$AA$504,MATCH($Z28,'Tire Forecast'!$AF$5:$AF$504,0)),"") | G28: ="" | H28: ="" | I28: ="" | Z28: =IFERROR(AGGREGATE(15,6,'Tire Forecast'!$AF$5:$AF$504,ROWS($Z$24:Z28)),"")
A29: =IFERROR(INDEX('Tire Forecast'!$A$5:$A$504,MATCH($Z29,'Tire Forecast'!$AF$5:$AF$504,0)),"") | B29: =IFERROR(INDEX('Tire Forecast'!$C$5:$C$504,MATCH($Z29,'Tire Forecast'!$AF$5:$AF$504,0)),"") | C29: =IFERROR(INDEX('Tire Forecast'!$X$5:$X$504,MATCH($Z29,'Tire Forecast'!$AF$5:$AF$504,0)),"") | D29: =IFERROR(INDEX('Tire Forecast'!$AB$5:$AB$504,MATCH($Z29,'Tire Forecast'!$AF$5:$AF$504,0)),"") | E29: =IFERROR(INDEX('Tire Forecast'!$AA$5:$AA$504,MATCH($Z29,'Tire Forecast'!$AF$5:$AF$504,0)),"") | G29: ="" | H29: ="" | I29: ="" | Z29: =IFERROR(AGGREGATE(15,6,'Tire Forecast'!$AF$5:$AF$504,ROWS($Z$24:Z29)),"")
A30: =IFERROR(INDEX('Tire Forecast'!$A$5:$A$504,MATCH($Z30,'Tire Forecast'!$AF$5:$AF$504,0)),"") | B30: =IFERROR(INDEX('Tire Forecast'!$C$5:$C$504,MATCH($Z30,'Tire Forecast'!$AF$5:$AF$504,0)),"") | C30: =IFERROR(INDEX('Tire Forecast'!$X$5:$X$504,MATCH($Z30,'Tire Forecast'!$AF$5:$AF$504,0)),"") | D30: =IFERROR(INDEX('Tire Forecast'!$AB$5:$AB$504,MATCH($Z30,'Tire Forecast'!$AF$5:$AF$504,0)),"") | E30: =IFERROR(INDEX('Tire Forecast'!$AA$5:$AA$504,MATCH($Z30,'Tire Forecast'!$AF$5:$AF$504,0)),"") | G30: ="" | H30: ="" | I30: ="" | Z30: =IFERROR(AGGREGATE(15,6,'Tire Forecast'!$AF$5:$AF$504,ROWS($Z$24:Z30)),"")
A31: =IFERROR(INDEX('Tire Forecast'!$A$5:$A$504,MATCH($Z31,'Tire Forecast'!$AF$5:$AF$504,0)),"") | B31: =IFERROR(INDEX('Tire Forecast'!$C$5:$C$504,MATCH($Z31,'Tire Forecast'!$AF$5:$AF$504,0)),"") | C31: =IFERROR(INDEX('Tire Forecast'!$X$5:$X$504,MATCH($Z31,'Tire Forecast'!$AF$5:$AF$504,0)),"") | D31: =IFERROR(INDEX('Tire Forecast'!$AB$5:$AB$504,MATCH($Z31,'Tire Forecast'!$AF$5:$AF$504,0)),"") | E31: =IFERROR(INDEX('Tire Forecast'!$AA$5:$AA$504,MATCH($Z31,'Tire Forecast'!$AF$5:$AF$504,0)),"") | G31: ="" | H31: ="" | I31: ="" | Z31: =IFERROR(AGGREGATE(15,6,'Tire Forecast'!$AF$5:$AF$504,ROWS($Z$24:Z31)),"")
A32: ="" | D32: ="" | E32: ="" | G32: ="" | H32: ="" | I32: ="" | Z32: =""
A33: ="" | D33: ="" | E33: ="" | G33: ="" | H33: ="" | I33: ="" | Z33: =""
A34: Workbook Check | B34: Result | C34: Status | D34: ="" | E34: ="" | G34: ="" | H34: ="" | I34: ="" | Z34: =""
A35: Input Issues | B35: =COUNTIFS('Tire Forecast'!$A$5:$A$504,"<>",'Tire Forecast'!$AD$5:$AD$504,"<>OK") | C35: =IF(B35=0,"OK","Review") | D35: ="" | E35: ="" | G35: ="" | H35: ="" | I35: ="" | Z35: =""
A36: Valid Rows Missing Forecast Date | B36: =COUNTIFS('Tire Forecast'!$A$5:$A$504,"<>",'Tire Forecast'!$AD$5:$AD$504,"OK",'Tire Forecast'!$X$5:$X$504,"") | C36: =IF(B36=0,"OK","Review") | D36: ="" | E36: ="" | G36: ="" | H36: ="" | I36: ="" | Z36: =""
A37: Position Types Not Found | B37: =COUNTIFS('Tire Forecast'!$A$5:$A$504,"<>",'Tire Forecast'!$Q$5:$Q$504,"") | C37: =IF(B37=0,"OK","Review") | D37: ="" | E37: ="" | G37: ="" | H37: ="" | I37: ="" | Z37: =""
A38: ="" | B38: ="" | C38: ="" | D38: ="" | E38: ="" | G38: ="" | H38: ="" | I38: ="" | Z38: =""
A39: ="" | B39: ="" | C39: ="" | D39: ="" | E39: ="" | G39: ="" | H39: ="" | I39: ="" | Z39: =""
A40: ="" | B40: ="" | C40: ="" | D40: ="" | E40: ="" | G40: ="" | H40: ="" | I40: ="" | Z40: =""
A41: ="" | B41: ="" | C41: ="" | D41: ="" | E41: ="" | G41: ="" | H41: ="" | I41: ="" | Z41: =""
A42: ="" | B42: ="" | C42: ="" | D42: ="" | E42: ="" | G42: ="" | H42: ="" | I42: ="" | Z42: =""
A43: ="" | B43: ="" | C43: ="" | D43: ="" | E43: ="" | G43: ="" | H43: ="" | I43: ="" | Z43: =""
A44: ="" | B44: ="" | C44: ="" | D44: ="" | E44: ="" | G44: ="" | H44: ="" | I44: ="" | Z44: =""
A45: ="" | B45: ="" | C45: ="" | D45: ="" | E45: ="" | G45: ="" | H45: ="" | I45: ="" | Z45: =""
A46: ="" | B46: ="" | C46: ="" | D46: ="" | E46: ="" | G46: ="" | H46: ="" | I46: ="" | Z46: =""
A47: ="" | B47: ="" | C47: ="" | D47: ="" | E47: ="" | G47: ="" | H47: ="" | I47: ="" | Z47: =""
A48: ="" | B48: ="" | C48: ="" | D48: ="" | E48: ="" | G48: ="" | H48: ="" | I48: ="" | Z48: =""
A49: ="" | B49: ="" | C49: ="" | D49: ="" | E49: ="" | G49: ="" | H49: ="" | I49: ="" | Z49: =""
... A101: ="" | B101: ="" | C101: ="" | D101: ="" | E101: ="" | G101: ="" | H101: ="" | I101: ="" | Z101: =""

Sheet Tire Forecast
A1: Tire Replacement Forecast
A2: Enter or replace values in blue cells. Green cells calculate automatically. One row represents one installed tire.
A3: Blue = User Input | C3: Green = Calculated | E3: Red or Orange = Action Needed | G3: Manual current-state planning only; no live or automated data connection.
A4: Unit ID | B4: Vehicle Type | C4: Tire Position | D4: Position Type | E4: Tire Brand / Model | F4: Tire Size | G4: Install Date | H4: Install Odometer | I4: Reading Date | J4: Current Odometer | K4: Original Tread (32nds) | L4: Current Tread (32nds) | M4: Miles Since Install | N4: Tread Used (32nds) | O4: Wear Rate (32nds/1,000 mi) | P4: Wear Basis | Q4: Replacement Tread (32nds) | R4: Usable Tread Remaining (32nds) | S4: Forecast Miles Remaining | T4: Forecast Replacement Odometer | U4: Planned Monthly Miles | V4: Monthly Miles Used | W4: Months Remaining | X4: Forecast Replacement Date | Y4: Tire Cost | Z4: Labor Cost | AA4: Total Replacement Cost | AB4: Forecast Status | AC4: Planning Month | AD4: Data Check | AE4: Notes | AF4: Sort Key
A5: TRK-101 | B5: Tractor | C5: LF | D5: Steer | E5: Michelin X Line Energy Z | F5: 11R22.5 | G5: 46037 | H5: 182500 | I5: 46272 | J5: 276500 | K5: 18 | L5: 5 | M5: =IF($A5="","",IFERROR(IF(OR(H5="",J5=""),"",MAX(0,J5-H5)),"")) | N5: =IF($A5="","",IFERROR(IF(OR(K5="",L5=""),"",MAX(0,K5-L5)),"")) | O5: =IF($A5="","",IFERROR(IF(AND(M5>0,N5>0),N5/(M5/1000),VLOOKUP(D5,'Settings'!$A$15:$C$18,3,FALSE)),"")) | P5: =IF(OR(A5="",D5=""),"",IF(AND(M5>0,N5>0),"Observed Wear","Default from Settings")) | Q5: =IF($A5="","",IFERROR(VLOOKUP(D5,'Settings'!$A$15:$C$18,2,FALSE),"")) | R5: =IF($A5="","",IFERROR(MAX(0,L5-Q5),"")) | S5: =IF($A5="","",IFERROR(IF(L5<=Q5,0,R5/O5*1000),"")) | T5: =IF($A5="","",IFERROR(J5+S5,"")) | U5: 8500 | V5: =IF(A5="","",IF(U5="",'Settings'!$B$4,U5)) | W5: =IF($A5="","",IFERROR(S5/V5,"")) | X5: =IF($A5="","",IFERROR(IF(S5=0,I5,I5+ROUNDUP(W5*365/12,0)),"")) | Y5: 585 | Z5: 65 | AA5: =IF($A5="","",IFERROR(Y5+Z5,"")) | AB5: =IF(A5="","",IF(AD5<>"OK","Review Data",IF(L5<=Q5,"Due Now",IF(X5<='Settings'!$B$3,"Due Now",IF(X5<='Settings'!$B$3+'Settings'!$B$5,"Due in 30 Days",IF(X5<='Settings'!$B$3+'Settings'!$B$6,"Due in 90 Days",IF(X5<=EDATE('Settings'!$B$3,6),"Due in 6 Months","Monitor"))))))) | AC5: =IF($A5="","",IFERROR(EOMONTH(X5,0),"")) | AD5: =IF(A5="","",IF(OR(B5="",C5="",D5="",G5="",H5="",I5="",J5="",K5="",L5="",Y5="",Z5=""),"Missing Required Input",IF(COUNTIF('Settings'!$A$15:$A$18,D5)=0,"Unknown Position Type",IF(J5<H5,"Current Odometer Below Install",IF(I5<G5,"Reading Date Before Install",IF(I5>'Settings'!$B$3,"Reading Date After As-of Date",IF(L5>K5,"Current Tread Above Original",IF(OR(H5<0,J5<0,K5<=0,L5<0,Y5<0,Z5<0,V5<=0),"Check Numeric Input",IF(O5<=0,"Check Wear Rate","OK"))))))))) | AE5: Uneven shoulder wear monitored | AF5: =IFERROR(IF(AND(AD5="OK",ISNUMBER(X5)),X5+ROW()/100000,""),"")
A6: TRK-101 | B6: Tractor | C6: RF | D6: Steer | E6: Michelin X Line Energy Z | F6: 11R22.5 | G6: 46037 | H6: 182500 | I6: 46272 | J6: 276500 | K6: 18 | L6: 4 | M6: =IF($A6="","",IFERROR(IF(OR(H6="",J6=""),"",MAX(0,J6-H6)),"")) | N6: =IF($A6="","",IFERROR(IF(OR(K6="",L6=""),"",MAX(0,K6-L6)),"")) | O6: =IF($A6="","",IFERROR(IF(AND(M6>0,N6>0),N6/(M6/1000),VLOOKUP(D6,'Settings'!$A$15:$C$18,3,FALSE)),"")) | P6: =IF(OR(A6="",D6=""),"",IF(AND(M6>0,N6>0),"Observed Wear","Default from Settings")) | Q6: =IF($A6="","",IFERROR(VLOOKUP(D6,'Settings'!$A$15:$C$18,2,FALSE),"")) | R6: =IF($A6="","",IFERROR(MAX(0,L6-Q6),"")) | S6: =IF($A6="","",IFERROR(IF(L6<=Q6,0,R6/O6*1000),"")) | T6: =IF($A6="","",IFERROR(J6+S6,"")) | U6: 8500 | V6: =IF(A6="","",IF(U6="",'Settings'!$B$4,U6)) | W6: =IF($A6="","",IFERROR(S6/V6,"")) | X6: =IF($A6="","",IFERROR(IF(S6=0,I6,I6+ROUNDUP(W6*365/12,0)),"")) | Y6: 585 | Z6: 65 | AA6: =IF($A6="","",IFERROR(Y6+Z6,"")) | AB6: =IF(A6="","",IF(AD6<>"OK","Review Data",IF(L6<=Q6,"Due Now",IF(X6<='Settings'!$B$3,"Due Now",IF(X6<='Settings'!$B$3+'Settings'!$B$5,"Due in 30 Days",IF(X6<='Settings'!$B$3+'Settings'!$B$6,"Due in 90 Days",IF(X6<=EDATE('Settings'!$B$3,6),"Due in 6 Months","Monitor"))))))) | AC6: =IF($A6="","",IFERROR(EOMONTH(X6,0),"")) | AD6: =IF(A6="","",IF(OR(B6="",C6="",D6="",G6="",H6="",I6="",J6="",K6="",L6="",Y6="",Z6=""),"Missing Required Input",IF(COUNTIF('Settings'!$A$15:$A$18,D6)=0,"Unknown Position Type",IF(J6<H6,"Current Odometer Below Install",IF(I6<G6,"Reading Date Before Install",IF(I6>'Settings'!$B$3,"Reading Date After As-of Date",IF(L6>K6,"Current Tread Above Original",IF(OR(H6<0,J6<0,K6<=0,L6<0,Y6<0,Z6<0,V6<=0),"Check Numeric Input",IF(O6<=0,"Check Wear Rate","OK"))))))))) | AE6: At fleet replacement threshold | AF6: =IFERROR(IF(AND(AD6="OK",ISNUMBER(X6)),X6+ROW()/100000,""),"")
A7: TRK-204 | B7: Tractor | C7: LDI | D7: Drive | E7: Bridgestone M713 Ecopia | F7: 11R22.5 | G7: 46027 | H7: 99000 | I7: 46271 | J7: 268000 | K7: 30 | L7: 6 | M7: =IF($A7="","",IFERROR(IF(OR(H7="",J7=""),"",MAX(0,J7-H7)),"")) | N7: =IF($A7="","",IFERROR(IF(OR(K7="",L7=""),"",MAX(0,K7-L7)),"")) | O7: =IF($A7="","",IFERROR(IF(AND(M7>0,N7>0),N7/(M7/1000),VLOOKUP(D7,'Settings'!$A$15:$C$18,3,FALSE)),"")) | P7: =IF(OR(A7="",D7=""),"",IF(AND(M7>0,N7>0),"Observed Wear","Default from Settings")) | Q7: =IF($A7="","",IFERROR(VLOOKUP(D7,'Settings'!$A$15:$C$18,2,FALSE),"")) | R7: =IF($A7="","",IFERROR(MAX(0,L7-Q7),"")) | S7: =IF($A7="","",IFERROR(IF(L7<=Q7,0,R7/O7*1000),"")) | T7: =IF($A7="","",IFERROR(J7+S7,"")) | U7: 9000 | V7: =IF(A7="","",IF(U7="",'Settings'!$B$4,U7)) | W7: =IF($A7="","",IFERROR(S7/V7,"")) | X7: =IF($A7="","",IFERROR(IF(S7=0,I7,I7+ROUNDUP(W7*365/12,0)),"")) | Y7: 520 | Z7: 70 | AA7: =IF($A7="","",IFERROR(Y7+Z7,"")) | AB7: =IF(A7="","",IF(AD7<>"OK","Review Data",IF(L7<=Q7,"Due Now",IF(X7<='Settings'!$B$3,"Due Now",IF(X7<='Settings'!$B$3+'Settings'!$B$5,"Due in 30 Days",IF(X7<='Settings'!$B$3+'Settings'!$B$6,"Due in 90 Days",IF(X7<=EDATE('Settings'!$B$3,6),"Due in 6 Months","Monitor"))))))) | AC7: =IF($A7="","",IFERROR(EOMONTH(X7,0),"")) | AD7: =IF(A7="","",IF(OR(B7="",C7="",D7="",G7="",H7="",I7="",J7="",K7="",L7="",Y7="",Z7=""),"Missing Required Input",IF(COUNTIF('Settings'!$A$15:$A$18,D7)=0,"Unknown Position Type",IF(J7<H7,"Current Odometer Below Install",IF(I7<G7,"Reading Date Before Install",IF(I7>'Settings'!$B$3,"Reading Date After As-of Date",IF(L7>K7,"Current Tread Above Original",IF(OR(H7<0,J7<0,K7<=0,L7<0,Y7<0,Z7<0,V7<=0),"Check Numeric Input",IF(O7<=0,"Check Wear Rate","OK"))))))))) | AE7: Plan replacement with next PM | AF7: =IFERROR(IF(AND(AD7="OK",ISNUMBER(X7)),X7+ROW()/100000,""),"")
A8: TRK-204 | B8: Tractor | C8: RDO | D8: Drive | E8: Bridgestone M713 Ecopia | F8: 11R22.5 | G8: 46027 | H8: 99000 | I8: 46271 | J8: 268000 | K8: 30 | L8: 3 | M8: =IF($A8="","",IFERROR(IF(OR(H8="",J8=""),"",MAX(0,J8-H8)),"")) | N8: =IF($A8="","",IFERROR(IF(OR(K8="",L8=""),"",MAX(0,K8-L8)),"")) | O8: =IF($A8="","",IFERROR(IF(AND(M8>0,N8>0),N8/(M8/1000),VLOOKUP(D8,'Settings'!$A$15:$C$18,3,FALSE)),"")) | P8: =IF(OR(A8="",D8=""),"",IF(AND(M8>0,N8>0),"Observed Wear","Default from Settings")) | Q8: =IF($A8="","",IFERROR(VLOOKUP(D8,'Settings'!$A$15:$C$18,2,FALSE),"")) | R8: =IF($A8="","",IFERROR(MAX(0,L8-Q8),"")) | S8: =IF($A8="","",IFERROR(IF(L8<=Q8,0,R8/O8*1000),"")) | T8: =IF($A8="","",IFERROR(J8+S8,"")) | U8: 9000 | V8: =IF(A8="","",IF(U8="",'Settings'!$B$4,U8)) | W8: =IF($A8="","",IFERROR(S8/V8,"")) | X8: =IF($A8="","",IFERROR(IF(S8=0,I8,I8+ROUNDUP(W8*365/12,0)),"")) | Y8: 520 | Z8: 70 | AA8: =IF($A8="","",IFERROR(Y8+Z8,"")) | AB8: =IF(A8="","",IF(AD8<>"OK","Review Data",IF(L8<=Q8,"Due Now",IF(X8<='Settings'!$B$3,"Due Now",IF(X8<='Settings'!$B$3+'Settings'!$B$5,"Due in 30 Days",IF(X8<='Settings'!$B$3+'Settings'!$B$6,"Due in 90 Days",IF(X8<=EDATE('Settings'!$B$3,6),"Due in 6 Months","Monitor"))))))) | AC8: =IF($A8="","",IFERROR(EOMONTH(X8,0),"")) | AD8: =IF(A8="","",IF(OR(B8="",C8="",D8="",G8="",H8="",I8="",J8="",K8="",L8="",Y8="",Z8=""),"Missing Required Input",IF(COUNTIF('Settings'!$A$15:$A$18,D8)=0,"Unknown Position Type",IF(J8<H8,"Current Odometer Below Install",IF(I8<G8,"Reading Date Before Install",IF(I8>'Settings'!$B$3,"Reading Date After As-of Date",IF(L8>K8,"Current Tread Above Original",IF(OR(H8<0,J8<0,K8<=0,L8<0,Y8<0,Z8<0,V8<=0),"Check Numeric Input",IF(O8<=0,"Check Wear Rate","OK"))))))))) | AE8: At fleet replacement threshold | AF8: =IFERROR(IF(AND(AD8="OK",ISNUMBER(X8)),X8+ROW()/100000,""),"")
A9: VAN-12 | B9: Cargo Van | C9: LF | D9: Steer | E9: Continental VanContact A/S | F9: LT225/75R16 | G9: 46054 | H9: 48000 | I9: 46269 | J9: 91000 | K9: 12 | L9: 7 | M9: =IF($A9="","",IFERROR(IF(OR(H9="",J9=""),"",MAX(0,J9-H9)),"")) | N9: =IF($A9="","",IFERROR(IF(OR(K9="",L9=""),"",MAX(0,K9-L9)),"")) | O9: =IF($A9="","",IFERROR(IF(AND(M9>0,N9>0),N9/(M9/1000),VLOOKUP(D9,'Settings'!$A$15:$C$18,3,FALSE)),"")) | P9: =IF(OR(A9="",D9=""),"",IF(AND(M9>0,N9>0),"Observed Wear","Default from Settings")) | Q9: =IF($A9="","",IFERROR(VLOOKUP(D9,'Settings'!$A$15:$C$18,2,FALSE),"")) | R9: =IF($A9="","",IFERROR(MAX(0,L9-Q9),"")) | S9: =IF($A9="","",IFERROR(IF(L9<=Q9,0,R9/O9*1000),"")) | T9: =IF($A9="","",IFERROR(J9+S9,"")) | U9: 3500 | V9: =IF(A9="","",IF(U9="",'Settings'!$B$4,U9)) | W9: =IF($A9="","",IFERROR(S9/V9,"")) | X9: =IF($A9="","",IFERROR(IF(S9=0,I9,I9+ROUNDUP(W9*365/12,0)),"")) | Y9: 265 | Z9: 35 | AA9: =IF($A9="","",IFERROR(Y9+Z9,"")) | AB9: =IF(A9="","",IF(AD9<>"OK","Review Data",IF(L9<=Q9,"Due Now",IF(X9<='Settings'!$B$3,"Due Now",IF(X9<='Settings'!$B$3+'Settings'!$B$5,"Due in 30 Days",IF(X9<='Settings'!$B$3+'Settings'!$B$6,"Due in 90 Days",IF(X9<=EDATE('Settings'!$B$3,6),"Due in 6 Months","Monitor"))))))) | AC9: =IF($A9="","",IFERROR(EOMONTH(X9,0),"")) | AD9: =IF(A9="","",IF(OR(B9="",C9="",D9="",G9="",H9="",I9="",J9="",K9="",L9="",Y9="",Z9=""),"Missing Required Input",IF(COUNTIF('Settings'!$A$15:$A$18,D9)=0,"Unknown Position Type",IF(J9<H9,"Current Odometer Below Install",IF(I9<G9,"Reading Date Before Install",IF(I9>'Settings'!$B$3,"Reading Date After As-of Date",IF(L9>K9,"Current Tread Above Original",IF(OR(H9<0,J9<0,K9<=0,L9<0,Y9<0,Z9<0,V9<=0),"Check Numeric Input",IF(O9<=0,"Check Wear Rate","OK"))))))))) | AE9: Normal wear | AF9: =IFERROR(IF(AND(AD9="OK",ISNUMBER(X9)),X9+ROW()/100000,""),"")
A10: VAN-12 | B10: Cargo Van | C10: RF | D10: Steer | E10: Continental VanContact A/S | F10: LT225/75R16 | G10: 46054 | H10: 48000 | I10: 46269 | J10: 91000 | K10: 12 | L10: 8 | M10: =IF($A10="","",IFERROR(IF(OR(H10="",J10=""),"",MAX(0,J10-H10)),"")) | N10: =IF($A10="","",IFERROR(IF(OR(K10="",L10=""),"",MAX(0,K10-L10)),"")) | O10: =IF($A10="","",IFERROR(IF(AND(M10>0,N10>0),N10/(M10/1000),VLOOKUP(D10,'Settings'!$A$15:$C$18,3,FALSE)),"")) | P10: =IF(OR(A10="",D10=""),"",IF(AND(M10>0,N10>0),"Observed Wear","Default from Settings")) | Q10: =IF($A10="","",IFERROR(VLOOKUP(D10,'Settings'!$A$15:$C$18,2,FALSE),"")) | R10: =IF($A10="","",IFERROR(MAX(0,L10-Q10),"")) | S10: =IF($A10="","",IFERROR(IF(L10<=Q10,0,R10/O10*1000),"")) | T10: =IF($A10="","",IFERROR(J10+S10,"")) | U10: 3500 | V10: =IF(A10="","",IF(U10="",'Settings'!$B$4,U10)) | W10: =IF($A10="","",IFERROR(S10/V10,"")) | X10: =IF($A10="","",IFERROR(IF(S10=0,I10,I10+ROUNDUP(W10*365/12,0)),"")) | Y10: 265 | Z10: 35 | AA10: =IF($A10="","",IFERROR(Y10+Z10,"")) | AB10: =IF(A10="","",IF(AD10<>"OK","Review Data",IF(L10<=Q10,"Due Now",IF(X10<='Settings'!$B$3,"Due Now",IF(X10<='Settings'!$B$3+'Settings'!$B$5,"Due in 30 Days",IF(X10<='Settings'!$B$3+'Settings'!$B$6,"Due in 90 Days",IF(X10<=EDATE('Settings'!$B$3,6),"Due in 6 Months","Monitor"))))))) | AC10: =IF($A10="","",IFERROR(EOMONTH(X10,0),"")) | AD10: =IF(A10="","",IF(OR(B10="",C10="",D10="",G10="",H10="",I10="",J10="",K10="",L10="",Y10="",Z10=""),"Missing Required Input",IF(COUNTIF('Settings'!$A$15:$A$18,D10)=0,"Unknown Position Type",IF(J10<H10,"Current Odometer Below Install",IF(I10<G10,"Reading Date Before Install",IF(I10>'Settings'!$B$3,"Reading Date After As-of Date",IF(L10>K10,"Current Tread Above Original",IF(OR(H10<0,J10<0,K10<=0,L10<0,Y10<0,Z10<0,V10<=0),"Check Numeric Input",IF(O10<=0,"Check Wear Rate","OK"))))))))) | AE10: Normal wear | AF10: =IFERROR(IF(AND(AD10="OK",ISNUMBER(X10)),X10+ROW()/100000,""),"")
A11: SVC-07 | B11: Service Vehicle | C11: LF | D11: Steer | E11: Goodyear Wrangler Workhorse HT | F11: LT245/75R17 | G11: 46086 | H11: 32000 | I11: 46270 | J11: 77000 | K11: 15 | L11: 6.5 | M11: =IF($A11="","",IFERROR(IF(OR(H11="",J11=""),"",MAX(0,J11-H11)),"")) | N11: =IF($A11="","",IFERROR(IF(OR(K11="",L11=""),"",MAX(0,K11-L11)),"")) | O11: =IF($A11="","",IFERROR(IF(AND(M11>0,N11>0),N11/(M11/1000),VLOOKUP(D11,'Settings'!$A$15:$C$18,3,FALSE)),"")) | P11: =IF(OR(A11="",D11=""),"",IF(AND(M11>0,N11>0),"Observed Wear","Default from Settings")) | Q11: =IF($A11="","",IFERROR(VLOOKUP(D11,'Settings'!$A$15:$C$18,2,FALSE),"")) | R11: =IF($A11="","",IFERROR(MAX(0,L11-Q11),"")) | S11: =IF($A11="","",IFERROR(IF(L11<=Q11,0,R11/O11*1000),"")) | T11: =IF($A11="","",IFERROR(J11+S11,"")) | U11: 2200 | V11: =IF(A11="","",IF(U11="",'Settings'!$B$4,U11)) | W11: =IF($A11="","",IFERROR(S11/V11,"")) | X11: =IF($A11="","",IFERROR(IF(S11=0,I11,I11+ROUNDUP(W11*365/12,0)),"")) | Y11: 315 | Z11: 40 | AA11: =IF($A11="","",IFERROR(Y11+Z11,"")) | AB11: =IF(A11="","",IF(AD11<>"OK","Review Data",IF(L11<=Q11,"Due Now",IF(X11<='Settings'!$B$3,"Due Now",IF(X11<='Settings'!$B$3+'Settings'!$B$5,"Due in 30 Days",IF(X11<='Settings'!$B$3+'Settings'!$B$6,"Due in 90 Days",IF(X11<=EDATE('Settings'!$B$3,6),"Due in 6 Months","Monitor"))))))) | AC11: =IF($A11="","",IFERROR(EOMONTH(X11,0),"")) | AD11: =IF(A11="","",IF(OR(B11="",C11="",D11="",G11="",H11="",I11="",J11="",K11="",L11="",Y11="",Z11=""),"Missing Required Input",IF(COUNTIF('Settings'!$A$15:$A$18,D11)=0,"Unknown Position Type",IF(J11<H11,"Current Odometer Below Install",IF(I11<G11,"Reading Date Before Install",IF(I11>'Settings'!$B$3,"Reading Date After As-of Date",IF(L11>K11,"Current Tread Above Original",IF(OR(H11<0,J11<0,K11<=0,L11<0,Y11<0,Z11<0,V11<=0),"Check Numeric Input",IF(O11<=0,"Check Wear Rate","OK"))))))))) | AE11: Route includes frequent job-site travel | AF11: =IFERROR(IF(AND(AD11="OK",ISNUMBER(X11)),X11+ROW()/100000,""),"")
A12: PKP-31 | B12: Pickup | C12: RF | D12: Steer | E12: Firestone Transforce HT2 | F12: LT275/70R18 | G12: 46042 | H12: 61000 | I12: 46268 | J12: 108000 | K12: 14 | L12: 2.5 | M12: =IF($A12="","",IFERROR(IF(OR(H12="",J12=""),"",MAX(0,J12-H12)),"")) | N12: =IF($A12="","",IFERROR(IF(OR(K12="",L12=""),"",MAX(0,K12-L12)),"")) | O12: =IF($A12="","",IFERROR(IF(AND(M12>0,N12>0),N12/(M12/1000),VLOOKUP(D12,'Settings'!$A$15:$C$18,3,FALSE)),"")) | P12: =IF(OR(A12="",D12=""),"",IF(AND(M12>0,N12>0),"Observed Wear","Default from Settings")) | Q12: =IF($A12="","",IFERROR(VLOOKUP(D12,'Settings'!$A$15:$C$18,2,FALSE),"")) | R12: =IF($A12="","",IFERROR(MAX(0,L12-Q12),"")) | S12: =IF($A12="","",IFERROR(IF(L12<=Q12,0,R12/O12*1000),"")) | T12: =IF($A12="","",IFERROR(J12+S12,"")) | U12: 2800 | V12: =IF(A12="","",IF(U12="",'Settings'!$B$4,U12)) | W12: =IF($A12="","",IFERROR(S12/V12,"")) | X12: =IF($A12="","",IFERROR(IF(S12=0,I12,I12+ROUNDUP(W12*365/12,0)),"")) | Y12: 340 | Z12: 40 | AA12: =IF($A12="","",IFERROR(Y12+Z12,"")) | AB12: =IF(A12="","",IF(AD12<>"OK","Review Data",IF(L12<=Q12,"Due Now",IF(X12<='Settings'!$B$3,"Due Now",IF(X12<='Settings'!$B$3+'Settings'!$B$5,"Due in 30 Days",IF(X12<='Settings'!$B$3+'Settings'!$B$6,"Due in 90 Days",IF(X12<=EDATE('Settings'!$B$3,6),"Due in 6 Months","Monitor"))))))) | AC12: =IF($A12="","",IFERROR(EOMONTH(X12,0),"")) | AD12: =IF(A12="","",IF(OR(B12="",C12="",D12="",G12="",H12="",I12="",J12="",K12="",L12="",Y12="",Z12=""),"Missing Required Input",IF(COUNTIF('Settings'!$A$15:$A$18,D12)=0,"Unknown Position Type",IF(J12<H12,"Current Odometer Below Install",IF(I12<G12,"Reading Date Before Install",IF(I12>'Settings'!$B$3,"Reading Date After As-of Date",IF(L12>K12,"Current Tread Above Original",IF(OR(H12<0,J12<0,K12<=0,L12<0,Y12<0,Z12<0,V12<=0),"Check Numeric Input",IF(O12<=0,"Check Wear Rate","OK"))))))))) | AE12: Replace before next dispatch cycle | AF12: =IFERROR(IF(AND(AD12="OK",ISNUMBER(X12)),X12+ROW()/100000,""),"")
A13: TRK-330 | B13: Tractor | C13: RDI | D13: Drive | E13: Yokohama 712L | F13: 11R22.5 | G13: 46223 | H13: 410000 | I13: 46272 | J13: 412000 | K13: 30 | L13: 30 | M13: =IF($A13="","",IFERROR(IF(OR(H13="",J13=""),"",MAX(0,J13-H13)),"")) | N13: =IF($A13="","",IFERROR(IF(OR(K13="",L13=""),"",MAX(0,K13-L13)),"")) | O13: =IF($A13="","",IFERROR(IF(AND(M13>0,N13>0),N13/(M13/1000),VLOOKUP(D13,'Settings'!$A$15:$C$18,3,FALSE)),"")) | P13: =IF(OR(A13="",D13=""),"",IF(AND(M13>0,N13>0),"Observed Wear","Default from Settings")) | Q13: =IF($A13="","",IFERROR(VLOOKUP(D13,'Settings'!$A$15:$C$18,2,FALSE),"")) | R13: =IF($A13="","",IFERROR(MAX(0,L13-Q13),"")) | S13: =IF($A13="","",IFERROR(IF(L13<=Q13,0,R13/O13*1000),"")) | T13: =IF($A13="","",IFERROR(J13+S13,"")) | V13: =IF(A13="","",IF(U13="",'Settings'!$B$4,U13)) | W13: =IF($A13="","",IFERROR(S13/V13,"")) | X13: =IF($A13="","",IFERROR(IF(S13=0,I13,I13+ROUNDUP(W13*365/12,0)),"")) | Y13: 495 | Z13: 70 | AA13: =IF($A13="","",IFERROR(Y13+Z13,"")) | AB13: =IF(A13="","",IF(AD13<>"OK","Review Data",IF(L13<=Q13,"Due Now",IF(X13<='Settings'!$B$3,"Due Now",IF(X13<='Settings'!$B$3+'Settings'!$B$5,"Due in 30 Days",IF(X13<='Settings'!$B$3+'Settings'!$B$6,"Due in 90 Days",IF(X13<=EDATE('Settings'!$B$3,6),"Due in 6 Months","Monitor"))))))) | AC13: =IF($A13="","",IFERROR(EOMONTH(X13,0),"")) | AD13: =IF(A13="","",IF(OR(B13="",C13="",D13="",G13="",H13="",I13="",J13="",K13="",L13="",Y13="",Z13=""),"Missing Required Input",IF(COUNTIF('Settings'!$A$15:$A$18,D13)=0,"Unknown Position Type",IF(J13<H13,"Current Odometer Below Install",IF(I13<G13,"Reading Date Before Install",IF(I13>'Settings'!$B$3,"Reading Date After As-of Date",IF(L13>K13,"Current Tread Above Original",IF(OR(H13<0,J13<0,K13<=0,L13<0,Y13<0,Z13<0,V13<=0),"Check Numeric Input",IF(O13<=0,"Check Wear Rate","OK"))))))))) | AE13: Uses default monthly miles and wear rate | AF13: =IFERROR(IF(AND(AD13="OK",ISNUMBER(X13)),X13+ROW()/100000,""),"")
A14: BOX-19 | B14: Straight Truck | C14: RR Outer | D14: Drive | E14: Hankook AH37 | F14: 295/75R22.5 | G14: 46065 | H14: 125000 | I14: 46267 | J14: 195000 | K14: 22 | L14: 6 | M14: =IF($A14="","",IFERROR(IF(OR(H14="",J14=""),"",MAX(0,J14-H14)),"")) | N14: =IF($A14="","",IFERROR(IF(OR(K14="",L14=""),"",MAX(0,K14-L14)),"")) | O14: =IF($A14="","",IFERROR(IF(AND(M14>0,N14>0),N14/(M14/1000),VLOOKUP(D14,'Settings'!$A$15:$C$18,3,FALSE)),"")) | P14: =IF(OR(A14="",D14=""),"",IF(AND(M14>0,N14>0),"Observed Wear","Default from Settings")) | Q14: =IF($A14="","",IFERROR(VLOOKUP(D14,'Settings'!$A$15:$C$18,2,FALSE),"")) | R14: =IF($A14="","",IFERROR(MAX(0,L14-Q14),"")) | S14: =IF($A14="","",IFERROR(IF(L14<=Q14,0,R14/O14*1000),"")) | T14: =IF($A14="","",IFERROR(J14+S14,"")) | U14: 4000 | V14: =IF(A14="","",IF(U14="",'Settings'!$B$4,U14)) | W14: =IF($A14="","",IFERROR(S14/V14,"")) | X14: =IF($A14="","",IFERROR(IF(S14=0,I14,I14+ROUNDUP(W14*365/12,0)),"")) | Y14: 430 | Z14: 55 | AA14: =IF($A14="","",IFERROR(Y14+Z14,"")) | AB14: =IF(A14="","",IF(AD14<>"OK","Review Data",IF(L14<=Q14,"Due Now",IF(X14<='Settings'!$B$3,"Due Now",IF(X14<='Settings'!$B$3+'Settings'!$B$5,"Due in 30 Days",IF(X14<='Settings'!$B$3+'Settings'!$B$6,"Due in 90 Days",IF(X14<=EDATE('Settings'!$B$3,6),"Due in 6 Months","Monitor"))))))) | AC14: =IF($A14="","",IFERROR(EOMONTH(X14,0),"")) | AD14: =IF(A14="","",IF(OR(B14="",C14="",D14="",G14="",H14="",I14="",J14="",K14="",L14="",Y14="",Z14=""),"Missing Required Input",IF(COUNTIF('Settings'!$A$15:$A$18,D14)=0,"Unknown Position Type",IF(J14<H14,"Current Odometer Below Install",IF(I14<G14,"Reading Date Before Install",IF(I14>'Settings'!$B$3,"Reading Date After As-of Date",IF(L14>K14,"Current Tread Above Original",IF(OR(H14<0,J14<0,K14<=0,L14<0,Y14<0,Z14<0,V14<=0),"Check Numeric Input",IF(O14<=0,"Check Wear Rate","OK"))))))))) | AE14: High urban stop-and-go use | AF14: =IFERROR(IF(AND(AD14="OK",ISNUMBER(X14)),X14+ROW()/100000,""),"")
M15: =IF($A15="","",IFERROR(IF(OR(H15="",J15=""),"",MAX(0,J15-H15)),"")) | N15: =IF($A15="","",IFERROR(IF(OR(K15="",L15=""),"",MAX(0,K15-L15)),"")) | O15: =IF($A15="","",IFERROR(IF(AND(M15>0,N15>0),N15/(M15/1000),VLOOKUP(D15,'Settings'!$A$15:$C$18,3,FALSE)),"")) | P15: =IF(OR(A15="",D15=""),"",IF(AND(M15>0,N15>0),"Observed Wear","Default from Settings")) | Q15: =IF($A15="","",IFERROR(VLOOKUP(D15,'Settings'!$A$15:$C$18,2,FALSE),"")) | R15: =IF($A15="","",IFERROR(MAX(0,L15-Q15),"")) | S15: =IF($A15="","",IFERROR(IF(L15<=Q15,0,R15/O15*1000),"")) | T15: =IF($A15="","",IFERROR(J15+S15,"")) | V15: =IF(A15="","",IF(U15="",'Settings'!$B$4,U15)) | W15: =IF($A15="","",IFERROR(S15/V15,"")) | X15: =IF($A15="","",IFERROR(IF(S15=0,I15,I15+ROUNDUP(W15*365/12,0)),"")) | AA15: =IF($A15="","",IFERROR(Y15+Z15,"")) | AB15: =IF(A15="","",IF(AD15<>"OK","Review Data",IF(L15<=Q15,"Due Now",IF(X15<='Settings'!$B$3,"Due Now",IF(X15<='Settings'!$B$3+'Settings'!$B$5,"Due in 30 Days",IF(X15<='Settings'!$B$3+'Settings'!$B$6,"Due in 90 Days",IF(X15<=EDATE('Settings'!$B$3,6),"Due in 6 Months","Monitor"))))))) | AC15: =IF($A15="","",IFERROR(EOMONTH(X15,0),"")) | AD15: =IF(A15="","",IF(OR(B15="",C15="",D15="",G15="",H15="",I15="",J15="",K15="",L15="",Y15="",Z15=""),"Missing Required Input",IF(COUNTIF('Settings'!$A$15:$A$18,D15)=0,"Unknown Position Type",IF(J15<H15,"Current Odometer Below Install",IF(I15<G15,"Reading Date Before Install",IF(I15>'Settings'!$B$3,"Reading Date After As-of Date",IF(L15>K15,"Current Tread Above Original",IF(OR(H15<0,J15<0,K15<=0,L15<0,Y15<0,Z15<0,V15<=0),"Check Numeric Input",IF(O15<=0,"Check Wear Rate","OK"))))))))) | AF15: =IFERROR(IF(AND(AD15="OK",ISNUMBER(X15)),X15+ROW()/100000,""),"")
M16: =IF($A16="","",IFERROR(IF(OR(H16="",J16=""),"",MAX(0,J16-H16)),"")) | N16: =IF($A16="","",IFERROR(IF(OR(K16="",L16=""),"",MAX(0,K16-L16)),"")) | O16: =IF($A16="","",IFERROR(IF(AND(M16>0,N16>0),N16/(M16/1000),VLOOKUP(D16,'Settings'!$A$15:$C$18,3,FALSE)),"")) | P16: =IF(OR(A16="",D16=""),"",IF(AND(M16>0,N16>0),"Observed Wear","Default from Settings")) | Q16: =IF($A16="","",IFERROR(VLOOKUP(D16,'Settings'!$A$15:$C$18,2,FALSE),"")) | R16: =IF($A16="","",IFERROR(MAX(0,L16-Q16),"")) | S16: =IF($A16="","",IFERROR(IF(L16<=Q16,0,R16/O16*1000),"")) | T16: =IF($A16="","",IFERROR(J16+S16,"")) | V16: =IF(A16="","",IF(U16="",'Settings'!$B$4,U16)) | W16: =IF($A16="","",IFERROR(S16/V16,"")) | X16: =IF($A16="","",IFERROR(IF(S16=0,I16,I16+ROUNDUP(W16*365/12,0)),"")) | AA16: =IF($A16="","",IFERROR(Y16+Z16,"")) | AB16: =IF(A16="","",IF(AD16<>"OK","Review Data",IF(L16<=Q16,"Due Now",IF(X16<='Settings'!$B$3,"Due Now",IF(X16<='Settings'!$B$3+'Settings'!$B$5,"Due in 30 Days",IF(X16<='Settings'!$B$3+'Settings'!$B$6,"Due in 90 Days",IF(X16<=EDATE('Settings'!$B$3,6),"Due in 6 Months","Monitor"))))))) | AC16: =IF($A16="","",IFERROR(EOMONTH(X16,0),"")) | AD16: =IF(A16="","",IF(OR(B16="",C16="",D16="",G16="",H16="",I16="",J16="",K16="",L16="",Y16="",Z16=""),"Missing Required Input",IF(COUNTIF('Settings'!$A$15:$A$18,D16)=0,"Unknown Position Type",IF(J16<H16,"Current Odometer Below Install",IF(I16<G16,"Reading Date Before Install",IF(I16>'Settings'!$B$3,"Reading Date After As-of Date",IF(L16>K16,"Current Tread Above Original",IF(OR(H16<0,J16<0,K16<=0,L16<0,Y16<0,Z16<0,V16<=0),"Check Numeric Input",IF(O16<=0,"Check Wear Rate","OK"))))))))) | AF16: =IFERROR(IF(AND(AD16="OK",ISNUMBER(X16)),X16+ROW()/100000,""),"")
M17: =IF($A17="","",IFERROR(IF(OR(H17="",J17=""),"",MAX(0,J17-H17)),"")) | N17: =IF($A17="","",IFERROR(IF(OR(K17="",L17=""),"",MAX(0,K17-L17)),"")) | O17: =IF($A17="","",IFERROR(IF(AND(M17>0,N17>0),N17/(M17/1000),VLOOKUP(D17,'Settings'!$A$15:$C$18,3,FALSE)),"")) | P17: =IF(OR(A17="",D17=""),"",IF(AND(M17>0,N17>0),"Observed Wear","Default from Settings")) | Q17: =IF($A17="","",IFERROR(VLOOKUP(D17,'Settings'!$A$15:$C$18,2,FALSE),"")) | R17: =IF($A17="","",IFERROR(MAX(0,L17-Q17),"")) | S17: =IF($A17="","",IFERROR(IF(L17<=Q17,0,R17/O17*1000),"")) | T17: =IF($A17="","",IFERROR(J17+S17,"")) | V17: =IF(A17="","",IF(U17="",'Settings'!$B$4,U17)) | W17: =IF($A17="","",IFERROR(S17/V17,"")) | X17: =IF($A17="","",IFERROR(IF(S17=0,I17,I17+ROUNDUP(W17*365/12,0)),"")) | AA17: =IF($A17="","",IFERROR(Y17+Z17,"")) | AB17: =IF(A17="","",IF(AD17<>"OK","Review Data",IF(L17<=Q17,"Due Now",IF(X17<='Settings'!$B$3,"Due Now",IF(X17<='Settings'!$B$3+'Settings'!$B$5,"Due in 30 Days",IF(X17<='Settings'!$B$3+'Settings'!$B$6,"Due in 90 Days",IF(X17<=EDATE('Settings'!$B$3,6),"Due in 6 Months","Monitor"))))))) | AC17: =IF($A17="","",IFERROR(EOMONTH(X17,0),"")) | AD17: =IF(A17="","",IF(OR(B17="",C17="",D17="",G17="",H17="",I17="",J17="",K17="",L17="",Y17="",Z17=""),"Missing Required Input",IF(COUNTIF('Settings'!$A$15:$A$18,D17)=0,"Unknown Position Type",IF(J17<H17,"Current Odometer Below Install",IF(I17<G17,"Reading Date Before Install",IF(I17>'Settings'!$B$3,"Reading Date After As-of Date",IF(L17>K17,"Current Tread Above Original",IF(OR(H17<0,J17<0,K17<=0,L17<0,Y17<0,Z17<0,V17<=0),"Check Numeric Input",IF(O17<=0,"Check Wear Rate","OK"))))))))) | AF17: =IFERROR(IF(AND(AD17="OK",ISNUMBER(X17)),X17+ROW()/100000,""),"")
M18: =IF($A18="","",IFERROR(IF(OR(H18="",J18=""),"",MAX(0,J18-H18)),"")) | N18: =IF($A18="","",IFERROR(IF(OR(K18="",L18=""),"",MAX(0,K18-L18)),"")) | O18: =IF($A18="","",IFERROR(IF(AND(M18>0,N18>0),N18/(M18/1000),VLOOKUP(D18,'Settings'!$A$15:$C$18,3,FALSE)),"")) | P18: =IF(OR(A18="",D18=""),"",IF(AND(M18>0,N18>0),"Observed Wear","Default from Settings")) | Q18: =IF($A18="","",IFERROR(VLOOKUP(D18,'Settings'!$A$15:$C$18,2,FALSE),"")) | R18: =IF($A18="","",IFERROR(MAX(0,L18-Q18),"")) | S18: =IF($A18="","",IFERROR(IF(L18<=Q18,0,R18/O18*1000),"")) | T18: =IF($A18="","",IFERROR(J18+S18,"")) | V18: =IF(A18="","",IF(U18="",'Settings'!$B$4,U18)) | W18: =IF($A18="","",IFERROR(S18/V18,"")) | X18: =IF($A18="","",IFERROR(IF(S18=0,I18,I18+ROUNDUP(W18*365/12,0)),"")) | AA18: =IF($A18="","",IFERROR(Y18+Z18,"")) | AB18: =IF(A18="","",IF(AD18<>"OK","Review Data",IF(L18<=Q18,"Due Now",IF(X18<='Settings'!$B$3,"Due Now",IF(X18<='Settings'!$B$3+'Settings'!$B$5,"Due in 30 Days",IF(X18<='Settings'!$B$3+'Settings'!$B$6,"Due in 90 Days",IF(X18<=EDATE('Settings'!$B$3,6),"Due in 6 Months","Monitor"))))))) | AC18: =IF($A18="","",IFERROR(EOMONTH(X18,0),"")) | AD18: =IF(A18="","",IF(OR(B18="",C18="",D18="",G18="",H18="",I18="",J18="",K18="",L18="",Y18="",Z18=""),"Missing Required Input",IF(COUNTIF('Settings'!$A$15:$A$18,D18)=0,"Unknown Position Type",IF(J18<H18,"Current Odometer Below Install",IF(I18<G18,"Reading Date Before Install",IF(I18>'Settings'!$B$3,"Reading Date After As-of Date",IF(L18>K18,"Current Tread Above Original",IF(OR(H18<0,J18<0,K18<=0,L18<0,Y18<0,Z18<0,V18<=0),"Check Numeric Input",IF(O18<=0,"Check Wear Rate","OK"))))))))) | AF18: =IFERROR(IF(AND(AD18="OK",ISNUMBER(X18)),X18+ROW()/100000,""),"")
M19: =IF($A19="","",IFERROR(IF(OR(H19="",J19=""),"",MAX(0,J19-H19)),"")) | N19: =IF($A19="","",IFERROR(IF(OR(K19="",L19=""),"",MAX(0,K19-L19)),"")) | O19: =IF($A19="","",IFERROR(IF(AND(M19>0,N19>0),N19/(M19/1000),VLOOKUP(D19,'Settings'!$A$15:$C$18,3,FALSE)),"")) | P19: =IF(OR(A19="",D19=""),"",IF(AND(M19>0,N19>0),"Observed Wear","Default from Settings")) | Q19: =IF($A19="","",IFERROR(VLOOKUP(D19,'Settings'!$A$15:$C$18,2,FALSE),"")) | R19: =IF($A19="","",IFERROR(MAX(0,L19-Q19),"")) | S19: =IF($A19="","",IFERROR(IF(L19<=Q19,0,R19/O19*1000),"")) | T19: =IF($A19="","",IFERROR(J19+S19,"")) | V19: =IF(A19="","",IF(U19="",'Settings'!$B$4,U19)) | W19: =IF($A19="","",IFERROR(S19/V19,"")) | X19: =IF($A19="","",IFERROR(IF(S19=0,I19,I19+ROUNDUP(W19*365/12,0)),"")) | AA19: =IF($A19="","",IFERROR(Y19+Z19,"")) | AB19: =IF(A19="","",IF(AD19<>"OK","Review Data",IF(L19<=Q19,"Due Now",IF(X19<='Settings'!$B$3,"Due Now",IF(X19<='Settings'!$B$3+'Settings'!$B$5,"Due in 30 Days",IF(X19<='Settings'!$B$3+'Settings'!$B$6,"Due in 90 Days",IF(X19<=EDATE('Settings'!$B$3,6),"Due in 6 Months","Monitor"))))))) | AC19: =IF($A19="","",IFERROR(EOMONTH(X19,0),"")) | AD19: =IF(A19="","",IF(OR(B19="",C19="",D19="",G19="",H19="",I19="",J19="",K19="",L19="",Y19="",Z19=""),"Missing Required Input",IF(COUNTIF('Settings'!$A$15:$A$18,D19)=0,"Unknown Position Type",IF(J19<H19,"Current Odometer Below Install",IF(I19<G19,"Reading Date Before Install",IF(I19>'Settings'!$B$3,"Reading Date After As-of Date",IF(L19>K19,"Current Tread Above Original",IF(OR(H19<0,J19<0,K19<=0,L19<0,Y19<0,Z19<0,V19<=0),"Check Numeric Input",IF(O19<=0,"Check Wear Rate","OK"))))))))) | AF19: =IFERROR(IF(AND(AD19="OK",ISNUMBER(X19)),X19+ROW()/100000,""),"")
M20: =IF($A20="","",IFERROR(IF(OR(H20="",J20=""),"",MAX(0,J20-H20)),"")) | N20: =IF($A20="","",IFERROR(IF(OR(K20="",L20=""),"",MAX(0,K20-L20)),"")) | O20: =IF($A20="","",IFERROR(IF(AND(M20>0,N20>0),N20/(M20/1000),VLOOKUP(D20,'Settings'!$A$15:$C$18,3,FALSE)),"")) | P20: =IF(OR(A20="",D20=""),"",IF(AND(M20>0,N20>0),"Observed Wear","Default from Settings")) | Q20: =IF($A20="","",IFERROR(VLOOKUP(D20,'Settings'!$A$15:$C$18,2,FALSE),"")) | R20: =IF($A20="","",IFERROR(MAX(0,L20-Q20),"")) | S20: =IF($A20="","",IFERROR(IF(L20<=Q20,0,R20/O20*1000),"")) | T20: =IF($A20="","",IFERROR(J20+S20,"")) | V20: =IF(A20="","",IF(U20="",'Settings'!$B$4,U20)) | W20: =IF($A20="","",IFERROR(S20/V20,"")) | X20: =IF($A20="","",IFERROR(IF(S20=0,I20,I20+ROUNDUP(W20*365/12,0)),"")) | AA20: =IF($A20="","",IFERROR(Y20+Z20,"")) | AB20: =IF(A20="","",IF(AD20<>"OK","Review Data",IF(L20<=Q20,"Due Now",IF(X20<='Settings'!$B$3,"Due Now",IF(X20<='Settings'!$B$3+'Settings'!$B$5,"Due in 30 Days",IF(X20<='Settings'!$B$3+'Settings'!$B$6,"Due in 90 Days",IF(X20<=EDATE('Settings'!$B$3,6),"Due in 6 Months","Monitor"))))))) | AC20: =IF($A20="","",IFERROR(EOMONTH(X20,0),"")) | AD20: =IF(A20="","",IF(OR(B20="",C20="",D20="",G20="",H20="",I20="",J20="",K20="",L20="",Y20="",Z20=""),"Missing Required Input",IF(COUNTIF('Settings'!$A$15:$A$18,D20)=0,"Unknown Position Type",IF(J20<H20,"Current Odometer Below Install",IF(I20<G20,"Reading Date Before Install",IF(I20>'Settings'!$B$3,"Reading Date After As-of Date",IF(L20>K20,"Current Tread Above Original",IF(OR(H20<0,J20<0,K20<=0,L20<0,Y20<0,Z20<0,V20<=0),"Check Numeric Input",IF(O20<=0,"Check Wear Rate","OK"))))))))) | AF20: =IFERROR(IF(AND(AD20="OK",ISNUMBER(X20)),X20+ROW()/100000,""),"")
M21: =IF($A21="","",IFERROR(IF(OR(H21="",J21=""),"",MAX(0,J21-H21)),"")) | N21: =IF($A21="","",IFERROR(IF(OR(K21="",L21=""),"",MAX(0,K21-L21)),"")) | O21: =IF($A21="","",IFERROR(IF(AND(M21>0,N21>0),N21/(M21/1000),VLOOKUP(D21,'Settings'!$A$15:$C$18,3,FALSE)),"")) | P21: =IF(OR(A21="",D21=""),"",IF(AND(M21>0,N21>0),"Observed Wear","Default from Settings")) | Q21: =IF($A21="","",IFERROR(VLOOKUP(D21,'Settings'!$A$15:$C$18,2,FALSE),"")) | R21: =IF($A21="","",IFERROR(MAX(0,L21-Q21),"")) | S21: =IF($A21="","",IFERROR(IF(L21<=Q21,0,R21/O21*1000),"")) | T21: =IF($A21="","",IFERROR(J21+S21,"")) | V21: =IF(A21="","",IF(U21="",'Settings'!$B$4,U21)) | W21: =IF($A21="","",IFERROR(S21/V21,"")) | X21: =IF($A21="","",IFERROR(IF(S21=0,I21,I21+ROUNDUP(W21*365/12,0)),"")) | AA21: =IF($A21="","",IFERROR(Y21+Z21,"")) | AB21: =IF(A21="","",IF(AD21<>"OK","Review Data",IF(L21<=Q21,"Due Now",IF(X21<='Settings'!$B$3,"Due Now",IF(X21<='Settings'!$B$3+'Settings'!$B$5,"Due in 30 Days",IF(X21<='Settings'!$B$3+'Settings'!$B$6,"Due in 90 Days",IF(X21<=EDATE('Settings'!$B$3,6),"Due in 6 Months","Monitor"))))))) | AC21: =IF($A21="","",IFERROR(EOMONTH(X21,0),"")) | AD21: =IF(A21="","",IF(OR(B21="",C21="",D21="",G21="",H21="",I21="",J21="",K21="",L21="",Y21="",Z21=""),"Missing Required Input",IF(COUNTIF('Settings'!$A$15:$A$18,D21)=0,"Unknown Position Type",IF(J21<H21,"Current Odometer Below Install",IF(I21<G21,"Reading Date Before Install",IF(I21>'Settings'!$B$3,"Reading Date After As-of Date",IF(L21>K21,"Current Tread Above Original",IF(OR(H21<0,J21<0,K21<=0,L21<0,Y21<0,Z21<0,V21<=0),"Check Numeric Input",IF(O21<=0,"Check Wear Rate","OK"))))))))) | AF21: =IFERROR(IF(AND(AD21="OK",ISNUMBER(X21)),X21+ROW()/100000,""),"")
M22: =IF($A22="","",IFERROR(IF(OR(H22="",J22=""),"",MAX(0,J22-H22)),"")) | N22: =IF($A22="","",IFERROR(IF(OR(K22="",L22=""),"",MAX(0,K22-L22)),"")) | O22: =IF($A22="","",IFERROR(IF(AND(M22>0,N22>0),N22/(M22/1000),VLOOKUP(D22,'Settings'!$A$15:$C$18,3,FALSE)),"")) | P22: =IF(OR(A22="",D22=""),"",IF(AND(M22>0,N22>0),"Observed Wear","Default from Settings")) | Q22: =IF($A22="","",IFERROR(VLOOKUP(D22,'Settings'!$A$15:$C$18,2,FALSE),"")) | R22: =IF($A22="","",IFERROR(MAX(0,L22-Q22),"")) | S22: =IF($A22="","",IFERROR(IF(L22<=Q22,0,R22/O22*1000),"")) | T22: =IF($A22="","",IFERROR(J22+S22,"")) | V22: =IF(A22="","",IF(U22="",'Settings'!$B$4,U22)) | W22: =IF($A22="","",IFERROR(S22/V22,"")) | X22: =IF($A22="","",IFERROR(IF(S22=0,I22,I22+ROUNDUP(W22*365/12,0)),"")) | AA22: =IF($A22="","",IFERROR(Y22+Z22,"")) | AB22: =IF(A22="","",IF(AD22<>"OK","Review Data",IF(L22<=Q22,"Due Now",IF(X22<='Settings'!$B$3,"Due Now",IF(X22<='Settings'!$B$3+'Settings'!$B$5,"Due in 30 Days",IF(X22<='Settings'!$B$3+'Settings'!$B$6,"Due in 90 Days",IF(X22<=EDATE('Settings'!$B$3,6),"Due in 6 Months","Monitor"))))))) | AC22: =IF($A22="","",IFERROR(EOMONTH(X22,0),"")) | AD22: =IF(A22="","",IF(OR(B22="",C22="",D22="",G22="",H22="",I22="",J22="",K22="",L22="",Y22="",Z22=""),"Missing Required Input",IF(COUNTIF('Settings'!$A$15:$A$18,D22)=0,"Unknown Position Type",IF(J22<H22,"Current Odometer Below Install",IF(I22<G22,"Reading Date Before Install",IF(I22>'Settings'!$B$3,"Reading Date After As-of Date",IF(L22>K22,"Current Tread Above Original",IF(OR(H22<0,J22<0,K22<=0,L22<0,Y22<0,Z22<0,V22<=0),"Check Numeric Input",IF(O22<=0,"Check Wear Rate","OK"))))))))) | AF22: =IFERROR(IF(AND(AD22="OK",ISNUMBER(X22)),X22+ROW()/100000,""),"")
M23: =IF($A23="","",IFERROR(IF(OR(H23="",J23=""),"",MAX(0,J23-H23)),"")) | N23: =IF($A23="","",IFERROR(IF(OR(K23="",L23=""),"",MAX(0,K23-L23)),"")) | O23: =IF($A23="","",IFERROR(IF(AND(M23>0,N23>0),N23/(M23/1000),VLOOKUP(D23,'Settings'!$A$15:$C$18,3,FALSE)),"")) | P23: =IF(OR(A23="",D23=""),"",IF(AND(M23>0,N23>0),"Observed Wear","Default from Settings")) | Q23: =IF($A23="","",IFERROR(VLOOKUP(D23,'Settings'!$A$15:$C$18,2,FALSE),"")) | R23: =IF($A23="","",IFERROR(MAX(0,L23-Q23),"")) | S23: =IF($A23="","",IFERROR(IF(L23<=Q23,0,R23/O23*1000),"")) | T23: =IF($A23="","",IFERROR(J23+S23,"")) | V23: =IF(A23="","",IF(U23="",'Settings'!$B$4,U23)) | W23: =IF($A23="","",IFERROR(S23/V23,"")) | X23: =IF($A23="","",IFERROR(IF(S23=0,I23,I23+ROUNDUP(W23*365/12,0)),"")) | AA23: =IF($A23="","",IFERROR(Y23+Z23,"")) | AB23: =IF(A23="","",IF(AD23<>"OK","Review Data",IF(L23<=Q23,"Due Now",IF(X23<='Settings'!$B$3,"Due Now",IF(X23<='Settings'!$B$3+'Settings'!$B$5,"Due in 30 Days",IF(X23<='Settings'!$B$3+'Settings'!$B$6,"Due in 90 Days",IF(X23<=EDATE('Settings'!$B$3,6),"Due in 6 Months","Monitor"))))))) | AC23: =IF($A23="","",IFERROR(EOMONTH(X23,0),"")) | AD23: =IF(A23="","",IF(OR(B23="",C23="",D23="",G23="",H23="",I23="",J23="",K23="",L23="",Y23="",Z23=""),"Missing Required Input",IF(COUNTIF('Settings'!$A$15:$A$18,D23)=0,"Unknown Position Type",IF(J23<H23,"Current Odometer Below Install",IF(I23<G23,"Reading Date Before Install",IF(I23>'Settings'!$B$3,"Reading Date After As-of Date",IF(L23>K23,"Current Tread Above Original",IF(OR(H23<0,J23<0,K23<=0,L23<0,Y23<0,Z23<0,V23<=0),"Check Numeric Input",IF(O23<=0,"Check Wear Rate","OK"))))))))) | AF23: =IFERROR(IF(AND(AD23="OK",ISNUMBER(X23)),X23+ROW()/100000,""),"")
M24: =IF($A24="","",IFERROR(IF(OR(H24="",J24=""),"",MAX(0,J24-H24)),"")) | N24: =IF($A24="","",IFERROR(IF(OR(K24="",L24=""),"",MAX(0,K24-L24)),"")) | O24: =IF($A24="","",IFERROR(IF(AND(M24>0,N24>0),N24/(M24/1000),VLOOKUP(D24,'Settings'!$A$15:$C$18,3,FALSE)),"")) | P24: =IF(OR(A24="",D24=""),"",IF(AND(M24>0,N24>0),"Observed Wear","Default from Settings")) | Q24: =IF($A24="","",IFERROR(VLOOKUP(D24,'Settings'!$A$15:$C$18,2,FALSE),"")) | R24: =IF($A24="","",IFERROR(MAX(0,L24-Q24),"")) | S24: =IF($A24="","",IFERROR(IF(L24<=Q24,0,R24/O24*1000),"")) | T24: =IF($A24="","",IFERROR(J24+S24,"")) | V24: =IF(A24="","",IF(U24="",'Settings'!$B$4,U24)) | W24: =IF($A24="","",IFERROR(S24/V24,"")) | X24: =IF($A24="","",IFERROR(IF(S24=0,I24,I24+ROUNDUP(W24*365/12,0)),"")) | AA24: =IF($A24="","",IFERROR(Y24+Z24,"")) | AB24: =IF(A24="","",IF(AD24<>"OK","Review Data",IF(L24<=Q24,"Due Now",IF(X24<='Settings'!$B$3,"Due Now",IF(X24<='Settings'!$B$3+'Settings'!$B$5,"Due in 30 Days",IF(X24<='Settings'!$B$3+'Settings'!$B$6,"Due in 90 Days",IF(X24<=EDATE('Settings'!$B$3,6),"Due in 6 Months","Monitor"))))))) | AC24: =IF($A24="","",IFERROR(EOMONTH(X24,0),"")) | AD24: =IF(A24="","",IF(OR(B24="",C24="",D24="",G24="",H24="",I24="",J24="",K24="",L24="",Y24="",Z24=""),"Missing Required Input",IF(COUNTIF('Settings'!$A$15:$A$18,D24)=0,"Unknown Position Type",IF(J24<H24,"Current Odometer Below Install",IF(I24<G24,"Reading Date Before Install",IF(I24>'Settings'!$B$3,"Reading Date After As-of Date",IF(L24>K24,"Current Tread Above Original",IF(OR(H24<0,J24<0,K24<=0,L24<0,Y24<0,Z24<0,V24<=0),"Check Numeric Input",IF(O24<=0,"Check Wear Rate","OK"))))))))) | AF24: =IFERROR(IF(AND(AD24="OK",ISNUMBER(X24)),X24+ROW()/100000,""),"")
M25: =IF($A25="","",IFERROR(IF(OR(H25="",J25=""),"",MAX(0,J25-H25)),"")) | N25: =IF($A25="","",IFERROR(IF(OR(K25="",L25=""),"",MAX(0,K25-L25)),"")) | O25: =IF($A25="","",IFERROR(IF(AND(M25>0,N25>0),N25/(M25/1000),VLOOKUP(D25,'Settings'!$A$15:$C$18,3,FALSE)),"")) | P25: =IF(OR(A25="",D25=""),"",IF(AND(M25>0,N25>0),"Observed Wear","Default from Settings")) | Q25: =IF($A25="","",IFERROR(VLOOKUP(D25,'Settings'!$A$15:$C$18,2,FALSE),"")) | R25: =IF($A25="","",IFERROR(MAX(0,L25-Q25),"")) | S25: =IF($A25="","",IFERROR(IF(L25<=Q25,0,R25/O25*1000),"")) | T25: =IF($A25="","",IFERROR(J25+S25,"")) | V25: =IF(A25="","",IF(U25="",'Settings'!$B$4,U25)) | W25: =IF($A25="","",IFERROR(S25/V25,"")) | X25: =IF($A25="","",IFERROR(IF(S25=0,I25,I25+ROUNDUP(W25*365/12,0)),"")) | AA25: =IF($A25="","",IFERROR(Y25+Z25,"")) | AB25: =IF(A25="","",IF(AD25<>"OK","Review Data",IF(L25<=Q25,"Due Now",IF(X25<='Settings'!$B$3,"Due Now",IF(X25<='Settings'!$B$3+'Settings'!$B$5,"Due in 30 Days",IF(X25<='Settings'!$B$3+'Settings'!$B$6,"Due in 90 Days",IF(X25<=EDATE('Settings'!$B$3,6),"Due in 6 Months","Monitor"))))))) | AC25: =IF($A25="","",IFERROR(EOMONTH(X25,0),"")) | AD25: =IF(A25="","",IF(OR(B25="",C25="",D25="",G25="",H25="",I25="",J25="",K25="",L25="",Y25="",Z25=""),"Missing Required Input",IF(COUNTIF('Settings'!$A$15:$A$18,D25)=0,"Unknown Position Type",IF(J25<H25,"Current Odometer Below Install",IF(I25<G25,"Reading Date Before Install",IF(I25>'Settings'!$B$3,"Reading Date After As-of Date",IF(L25>K25,"Current Tread Above Original",IF(OR(H25<0,J25<0,K25<=0,L25<0,Y25<0,Z25<0,V25<=0),"Check Numeric Input",IF(O25<=0,"Check Wear Rate","OK"))))))))) | AF25: =IFERROR(IF(AND(AD25="OK",ISNUMBER(X25)),X25+ROW()/100000,""),"")
M26: =IF($A26="","",IFERROR(IF(OR(H26="",J26=""),"",MAX(0,J26-H26)),"")) | N26: =IF($A26="","",IFERROR(IF(OR(K26="",L26=""),"",MAX(0,K26-L26)),"")) | O26: =IF($A26="","",IFERROR(IF(AND(M26>0,N26>0),N26/(M26/1000),VLOOKUP(D26,'Settings'!$A$15:$C$18,3,FALSE)),"")) | P26: =IF(OR(A26="",D26=""),"",IF(AND(M26>0,N26>0),"Observed Wear","Default from Settings")) | Q26: =IF($A26="","",IFERROR(VLOOKUP(D26,'Settings'!$A$15:$C$18,2,FALSE),"")) | R26: =IF($A26="","",IFERROR(MAX(0,L26-Q26),"")) | S26: =IF($A26="","",IFERROR(IF(L26<=Q26,0,R26/O26*1000),"")) | T26: =IF($A26="","",IFERROR(J26+S26,"")) | V26: =IF(A26="","",IF(U26="",'Settings'!$B$4,U26)) | W26: =IF($A26="","",IFERROR(S26/V26,"")) | X26: =IF($A26="","",IFERROR(IF(S26=0,I26,I26+ROUNDUP(W26*365/12,0)),"")) | AA26: =IF($A26="","",IFERROR(Y26+Z26,"")) | AB26: =IF(A26="","",IF(AD26<>"OK","Review Data",IF(L26<=Q26,"Due Now",IF(X26<='Settings'!$B$3,"Due Now",IF(X26<='Settings'!$B$3+'Settings'!$B$5,"Due in 30 Days",IF(X26<='Settings'!$B$3+'Settings'!$B$6,"Due in 90 Days",IF(X26<=EDATE('Settings'!$B$3,6),"Due in 6 Months","Monitor"))))))) | AC26: =IF($A26="","",IFERROR(EOMONTH(X26,0),"")) | AD26: =IF(A26="","",IF(OR(B26="",C26="",D26="",G26="",H26="",I26="",J26="",K26="",L26="",Y26="",Z26=""),"Missing Required Input",IF(COUNTIF('Settings'!$A$15:$A$18,D26)=0,"Unknown Position Type",IF(J26<H26,"Current Odometer Below Install",IF(I26<G26,"Reading Date Before Install",IF(I26>'Settings'!$B$3,"Reading Date After As-of Date",IF(L26>K26,"Current Tread Above Original",IF(OR(H26<0,J26<0,K26<=0,L26<0,Y26<0,Z26<0,V26<=0),"Check Numeric Input",IF(O26<=0,"Check Wear Rate","OK"))))))))) | AF26: =IFERROR(IF(AND(AD26="OK",ISNUMBER(X26)),X26+ROW()/100000,""),"")
... M504: =IF($A504="","",IFERROR(IF(OR(H504="",J504=""),"",MAX(0,J504-H504)),"")) | N504: =IF($A504="","",IFERROR(IF(OR(K504="",L504=""),"",MAX(0,K504-L504)),"")) | O504: =IF($A504="","",IFERROR(IF(AND(M504>0,N504>0),N504/(M504/1000),VLOOKUP(D504,'Settings'!$A$15:$C$18,3,FALSE)),"")) | P504: =IF(OR(A504="",D504=""),"",IF(AND(M504>0,N504>0),"Observed Wear","Default from Settings")) | Q504: =IF($A504="","",IFERROR(VLOOKUP(D504,'Settings'!$A$15:$C$18,2,FALSE),"")) | R504: =IF($A504="","",IFERROR(MAX(0,L504-Q504),"")) | S504: =IF($A504="","",IFERROR(IF(L504<=Q504,0,R504/O504*1000),"")) | T504: =IF($A504="","",IFERROR(J504+S504,"")) | V504: =IF(A504="","",IF(U504="",'Settings'!$B$4,U504)) | W504: =IF($A504="","",IFERROR(S504/V504,"")) | X504: =IF($A504="","",IFERROR(IF(S504=0,I504,I504+ROUNDUP(W504*365/12,0)),"")) | AA504: =IF($A504="","",IFERROR(Y504+Z504,"")) | AB504: =IF(A504="","",IF(AD504<>"OK","Review Data",IF(L504<=Q504,"Due Now",IF(X504<='Settings'!$B$3,"Due Now",IF(X504<='Settings'!$B$3+'Settings'!$B$5,"Due in 30 Days",IF(X504<='Settings'!$B$3+'Settings'!$B$6,"Due in 90 Days",IF(X504<=EDATE('Settings'!$B$3,6),"Due in 6 Months","Monitor"))))))) | AC504: =IF($A504="","",IFERROR(EOMONTH(X504,0),"")) | AD504: =IF(A504="","",IF(OR(B504="",C504="",D504="",G504="",H504="",I504="",J504="",K504="",L504="",Y504="",Z504=""),"Missing Required Input",IF(COUNTIF('Settings'!$A$15:$A$18,D504)=0,"Unknown Position Type",IF(J504<H504,"Current Odometer Below Install",IF(I504<G504,"Reading Date Before Install",IF(I504>'Settings'!$B$3,"Reading Date After As-of Date",IF(L504>K504,"Current Tread Above Original",IF(OR(H504<0,J504<0,K504<=0,L504<0,Y504<0,Z504<0,V504<=0),"Check Numeric Input",IF(O504<=0,"Check Wear Rate","OK"))))))))) | AF504: =IFERROR(IF(AND(AD504="OK",ISNUMBER(X504)),X504+ROW()/100000,""),"")

Sheet Settings
A1: Tire Forecast Settings
A2: Yellow cells are editable assumptions. Replacement thresholds are fleet planning values and are not a statement of regulatory compliance.
A3: As of Date | B3: 46273 | D3: Editing Guidance | E3: Change yellow cells to reflect fleet planning assumptions.
A4: Default Planned Monthly Miles | B4: 6000
A5: Due Soon Window (days) | B5: 30
A6: Near-Term Window (days) | B6: 90
A7: Planning Horizon (months) | B7: 12
A8: Maximum Expected Odometer | B8: 2000000
A9: Maximum Planned Monthly Miles | B9: 50000
A10: Maximum Tire or Labor Cost | B10: 10000
A11: Maximum Tread Depth (32nds) | B11: 40
A14: Position Type | B14: Replacement Tread (32nds) | C14: Default Wear Rate (32nds/1,000 mi) | E14: Vehicle Types
A15: Steer | B15: 4 | C15: 0.12 | E15: Tractor
A16: Drive | B16: 3 | C16: 0.1 | E16: Straight Truck
A17: Trailer | B17: 2 | C17: 0.08 | E17: Cargo Van
A18: Spare/Other | B18: 3 | C18: 0.09 | E18: Pickup
E19: Trailer
E20: Service Vehicle
A22: Forecast Method Note
A23: Observed wear is calculated from tread used divided by miles since installation. If no measurable wear is available, the forecast uses the default wear rate for the selected position type. Replacement tread thresholds are fleet planning assumptions and should be reviewed against company policy, operating conditions, local routes, loads, tire models, and tire manufacturer guidance.
