Workbook

Sheet Dashboard
A1: Tire Position and Tread Depth Dashboard
A2: Latest condition based on valid inspection records | P2: As of: | Q2: =TODAY()
A3: Sample data is included. Replace it with your fleet records. Thresholds are user-defined planning values, not regulatory determinations.
A4: Light blue = user input | D4: Light gray = calculated | G4: Red = critical | J4: Amber = attention | M4: Green = acceptable
A6: Mounted Tires | D6: Critical Tread | G6: Tires Requiring Action | J6: Overdue Inspections | M6: Pressure Exceptions | P6: Data Check Issues
A7: =COUNTIF('Tire Inventory'!$J$5:$J$1004,"Mounted") | D7: =COUNTIFS('Tire Inventory'!$J$5:$J$1004,"Mounted",'Tire Inventory'!$U$5:$U$1004,"Critical") | G7: =COUNTIFS('Tire Inventory'!$J$5:$J$1004,"Mounted",'Tire Inventory'!$Z$5:$Z$1004,"Critical")+COUNTIFS('Tire Inventory'!$J$5:$J$1004,"Mounted",'Tire Inventory'!$Z$5:$Z$1004,"Attention") | J7: =COUNTIFS('Tire Inventory'!$J$5:$J$1004,"Mounted",'Tire Inventory'!$Y$5:$Y$1004,"Overdue") | M7: =COUNTIFS('Tire Inventory'!$J$5:$J$1004,"Mounted",'Tire Inventory'!$W$5:$W$1004,"Low")+COUNTIFS('Tire Inventory'!$J$5:$J$1004,"Mounted",'Tire Inventory'!$W$5:$W$1004,"High") | P7: =COUNTIFS('Tire Inspections'!$A$5:$A$1004,"<>",'Tire Inspections'!$Y$5:$Y$1004,"<>OK")
A8: Latest valid records | D8: Latest valid records | G8: Latest valid records | J8: Latest valid records | M8: Latest valid records | P8: Latest valid records
A11: Mounted Tire Status | B11: Count
A12: Critical | B12: =COUNTIFS('Tire Inventory'!$J$5:$J$1004,"Mounted",'Tire Inventory'!$Z$5:$Z$1004,$A12)
A13: Attention | B13: =COUNTIFS('Tire Inventory'!$J$5:$J$1004,"Mounted",'Tire Inventory'!$Z$5:$Z$1004,$A13)
A14: OK | B14: =COUNTIFS('Tire Inventory'!$J$5:$J$1004,"Mounted",'Tire Inventory'!$Z$5:$Z$1004,$A14)
A15: No Data | B15: =COUNTIFS('Tire Inventory'!$J$5:$J$1004,"Mounted",'Tire Inventory'!$Z$5:$Z$1004,$A15)
A22: Position Group | B22: Mounted Tires | C22: Average Minimum Tread (32nds) | D22: Critical | E22: Low | F22: Uneven | K22: Vehicle/Unit | L22: Mounted Tires | M22: Critical | N22: Attention | O22: Average Minimum Tread | P22: Overdue Inspections
A23: Steer | B23: =COUNTIFS('Tire Inventory'!$J$5:$J$1004,"Mounted",'Tire Inventory'!$O$5:$O$1004,$A23) | C23: =IFERROR(AVERAGEIFS('Tire Inventory'!$Q$5:$Q$1004,'Tire Inventory'!$J$5:$J$1004,"Mounted",'Tire Inventory'!$O$5:$O$1004,$A23),"") | D23: =COUNTIFS('Tire Inventory'!$J$5:$J$1004,"Mounted",'Tire Inventory'!$O$5:$O$1004,$A23,'Tire Inventory'!$U$5:$U$1004,"Critical") | E23: =COUNTIFS('Tire Inventory'!$J$5:$J$1004,"Mounted",'Tire Inventory'!$O$5:$O$1004,$A23,'Tire Inventory'!$U$5:$U$1004,"Low") | F23: =COUNTIFS('Tire Inventory'!$J$5:$J$1004,"Mounted",'Tire Inventory'!$O$5:$O$1004,$A23,'Tire Inventory'!$V$5:$V$1004,"Uneven") | K23: ='Settings'!$H$5 | L23: =COUNTIFS('Tire Inventory'!$J$5:$J$1004,"Mounted",'Tire Inventory'!$M$5:$M$1004,$K23) | M23: =COUNTIFS('Tire Inventory'!$J$5:$J$1004,"Mounted",'Tire Inventory'!$M$5:$M$1004,$K23,'Tire Inventory'!$Z$5:$Z$1004,"Critical") | N23: =COUNTIFS('Tire Inventory'!$J$5:$J$1004,"Mounted",'Tire Inventory'!$M$5:$M$1004,$K23,'Tire Inventory'!$Z$5:$Z$1004,"Attention") | O23: =IFERROR(AVERAGEIFS('Tire Inventory'!$Q$5:$Q$1004,'Tire Inventory'!$J$5:$J$1004,"Mounted",'Tire Inventory'!$M$5:$M$1004,$K23),"") | P23: =COUNTIFS('Tire Inventory'!$J$5:$J$1004,"Mounted",'Tire Inventory'!$M$5:$M$1004,$K23,'Tire Inventory'!$Y$5:$Y$1004,"Overdue")
A24: Drive | B24: =COUNTIFS('Tire Inventory'!$J$5:$J$1004,"Mounted",'Tire Inventory'!$O$5:$O$1004,$A24) | C24: =IFERROR(AVERAGEIFS('Tire Inventory'!$Q$5:$Q$1004,'Tire Inventory'!$J$5:$J$1004,"Mounted",'Tire Inventory'!$O$5:$O$1004,$A24),"") | D24: =COUNTIFS('Tire Inventory'!$J$5:$J$1004,"Mounted",'Tire Inventory'!$O$5:$O$1004,$A24,'Tire Inventory'!$U$5:$U$1004,"Critical") | E24: =COUNTIFS('Tire Inventory'!$J$5:$J$1004,"Mounted",'Tire Inventory'!$O$5:$O$1004,$A24,'Tire Inventory'!$U$5:$U$1004,"Low") | F24: =COUNTIFS('Tire Inventory'!$J$5:$J$1004,"Mounted",'Tire Inventory'!$O$5:$O$1004,$A24,'Tire Inventory'!$V$5:$V$1004,"Uneven") | K24: ='Settings'!$H$6 | L24: =COUNTIFS('Tire Inventory'!$J$5:$J$1004,"Mounted",'Tire Inventory'!$M$5:$M$1004,$K24) | M24: =COUNTIFS('Tire Inventory'!$J$5:$J$1004,"Mounted",'Tire Inventory'!$M$5:$M$1004,$K24,'Tire Inventory'!$Z$5:$Z$1004,"Critical") | N24: =COUNTIFS('Tire Inventory'!$J$5:$J$1004,"Mounted",'Tire Inventory'!$M$5:$M$1004,$K24,'Tire Inventory'!$Z$5:$Z$1004,"Attention") | O24: =IFERROR(AVERAGEIFS('Tire Inventory'!$Q$5:$Q$1004,'Tire Inventory'!$J$5:$J$1004,"Mounted",'Tire Inventory'!$M$5:$M$1004,$K24),"") | P24: =COUNTIFS('Tire Inventory'!$J$5:$J$1004,"Mounted",'Tire Inventory'!$M$5:$M$1004,$K24,'Tire Inventory'!$Y$5:$Y$1004,"Overdue")
A25: Trailer | B25: =COUNTIFS('Tire Inventory'!$J$5:$J$1004,"Mounted",'Tire Inventory'!$O$5:$O$1004,$A25) | C25: =IFERROR(AVERAGEIFS('Tire Inventory'!$Q$5:$Q$1004,'Tire Inventory'!$J$5:$J$1004,"Mounted",'Tire Inventory'!$O$5:$O$1004,$A25),"") | D25: =COUNTIFS('Tire Inventory'!$J$5:$J$1004,"Mounted",'Tire Inventory'!$O$5:$O$1004,$A25,'Tire Inventory'!$U$5:$U$1004,"Critical") | E25: =COUNTIFS('Tire Inventory'!$J$5:$J$1004,"Mounted",'Tire Inventory'!$O$5:$O$1004,$A25,'Tire Inventory'!$U$5:$U$1004,"Low") | F25: =COUNTIFS('Tire Inventory'!$J$5:$J$1004,"Mounted",'Tire Inventory'!$O$5:$O$1004,$A25,'Tire Inventory'!$V$5:$V$1004,"Uneven") | K25: ='Settings'!$H$7 | L25: =COUNTIFS('Tire Inventory'!$J$5:$J$1004,"Mounted",'Tire Inventory'!$M$5:$M$1004,$K25) | M25: =COUNTIFS('Tire Inventory'!$J$5:$J$1004,"Mounted",'Tire Inventory'!$M$5:$M$1004,$K25,'Tire Inventory'!$Z$5:$Z$1004,"Critical") | N25: =COUNTIFS('Tire Inventory'!$J$5:$J$1004,"Mounted",'Tire Inventory'!$M$5:$M$1004,$K25,'Tire Inventory'!$Z$5:$Z$1004,"Attention") | O25: =IFERROR(AVERAGEIFS('Tire Inventory'!$Q$5:$Q$1004,'Tire Inventory'!$J$5:$J$1004,"Mounted",'Tire Inventory'!$M$5:$M$1004,$K25),"") | P25: =COUNTIFS('Tire Inventory'!$J$5:$J$1004,"Mounted",'Tire Inventory'!$M$5:$M$1004,$K25,'Tire Inventory'!$Y$5:$Y$1004,"Overdue")
A26: Other | B26: =COUNTIFS('Tire Inventory'!$J$5:$J$1004,"Mounted",'Tire Inventory'!$O$5:$O$1004,$A26) | C26: =IFERROR(AVERAGEIFS('Tire Inventory'!$Q$5:$Q$1004,'Tire Inventory'!$J$5:$J$1004,"Mounted",'Tire Inventory'!$O$5:$O$1004,$A26),"") | D26: =COUNTIFS('Tire Inventory'!$J$5:$J$1004,"Mounted",'Tire Inventory'!$O$5:$O$1004,$A26,'Tire Inventory'!$U$5:$U$1004,"Critical") | E26: =COUNTIFS('Tire Inventory'!$J$5:$J$1004,"Mounted",'Tire Inventory'!$O$5:$O$1004,$A26,'Tire Inventory'!$U$5:$U$1004,"Low") | F26: =COUNTIFS('Tire Inventory'!$J$5:$J$1004,"Mounted",'Tire Inventory'!$O$5:$O$1004,$A26,'Tire Inventory'!$V$5:$V$1004,"Uneven") | K26: ='Settings'!$H$8 | L26: =COUNTIFS('Tire Inventory'!$J$5:$J$1004,"Mounted",'Tire Inventory'!$M$5:$M$1004,$K26) | M26: =COUNTIFS('Tire Inventory'!$J$5:$J$1004,"Mounted",'Tire Inventory'!$M$5:$M$1004,$K26,'Tire Inventory'!$Z$5:$Z$1004,"Critical") | N26: =COUNTIFS('Tire Inventory'!$J$5:$J$1004,"Mounted",'Tire Inventory'!$M$5:$M$1004,$K26,'Tire Inventory'!$Z$5:$Z$1004,"Attention") | O26: =IFERROR(AVERAGEIFS('Tire Inventory'!$Q$5:$Q$1004,'Tire Inventory'!$J$5:$J$1004,"Mounted",'Tire Inventory'!$M$5:$M$1004,$K26),"") | P26: =COUNTIFS('Tire Inventory'!$J$5:$J$1004,"Mounted",'Tire Inventory'!$M$5:$M$1004,$K26,'Tire Inventory'!$Y$5:$Y$1004,"Overdue")
K27: ='Settings'!$H$9 | L27: =COUNTIFS('Tire Inventory'!$J$5:$J$1004,"Mounted",'Tire Inventory'!$M$5:$M$1004,$K27) | M27: =COUNTIFS('Tire Inventory'!$J$5:$J$1004,"Mounted",'Tire Inventory'!$M$5:$M$1004,$K27,'Tire Inventory'!$Z$5:$Z$1004,"Critical") | N27: =COUNTIFS('Tire Inventory'!$J$5:$J$1004,"Mounted",'Tire Inventory'!$M$5:$M$1004,$K27,'Tire Inventory'!$Z$5:$Z$1004,"Attention") | O27: =IFERROR(AVERAGEIFS('Tire Inventory'!$Q$5:$Q$1004,'Tire Inventory'!$J$5:$J$1004,"Mounted",'Tire Inventory'!$M$5:$M$1004,$K27),"") | P27: =COUNTIFS('Tire Inventory'!$J$5:$J$1004,"Mounted",'Tire Inventory'!$M$5:$M$1004,$K27,'Tire Inventory'!$Y$5:$Y$1004,"Overdue")
K28: ='Settings'!$H$10 | L28: =COUNTIFS('Tire Inventory'!$J$5:$J$1004,"Mounted",'Tire Inventory'!$M$5:$M$1004,$K28) | M28: =COUNTIFS('Tire Inventory'!$J$5:$J$1004,"Mounted",'Tire Inventory'!$M$5:$M$1004,$K28,'Tire Inventory'!$Z$5:$Z$1004,"Critical") | N28: =COUNTIFS('Tire Inventory'!$J$5:$J$1004,"Mounted",'Tire Inventory'!$M$5:$M$1004,$K28,'Tire Inventory'!$Z$5:$Z$1004,"Attention") | O28: =IFERROR(AVERAGEIFS('Tire Inventory'!$Q$5:$Q$1004,'Tire Inventory'!$J$5:$J$1004,"Mounted",'Tire Inventory'!$M$5:$M$1004,$K28),"") | P28: =COUNTIFS('Tire Inventory'!$J$5:$J$1004,"Mounted",'Tire Inventory'!$M$5:$M$1004,$K28,'Tire Inventory'!$Y$5:$Y$1004,"Overdue")
K29: ='Settings'!$H$11 | L29: =COUNTIFS('Tire Inventory'!$J$5:$J$1004,"Mounted",'Tire Inventory'!$M$5:$M$1004,$K29) | M29: =COUNTIFS('Tire Inventory'!$J$5:$J$1004,"Mounted",'Tire Inventory'!$M$5:$M$1004,$K29,'Tire Inventory'!$Z$5:$Z$1004,"Critical") | N29: =COUNTIFS('Tire Inventory'!$J$5:$J$1004,"Mounted",'Tire Inventory'!$M$5:$M$1004,$K29,'Tire Inventory'!$Z$5:$Z$1004,"Attention") | O29: =IFERROR(AVERAGEIFS('Tire Inventory'!$Q$5:$Q$1004,'Tire Inventory'!$J$5:$J$1004,"Mounted",'Tire Inventory'!$M$5:$M$1004,$K29),"") | P29: =COUNTIFS('Tire Inventory'!$J$5:$J$1004,"Mounted",'Tire Inventory'!$M$5:$M$1004,$K29,'Tire Inventory'!$Y$5:$Y$1004,"Overdue")
K30: ='Settings'!$H$12 | L30: =COUNTIFS('Tire Inventory'!$J$5:$J$1004,"Mounted",'Tire Inventory'!$M$5:$M$1004,$K30) | M30: =COUNTIFS('Tire Inventory'!$J$5:$J$1004,"Mounted",'Tire Inventory'!$M$5:$M$1004,$K30,'Tire Inventory'!$Z$5:$Z$1004,"Critical") | N30: =COUNTIFS('Tire Inventory'!$J$5:$J$1004,"Mounted",'Tire Inventory'!$M$5:$M$1004,$K30,'Tire Inventory'!$Z$5:$Z$1004,"Attention") | O30: =IFERROR(AVERAGEIFS('Tire Inventory'!$Q$5:$Q$1004,'Tire Inventory'!$J$5:$J$1004,"Mounted",'Tire Inventory'!$M$5:$M$1004,$K30),"") | P30: =COUNTIFS('Tire Inventory'!$J$5:$J$1004,"Mounted",'Tire Inventory'!$M$5:$M$1004,$K30,'Tire Inventory'!$Y$5:$Y$1004,"Overdue")
A31: Tire ID | B31: Vehicle/Unit | C31: Position | D31: Minimum Tread (32nds) | E31: Tread Status | F31: Pressure Status | G31: Inspection Status | H31: Recommended Action | I31: Last Inspection | K31: ='Settings'!$H$13 | L31: =COUNTIFS('Tire Inventory'!$J$5:$J$1004,"Mounted",'Tire Inventory'!$M$5:$M$1004,$K31) | M31: =COUNTIFS('Tire Inventory'!$J$5:$J$1004,"Mounted",'Tire Inventory'!$M$5:$M$1004,$K31,'Tire Inventory'!$Z$5:$Z$1004,"Critical") | N31: =COUNTIFS('Tire Inventory'!$J$5:$J$1004,"Mounted",'Tire Inventory'!$M$5:$M$1004,$K31,'Tire Inventory'!$Z$5:$Z$1004,"Attention") | O31: =IFERROR(AVERAGEIFS('Tire Inventory'!$Q$5:$Q$1004,'Tire Inventory'!$J$5:$J$1004,"Mounted",'Tire Inventory'!$M$5:$M$1004,$K31),"") | P31: =COUNTIFS('Tire Inventory'!$J$5:$J$1004,"Mounted",'Tire Inventory'!$M$5:$M$1004,$K31,'Tire Inventory'!$Y$5:$Y$1004,"Overdue")
A32: =IFERROR(INDEX('Tire Inventory'!$A$5:$A$1004,MATCH(SMALL('Tire Inventory'!$AC$5:$AC$1004,ROWS($A$32:A32)),'Tire Inventory'!$AC$5:$AC$1004,0)),"") | B32: =IF($A32="","",IFERROR(INDEX('Tire Inventory'!$M$5:$M$1004,MATCH(SMALL('Tire Inventory'!$AC$5:$AC$1004,ROWS($A$32:A32)),'Tire Inventory'!$AC$5:$AC$1004,0)),"")) | C32: =IF($A32="","",IFERROR(INDEX('Tire Inventory'!$N$5:$N$1004,MATCH(SMALL('Tire Inventory'!$AC$5:$AC$1004,ROWS($A$32:A32)),'Tire Inventory'!$AC$5:$AC$1004,0)),"")) | D32: =IF($A32="","",IFERROR(INDEX('Tire Inventory'!$Q$5:$Q$1004,MATCH(SMALL('Tire Inventory'!$AC$5:$AC$1004,ROWS($A$32:A32)),'Tire Inventory'!$AC$5:$AC$1004,0)),"")) | E32: =IF($A32="","",IFERROR(INDEX('Tire Inventory'!$U$5:$U$1004,MATCH(SMALL('Tire Inventory'!$AC$5:$AC$1004,ROWS($A$32:A32)),'Tire Inventory'!$AC$5:$AC$1004,0)),"")) | F32: =IF($A32="","",IFERROR(INDEX('Tire Inventory'!$W$5:$W$1004,MATCH(SMALL('Tire Inventory'!$AC$5:$AC$1004,ROWS($A$32:A32)),'Tire Inventory'!$AC$5:$AC$1004,0)),"")) | G32: =IF($A32="","",IFERROR(INDEX('Tire Inventory'!$Y$5:$Y$1004,MATCH(SMALL('Tire Inventory'!$AC$5:$AC$1004,ROWS($A$32:A32)),'Tire Inventory'!$AC$5:$AC$1004,0)),"")) | H32: =IF($A32="","",IFERROR(INDEX('Tire Inventory'!$AA$5:$AA$1004,MATCH(SMALL('Tire Inventory'!$AC$5:$AC$1004,ROWS($A$32:A32)),'Tire Inventory'!$AC$5:$AC$1004,0)),"")) | I32: =IF($A32="","",IFERROR(INDEX('Tire Inventory'!$L$5:$L$1004,MATCH(SMALL('Tire Inventory'!$AC$5:$AC$1004,ROWS($A$32:A32)),'Tire Inventory'!$AC$5:$AC$1004,0)),"")) | K32: ='Settings'!$H$14 | L32: =COUNTIFS('Tire Inventory'!$J$5:$J$1004,"Mounted",'Tire Inventory'!$M$5:$M$1004,$K32) | M32: =COUNTIFS('Tire Inventory'!$J$5:$J$1004,"Mounted",'Tire Inventory'!$M$5:$M$1004,$K32,'Tire Inventory'!$Z$5:$Z$1004,"Critical") | N32: =COUNTIFS('Tire Inventory'!$J$5:$J$1004,"Mounted",'Tire Inventory'!$M$5:$M$1004,$K32,'Tire Inventory'!$Z$5:$Z$1004,"Attention") | O32: =IFERROR(AVERAGEIFS('Tire Inventory'!$Q$5:$Q$1004,'Tire Inventory'!$J$5:$J$1004,"Mounted",'Tire Inventory'!$M$5:$M$1004,$K32),"") | P32: =COUNTIFS('Tire Inventory'!$J$5:$J$1004,"Mounted",'Tire Inventory'!$M$5:$M$1004,$K32,'Tire Inventory'!$Y$5:$Y$1004,"Overdue")
A33: =IFERROR(INDEX('Tire Inventory'!$A$5:$A$1004,MATCH(SMALL('Tire Inventory'!$AC$5:$AC$1004,ROWS($A$32:A33)),'Tire Inventory'!$AC$5:$AC$1004,0)),"") | B33: =IF($A33="","",IFERROR(INDEX('Tire Inventory'!$M$5:$M$1004,MATCH(SMALL('Tire Inventory'!$AC$5:$AC$1004,ROWS($A$32:A33)),'Tire Inventory'!$AC$5:$AC$1004,0)),"")) | C33: =IF($A33="","",IFERROR(INDEX('Tire Inventory'!$N$5:$N$1004,MATCH(SMALL('Tire Inventory'!$AC$5:$AC$1004,ROWS($A$32:A33)),'Tire Inventory'!$AC$5:$AC$1004,0)),"")) | D33: =IF($A33="","",IFERROR(INDEX('Tire Inventory'!$Q$5:$Q$1004,MATCH(SMALL('Tire Inventory'!$AC$5:$AC$1004,ROWS($A$32:A33)),'Tire Inventory'!$AC$5:$AC$1004,0)),"")) | E33: =IF($A33="","",IFERROR(INDEX('Tire Inventory'!$U$5:$U$1004,MATCH(SMALL('Tire Inventory'!$AC$5:$AC$1004,ROWS($A$32:A33)),'Tire Inventory'!$AC$5:$AC$1004,0)),"")) | F33: =IF($A33="","",IFERROR(INDEX('Tire Inventory'!$W$5:$W$1004,MATCH(SMALL('Tire Inventory'!$AC$5:$AC$1004,ROWS($A$32:A33)),'Tire Inventory'!$AC$5:$AC$1004,0)),"")) | G33: =IF($A33="","",IFERROR(INDEX('Tire Inventory'!$Y$5:$Y$1004,MATCH(SMALL('Tire Inventory'!$AC$5:$AC$1004,ROWS($A$32:A33)),'Tire Inventory'!$AC$5:$AC$1004,0)),"")) | H33: =IF($A33="","",IFERROR(INDEX('Tire Inventory'!$AA$5:$AA$1004,MATCH(SMALL('Tire Inventory'!$AC$5:$AC$1004,ROWS($A$32:A33)),'Tire Inventory'!$AC$5:$AC$1004,0)),"")) | I33: =IF($A33="","",IFERROR(INDEX('Tire Inventory'!$L$5:$L$1004,MATCH(SMALL('Tire Inventory'!$AC$5:$AC$1004,ROWS($A$32:A33)),'Tire Inventory'!$AC$5:$AC$1004,0)),"")) | K33: ="" | L33: ="" | M33: ="" | N33: ="" | O33: ="" | P33: =""
A34: =IFERROR(INDEX('Tire Inventory'!$A$5:$A$1004,MATCH(SMALL('Tire Inventory'!$AC$5:$AC$1004,ROWS($A$32:A34)),'Tire Inventory'!$AC$5:$AC$1004,0)),"") | B34: =IF($A34="","",IFERROR(INDEX('Tire Inventory'!$M$5:$M$1004,MATCH(SMALL('Tire Inventory'!$AC$5:$AC$1004,ROWS($A$32:A34)),'Tire Inventory'!$AC$5:$AC$1004,0)),"")) | C34: =IF($A34="","",IFERROR(INDEX('Tire Inventory'!$N$5:$N$1004,MATCH(SMALL('Tire Inventory'!$AC$5:$AC$1004,ROWS($A$32:A34)),'Tire Inventory'!$AC$5:$AC$1004,0)),"")) | D34: =IF($A34="","",IFERROR(INDEX('Tire Inventory'!$Q$5:$Q$1004,MATCH(SMALL('Tire Inventory'!$AC$5:$AC$1004,ROWS($A$32:A34)),'Tire Inventory'!$AC$5:$AC$1004,0)),"")) | E34: =IF($A34="","",IFERROR(INDEX('Tire Inventory'!$U$5:$U$1004,MATCH(SMALL('Tire Inventory'!$AC$5:$AC$1004,ROWS($A$32:A34)),'Tire Inventory'!$AC$5:$AC$1004,0)),"")) | F34: =IF($A34="","",IFERROR(INDEX('Tire Inventory'!$W$5:$W$1004,MATCH(SMALL('Tire Inventory'!$AC$5:$AC$1004,ROWS($A$32:A34)),'Tire Inventory'!$AC$5:$AC$1004,0)),"")) | G34: =IF($A34="","",IFERROR(INDEX('Tire Inventory'!$Y$5:$Y$1004,MATCH(SMALL('Tire Inventory'!$AC$5:$AC$1004,ROWS($A$32:A34)),'Tire Inventory'!$AC$5:$AC$1004,0)),"")) | H34: =IF($A34="","",IFERROR(INDEX('Tire Inventory'!$AA$5:$AA$1004,MATCH(SMALL('Tire Inventory'!$AC$5:$AC$1004,ROWS($A$32:A34)),'Tire Inventory'!$AC$5:$AC$1004,0)),"")) | I34: =IF($A34="","",IFERROR(INDEX('Tire Inventory'!$L$5:$L$1004,MATCH(SMALL('Tire Inventory'!$AC$5:$AC$1004,ROWS($A$32:A34)),'Tire Inventory'!$AC$5:$AC$1004,0)),"")) | K34: ="" | L34: ="" | M34: ="" | N34: ="" | O34: ="" | P34: =""
A35: =IFERROR(INDEX('Tire Inventory'!$A$5:$A$1004,MATCH(SMALL('Tire Inventory'!$AC$5:$AC$1004,ROWS($A$32:A35)),'Tire Inventory'!$AC$5:$AC$1004,0)),"") | B35: =IF($A35="","",IFERROR(INDEX('Tire Inventory'!$M$5:$M$1004,MATCH(SMALL('Tire Inventory'!$AC$5:$AC$1004,ROWS($A$32:A35)),'Tire Inventory'!$AC$5:$AC$1004,0)),"")) | C35: =IF($A35="","",IFERROR(INDEX('Tire Inventory'!$N$5:$N$1004,MATCH(SMALL('Tire Inventory'!$AC$5:$AC$1004,ROWS($A$32:A35)),'Tire Inventory'!$AC$5:$AC$1004,0)),"")) | D35: =IF($A35="","",IFERROR(INDEX('Tire Inventory'!$Q$5:$Q$1004,MATCH(SMALL('Tire Inventory'!$AC$5:$AC$1004,ROWS($A$32:A35)),'Tire Inventory'!$AC$5:$AC$1004,0)),"")) | E35: =IF($A35="","",IFERROR(INDEX('Tire Inventory'!$U$5:$U$1004,MATCH(SMALL('Tire Inventory'!$AC$5:$AC$1004,ROWS($A$32:A35)),'Tire Inventory'!$AC$5:$AC$1004,0)),"")) | F35: =IF($A35="","",IFERROR(INDEX('Tire Inventory'!$W$5:$W$1004,MATCH(SMALL('Tire Inventory'!$AC$5:$AC$1004,ROWS($A$32:A35)),'Tire Inventory'!$AC$5:$AC$1004,0)),"")) | G35: =IF($A35="","",IFERROR(INDEX('Tire Inventory'!$Y$5:$Y$1004,MATCH(SMALL('Tire Inventory'!$AC$5:$AC$1004,ROWS($A$32:A35)),'Tire Inventory'!$AC$5:$AC$1004,0)),"")) | H35: =IF($A35="","",IFERROR(INDEX('Tire Inventory'!$AA$5:$AA$1004,MATCH(SMALL('Tire Inventory'!$AC$5:$AC$1004,ROWS($A$32:A35)),'Tire Inventory'!$AC$5:$AC$1004,0)),"")) | I35: =IF($A35="","",IFERROR(INDEX('Tire Inventory'!$L$5:$L$1004,MATCH(SMALL('Tire Inventory'!$AC$5:$AC$1004,ROWS($A$32:A35)),'Tire Inventory'!$AC$5:$AC$1004,0)),"")) | K35: ="" | L35: ="" | M35: ="" | N35: ="" | O35: ="" | P35: =""
A36: =IFERROR(INDEX('Tire Inventory'!$A$5:$A$1004,MATCH(SMALL('Tire Inventory'!$AC$5:$AC$1004,ROWS($A$32:A36)),'Tire Inventory'!$AC$5:$AC$1004,0)),"") | B36: =IF($A36="","",IFERROR(INDEX('Tire Inventory'!$M$5:$M$1004,MATCH(SMALL('Tire Inventory'!$AC$5:$AC$1004,ROWS($A$32:A36)),'Tire Inventory'!$AC$5:$AC$1004,0)),"")) | C36: =IF($A36="","",IFERROR(INDEX('Tire Inventory'!$N$5:$N$1004,MATCH(SMALL('Tire Inventory'!$AC$5:$AC$1004,ROWS($A$32:A36)),'Tire Inventory'!$AC$5:$AC$1004,0)),"")) | D36: =IF($A36="","",IFERROR(INDEX('Tire Inventory'!$Q$5:$Q$1004,MATCH(SMALL('Tire Inventory'!$AC$5:$AC$1004,ROWS($A$32:A36)),'Tire Inventory'!$AC$5:$AC$1004,0)),"")) | E36: =IF($A36="","",IFERROR(INDEX('Tire Inventory'!$U$5:$U$1004,MATCH(SMALL('Tire Inventory'!$AC$5:$AC$1004,ROWS($A$32:A36)),'Tire Inventory'!$AC$5:$AC$1004,0)),"")) | F36: =IF($A36="","",IFERROR(INDEX('Tire Inventory'!$W$5:$W$1004,MATCH(SMALL('Tire Inventory'!$AC$5:$AC$1004,ROWS($A$32:A36)),'Tire Inventory'!$AC$5:$AC$1004,0)),"")) | G36: =IF($A36="","",IFERROR(INDEX('Tire Inventory'!$Y$5:$Y$1004,MATCH(SMALL('Tire Inventory'!$AC$5:$AC$1004,ROWS($A$32:A36)),'Tire Inventory'!$AC$5:$AC$1004,0)),"")) | H36: =IF($A36="","",IFERROR(INDEX('Tire Inventory'!$AA$5:$AA$1004,MATCH(SMALL('Tire Inventory'!$AC$5:$AC$1004,ROWS($A$32:A36)),'Tire Inventory'!$AC$5:$AC$1004,0)),"")) | I36: =IF($A36="","",IFERROR(INDEX('Tire Inventory'!$L$5:$L$1004,MATCH(SMALL('Tire Inventory'!$AC$5:$AC$1004,ROWS($A$32:A36)),'Tire Inventory'!$AC$5:$AC$1004,0)),"")) | K36: ="" | L36: ="" | M36: ="" | N36: ="" | O36: ="" | P36: =""
A37: =IFERROR(INDEX('Tire Inventory'!$A$5:$A$1004,MATCH(SMALL('Tire Inventory'!$AC$5:$AC$1004,ROWS($A$32:A37)),'Tire Inventory'!$AC$5:$AC$1004,0)),"") | B37: =IF($A37="","",IFERROR(INDEX('Tire Inventory'!$M$5:$M$1004,MATCH(SMALL('Tire Inventory'!$AC$5:$AC$1004,ROWS($A$32:A37)),'Tire Inventory'!$AC$5:$AC$1004,0)),"")) | C37: =IF($A37="","",IFERROR(INDEX('Tire Inventory'!$N$5:$N$1004,MATCH(SMALL('Tire Inventory'!$AC$5:$AC$1004,ROWS($A$32:A37)),'Tire Inventory'!$AC$5:$AC$1004,0)),"")) | D37: =IF($A37="","",IFERROR(INDEX('Tire Inventory'!$Q$5:$Q$1004,MATCH(SMALL('Tire Inventory'!$AC$5:$AC$1004,ROWS($A$32:A37)),'Tire Inventory'!$AC$5:$AC$1004,0)),"")) | E37: =IF($A37="","",IFERROR(INDEX('Tire Inventory'!$U$5:$U$1004,MATCH(SMALL('Tire Inventory'!$AC$5:$AC$1004,ROWS($A$32:A37)),'Tire Inventory'!$AC$5:$AC$1004,0)),"")) | F37: =IF($A37="","",IFERROR(INDEX('Tire Inventory'!$W$5:$W$1004,MATCH(SMALL('Tire Inventory'!$AC$5:$AC$1004,ROWS($A$32:A37)),'Tire Inventory'!$AC$5:$AC$1004,0)),"")) | G37: =IF($A37="","",IFERROR(INDEX('Tire Inventory'!$Y$5:$Y$1004,MATCH(SMALL('Tire Inventory'!$AC$5:$AC$1004,ROWS($A$32:A37)),'Tire Inventory'!$AC$5:$AC$1004,0)),"")) | H37: =IF($A37="","",IFERROR(INDEX('Tire Inventory'!$AA$5:$AA$1004,MATCH(SMALL('Tire Inventory'!$AC$5:$AC$1004,ROWS($A$32:A37)),'Tire Inventory'!$AC$5:$AC$1004,0)),"")) | I37: =IF($A37="","",IFERROR(INDEX('Tire Inventory'!$L$5:$L$1004,MATCH(SMALL('Tire Inventory'!$AC$5:$AC$1004,ROWS($A$32:A37)),'Tire Inventory'!$AC$5:$AC$1004,0)),"")) | K37: ="" | L37: ="" | M37: ="" | N37: ="" | O37: ="" | P37: =""
A38: =IFERROR(INDEX('Tire Inventory'!$A$5:$A$1004,MATCH(SMALL('Tire Inventory'!$AC$5:$AC$1004,ROWS($A$32:A38)),'Tire Inventory'!$AC$5:$AC$1004,0)),"") | B38: =IF($A38="","",IFERROR(INDEX('Tire Inventory'!$M$5:$M$1004,MATCH(SMALL('Tire Inventory'!$AC$5:$AC$1004,ROWS($A$32:A38)),'Tire Inventory'!$AC$5:$AC$1004,0)),"")) | C38: =IF($A38="","",IFERROR(INDEX('Tire Inventory'!$N$5:$N$1004,MATCH(SMALL('Tire Inventory'!$AC$5:$AC$1004,ROWS($A$32:A38)),'Tire Inventory'!$AC$5:$AC$1004,0)),"")) | D38: =IF($A38="","",IFERROR(INDEX('Tire Inventory'!$Q$5:$Q$1004,MATCH(SMALL('Tire Inventory'!$AC$5:$AC$1004,ROWS($A$32:A38)),'Tire Inventory'!$AC$5:$AC$1004,0)),"")) | E38: =IF($A38="","",IFERROR(INDEX('Tire Inventory'!$U$5:$U$1004,MATCH(SMALL('Tire Inventory'!$AC$5:$AC$1004,ROWS($A$32:A38)),'Tire Inventory'!$AC$5:$AC$1004,0)),"")) | F38: =IF($A38="","",IFERROR(INDEX('Tire Inventory'!$W$5:$W$1004,MATCH(SMALL('Tire Inventory'!$AC$5:$AC$1004,ROWS($A$32:A38)),'Tire Inventory'!$AC$5:$AC$1004,0)),"")) | G38: =IF($A38="","",IFERROR(INDEX('Tire Inventory'!$Y$5:$Y$1004,MATCH(SMALL('Tire Inventory'!$AC$5:$AC$1004,ROWS($A$32:A38)),'Tire Inventory'!$AC$5:$AC$1004,0)),"")) | H38: =IF($A38="","",IFERROR(INDEX('Tire Inventory'!$AA$5:$AA$1004,MATCH(SMALL('Tire Inventory'!$AC$5:$AC$1004,ROWS($A$32:A38)),'Tire Inventory'!$AC$5:$AC$1004,0)),"")) | I38: =IF($A38="","",IFERROR(INDEX('Tire Inventory'!$L$5:$L$1004,MATCH(SMALL('Tire Inventory'!$AC$5:$AC$1004,ROWS($A$32:A38)),'Tire Inventory'!$AC$5:$AC$1004,0)),"")) | K38: ="" | L38: ="" | M38: ="" | N38: ="" | O38: ="" | P38: =""
A39: =IFERROR(INDEX('Tire Inventory'!$A$5:$A$1004,MATCH(SMALL('Tire Inventory'!$AC$5:$AC$1004,ROWS($A$32:A39)),'Tire Inventory'!$AC$5:$AC$1004,0)),"") | B39: =IF($A39="","",IFERROR(INDEX('Tire Inventory'!$M$5:$M$1004,MATCH(SMALL('Tire Inventory'!$AC$5:$AC$1004,ROWS($A$32:A39)),'Tire Inventory'!$AC$5:$AC$1004,0)),"")) | C39: =IF($A39="","",IFERROR(INDEX('Tire Inventory'!$N$5:$N$1004,MATCH(SMALL('Tire Inventory'!$AC$5:$AC$1004,ROWS($A$32:A39)),'Tire Inventory'!$AC$5:$AC$1004,0)),"")) | D39: =IF($A39="","",IFERROR(INDEX('Tire Inventory'!$Q$5:$Q$1004,MATCH(SMALL('Tire Inventory'!$AC$5:$AC$1004,ROWS($A$32:A39)),'Tire Inventory'!$AC$5:$AC$1004,0)),"")) | E39: =IF($A39="","",IFERROR(INDEX('Tire Inventory'!$U$5:$U$1004,MATCH(SMALL('Tire Inventory'!$AC$5:$AC$1004,ROWS($A$32:A39)),'Tire Inventory'!$AC$5:$AC$1004,0)),"")) | F39: =IF($A39="","",IFERROR(INDEX('Tire Inventory'!$W$5:$W$1004,MATCH(SMALL('Tire Inventory'!$AC$5:$AC$1004,ROWS($A$32:A39)),'Tire Inventory'!$AC$5:$AC$1004,0)),"")) | G39: =IF($A39="","",IFERROR(INDEX('Tire Inventory'!$Y$5:$Y$1004,MATCH(SMALL('Tire Inventory'!$AC$5:$AC$1004,ROWS($A$32:A39)),'Tire Inventory'!$AC$5:$AC$1004,0)),"")) | H39: =IF($A39="","",IFERROR(INDEX('Tire Inventory'!$AA$5:$AA$1004,MATCH(SMALL('Tire Inventory'!$AC$5:$AC$1004,ROWS($A$32:A39)),'Tire Inventory'!$AC$5:$AC$1004,0)),"")) | I39: =IF($A39="","",IFERROR(INDEX('Tire Inventory'!$L$5:$L$1004,MATCH(SMALL('Tire Inventory'!$AC$5:$AC$1004,ROWS($A$32:A39)),'Tire Inventory'!$AC$5:$AC$1004,0)),"")) | K39: ="" | L39: ="" | M39: ="" | N39: ="" | O39: ="" | P39: =""
A40: ="" | B40: ="" | C40: ="" | D40: ="" | E40: ="" | F40: ="" | G40: ="" | H40: ="" | I40: ="" | K40: ="" | L40: ="" | M40: ="" | N40: ="" | O40: ="" | P40: =""
A41: ="" | B41: ="" | C41: ="" | D41: ="" | E41: ="" | F41: ="" | G41: ="" | H41: ="" | I41: ="" | K41: ="" | L41: ="" | M41: ="" | N41: ="" | O41: ="" | P41: =""
A42: ="" | B42: ="" | C42: ="" | D42: ="" | E42: ="" | F42: ="" | G42: ="" | H42: ="" | I42: ="" | K42: ="" | L42: ="" | M42: ="" | N42: ="" | O42: ="" | P42: =""
A43: ="" | B43: ="" | C43: ="" | D43: ="" | E43: ="" | F43: ="" | G43: ="" | H43: ="" | I43: ="" | K43: ="" | L43: ="" | M43: ="" | N43: ="" | O43: ="" | P43: =""
A44: ="" | B44: ="" | C44: ="" | D44: ="" | E44: ="" | F44: ="" | G44: ="" | H44: ="" | I44: ="" | K44: ="" | L44: ="" | M44: ="" | N44: ="" | O44: ="" | P44: =""
A45: ="" | B45: ="" | C45: ="" | D45: ="" | E45: ="" | F45: ="" | G45: ="" | H45: ="" | I45: ="" | K45: ="" | L45: ="" | M45: ="" | N45: ="" | O45: ="" | P45: =""
A46: ="" | B46: ="" | C46: ="" | D46: ="" | E46: ="" | F46: ="" | G46: ="" | H46: ="" | I46: ="" | K46: ="" | L46: ="" | M46: ="" | N46: ="" | O46: ="" | P46: =""
A47: ="" | B47: ="" | C47: ="" | D47: ="" | E47: ="" | F47: ="" | G47: ="" | H47: ="" | I47: ="" | K47: ="" | L47: ="" | M47: ="" | N47: ="" | O47: ="" | P47: =""
A48: ="" | B48: ="" | C48: ="" | D48: ="" | E48: ="" | F48: ="" | G48: ="" | H48: ="" | I48: ="" | K48: ="" | L48: ="" | M48: ="" | N48: ="" | O48: ="" | P48: =""
A49: ="" | B49: ="" | C49: ="" | D49: ="" | E49: ="" | F49: ="" | G49: ="" | H49: ="" | I49: ="" | K49: ="" | L49: ="" | M49: ="" | N49: ="" | O49: ="" | P49: =""
...

Sheet Tire Inspections
A1: Tire Inspection History
A2: Enter one row per tire and position inspected. Blue cells are inputs; gray cells are calculated.
A4: Inspection ID | B4: Inspection Date | C4: Vehicle/Unit | D4: Odometer (miles) | E4: Tire ID | F4: Position | G4: Inspector | H4: Location | I4: Outer Tread (32nds) | J4: Center Tread (32nds) | K4: Inner Tread (32nds) | L4: Measured PSI | M4: Visual Condition | N4: Action Taken | O4: Notes | P4: Position Group | Q4: Average Tread (32nds) | R4: Minimum Tread (32nds) | S4: Wear Spread (32nds) | T4: Target PSI | U4: Pressure Variance (PSI) | V4: Tread Status | W4: Wear Status | X4: Pressure Status | Y4: Row Check
A5: INS-0001 | B5: 46228 | C5: TRK-101 | D5: 84520 | E5: T-1003 | F5: Left Rear Outer | G5: Maria Lopez | H5: Dallas Yard | I5: 7 | J5: 6 | K5: 5 | L5: 92 | M5: Irregular Wear | N5: None | O5: Initial wear trend observed | P5: =IF($A5="","",IFERROR(INDEX('Settings'!$F$5:$F$21,MATCH($F5,'Settings'!$E$5:$E$21,0)),"Other")) | Q5: =IF($A5="","",IF(COUNT($I5,$J5,$K5)<3,"",IFERROR(AVERAGE($I5,$J5,$K5),""))) | R5: =IF($A5="","",IF(COUNT($I5,$J5,$K5)<3,"",IFERROR(MIN($I5,$J5,$K5),""))) | S5: =IF($A5="","",IF(COUNT($I5,$J5,$K5)<3,"",IFERROR(MAX($I5,$J5,$K5)-MIN($I5,$J5,$K5),""))) | T5: =IF($A5="","",IFERROR(INDEX('Tire Inventory'!$I$5:$I$1004,MATCH($E5,'Tire Inventory'!$A$5:$A$1004,0)),"")) | U5: =IF($A5="","",IF(OR($L5="",$T5=""),"",IFERROR($L5-$T5,""))) | V5: =IF($A5="","",IF($R5="","No Data",IF($R5<='Settings'!$B$6,"Critical",IF($R5<='Settings'!$B$5,"Low","OK")))) | W5: =IF($A5="","",IF($S5="","No Data",IF($S5>='Settings'!$B$7,"Uneven","OK"))) | X5: =IF($A5="","",IF(OR($L5="",$T5=""),"No Data",IF($L5<$T5-'Settings'!$B$8,"Low",IF($L5>$T5+'Settings'!$B$8,"High","OK")))) | Y5: =IF(COUNTA($A5:$O5)=0,"",IF(OR($A5="",$B5="",$C5="",$D5="",$E5="",$F5="",$I5="",$J5="",$K5=""),"Missing Required Input",IF(COUNTIF($A$5:$A$1004,$A5)>1,"Duplicate Inspection ID",IF(COUNTIF('Tire Inventory'!$A$5:$A$1004,$E5)=0,"Unknown Tire ID",IF(OR($I5<0,$I5>32,$J5<0,$J5>32,$K5<0,$K5>32),"Check Tread Reading",IF(OR($D5<0,$D5>2000000),"Check Odometer",IF(AND($L5<>"",OR($L5<0,$L5>150)),"Check PSI","OK"))))))
A6: INS-0002 | B6: 46231 | C6: TRK-101 | D6: 84760 | E6: T-1004 | F6: Right Rear Outer | G6: Kevin Brooks | H6: Dallas Yard | I6: 4 | J6: 3 | K6: 3 | L6: 88 | M6: Irregular Wear | N6: None | O6: Recheck at next service | P6: =IF($A6="","",IFERROR(INDEX('Settings'!$F$5:$F$21,MATCH($F6,'Settings'!$E$5:$E$21,0)),"Other")) | Q6: =IF($A6="","",IF(COUNT($I6,$J6,$K6)<3,"",IFERROR(AVERAGE($I6,$J6,$K6),""))) | R6: =IF($A6="","",IF(COUNT($I6,$J6,$K6)<3,"",IFERROR(MIN($I6,$J6,$K6),""))) | S6: =IF($A6="","",IF(COUNT($I6,$J6,$K6)<3,"",IFERROR(MAX($I6,$J6,$K6)-MIN($I6,$J6,$K6),""))) | T6: =IF($A6="","",IFERROR(INDEX('Tire Inventory'!$I$5:$I$1004,MATCH($E6,'Tire Inventory'!$A$5:$A$1004,0)),"")) | U6: =IF($A6="","",IF(OR($L6="",$T6=""),"",IFERROR($L6-$T6,""))) | V6: =IF($A6="","",IF($R6="","No Data",IF($R6<='Settings'!$B$6,"Critical",IF($R6<='Settings'!$B$5,"Low","OK")))) | W6: =IF($A6="","",IF($S6="","No Data",IF($S6>='Settings'!$B$7,"Uneven","OK"))) | X6: =IF($A6="","",IF(OR($L6="",$T6=""),"No Data",IF($L6<$T6-'Settings'!$B$8,"Low",IF($L6>$T6+'Settings'!$B$8,"High","OK")))) | Y6: =IF(COUNTA($A6:$O6)=0,"",IF(OR($A6="",$B6="",$C6="",$D6="",$E6="",$F6="",$I6="",$J6="",$K6=""),"Missing Required Input",IF(COUNTIF($A$5:$A$1004,$A6)>1,"Duplicate Inspection ID",IF(COUNTIF('Tire Inventory'!$A$5:$A$1004,$E6)=0,"Unknown Tire ID",IF(OR($I6<0,$I6>32,$J6<0,$J6>32,$K6<0,$K6>32),"Check Tread Reading",IF(OR($D6<0,$D6>2000000),"Check Odometer",IF(AND($L6<>"",OR($L6<0,$L6>150)),"Check PSI","OK"))))))
A7: INS-0003 | B7: 46240 | C7: TRK-102 | D7: 42940 | E7: T-1005 | F7: Left Front | G7: Dana Hill | H7: Fort Worth Yard | I7: 9 | J7: 9 | K7: 9 | L7: 35 | M7: Good | N7: None | O7: Routine inspection | P7: =IF($A7="","",IFERROR(INDEX('Settings'!$F$5:$F$21,MATCH($F7,'Settings'!$E$5:$E$21,0)),"Other")) | Q7: =IF($A7="","",IF(COUNT($I7,$J7,$K7)<3,"",IFERROR(AVERAGE($I7,$J7,$K7),""))) | R7: =IF($A7="","",IF(COUNT($I7,$J7,$K7)<3,"",IFERROR(MIN($I7,$J7,$K7),""))) | S7: =IF($A7="","",IF(COUNT($I7,$J7,$K7)<3,"",IFERROR(MAX($I7,$J7,$K7)-MIN($I7,$J7,$K7),""))) | T7: =IF($A7="","",IFERROR(INDEX('Tire Inventory'!$I$5:$I$1004,MATCH($E7,'Tire Inventory'!$A$5:$A$1004,0)),"")) | U7: =IF($A7="","",IF(OR($L7="",$T7=""),"",IFERROR($L7-$T7,""))) | V7: =IF($A7="","",IF($R7="","No Data",IF($R7<='Settings'!$B$6,"Critical",IF($R7<='Settings'!$B$5,"Low","OK")))) | W7: =IF($A7="","",IF($S7="","No Data",IF($S7>='Settings'!$B$7,"Uneven","OK"))) | X7: =IF($A7="","",IF(OR($L7="",$T7=""),"No Data",IF($L7<$T7-'Settings'!$B$8,"Low",IF($L7>$T7+'Settings'!$B$8,"High","OK")))) | Y7: =IF(COUNTA($A7:$O7)=0,"",IF(OR($A7="",$B7="",$C7="",$D7="",$E7="",$F7="",$I7="",$J7="",$K7=""),"Missing Required Input",IF(COUNTIF($A$5:$A$1004,$A7)>1,"Duplicate Inspection ID",IF(COUNTIF('Tire Inventory'!$A$5:$A$1004,$E7)=0,"Unknown Tire ID",IF(OR($I7<0,$I7>32,$J7<0,$J7>32,$K7<0,$K7>32),"Check Tread Reading",IF(OR($D7<0,$D7>2000000),"Check Odometer",IF(AND($L7<>"",OR($L7<0,$L7>150)),"Check PSI","OK"))))))
A8: INS-0004 | B8: 46251 | C8: TRL-201 | D8: 126440 | E8: T-1007 | F8: Axle 1 Left Outer | G8: Maria Lopez | H8: Dallas Yard | I8: 8 | J8: 5 | K8: 4 | L8: 94 | M8: Irregular Wear | N8: None | O8: Check alignment and suspension | P8: =IF($A8="","",IFERROR(INDEX('Settings'!$F$5:$F$21,MATCH($F8,'Settings'!$E$5:$E$21,0)),"Other")) | Q8: =IF($A8="","",IF(COUNT($I8,$J8,$K8)<3,"",IFERROR(AVERAGE($I8,$J8,$K8),""))) | R8: =IF($A8="","",IF(COUNT($I8,$J8,$K8)<3,"",IFERROR(MIN($I8,$J8,$K8),""))) | S8: =IF($A8="","",IF(COUNT($I8,$J8,$K8)<3,"",IFERROR(MAX($I8,$J8,$K8)-MIN($I8,$J8,$K8),""))) | T8: =IF($A8="","",IFERROR(INDEX('Tire Inventory'!$I$5:$I$1004,MATCH($E8,'Tire Inventory'!$A$5:$A$1004,0)),"")) | U8: =IF($A8="","",IF(OR($L8="",$T8=""),"",IFERROR($L8-$T8,""))) | V8: =IF($A8="","",IF($R8="","No Data",IF($R8<='Settings'!$B$6,"Critical",IF($R8<='Settings'!$B$5,"Low","OK")))) | W8: =IF($A8="","",IF($S8="","No Data",IF($S8>='Settings'!$B$7,"Uneven","OK"))) | X8: =IF($A8="","",IF(OR($L8="",$T8=""),"No Data",IF($L8<$T8-'Settings'!$B$8,"Low",IF($L8>$T8+'Settings'!$B$8,"High","OK")))) | Y8: =IF(COUNTA($A8:$O8)=0,"",IF(OR($A8="",$B8="",$C8="",$D8="",$E8="",$F8="",$I8="",$J8="",$K8=""),"Missing Required Input",IF(COUNTIF($A$5:$A$1004,$A8)>1,"Duplicate Inspection ID",IF(COUNTIF('Tire Inventory'!$A$5:$A$1004,$E8)=0,"Unknown Tire ID",IF(OR($I8<0,$I8>32,$J8<0,$J8>32,$K8<0,$K8>32),"Check Tread Reading",IF(OR($D8<0,$D8>2000000),"Check Odometer",IF(AND($L8<>"",OR($L8<0,$L8>150)),"Check PSI","OK"))))))
A9: INS-0005 | B9: 46261 | C9: TRK-101 | D9: 85880 | E9: T-1001 | F9: Left Front | G9: Kevin Brooks | H9: Dallas Yard | I9: 12 | J9: 12 | K9: 11 | L9: 105 | M9: Good | N9: None | O9: No visible damage | P9: =IF($A9="","",IFERROR(INDEX('Settings'!$F$5:$F$21,MATCH($F9,'Settings'!$E$5:$E$21,0)),"Other")) | Q9: =IF($A9="","",IF(COUNT($I9,$J9,$K9)<3,"",IFERROR(AVERAGE($I9,$J9,$K9),""))) | R9: =IF($A9="","",IF(COUNT($I9,$J9,$K9)<3,"",IFERROR(MIN($I9,$J9,$K9),""))) | S9: =IF($A9="","",IF(COUNT($I9,$J9,$K9)<3,"",IFERROR(MAX($I9,$J9,$K9)-MIN($I9,$J9,$K9),""))) | T9: =IF($A9="","",IFERROR(INDEX('Tire Inventory'!$I$5:$I$1004,MATCH($E9,'Tire Inventory'!$A$5:$A$1004,0)),"")) | U9: =IF($A9="","",IF(OR($L9="",$T9=""),"",IFERROR($L9-$T9,""))) | V9: =IF($A9="","",IF($R9="","No Data",IF($R9<='Settings'!$B$6,"Critical",IF($R9<='Settings'!$B$5,"Low","OK")))) | W9: =IF($A9="","",IF($S9="","No Data",IF($S9>='Settings'!$B$7,"Uneven","OK"))) | X9: =IF($A9="","",IF(OR($L9="",$T9=""),"No Data",IF($L9<$T9-'Settings'!$B$8,"Low",IF($L9>$T9+'Settings'!$B$8,"High","OK")))) | Y9: =IF(COUNTA($A9:$O9)=0,"",IF(OR($A9="",$B9="",$C9="",$D9="",$E9="",$F9="",$I9="",$J9="",$K9=""),"Missing Required Input",IF(COUNTIF($A$5:$A$1004,$A9)>1,"Duplicate Inspection ID",IF(COUNTIF('Tire Inventory'!$A$5:$A$1004,$E9)=0,"Unknown Tire ID",IF(OR($I9<0,$I9>32,$J9<0,$J9>32,$K9<0,$K9>32),"Check Tread Reading",IF(OR($D9<0,$D9>2000000),"Check Odometer",IF(AND($L9<>"",OR($L9<0,$L9>150)),"Check PSI","OK"))))))
A10: INS-0006 | B10: 46264 | C10: TRK-101 | D10: 86030 | E10: T-1002 | F10: Right Front | G10: Kevin Brooks | H10: Dallas Yard | I10: 10 | J10: 9 | K10: 8 | L10: 98 | M10: Good | N10: None | O10: Pressure follow-up needed | P10: =IF($A10="","",IFERROR(INDEX('Settings'!$F$5:$F$21,MATCH($F10,'Settings'!$E$5:$E$21,0)),"Other")) | Q10: =IF($A10="","",IF(COUNT($I10,$J10,$K10)<3,"",IFERROR(AVERAGE($I10,$J10,$K10),""))) | R10: =IF($A10="","",IF(COUNT($I10,$J10,$K10)<3,"",IFERROR(MIN($I10,$J10,$K10),""))) | S10: =IF($A10="","",IF(COUNT($I10,$J10,$K10)<3,"",IFERROR(MAX($I10,$J10,$K10)-MIN($I10,$J10,$K10),""))) | T10: =IF($A10="","",IFERROR(INDEX('Tire Inventory'!$I$5:$I$1004,MATCH($E10,'Tire Inventory'!$A$5:$A$1004,0)),"")) | U10: =IF($A10="","",IF(OR($L10="",$T10=""),"",IFERROR($L10-$T10,""))) | V10: =IF($A10="","",IF($R10="","No Data",IF($R10<='Settings'!$B$6,"Critical",IF($R10<='Settings'!$B$5,"Low","OK")))) | W10: =IF($A10="","",IF($S10="","No Data",IF($S10>='Settings'!$B$7,"Uneven","OK"))) | X10: =IF($A10="","",IF(OR($L10="",$T10=""),"No Data",IF($L10<$T10-'Settings'!$B$8,"Low",IF($L10>$T10+'Settings'!$B$8,"High","OK")))) | Y10: =IF(COUNTA($A10:$O10)=0,"",IF(OR($A10="",$B10="",$C10="",$D10="",$E10="",$F10="",$I10="",$J10="",$K10=""),"Missing Required Input",IF(COUNTIF($A$5:$A$1004,$A10)>1,"Duplicate Inspection ID",IF(COUNTIF('Tire Inventory'!$A$5:$A$1004,$E10)=0,"Unknown Tire ID",IF(OR($I10<0,$I10>32,$J10<0,$J10>32,$K10<0,$K10>32),"Check Tread Reading",IF(OR($D10<0,$D10>2000000),"Check Odometer",IF(AND($L10<>"",OR($L10<0,$L10>150)),"Check PSI","OK"))))))
A11: INS-0007 | B11: 46265 | C11: TRK-101 | D11: 86140 | E11: T-1003 | F11: Left Rear Outer | G11: Maria Lopez | H11: Dallas Yard | I11: 6 | J11: 5 | K11: 4 | L11: 90 | M11: Irregular Wear | N11: Scheduled Replacement | O11: Monitor until service appointment | P11: =IF($A11="","",IFERROR(INDEX('Settings'!$F$5:$F$21,MATCH($F11,'Settings'!$E$5:$E$21,0)),"Other")) | Q11: =IF($A11="","",IF(COUNT($I11,$J11,$K11)<3,"",IFERROR(AVERAGE($I11,$J11,$K11),""))) | R11: =IF($A11="","",IF(COUNT($I11,$J11,$K11)<3,"",IFERROR(MIN($I11,$J11,$K11),""))) | S11: =IF($A11="","",IF(COUNT($I11,$J11,$K11)<3,"",IFERROR(MAX($I11,$J11,$K11)-MIN($I11,$J11,$K11),""))) | T11: =IF($A11="","",IFERROR(INDEX('Tire Inventory'!$I$5:$I$1004,MATCH($E11,'Tire Inventory'!$A$5:$A$1004,0)),"")) | U11: =IF($A11="","",IF(OR($L11="",$T11=""),"",IFERROR($L11-$T11,""))) | V11: =IF($A11="","",IF($R11="","No Data",IF($R11<='Settings'!$B$6,"Critical",IF($R11<='Settings'!$B$5,"Low","OK")))) | W11: =IF($A11="","",IF($S11="","No Data",IF($S11>='Settings'!$B$7,"Uneven","OK"))) | X11: =IF($A11="","",IF(OR($L11="",$T11=""),"No Data",IF($L11<$T11-'Settings'!$B$8,"Low",IF($L11>$T11+'Settings'!$B$8,"High","OK")))) | Y11: =IF(COUNTA($A11:$O11)=0,"",IF(OR($A11="",$B11="",$C11="",$D11="",$E11="",$F11="",$I11="",$J11="",$K11=""),"Missing Required Input",IF(COUNTIF($A$5:$A$1004,$A11)>1,"Duplicate Inspection ID",IF(COUNTIF('Tire Inventory'!$A$5:$A$1004,$E11)=0,"Unknown Tire ID",IF(OR($I11<0,$I11>32,$J11<0,$J11>32,$K11<0,$K11>32),"Check Tread Reading",IF(OR($D11<0,$D11>2000000),"Check Odometer",IF(AND($L11<>"",OR($L11<0,$L11>150)),"Check PSI","OK"))))))
A12: INS-0008 | B12: 46267 | C12: TRK-102 | D12: 43180 | E12: T-1006 | F12: Right Front | G12: Dana Hill | H12: Fort Worth Yard | I12: 6 | J12: 5 | K12: 4 | L12: 29 | M12: Good | N12: Adjusted Pressure | O12: Low reading documented before adjustment | P12: =IF($A12="","",IFERROR(INDEX('Settings'!$F$5:$F$21,MATCH($F12,'Settings'!$E$5:$E$21,0)),"Other")) | Q12: =IF($A12="","",IF(COUNT($I12,$J12,$K12)<3,"",IFERROR(AVERAGE($I12,$J12,$K12),""))) | R12: =IF($A12="","",IF(COUNT($I12,$J12,$K12)<3,"",IFERROR(MIN($I12,$J12,$K12),""))) | S12: =IF($A12="","",IF(COUNT($I12,$J12,$K12)<3,"",IFERROR(MAX($I12,$J12,$K12)-MIN($I12,$J12,$K12),""))) | T12: =IF($A12="","",IFERROR(INDEX('Tire Inventory'!$I$5:$I$1004,MATCH($E12,'Tire Inventory'!$A$5:$A$1004,0)),"")) | U12: =IF($A12="","",IF(OR($L12="",$T12=""),"",IFERROR($L12-$T12,""))) | V12: =IF($A12="","",IF($R12="","No Data",IF($R12<='Settings'!$B$6,"Critical",IF($R12<='Settings'!$B$5,"Low","OK")))) | W12: =IF($A12="","",IF($S12="","No Data",IF($S12>='Settings'!$B$7,"Uneven","OK"))) | X12: =IF($A12="","",IF(OR($L12="",$T12=""),"No Data",IF($L12<$T12-'Settings'!$B$8,"Low",IF($L12>$T12+'Settings'!$B$8,"High","OK")))) | Y12: =IF(COUNTA($A12:$O12)=0,"",IF(OR($A12="",$B12="",$C12="",$D12="",$E12="",$F12="",$I12="",$J12="",$K12=""),"Missing Required Input",IF(COUNTIF($A$5:$A$1004,$A12)>1,"Duplicate Inspection ID",IF(COUNTIF('Tire Inventory'!$A$5:$A$1004,$E12)=0,"Unknown Tire ID",IF(OR($I12<0,$I12>32,$J12<0,$J12>32,$K12<0,$K12>32),"Check Tread Reading",IF(OR($D12<0,$D12>2000000),"Check Odometer",IF(AND($L12<>"",OR($L12<0,$L12>150)),"Check PSI","OK"))))))
A13: INS-0009 | B13: 46269 | C13: TRK-101 | D13: 86360 | E13: T-1004 | F13: Right Rear Outer | G13: Maria Lopez | H13: Dallas Yard | I13: 3 | J13: 2 | K13: 2 | L13: 88 | M13: Cuts/Cracks | N13: Scheduled Replacement | O13: Inspect immediately under fleet policy | P13: =IF($A13="","",IFERROR(INDEX('Settings'!$F$5:$F$21,MATCH($F13,'Settings'!$E$5:$E$21,0)),"Other")) | Q13: =IF($A13="","",IF(COUNT($I13,$J13,$K13)<3,"",IFERROR(AVERAGE($I13,$J13,$K13),""))) | R13: =IF($A13="","",IF(COUNT($I13,$J13,$K13)<3,"",IFERROR(MIN($I13,$J13,$K13),""))) | S13: =IF($A13="","",IF(COUNT($I13,$J13,$K13)<3,"",IFERROR(MAX($I13,$J13,$K13)-MIN($I13,$J13,$K13),""))) | T13: =IF($A13="","",IFERROR(INDEX('Tire Inventory'!$I$5:$I$1004,MATCH($E13,'Tire Inventory'!$A$5:$A$1004,0)),"")) | U13: =IF($A13="","",IF(OR($L13="",$T13=""),"",IFERROR($L13-$T13,""))) | V13: =IF($A13="","",IF($R13="","No Data",IF($R13<='Settings'!$B$6,"Critical",IF($R13<='Settings'!$B$5,"Low","OK")))) | W13: =IF($A13="","",IF($S13="","No Data",IF($S13>='Settings'!$B$7,"Uneven","OK"))) | X13: =IF($A13="","",IF(OR($L13="",$T13=""),"No Data",IF($L13<$T13-'Settings'!$B$8,"Low",IF($L13>$T13+'Settings'!$B$8,"High","OK")))) | Y13: =IF(COUNTA($A13:$O13)=0,"",IF(OR($A13="",$B13="",$C13="",$D13="",$E13="",$F13="",$I13="",$J13="",$K13=""),"Missing Required Input",IF(COUNTIF($A$5:$A$1004,$A13)>1,"Duplicate Inspection ID",IF(COUNTIF('Tire Inventory'!$A$5:$A$1004,$E13)=0,"Unknown Tire ID",IF(OR($I13<0,$I13>32,$J13<0,$J13>32,$K13<0,$K13>32),"Check Tread Reading",IF(OR($D13<0,$D13>2000000),"Check Odometer",IF(AND($L13<>"",OR($L13<0,$L13>150)),"Check PSI","OK"))))))
A14: INS-0010 | B14: 46270 | C14: TRL-201 | D14: 127210 | E14: T-1008 | F14: Axle 1 Right Outer | G14: Dana Hill | H14: Austin Hub | I14: 11 | J14: 11 | K14: 10 | L14: 102 | M14: Good | N14: None | O14: Routine inspection | P14: =IF($A14="","",IFERROR(INDEX('Settings'!$F$5:$F$21,MATCH($F14,'Settings'!$E$5:$E$21,0)),"Other")) | Q14: =IF($A14="","",IF(COUNT($I14,$J14,$K14)<3,"",IFERROR(AVERAGE($I14,$J14,$K14),""))) | R14: =IF($A14="","",IF(COUNT($I14,$J14,$K14)<3,"",IFERROR(MIN($I14,$J14,$K14),""))) | S14: =IF($A14="","",IF(COUNT($I14,$J14,$K14)<3,"",IFERROR(MAX($I14,$J14,$K14)-MIN($I14,$J14,$K14),""))) | T14: =IF($A14="","",IFERROR(INDEX('Tire Inventory'!$I$5:$I$1004,MATCH($E14,'Tire Inventory'!$A$5:$A$1004,0)),"")) | U14: =IF($A14="","",IF(OR($L14="",$T14=""),"",IFERROR($L14-$T14,""))) | V14: =IF($A14="","",IF($R14="","No Data",IF($R14<='Settings'!$B$6,"Critical",IF($R14<='Settings'!$B$5,"Low","OK")))) | W14: =IF($A14="","",IF($S14="","No Data",IF($S14>='Settings'!$B$7,"Uneven","OK"))) | X14: =IF($A14="","",IF(OR($L14="",$T14=""),"No Data",IF($L14<$T14-'Settings'!$B$8,"Low",IF($L14>$T14+'Settings'!$B$8,"High","OK")))) | Y14: =IF(COUNTA($A14:$O14)=0,"",IF(OR($A14="",$B14="",$C14="",$D14="",$E14="",$F14="",$I14="",$J14="",$K14=""),"Missing Required Input",IF(COUNTIF($A$5:$A$1004,$A14)>1,"Duplicate Inspection ID",IF(COUNTIF('Tire Inventory'!$A$5:$A$1004,$E14)=0,"Unknown Tire ID",IF(OR($I14<0,$I14>32,$J14<0,$J14>32,$K14<0,$K14>32),"Check Tread Reading",IF(OR($D14<0,$D14>2000000),"Check Odometer",IF(AND($L14<>"",OR($L14<0,$L14>150)),"Check PSI","OK"))))))
P15: =IF($A15="","",IFERROR(INDEX('Settings'!$F$5:$F$21,MATCH($F15,'Settings'!$E$5:$E$21,0)),"Other")) | Q15: =IF($A15="","",IF(COUNT($I15,$J15,$K15)<3,"",IFERROR(AVERAGE($I15,$J15,$K15),""))) | R15: =IF($A15="","",IF(COUNT($I15,$J15,$K15)<3,"",IFERROR(MIN($I15,$J15,$K15),""))) | S15: =IF($A15="","",IF(COUNT($I15,$J15,$K15)<3,"",IFERROR(MAX($I15,$J15,$K15)-MIN($I15,$J15,$K15),""))) | T15: =IF($A15="","",IFERROR(INDEX('Tire Inventory'!$I$5:$I$1004,MATCH($E15,'Tire Inventory'!$A$5:$A$1004,0)),"")) | U15: =IF($A15="","",IF(OR($L15="",$T15=""),"",IFERROR($L15-$T15,""))) | V15: =IF($A15="","",IF($R15="","No Data",IF($R15<='Settings'!$B$6,"Critical",IF($R15<='Settings'!$B$5,"Low","OK")))) | W15: =IF($A15="","",IF($S15="","No Data",IF($S15>='Settings'!$B$7,"Uneven","OK"))) | X15: =IF($A15="","",IF(OR($L15="",$T15=""),"No Data",IF($L15<$T15-'Settings'!$B$8,"Low",IF($L15>$T15+'Settings'!$B$8,"High","OK")))) | Y15: =IF(COUNTA($A15:$O15)=0,"",IF(OR($A15="",$B15="",$C15="",$D15="",$E15="",$F15="",$I15="",$J15="",$K15=""),"Missing Required Input",IF(COUNTIF($A$5:$A$1004,$A15)>1,"Duplicate Inspection ID",IF(COUNTIF('Tire Inventory'!$A$5:$A$1004,$E15)=0,"Unknown Tire ID",IF(OR($I15<0,$I15>32,$J15<0,$J15>32,$K15<0,$K15>32),"Check Tread Reading",IF(OR($D15<0,$D15>2000000),"Check Odometer",IF(AND($L15<>"",OR($L15<0,$L15>150)),"Check PSI","OK"))))))
P16: =IF($A16="","",IFERROR(INDEX('Settings'!$F$5:$F$21,MATCH($F16,'Settings'!$E$5:$E$21,0)),"Other")) | Q16: =IF($A16="","",IF(COUNT($I16,$J16,$K16)<3,"",IFERROR(AVERAGE($I16,$J16,$K16),""))) | R16: =IF($A16="","",IF(COUNT($I16,$J16,$K16)<3,"",IFERROR(MIN($I16,$J16,$K16),""))) | S16: =IF($A16="","",IF(COUNT($I16,$J16,$K16)<3,"",IFERROR(MAX($I16,$J16,$K16)-MIN($I16,$J16,$K16),""))) | T16: =IF($A16="","",IFERROR(INDEX('Tire Inventory'!$I$5:$I$1004,MATCH($E16,'Tire Inventory'!$A$5:$A$1004,0)),"")) | U16: =IF($A16="","",IF(OR($L16="",$T16=""),"",IFERROR($L16-$T16,""))) | V16: =IF($A16="","",IF($R16="","No Data",IF($R16<='Settings'!$B$6,"Critical",IF($R16<='Settings'!$B$5,"Low","OK")))) | W16: =IF($A16="","",IF($S16="","No Data",IF($S16>='Settings'!$B$7,"Uneven","OK"))) | X16: =IF($A16="","",IF(OR($L16="",$T16=""),"No Data",IF($L16<$T16-'Settings'!$B$8,"Low",IF($L16>$T16+'Settings'!$B$8,"High","OK")))) | Y16: =IF(COUNTA($A16:$O16)=0,"",IF(OR($A16="",$B16="",$C16="",$D16="",$E16="",$F16="",$I16="",$J16="",$K16=""),"Missing Required Input",IF(COUNTIF($A$5:$A$1004,$A16)>1,"Duplicate Inspection ID",IF(COUNTIF('Tire Inventory'!$A$5:$A$1004,$E16)=0,"Unknown Tire ID",IF(OR($I16<0,$I16>32,$J16<0,$J16>32,$K16<0,$K16>32),"Check Tread Reading",IF(OR($D16<0,$D16>2000000),"Check Odometer",IF(AND($L16<>"",OR($L16<0,$L16>150)),"Check PSI","OK"))))))
P17: =IF($A17="","",IFERROR(INDEX('Settings'!$F$5:$F$21,MATCH($F17,'Settings'!$E$5:$E$21,0)),"Other")) | Q17: =IF($A17="","",IF(COUNT($I17,$J17,$K17)<3,"",IFERROR(AVERAGE($I17,$J17,$K17),""))) | R17: =IF($A17="","",IF(COUNT($I17,$J17,$K17)<3,"",IFERROR(MIN($I17,$J17,$K17),""))) | S17: =IF($A17="","",IF(COUNT($I17,$J17,$K17)<3,"",IFERROR(MAX($I17,$J17,$K17)-MIN($I17,$J17,$K17),""))) | T17: =IF($A17="","",IFERROR(INDEX('Tire Inventory'!$I$5:$I$1004,MATCH($E17,'Tire Inventory'!$A$5:$A$1004,0)),"")) | U17: =IF($A17="","",IF(OR($L17="",$T17=""),"",IFERROR($L17-$T17,""))) | V17: =IF($A17="","",IF($R17="","No Data",IF($R17<='Settings'!$B$6,"Critical",IF($R17<='Settings'!$B$5,"Low","OK")))) | W17: =IF($A17="","",IF($S17="","No Data",IF($S17>='Settings'!$B$7,"Uneven","OK"))) | X17: =IF($A17="","",IF(OR($L17="",$T17=""),"No Data",IF($L17<$T17-'Settings'!$B$8,"Low",IF($L17>$T17+'Settings'!$B$8,"High","OK")))) | Y17: =IF(COUNTA($A17:$O17)=0,"",IF(OR($A17="",$B17="",$C17="",$D17="",$E17="",$F17="",$I17="",$J17="",$K17=""),"Missing Required Input",IF(COUNTIF($A$5:$A$1004,$A17)>1,"Duplicate Inspection ID",IF(COUNTIF('Tire Inventory'!$A$5:$A$1004,$E17)=0,"Unknown Tire ID",IF(OR($I17<0,$I17>32,$J17<0,$J17>32,$K17<0,$K17>32),"Check Tread Reading",IF(OR($D17<0,$D17>2000000),"Check Odometer",IF(AND($L17<>"",OR($L17<0,$L17>150)),"Check PSI","OK"))))))
P18: =IF($A18="","",IFERROR(INDEX('Settings'!$F$5:$F$21,MATCH($F18,'Settings'!$E$5:$E$21,0)),"Other")) | Q18: =IF($A18="","",IF(COUNT($I18,$J18,$K18)<3,"",IFERROR(AVERAGE($I18,$J18,$K18),""))) | R18: =IF($A18="","",IF(COUNT($I18,$J18,$K18)<3,"",IFERROR(MIN($I18,$J18,$K18),""))) | S18: =IF($A18="","",IF(COUNT($I18,$J18,$K18)<3,"",IFERROR(MAX($I18,$J18,$K18)-MIN($I18,$J18,$K18),""))) | T18: =IF($A18="","",IFERROR(INDEX('Tire Inventory'!$I$5:$I$1004,MATCH($E18,'Tire Inventory'!$A$5:$A$1004,0)),"")) | U18: =IF($A18="","",IF(OR($L18="",$T18=""),"",IFERROR($L18-$T18,""))) | V18: =IF($A18="","",IF($R18="","No Data",IF($R18<='Settings'!$B$6,"Critical",IF($R18<='Settings'!$B$5,"Low","OK")))) | W18: =IF($A18="","",IF($S18="","No Data",IF($S18>='Settings'!$B$7,"Uneven","OK"))) | X18: =IF($A18="","",IF(OR($L18="",$T18=""),"No Data",IF($L18<$T18-'Settings'!$B$8,"Low",IF($L18>$T18+'Settings'!$B$8,"High","OK")))) | Y18: =IF(COUNTA($A18:$O18)=0,"",IF(OR($A18="",$B18="",$C18="",$D18="",$E18="",$F18="",$I18="",$J18="",$K18=""),"Missing Required Input",IF(COUNTIF($A$5:$A$1004,$A18)>1,"Duplicate Inspection ID",IF(COUNTIF('Tire Inventory'!$A$5:$A$1004,$E18)=0,"Unknown Tire ID",IF(OR($I18<0,$I18>32,$J18<0,$J18>32,$K18<0,$K18>32),"Check Tread Reading",IF(OR($D18<0,$D18>2000000),"Check Odometer",IF(AND($L18<>"",OR($L18<0,$L18>150)),"Check PSI","OK"))))))
P19: =IF($A19="","",IFERROR(INDEX('Settings'!$F$5:$F$21,MATCH($F19,'Settings'!$E$5:$E$21,0)),"Other")) | Q19: =IF($A19="","",IF(COUNT($I19,$J19,$K19)<3,"",IFERROR(AVERAGE($I19,$J19,$K19),""))) | R19: =IF($A19="","",IF(COUNT($I19,$J19,$K19)<3,"",IFERROR(MIN($I19,$J19,$K19),""))) | S19: =IF($A19="","",IF(COUNT($I19,$J19,$K19)<3,"",IFERROR(MAX($I19,$J19,$K19)-MIN($I19,$J19,$K19),""))) | T19: =IF($A19="","",IFERROR(INDEX('Tire Inventory'!$I$5:$I$1004,MATCH($E19,'Tire Inventory'!$A$5:$A$1004,0)),"")) | U19: =IF($A19="","",IF(OR($L19="",$T19=""),"",IFERROR($L19-$T19,""))) | V19: =IF($A19="","",IF($R19="","No Data",IF($R19<='Settings'!$B$6,"Critical",IF($R19<='Settings'!$B$5,"Low","OK")))) | W19: =IF($A19="","",IF($S19="","No Data",IF($S19>='Settings'!$B$7,"Uneven","OK"))) | X19: =IF($A19="","",IF(OR($L19="",$T19=""),"No Data",IF($L19<$T19-'Settings'!$B$8,"Low",IF($L19>$T19+'Settings'!$B$8,"High","OK")))) | Y19: =IF(COUNTA($A19:$O19)=0,"",IF(OR($A19="",$B19="",$C19="",$D19="",$E19="",$F19="",$I19="",$J19="",$K19=""),"Missing Required Input",IF(COUNTIF($A$5:$A$1004,$A19)>1,"Duplicate Inspection ID",IF(COUNTIF('Tire Inventory'!$A$5:$A$1004,$E19)=0,"Unknown Tire ID",IF(OR($I19<0,$I19>32,$J19<0,$J19>32,$K19<0,$K19>32),"Check Tread Reading",IF(OR($D19<0,$D19>2000000),"Check Odometer",IF(AND($L19<>"",OR($L19<0,$L19>150)),"Check PSI","OK"))))))
P20: =IF($A20="","",IFERROR(INDEX('Settings'!$F$5:$F$21,MATCH($F20,'Settings'!$E$5:$E$21,0)),"Other")) | Q20: =IF($A20="","",IF(COUNT($I20,$J20,$K20)<3,"",IFERROR(AVERAGE($I20,$J20,$K20),""))) | R20: =IF($A20="","",IF(COUNT($I20,$J20,$K20)<3,"",IFERROR(MIN($I20,$J20,$K20),""))) | S20: =IF($A20="","",IF(COUNT($I20,$J20,$K20)<3,"",IFERROR(MAX($I20,$J20,$K20)-MIN($I20,$J20,$K20),""))) | T20: =IF($A20="","",IFERROR(INDEX('Tire Inventory'!$I$5:$I$1004,MATCH($E20,'Tire Inventory'!$A$5:$A$1004,0)),"")) | U20: =IF($A20="","",IF(OR($L20="",$T20=""),"",IFERROR($L20-$T20,""))) | V20: =IF($A20="","",IF($R20="","No Data",IF($R20<='Settings'!$B$6,"Critical",IF($R20<='Settings'!$B$5,"Low","OK")))) | W20: =IF($A20="","",IF($S20="","No Data",IF($S20>='Settings'!$B$7,"Uneven","OK"))) | X20: =IF($A20="","",IF(OR($L20="",$T20=""),"No Data",IF($L20<$T20-'Settings'!$B$8,"Low",IF($L20>$T20+'Settings'!$B$8,"High","OK")))) | Y20: =IF(COUNTA($A20:$O20)=0,"",IF(OR($A20="",$B20="",$C20="",$D20="",$E20="",$F20="",$I20="",$J20="",$K20=""),"Missing Required Input",IF(COUNTIF($A$5:$A$1004,$A20)>1,"Duplicate Inspection ID",IF(COUNTIF('Tire Inventory'!$A$5:$A$1004,$E20)=0,"Unknown Tire ID",IF(OR($I20<0,$I20>32,$J20<0,$J20>32,$K20<0,$K20>32),"Check Tread Reading",IF(OR($D20<0,$D20>2000000),"Check Odometer",IF(AND($L20<>"",OR($L20<0,$L20>150)),"Check PSI","OK"))))))
P21: =IF($A21="","",IFERROR(INDEX('Settings'!$F$5:$F$21,MATCH($F21,'Settings'!$E$5:$E$21,0)),"Other")) | Q21: =IF($A21="","",IF(COUNT($I21,$J21,$K21)<3,"",IFERROR(AVERAGE($I21,$J21,$K21),""))) | R21: =IF($A21="","",IF(COUNT($I21,$J21,$K21)<3,"",IFERROR(MIN($I21,$J21,$K21),""))) | S21: =IF($A21="","",IF(COUNT($I21,$J21,$K21)<3,"",IFERROR(MAX($I21,$J21,$K21)-MIN($I21,$J21,$K21),""))) | T21: =IF($A21="","",IFERROR(INDEX('Tire Inventory'!$I$5:$I$1004,MATCH($E21,'Tire Inventory'!$A$5:$A$1004,0)),"")) | U21: =IF($A21="","",IF(OR($L21="",$T21=""),"",IFERROR($L21-$T21,""))) | V21: =IF($A21="","",IF($R21="","No Data",IF($R21<='Settings'!$B$6,"Critical",IF($R21<='Settings'!$B$5,"Low","OK")))) | W21: =IF($A21="","",IF($S21="","No Data",IF($S21>='Settings'!$B$7,"Uneven","OK"))) | X21: =IF($A21="","",IF(OR($L21="",$T21=""),"No Data",IF($L21<$T21-'Settings'!$B$8,"Low",IF($L21>$T21+'Settings'!$B$8,"High","OK")))) | Y21: =IF(COUNTA($A21:$O21)=0,"",IF(OR($A21="",$B21="",$C21="",$D21="",$E21="",$F21="",$I21="",$J21="",$K21=""),"Missing Required Input",IF(COUNTIF($A$5:$A$1004,$A21)>1,"Duplicate Inspection ID",IF(COUNTIF('Tire Inventory'!$A$5:$A$1004,$E21)=0,"Unknown Tire ID",IF(OR($I21<0,$I21>32,$J21<0,$J21>32,$K21<0,$K21>32),"Check Tread Reading",IF(OR($D21<0,$D21>2000000),"Check Odometer",IF(AND($L21<>"",OR($L21<0,$L21>150)),"Check PSI","OK"))))))
P22: =IF($A22="","",IFERROR(INDEX('Settings'!$F$5:$F$21,MATCH($F22,'Settings'!$E$5:$E$21,0)),"Other")) | Q22: =IF($A22="","",IF(COUNT($I22,$J22,$K22)<3,"",IFERROR(AVERAGE($I22,$J22,$K22),""))) | R22: =IF($A22="","",IF(COUNT($I22,$J22,$K22)<3,"",IFERROR(MIN($I22,$J22,$K22),""))) | S22: =IF($A22="","",IF(COUNT($I22,$J22,$K22)<3,"",IFERROR(MAX($I22,$J22,$K22)-MIN($I22,$J22,$K22),""))) | T22: =IF($A22="","",IFERROR(INDEX('Tire Inventory'!$I$5:$I$1004,MATCH($E22,'Tire Inventory'!$A$5:$A$1004,0)),"")) | U22: =IF($A22="","",IF(OR($L22="",$T22=""),"",IFERROR($L22-$T22,""))) | V22: =IF($A22="","",IF($R22="","No Data",IF($R22<='Settings'!$B$6,"Critical",IF($R22<='Settings'!$B$5,"Low","OK")))) | W22: =IF($A22="","",IF($S22="","No Data",IF($S22>='Settings'!$B$7,"Uneven","OK"))) | X22: =IF($A22="","",IF(OR($L22="",$T22=""),"No Data",IF($L22<$T22-'Settings'!$B$8,"Low",IF($L22>$T22+'Settings'!$B$8,"High","OK")))) | Y22: =IF(COUNTA($A22:$O22)=0,"",IF(OR($A22="",$B22="",$C22="",$D22="",$E22="",$F22="",$I22="",$J22="",$K22=""),"Missing Required Input",IF(COUNTIF($A$5:$A$1004,$A22)>1,"Duplicate Inspection ID",IF(COUNTIF('Tire Inventory'!$A$5:$A$1004,$E22)=0,"Unknown Tire ID",IF(OR($I22<0,$I22>32,$J22<0,$J22>32,$K22<0,$K22>32),"Check Tread Reading",IF(OR($D22<0,$D22>2000000),"Check Odometer",IF(AND($L22<>"",OR($L22<0,$L22>150)),"Check PSI","OK"))))))
P23: =IF($A23="","",IFERROR(INDEX('Settings'!$F$5:$F$21,MATCH($F23,'Settings'!$E$5:$E$21,0)),"Other")) | Q23: =IF($A23="","",IF(COUNT($I23,$J23,$K23)<3,"",IFERROR(AVERAGE($I23,$J23,$K23),""))) | R23: =IF($A23="","",IF(COUNT($I23,$J23,$K23)<3,"",IFERROR(MIN($I23,$J23,$K23),""))) | S23: =IF($A23="","",IF(COUNT($I23,$J23,$K23)<3,"",IFERROR(MAX($I23,$J23,$K23)-MIN($I23,$J23,$K23),""))) | T23: =IF($A23="","",IFERROR(INDEX('Tire Inventory'!$I$5:$I$1004,MATCH($E23,'Tire Inventory'!$A$5:$A$1004,0)),"")) | U23: =IF($A23="","",IF(OR($L23="",$T23=""),"",IFERROR($L23-$T23,""))) | V23: =IF($A23="","",IF($R23="","No Data",IF($R23<='Settings'!$B$6,"Critical",IF($R23<='Settings'!$B$5,"Low","OK")))) | W23: =IF($A23="","",IF($S23="","No Data",IF($S23>='Settings'!$B$7,"Uneven","OK"))) | X23: =IF($A23="","",IF(OR($L23="",$T23=""),"No Data",IF($L23<$T23-'Settings'!$B$8,"Low",IF($L23>$T23+'Settings'!$B$8,"High","OK")))) | Y23: =IF(COUNTA($A23:$O23)=0,"",IF(OR($A23="",$B23="",$C23="",$D23="",$E23="",$F23="",$I23="",$J23="",$K23=""),"Missing Required Input",IF(COUNTIF($A$5:$A$1004,$A23)>1,"Duplicate Inspection ID",IF(COUNTIF('Tire Inventory'!$A$5:$A$1004,$E23)=0,"Unknown Tire ID",IF(OR($I23<0,$I23>32,$J23<0,$J23>32,$K23<0,$K23>32),"Check Tread Reading",IF(OR($D23<0,$D23>2000000),"Check Odometer",IF(AND($L23<>"",OR($L23<0,$L23>150)),"Check PSI","OK"))))))
P24: =IF($A24="","",IFERROR(INDEX('Settings'!$F$5:$F$21,MATCH($F24,'Settings'!$E$5:$E$21,0)),"Other")) | Q24: =IF($A24="","",IF(COUNT($I24,$J24,$K24)<3,"",IFERROR(AVERAGE($I24,$J24,$K24),""))) | R24: =IF($A24="","",IF(COUNT($I24,$J24,$K24)<3,"",IFERROR(MIN($I24,$J24,$K24),""))) | S24: =IF($A24="","",IF(COUNT($I24,$J24,$K24)<3,"",IFERROR(MAX($I24,$J24,$K24)-MIN($I24,$J24,$K24),""))) | T24: =IF($A24="","",IFERROR(INDEX('Tire Inventory'!$I$5:$I$1004,MATCH($E24,'Tire Inventory'!$A$5:$A$1004,0)),"")) | U24: =IF($A24="","",IF(OR($L24="",$T24=""),"",IFERROR($L24-$T24,""))) | V24: =IF($A24="","",IF($R24="","No Data",IF($R24<='Settings'!$B$6,"Critical",IF($R24<='Settings'!$B$5,"Low","OK")))) | W24: =IF($A24="","",IF($S24="","No Data",IF($S24>='Settings'!$B$7,"Uneven","OK"))) | X24: =IF($A24="","",IF(OR($L24="",$T24=""),"No Data",IF($L24<$T24-'Settings'!$B$8,"Low",IF($L24>$T24+'Settings'!$B$8,"High","OK")))) | Y24: =IF(COUNTA($A24:$O24)=0,"",IF(OR($A24="",$B24="",$C24="",$D24="",$E24="",$F24="",$I24="",$J24="",$K24=""),"Missing Required Input",IF(COUNTIF($A$5:$A$1004,$A24)>1,"Duplicate Inspection ID",IF(COUNTIF('Tire Inventory'!$A$5:$A$1004,$E24)=0,"Unknown Tire ID",IF(OR($I24<0,$I24>32,$J24<0,$J24>32,$K24<0,$K24>32),"Check Tread Reading",IF(OR($D24<0,$D24>2000000),"Check Odometer",IF(AND($L24<>"",OR($L24<0,$L24>150)),"Check PSI","OK"))))))
P25: =IF($A25="","",IFERROR(INDEX('Settings'!$F$5:$F$21,MATCH($F25,'Settings'!$E$5:$E$21,0)),"Other")) | Q25: =IF($A25="","",IF(COUNT($I25,$J25,$K25)<3,"",IFERROR(AVERAGE($I25,$J25,$K25),""))) | R25: =IF($A25="","",IF(COUNT($I25,$J25,$K25)<3,"",IFERROR(MIN($I25,$J25,$K25),""))) | S25: =IF($A25="","",IF(COUNT($I25,$J25,$K25)<3,"",IFERROR(MAX($I25,$J25,$K25)-MIN($I25,$J25,$K25),""))) | T25: =IF($A25="","",IFERROR(INDEX('Tire Inventory'!$I$5:$I$1004,MATCH($E25,'Tire Inventory'!$A$5:$A$1004,0)),"")) | U25: =IF($A25="","",IF(OR($L25="",$T25=""),"",IFERROR($L25-$T25,""))) | V25: =IF($A25="","",IF($R25="","No Data",IF($R25<='Settings'!$B$6,"Critical",IF($R25<='Settings'!$B$5,"Low","OK")))) | W25: =IF($A25="","",IF($S25="","No Data",IF($S25>='Settings'!$B$7,"Uneven","OK"))) | X25: =IF($A25="","",IF(OR($L25="",$T25=""),"No Data",IF($L25<$T25-'Settings'!$B$8,"Low",IF($L25>$T25+'Settings'!$B$8,"High","OK")))) | Y25: =IF(COUNTA($A25:$O25)=0,"",IF(OR($A25="",$B25="",$C25="",$D25="",$E25="",$F25="",$I25="",$J25="",$K25=""),"Missing Required Input",IF(COUNTIF($A$5:$A$1004,$A25)>1,"Duplicate Inspection ID",IF(COUNTIF('Tire Inventory'!$A$5:$A$1004,$E25)=0,"Unknown Tire ID",IF(OR($I25<0,$I25>32,$J25<0,$J25>32,$K25<0,$K25>32),"Check Tread Reading",IF(OR($D25<0,$D25>2000000),"Check Odometer",IF(AND($L25<>"",OR($L25<0,$L25>150)),"Check PSI","OK"))))))
P26: =IF($A26="","",IFERROR(INDEX('Settings'!$F$5:$F$21,MATCH($F26,'Settings'!$E$5:$E$21,0)),"Other")) | Q26: =IF($A26="","",IF(COUNT($I26,$J26,$K26)<3,"",IFERROR(AVERAGE($I26,$J26,$K26),""))) | R26: =IF($A26="","",IF(COUNT($I26,$J26,$K26)<3,"",IFERROR(MIN($I26,$J26,$K26),""))) | S26: =IF($A26="","",IF(COUNT($I26,$J26,$K26)<3,"",IFERROR(MAX($I26,$J26,$K26)-MIN($I26,$J26,$K26),""))) | T26: =IF($A26="","",IFERROR(INDEX('Tire Inventory'!$I$5:$I$1004,MATCH($E26,'Tire Inventory'!$A$5:$A$1004,0)),"")) | U26: =IF($A26="","",IF(OR($L26="",$T26=""),"",IFERROR($L26-$T26,""))) | V26: =IF($A26="","",IF($R26="","No Data",IF($R26<='Settings'!$B$6,"Critical",IF($R26<='Settings'!$B$5,"Low","OK")))) | W26: =IF($A26="","",IF($S26="","No Data",IF($S26>='Settings'!$B$7,"Uneven","OK"))) | X26: =IF($A26="","",IF(OR($L26="",$T26=""),"No Data",IF($L26<$T26-'Settings'!$B$8,"Low",IF($L26>$T26+'Settings'!$B$8,"High","OK")))) | Y26: =IF(COUNTA($A26:$O26)=0,"",IF(OR($A26="",$B26="",$C26="",$D26="",$E26="",$F26="",$I26="",$J26="",$K26=""),"Missing Required Input",IF(COUNTIF($A$5:$A$1004,$A26)>1,"Duplicate Inspection ID",IF(COUNTIF('Tire Inventory'!$A$5:$A$1004,$E26)=0,"Unknown Tire ID",IF(OR($I26<0,$I26>32,$J26<0,$J26>32,$K26<0,$K26>32),"Check Tread Reading",IF(OR($D26<0,$D26>2000000),"Check Odometer",IF(AND($L26<>"",OR($L26<0,$L26>150)),"Check PSI","OK"))))))
... P1004: =IF($A1004="","",IFERROR(INDEX('Settings'!$F$5:$F$21,MATCH($F1004,'Settings'!$E$5:$E$21,0)),"Other")) | Q1004: =IF($A1004="","",IF(COUNT($I1004,$J1004,$K1004)<3,"",IFERROR(AVERAGE($I1004,$J1004,$K1004),""))) | R1004: =IF($A1004="","",IF(COUNT($I1004,$J1004,$K1004)<3,"",IFERROR(MIN($I1004,$J1004,$K1004),""))) | S1004: =IF($A1004="","",IF(COUNT($I1004,$J1004,$K1004)<3,"",IFERROR(MAX($I1004,$J1004,$K1004)-MIN($I1004,$J1004,$K1004),""))) | T1004: =IF($A1004="","",IFERROR(INDEX('Tire Inventory'!$I$5:$I$1004,MATCH($E1004,'Tire Inventory'!$A$5:$A$1004,0)),"")) | U1004: =IF($A1004="","",IF(OR($L1004="",$T1004=""),"",IFERROR($L1004-$T1004,""))) | V1004: =IF($A1004="","",IF($R1004="","No Data",IF($R1004<='Settings'!$B$6,"Critical",IF($R1004<='Settings'!$B$5,"Low","OK")))) | W1004: =IF($A1004="","",IF($S1004="","No Data",IF($S1004>='Settings'!$B$7,"Uneven","OK"))) | X1004: =IF($A1004="","",IF(OR($L1004="",$T1004=""),"No Data",IF($L1004<$T1004-'Settings'!$B$8,"Low",IF($L1004>$T1004+'Settings'!$B$8,"High","OK")))) | Y1004: =IF(COUNTA($A1004:$O1004)=0,"",IF(OR($A1004="",$B1004="",$C1004="",$D1004="",$E1004="",$F1004="",$I1004="",$J1004="",$K1004=""),"Missing Required Input",IF(COUNTIF($A$5:$A$1004,$A1004)>1,"Duplicate Inspection ID",IF(COUNTIF('Tire Inventory'!$A$5:$A$1004,$E1004)=0,"Unknown Tire ID",IF(OR($I1004<0,$I1004>32,$J1004<0,$J1004>32,$K1004<0,$K1004>32),"Check Tread Reading",IF(OR($D1004<0,$D1004>2000000),"Check Odometer",IF(AND($L1004<>"",OR($L1004<0,$L1004>150)),"Check PSI","OK"))))))

Sheet Tire Inventory
A1: Tire Inventory and Current Condition
A2: Maintain one unique Tire ID per row. Current-condition fields use the latest inspection with a Row Check of OK. Blue cells are inputs; gray cells are calculated.
