Workbook

Sheet Dashboard
A1: Tire Position and Tread Depth Dashboard
A2: Latest condition based on valid inspection records | P2: As of: | Q2: =TODAY()
A3: Sample data is included. Replace it with your fleet records. Thresholds are user-defined planning values, not regulatory determinations.
A4: Light blue = user input | D4: Light gray = calculated | G4: Red = critical | J4: Amber = attention | M4: Green = acceptable
A6: Mounted Tires | D6: Critical Tread | G6: Tires Requiring Action | J6: Overdue Inspections | M6: Pressure Exceptions | P6: Data Check Issues
A7: =COUNTIF('Tire Inventory'!$J$5:$J$1004,"Mounted") | D7: =COUNTIFS('Tire Inventory'!$J$5:$J$1004,"Mounted",'Tire Inventory'!$U$5:$U$1004,"Critical") | G7: =COUNTIFS('Tire Inventory'!$J$5:$J$1004,"Mounted",'Tire Inventory'!$Z$5:$Z$1004,"Critical")+COUNTIFS('Tire Inventory'!$J$5:$J$1004,"Mounted",'Tire Inventory'!$Z$5:$Z$1004,"Attention") | J7: =COUNTIFS('Tire Inventory'!$J$5:$J$1004,"Mounted",'Tire Inventory'!$Y$5:$Y$1004,"Overdue") | M7: =COUNTIFS('Tire Inventory'!$J$5:$J$1004,"Mounted",'Tire Inventory'!$W$5:$W$1004,"Low")+COUNTIFS('Tire Inventory'!$J$5:$J$1004,"Mounted",'Tire Inventory'!$W$5:$W$1004,"High") | P7: =COUNTIFS('Tire Inspections'!$A$5:$A$1004,"<>",'Tire Inspections'!$Y$5:$Y$1004,"<>OK")
A8: Latest valid records | D8: Latest valid records | G8: Latest valid records | J8: Latest valid records | M8: Latest valid records | P8: Latest valid records
A11: Mounted Tire Status | B11: Count
A12: Critical | B12: =COUNTIFS('Tire Inventory'!$J$5:$J$1004,"Mounted",'Tire Inventory'!$Z$5:$Z$1004,$A12)
A13: Attention | B13: =COUNTIFS('Tire Inventory'!$J$5:$J$1004,"Mounted",'Tire Inventory'!$Z$5:$Z$1004,$A13)
A14: OK | B14: =COUNTIFS('Tire Inventory'!$J$5:$J$1004,"Mounted",'Tire Inventory'!$Z$5:$Z$1004,$A14)
A15: No Data | B15: =COUNTIFS('Tire Inventory'!$J$5:$J$1004,"Mounted",'Tire Inventory'!$Z$5:$Z$1004,$A15)
A22: Position Group | B22: Mounted Tires | C22: Average Minimum Tread (32nds) | D22: Critical | E22: Low | F22: Uneven | K22: Vehicle/Unit | L22: Mounted Tires | M22: Critical | N22: Attention | O22: Average Minimum Tread | P22: Overdue Inspections
A23: Steer | B23: =COUNTIFS('Tire Inventory'!$J$5:$J$1004,"Mounted",'Tire Inventory'!$O$5:$O$1004,$A23) | C23: =IFERROR(AVERAGEIFS('Tire Inventory'!$Q$5:$Q$1004,'Tire Inventory'!$J$5:$J$1004,"Mounted",'Tire Inventory'!$O$5:$O$1004,$A23),"") | D23: =COUNTIFS('Tire Inventory'!$J$5:$J$1004,"Mounted",'Tire Inventory'!$O$5:$O$1004,$A23,'Tire Inventory'!$U$5:$U$1004,"Critical") | E23: =COUNTIFS('Tire Inventory'!$J$5:$J$1004,"Mounted",'Tire Inventory'!$O$5:$O$1004,$A23,'Tire Inventory'!$U$5:$U$1004,"Low") | F23: =COUNTIFS('Tire Inventory'!$J$5:$J$1004,"Mounted",'Tire Inventory'!$O$5:$O$1004,$A23,'Tire Inventory'!$V$5:$V$1004,"Uneven") | K23: ='Settings'!$H$5 | L23: =COUNTIFS('Tire Inventory'!$J$5:$J$1004,"Mounted",'Tire Inventory'!$M$5:$M$1004,$K23) | M23: =COUNTIFS('Tire Inventory'!$J$5:$J$1004,"Mounted",'Tire Inventory'!$M$5:$M$1004,$K23,'Tire Inventory'!$Z$5:$Z$1004,"Critical") | N23: =COUNTIFS('Tire Inventory'!$J$5:$J$1004,"Mounted",'Tire Inventory'!$M$5:$M$1004,$K23,'Tire Inventory'!$Z$5:$Z$1004,"Attention") | O23: =IFERROR(AVERAGEIFS('Tire Inventory'!$Q$5:$Q$1004,'Tire Inventory'!$J$5:$J$1004,"Mounted",'Tire Inventory'!$M$5:$M$1004,$K23),"") | P23: =COUNTIFS('Tire Inventory'!$J$5:$J$1004,"Mounted",'Tire Inventory'!$M$5:$M$1004,$K23,'Tire Inventory'!$Y$5:$Y$1004,"Overdue")
A24: Drive | B24: =COUNTIFS('Tire Inventory'!$J$5:$J$1004,"Mounted",'Tire Inventory'!$O$5:$O$1004,$A24) | C24: =IFERROR(AVERAGEIFS('Tire Inventory'!$Q$5:$Q$1004,'Tire Inventory'!$J$5:$J$1004,"Mounted",'Tire Inventory'!$O$5:$O$1004,$A24),"") | D24: =COUNTIFS('Tire Inventory'!$J$5:$J$1004,"Mounted",'Tire Inventory'!$O$5:$O$1004,$A24,'Tire Inventory'!$U$5:$U$1004,"Critical") | E24: =COUNTIFS('Tire Inventory'!$J$5:$J$1004,"Mounted",'Tire Inventory'!$O$5:$O$1004,$A24,'Tire Inventory'!$U$5:$U$1004,"Low") | F24: =COUNTIFS('Tire Inventory'!$J$5:$J$1004,"Mounted",'Tire Inventory'!$O$5:$O$1004,$A24,'Tire Inventory'!$V$5:$V$1004,"Uneven") | K24: ='Settings'!$H$6 | L24: =COUNTIFS('Tire Inventory'!$J$5:$J$1004,"Mounted",'Tire Inventory'!$M$5:$M$1004,$K24) | M24: =COUNTIFS('Tire Inventory'!$J$5:$J$1004,"Mounted",'Tire Inventory'!$M$5:$M$1004,$K24,'Tire Inventory'!$Z$5:$Z$1004,"Critical") | N24: =COUNTIFS('Tire Inventory'!$J$5:$J$1004,"Mounted",'Tire Inventory'!$M$5:$M$1004,$K24,'Tire Inventory'!$Z$5:$Z$1004,"Attention") | O24: =IFERROR(AVERAGEIFS('Tire Inventory'!$Q$5:$Q$1004,'Tire Inventory'!$J$5:$J$1004,"Mounted",'Tire Inventory'!$M$5:$M$1004,$K24),"") | P24: =COUNTIFS('Tire Inventory'!$J$5:$J$1004,"Mounted",'Tire Inventory'!$M$5:$M$1004,$K24,'Tire Inventory'!$Y$5:$Y$1004,"Overdue")
A25: Trailer | B25: =COUNTIFS('Tire Inventory'!$J$5:$J$1004,"Mounted",'Tire Inventory'!$O$5:$O$1004,$A25) | C25: =IFERROR(AVERAGEIFS('Tire Inventory'!$Q$5:$Q$1004,'Tire Inventory'!$J$5:$J$1004,"Mounted",'Tire Inventory'!$O$5:$O$1004,$A25),"") | D25: =COUNTIFS('Tire Inventory'!$J$5:$J$1004,"Mounted",'Tire Inventory'!$O$5:$O$1004,$A25,'Tire Inventory'!$U$5:$U$1004,"Critical") | E25: =COUNTIFS('Tire Inventory'!$J$5:$J$1004,"Mounted",'Tire Inventory'!$O$5:$O$1004,$A25,'Tire Inventory'!$U$5:$U$1004,"Low") | F25: =COUNTIFS('Tire Inventory'!$J$5:$J$1004,"Mounted",'Tire Inventory'!$O$5:$O$1004,$A25,'Tire Inventory'!$V$5:$V$1004,"Uneven") | K25: ='Settings'!$H$7 | L25: =COUNTIFS('Tire Inventory'!$J$5:$J$1004,"Mounted",'Tire Inventory'!$M$5:$M$1004,$K25) | M25: =COUNTIFS('Tire Inventory'!$J$5:$J$1004,"Mounted",'Tire Inventory'!$M$5:$M$1004,$K25,'Tire Inventory'!$Z$5:$Z$1004,"Critical") | N25: =COUNTIFS('Tire Inventory'!$J$5:$J$1004,"Mounted",'Tire Inventory'!$M$5:$M$1004,$K25,'Tire Inventory'!$Z$5:$Z$1004,"Attention") | O25: =IFERROR(AVERAGEIFS('Tire Inventory'!$Q$5:$Q$1004,'Tire Inventory'!$J$5:$J$1004,"Mounted",'Tire Inventory'!$M$5:$M$1004,$K25),"") | P25: =COUNTIFS('Tire Inventory'!$J$5:$J$1004,"Mounted",'Tire Inventory'!$M$5:$M$1004,$K25,'Tire Inventory'!$Y$5:$Y$1004,"Overdue")
A26: Other | B26: =COUNTIFS('Tire Inventory'!$J$5:$J$1004,"Mounted",'Tire Inventory'!$O$5:$O$1004,$A26) | C26: =IFERROR(AVERAGEIFS('Tire Inventory'!$Q$5:$Q$1004,'Tire Inventory'!$J$5:$J$1004,"Mounted",'Tire Inventory'!$O$5:$O$1004,$A26),"") | D26: =COUNTIFS('Tire Inventory'!$J$5:$J$1004,"Mounted",'Tire Inventory'!$O$5:$O$1004,$A26,'Tire Inventory'!$U$5:$U$1004,"Critical") | E26: =COUNTIFS('Tire Inventory'!$J$5:$J$1004,"Mounted",'Tire Inventory'!$O$5:$O$1004,$A26,'Tire Inventory'!$U$5:$U$1004,"Low") | F26: =COUNTIFS('Tire Inventory'!$J$5:$J$1004,"Mounted",'Tire Inventory'!$O$5:$O$1004,$A26,'Tire Inventory'!$V$5:$V$1004,"Uneven") | K26: ='Settings'!$H$8 | L26: =COUNTIFS('Tire Inventory'!$J$5:$J$1004,"Mounted",'Tire Inventory'!$M$5:$M$1004,$K26) | M26: =COUNTIFS('Tire Inventory'!$J$5:$J$1004,"Mounted",'Tire Inventory'!$M$5:$M$1004,$K26,'Tire Inventory'!$Z$5:$Z$1004,"Critical") | N26: =COUNTIFS('Tire Inventory'!$J$5:$J$1004,"Mounted",'Tire Inventory'!$M$5:$M$1004,$K26,'Tire Inventory'!$Z$5:$Z$1004,"Attention") | O26: =IFERROR(AVERAGEIFS('Tire Inventory'!$Q$5:$Q$1004,'Tire Inventory'!$J$5:$J$1004,"Mounted",'Tire Inventory'!$M$5:$M$1004,$K26),"") | P26: =COUNTIFS('Tire Inventory'!$J$5:$J$1004,"Mounted",'Tire Inventory'!$M$5:$M$1004,$K26,'Tire Inventory'!$Y$5:$Y$1004,"Overdue")
K27: ='Settings'!$H$9 | L27: =COUNTIFS('Tire Inventory'!$J$5:$J$1004,"Mounted",'Tire Inventory'!$M$5:$M$1004,$K27) | M27: =COUNTIFS('Tire Inventory'!$J$5:$J$1004,"Mounted",'Tire Inventory'!$M$5:$M$1004,$K27,'Tire Inventory'!$Z$5:$Z$1004,"Critical") | N27: =COUNTIFS('Tire Inventory'!$J$5:$J$1004,"Mounted",'Tire Inventory'!$M$5:$M$1004,$K27,'Tire Inventory'!$Z$5:$Z$1004,"Attention") | O27: =IFERROR(AVERAGEIFS('Tire Inventory'!$Q$5:$Q$1004,'Tire Inventory'!$J$5:$J$1004,"Mounted",'Tire Inventory'!$M$5:$M$1004,$K27),"") | P27: =COUNTIFS('Tire Inventory'!$J$5:$J$1004,"Mounted",'Tire Inventory'!$M$5:$M$1004,$K27,'Tire Inventory'!$Y$5:$Y$1004,"Overdue")
K28: ='Settings'!$H$10 | L28: =COUNTIFS('Tire Inventory'!$J$5:$J$1004,"Mounted",'Tire Inventory'!$M$5:$M$1004,$K28) | M28: =COUNTIFS('Tire Inventory'!$J$5:$J$1004,"Mounted",'Tire Inventory'!$M$5:$M$1004,$K28,'Tire Inventory'!$Z$5:$Z$1004,"Critical") | N28: =COUNTIFS('Tire Inventory'!$J$5:$J$1004,"Mounted",'Tire Inventory'!$M$5:$M$1004,$K28,'Tire Inventory'!$Z$5:$Z$1004,"Attention") | O28: =IFERROR(AVERAGEIFS('Tire Inventory'!$Q$5:$Q$1004,'Tire Inventory'!$J$5:$J$1004,"Mounted",'Tire Inventory'!$M$5:$M$1004,$K28),"") | P28: =COUNTIFS('Tire Inventory'!$J$5:$J$1004,"Mounted",'Tire Inventory'!$M$5:$M$1004,$K28,'Tire Inventory'!$Y$5:$Y$1004,"Overdue")
K29: ='Settings'!$H$11 | L29: =COUNTIFS('Tire Inventory'!$J$5:$J$1004,"Mounted",'Tire Inventory'!$M$5:$M$1004,$K29) | M29: =COUNTIFS('Tire Inventory'!$J$5:$J$1004,"Mounted",'Tire Inventory'!$M$5:$M$1004,$K29,'Tire Inventory'!$Z$5:$Z$1004,"Critical") | N29: =COUNTIFS('Tire Inventory'!$J$5:$J$1004,"Mounted",'Tire Inventory'!$M$5:$M$1004,$K29,'Tire Inventory'!$Z$5:$Z$1004,"Attention") | O29: =IFERROR(AVERAGEIFS('Tire Inventory'!$Q$5:$Q$1004,'Tire Inventory'!$J$5:$J$1004,"Mounted",'Tire Inventory'!$M$5:$M$1004,$K29),"") | P29: =COUNTIFS('Tire Inventory'!$J$5:$J$1004,"Mounted",'Tire Inventory'!$M$5:$M$1004,$K29,'Tire Inventory'!$Y$5:$Y$1004,"Overdue")
K30: ='Settings'!$H$12 | L30: =COUNTIFS('Tire Inventory'!$J$5:$J$1004,"Mounted",'Tire Inventory'!$M$5:$M$1004,$K30) | M30: =COUNTIFS('Tire Inventory'!$J$5:$J$1004,"Mounted",'Tire Inventory'!$M$5:$M$1004,$K30,'Tire Inventory'!$Z$5:$Z$1004,"Critical") | N30: =COUNTIFS('Tire Inventory'!$J$5:$J$1004,"Mounted",'Tire Inventory'!$M$5:$M$1004,$K30,'Tire Inventory'!$Z$5:$Z$1004,"Attention") | O30: =IFERROR(AVERAGEIFS('Tire Inventory'!$Q$5:$Q$1004,'Tire Inventory'!$J$5:$J$1004,"Mounted",'Tire Inventory'!$M$5:$M$1004,$K30),"") | P30: =COUNTIFS('Tire Inventory'!$J$5:$J$1004,"Mounted",'Tire Inventory'!$M$5:$M$1004,$K30,'Tire Inventory'!$Y$5:$Y$1004,"Overdue")
A31: Tire ID | B31: Vehicle/Unit | C31: Position | D31: Minimum Tread (32nds) | E31: Tread Status | F31: Pressure Status | G31: Inspection Status | H31: Recommended Action | I31: Last Inspection | K31: ='Settings'!$H$13 | L31: =COUNTIFS('Tire Inventory'!$J$5:$J$1004,"Mounted",'Tire Inventory'!$M$5:$M$1004,$K31) | M31: =COUNTIFS('Tire Inventory'!$J$5:$J$1004,"Mounted",'Tire Inventory'!$M$5:$M$1004,$K31,'Tire Inventory'!$Z$5:$Z$1004,"Critical") | N31: =COUNTIFS('Tire Inventory'!$J$5:$J$1004,"Mounted",'Tire Inventory'!$M$5:$M$1004,$K31,'Tire Inventory'!$Z$5:$Z$1004,"Attention") | O31: =IFERROR(AVERAGEIFS('Tire Inventory'!$Q$5:$Q$1004,'Tire Inventory'!$J$5:$J$1004,"Mounted",'Tire Inventory'!$M$5:$M$1004,$K31),"") | P31: =COUNTIFS('Tire Inventory'!$J$5:$J$1004,"Mounted",'Tire Inventory'!$M$5:$M$1004,$K31,'Tire Inventory'!$Y$5:$Y$1004,"Overdue")
A32: =IFERROR(INDEX('Tire Inventory'!$A$5:$A$1004,MATCH(SMALL('Tire Inventory'!$AC$5:$AC$1004,ROWS($A$32:A32)),'Tire Inventory'!$AC$5:$AC$1004,0)),"") | B32: =IF($A32="","",IFERROR(INDEX('Tire Inventory'!$M$5:$M$1004,MATCH(SMALL('Tire Inventory'!$AC$5:$AC$1004,ROWS($A$32:A32)),'Tire Inventory'!$AC$5:$AC$1004,0)),"")) | C32: =IF($A32="","",IFERROR(INDEX('Tire Inventory'!$N$5:$N$1004,MATCH(SMALL('Tire Inventory'!$AC$5:$AC$1004,ROWS($A$32:A32)),'Tire Inventory'!$AC$5:$AC$1004,0)),"")) | D32: =IF($A32="","",IFERROR(INDEX('Tire Inventory'!$Q$5:$Q$1004,MATCH(SMALL('Tire Inventory'!$AC$5:$AC$1004,ROWS($A$32:A32)),'Tire Inventory'!$AC$5:$AC$1004,0)),"")) | E32: =IF($A32="","",IFERROR(INDEX('Tire Inventory'!$U$5:$U$1004,MATCH(SMALL('Tire Inventory'!$AC$5:$AC$1004,ROWS($A$32:A32)),'Tire Inventory'!$AC$5:$AC$1004,0)),"")) | F32: =IF($A32="","",IFERROR(INDEX('Tire Inventory'!$W$5:$W$1004,MATCH(SMALL('Tire Inventory'!$AC$5:$AC$1004,ROWS($A$32:A32)),'Tire Inventory'!$AC$5:$AC$1004,0)),"")) | G32: =IF($A32="","",IFERROR(INDEX('Tire Inventory'!$Y$5:$Y$1004,MATCH(SMALL('Tire Inventory'!$AC$5:$AC$1004,ROWS($A$32:A32)),'Tire Inventory'!$AC$5:$AC$1004,0)),"")) | H32: =IF($A32="","",IFERROR(INDEX('Tire Inventory'!$AA$5:$AA$1004,MATCH(SMALL('Tire Inventory'!$AC$5:$AC$1004,ROWS($A$32:A32)),'Tire Inventory'!$AC$5:$AC$1004,0)),"")) | I32: =IF($A32="","",IFERROR(INDEX('Tire Inventory'!$L$5:$L$1004,MATCH(SMALL('Tire Inventory'!$AC$5:$AC$1004,ROWS($A$32:A32)),'Tire Inventory'!$AC$5:$AC$1004,0)),"")) | K32: ='Settings'!$H$14 | L32: =COUNTIFS('Tire Inventory'!$J$5:$J$1004,"Mounted",'Tire Inventory'!$M$5:$M$1004,$K32) | M32: =COUNTIFS('Tire Inventory'!$J$5:$J$1004,"Mounted",'Tire Inventory'!$M$5:$M$1004,$K32,'Tire Inventory'!$Z$5:$Z$1004,"Critical") | N32: =COUNTIFS('Tire Inventory'!$J$5:$J$1004,"Mounted",'Tire Inventory'!$M$5:$M$1004,$K32,'Tire Inventory'!$Z$5:$Z$1004,"Attention") | O32: =IFERROR(AVERAGEIFS('Tire Inventory'!$Q$5:$Q$1004,'Tire Inventory'!$J$5:$J$1004,"Mounted",'Tire Inventory'!$M$5:$M$1004,$K32),"") | P32: =COUNTIFS('Tire Inventory'!$J$5:$J$1004,"Mounted",'Tire Inventory'!$M$5:$M$1004,$K32,'Tire Inventory'!$Y$5:$Y$1004,"Overdue")
A33: =IFERROR(INDEX('Tire Inventory'!$A$5:$A$1004,MATCH(SMALL('Tire Inventory'!$AC$5:$AC$1004,ROWS($A$32:A33)),'Tire Inventory'!$AC$5:$AC$1004,0)),"") | B33: =IF($A33="","",IFERROR(INDEX('Tire Inventory'!$M$5:$M$1004,MATCH(SMALL('Tire Inventory'!$AC$5:$AC$1004,ROWS($A$32:A33)),'Tire Inventory'!$AC$5:$AC$1004,0)),"")) | C33: =IF($A33="","",IFERROR(INDEX('Tire Inventory'!$N$5:$N$1004,MATCH(SMALL('Tire Inventory'!$AC$5:$AC$1004,ROWS($A$32:A33)),'Tire Inventory'!$AC$5:$AC$1004,0)),"")) | D33: =IF($A33="","",IFERROR(INDEX('Tire Inventory'!$Q$5:$Q$1004,MATCH(SMALL('Tire Inventory'!$AC$5:$AC$1004,ROWS($A$32:A33)),'Tire Inventory'!$AC$5:$AC$1004,0)),"")) | E33: =IF($A33="","",IFERROR(INDEX('Tire Inventory'!$U$5:$U$1004,MATCH(SMALL('Tire Inventory'!$AC$5:$AC$1004,ROWS($A$32:A33)),'Tire Inventory'!$AC$5:$AC$1004,0)),"")) | F33: =IF($A33="","",IFERROR(INDEX('Tire Inventory'!$W$5:$W$1004,MATCH(SMALL('Tire Inventory'!$AC$5:$AC$1004,ROWS($A$32:A33)),'Tire Inventory'!$AC$5:$AC$1004,0)),"")) | G33: =IF($A33="","",IFERROR(INDEX('Tire Inventory'!$Y$5:$Y$1004,MATCH(SMALL('Tire Inventory'!$AC$5:$AC$1004,ROWS($A$32:A33)),'Tire Inventory'!$AC$5:$AC$1004,0)),"")) | H33: =IF($A33="","",IFERROR(INDEX('Tire Inventory'!$AA$5:$AA$1004,MATCH(SMALL('Tire Inventory'!$AC$5:$AC$1004,ROWS($A$32:A33)),'Tire Inventory'!$AC$5:$AC$1004,0)),"")) | I33: =IF($A33="","",IFERROR(INDEX('Tire Inventory'!$L$5:$L$1004,MATCH(SMALL('Tire Inventory'!$AC$5:$AC$1004,ROWS($A$32:A33)),'Tire Inventory'!$AC$5:$AC$1004,0)),"")) | K33: ="" | L33: ="" | M33: ="" | N33: ="" | O33: ="" | P33: =""
A34: =IFERROR(INDEX('Tire Inventory'!$A$5:$A$1004,MATCH(SMALL('Tire Inventory'!$AC$5:$AC$1004,ROWS($A$32:A34)),'Tire Inventory'!$AC$5:$AC$1004,0)),"") | B34: =IF($A34="","",IFERROR(INDEX('Tire Inventory'!$M$5:$M$1004,MATCH(SMALL('Tire Inventory'!$AC$5:$AC$1004,ROWS($A$32:A34)),'Tire Inventory'!$AC$5:$AC$1004,0)),"")) | C34: =IF($A34="","",IFERROR(INDEX('Tire Inventory'!$N$5:$N$1004,MATCH(SMALL('Tire Inventory'!$AC$5:$AC$1004,ROWS($A$32:A34)),'Tire Inventory'!$AC$5:$AC$1004,0)),"")) | D34: =IF($A34="","",IFERROR(INDEX('Tire Inventory'!$Q$5:$Q$1004,MATCH(SMALL('Tire Inventory'!$AC$5:$AC$1004,ROWS($A$32:A34)),'Tire Inventory'!$AC$5:$AC$1004,0)),"")) | E34: =IF($A34="","",IFERROR(INDEX('Tire Inventory'!$U$5:$U$1004,MATCH(SMALL('Tire Inventory'!$AC$5:$AC$1004,ROWS($A$32:A34)),'Tire Inventory'!$AC$5:$AC$1004,0)),"")) | F34: =IF($A34="","",IFERROR(INDEX('Tire Inventory'!$W$5:$W$1004,MATCH(SMALL('Tire Inventory'!$AC$5:$AC$1004,ROWS($A$32:A34)),'Tire Inventory'!$AC$5:$AC$1004,0)),"")) | G34: =IF($A34="","",IFERROR(INDEX('Tire Inventory'!$Y$5:$Y$1004,MATCH(SMALL('Tire Inventory'!$AC$5:$AC$1004,ROWS($A$32:A34)),'Tire Inventory'!$AC$5:$AC$1004,0)),"")) | H34: =IF($A34="","",IFERROR(INDEX('Tire Inventory'!$AA$5:$AA$1004,MATCH(SMALL('Tire Inventory'!$AC$5:$AC$1004,ROWS($A$32:A34)),'Tire Inventory'!$AC$5:$AC$1004,0)),"")) | I34: =IF($A34="","",IFERROR(INDEX('Tire Inventory'!$L$5:$L$1004,MATCH(SMALL('Tire Inventory'!$AC$5:$AC$1004,ROWS($A$32:A34)),'Tire Inventory'!$AC$5:$AC$1004,0)),"")) | K34: ="" | L34: ="" | M34: ="" | N34: ="" | O34: ="" | P34: =""
A35: =IFERROR(INDEX('Tire Inventory'!$A$5:$A$1004,MATCH(SMALL('Tire Inventory'!$AC$5:$AC$1004,ROWS($A$32:A35)),'Tire Inventory'!$AC$5:$AC$1004,0)),"") | B35: =IF($A35="","",IFERROR(INDEX('Tire Inventory'!$M$5:$M$1004,MATCH(SMALL('Tire Inventory'!$AC$5:$AC$1004,ROWS($A$32:A35)),'Tire Inventory'!$AC$5:$AC$1004,0)),"")) | C35: =IF($A35="","",IFERROR(INDEX('Tire Inventory'!$N$5:$N$1004,MATCH(SMALL('Tire Inventory'!$AC$5:$AC$1004,ROWS($A$32:A35)),'Tire Inventory'!$AC$5:$AC$1004,0)),"")) | D35: =IF($A35="","",IFERROR(INDEX('Tire Inventory'!$Q$5:$Q$1004,MATCH(SMALL('Tire Inventory'!$AC$5:$AC$1004,ROWS($A$32:A35)),'Tire Inventory'!$AC$5:$AC$1004,0)),"")) | E35: =IF($A35="","",IFERROR(INDEX('Tire Inventory'!$U$5:$U$1004,MATCH(SMALL('Tire Inventory'!$AC$5:$AC$1004,ROWS($A$32:A35)),'Tire Inventory'!$AC$5:$AC$1004,0)),"")) | F35: =IF($A35="","",IFERROR(INDEX('Tire Inventory'!$W$5:$W$1004,MATCH(SMALL('Tire Inventory'!$AC$5:$AC$1004,ROWS($A$32:A35)),'Tire Inventory'!$AC$5:$AC$1004,0)),"")) | G35: =IF($A35="","",IFERROR(INDEX('Tire Inventory'!$Y$5:$Y$1004,MATCH(SMALL('Tire Inventory'!$AC$5:$AC$1004,ROWS($A$32:A35)),'Tire Inventory'!$AC$5:$AC$1004,0)),"")) | H35: =IF($A35="","",IFERROR(INDEX('Tire Inventory'!$AA$5:$AA$1004,MATCH(SMALL('Tire Inventory'!$AC$5:$AC$1004,ROWS($A$32:A35)),'Tire Inventory'!$AC$5:$AC$1004,0)),"")) | I35: =IF($A35="","",IFERROR(INDEX('Tire Inventory'!$L$5:$L$1004,MATCH(SMALL('Tire Inventory'!$AC$5:$AC$1004,ROWS($A$32:A35)),'Tire Inventory'!$AC$5:$AC$1004,0)),"")) | K35: ="" | L35: ="" | M35: ="" | N35: ="" | O35: ="" | P35: =""
A36: =IFERROR(INDEX('Tire Inventory'!$A$5:$A$1004,MATCH(SMALL('Tire Inventory'!$AC$5:$AC$1004,ROWS($A$32:A36)),'Tire Inventory'!$AC$5:$AC$1004,0)),"") | B36: =IF($A36="","",IFERROR(INDEX('Tire Inventory'!$M$5:$M$1004,MATCH(SMALL('Tire Inventory'!$AC$5:$AC$1004,ROWS($A$32:A36)),'Tire Inventory'!$AC$5:$AC$1004,0)),"")) | C36: =IF($A36="","",IFERROR(INDEX('Tire Inventory'!$N$5:$N$1004,MATCH(SMALL('Tire Inventory'!$AC$5:$AC$1004,ROWS($A$32:A36)),'Tire Inventory'!$AC$5:$AC$1004,0)),"")) | D36: =IF($A36="","",IFERROR(INDEX('Tire Inventory'!$Q$5:$Q$1004,MATCH(SMALL('Tire Inventory'!$AC$5:$AC$1004,ROWS($A$32:A36)),'Tire Inventory'!$AC$5:$AC$1004,0)),"")) | E36: =IF($A36="","",IFERROR(INDEX('Tire Inventory'!$U$5:$U$1004,MATCH(SMALL('Tire Inventory'!$AC$5:$AC$1004,ROWS($A$32:A36)),'Tire Inventory'!$AC$5:$AC$1004,0)),"")) | F36: =IF($A36="","",IFERROR(INDEX('Tire Inventory'!$W$5:$W$1004,MATCH(SMALL('Tire Inventory'!$AC$5:$AC$1004,ROWS($A$32:A36)),'Tire Inventory'!$AC$5:$AC$1004,0)),"")) | G36: =IF($A36="","",IFERROR(INDEX('Tire Inventory'!$Y$5:$Y$1004,MATCH(SMALL('Tire Inventory'!$AC$5:$AC$1004,ROWS($A$32:A36)),'Tire Inventory'!$AC$5:$AC$1004,0)),"")) | H36: =IF($A36="","",IFERROR(INDEX('Tire Inventory'!$AA$5:$AA$1004,MATCH(SMALL('Tire Inventory'!$AC$5:$AC$1004,ROWS($A$32:A36)),'Tire Inventory'!$AC$5:$AC$1004,0)),"")) | I36: =IF($A36="","",IFERROR(INDEX('Tire Inventory'!$L$5:$L$1004,MATCH(SMALL('Tire Inventory'!$AC$5:$AC$1004,ROWS($A$32:A36)),'Tire Inventory'!$AC$5:$AC$1004,0)),"")) | K36: ="" | L36: ="" | M36: ="" | N36: ="" | O36: ="" | P36: =""
A37: =IFERROR(INDEX('Tire Inventory'!$A$5:$A$1004,MATCH(SMALL('Tire Inventory'!$AC$5:$AC$1004,ROWS($A$32:A37)),'Tire Inventory'!$AC$5:$AC$1004,0)),"") | B37: =IF($A37="","",IFERROR(INDEX('Tire Inventory'!$M$5:$M$1004,MATCH(SMALL('Tire Inventory'!$AC$5:$AC$1004,ROWS($A$32:A37)),'Tire Inventory'!$AC$5:$AC$1004,0)),"")) | C37: =IF($A37="","",IFERROR(INDEX('Tire Inventory'!$N$5:$N$1004,MATCH(SMALL('Tire Inventory'!$AC$5:$AC$1004,ROWS($A$32:A37)),'Tire Inventory'!$AC$5:$AC$1004,0)),"")) | D37: =IF($A37="","",IFERROR(INDEX('Tire Inventory'!$Q$5:$Q$1004,MATCH(SMALL('Tire Inventory'!$AC$5:$AC$1004,ROWS($A$32:A37)),'Tire Inventory'!$AC$5:$AC$1004,0)),"")) | E37: =IF($A37="","",IFERROR(INDEX('Tire Inventory'!$U$5:$U$1004,MATCH(SMALL('Tire Inventory'!$AC$5:$AC$1004,ROWS($A$32:A37)),'Tire Inventory'!$AC$5:$AC$1004,0)),"")) | F37: =IF($A37="","",IFERROR(INDEX('Tire Inventory'!$W$5:$W$1004,MATCH(SMALL('Tire Inventory'!$AC$5:$AC$1004,ROWS($A$32:A37)),'Tire Inventory'!$AC$5:$AC$1004,0)),"")) | G37: =IF($A37="","",IFERROR(INDEX('Tire Inventory'!$Y$5:$Y$1004,MATCH(SMALL('Tire Inventory'!$AC$5:$AC$1004,ROWS($A$32:A37)),'Tire Inventory'!$AC$5:$AC$1004,0)),"")) | H37: =IF($A37="","",IFERROR(INDEX('Tire Inventory'!$AA$5:$AA$1004,MATCH(SMALL('Tire Inventory'!$AC$5:$AC$1004,ROWS($A$32:A37)),'Tire Inventory'!$AC$5:$AC$1004,0)),"")) | I37: =IF($A37="","",IFERROR(INDEX('Tire Inventory'!$L$5:$L$1004,MATCH(SMALL('Tire Inventory'!$AC$5:$AC$1004,ROWS($A$32:A37)),'Tire Inventory'!$AC$5:$AC$1004,0)),"")) | K37: ="" | L37: ="" | M37: ="" | N37: ="" | O37: ="" | P37: =""
A38: =IFERROR(INDEX('Tire Inventory'!$A$5:$A$1004,MATCH(SMALL('Tire Inventory'!$AC$5:$AC$1004,ROWS($A$32:A38)),'Tire Inventory'!$AC$5:$AC$1004,0)),"") | B38: =IF($A38="","",IFERROR(INDEX('Tire Inventory'!$M$5:$M$1004,MATCH(SMALL('Tire Inventory'!$AC$5:$AC$1004,ROWS($A$32:A38)),'Tire Inventory'!$AC$5:$AC$1004,0)),"")) | C38: =IF($A38="","",IFERROR(INDEX('Tire Inventory'!$N$5:$N$1004,MATCH(SMALL('Tire Inventory'!$AC$5:$AC$1004,ROWS($A$32:A38)),'Tire Inventory'!$AC$5:$AC$1004,0)),"")) | D38: =IF($A38="","",IFERROR(INDEX('Tire Inventory'!$Q$5:$Q$1004,MATCH(SMALL('Tire Inventory'!$AC$5:$AC$1004,ROWS($A$32:A38)),'Tire Inventory'!$AC$5:$AC$1004,0)),"")) | E38: =IF($A38="","",IFERROR(INDEX('Tire Inventory'!$U$5:$U$1004,MATCH(SMALL('Tire Inventory'!$AC$5:$AC$1004,ROWS($A$32:A38)),'Tire Inventory'!$AC$5:$AC$1004,0)),"")) | F38: =IF($A38="","",IFERROR(INDEX('Tire Inventory'!$W$5:$W$1004,MATCH(SMALL('Tire Inventory'!$AC$5:$AC$1004,ROWS($A$32:A38)),'Tire Inventory'!$AC$5:$AC$1004,0)),"")) | G38: =IF($A38="","",IFERROR(INDEX('Tire Inventory'!$Y$5:$Y$1004,MATCH(SMALL('Tire Inventory'!$AC$5:$AC$1004,ROWS($A$32:A38)),'Tire Inventory'!$AC$5:$AC$1004,0)),"")) | H38: =IF($A38="","",IFERROR(INDEX('Tire Inventory'!$AA$5:$AA$1004,MATCH(SMALL('Tire Inventory'!$AC$5:$AC$1004,ROWS($A$32:A38)),'Tire Inventory'!$AC$5:$AC$1004,0)),"")) | I38: =IF($A38="","",IFERROR(INDEX('Tire Inventory'!$L$5:$L$1004,MATCH(SMALL('Tire Inventory'!$AC$5:$AC$1004,ROWS($A$32:A38)),'Tire Inventory'!$AC$5:$AC$1004,0)),"")) | K38: ="" | L38: ="" | M38: ="" | N38: ="" | O38: ="" | P38: =""
A39: =IFERROR(INDEX('Tire Inventory'!$A$5:$A$1004,MATCH(SMALL('Tire Inventory'!$AC$5:$AC$1004,ROWS($A$32:A39)),'Tire Inventory'!$AC$5:$AC$1004,0)),"") | B39: =IF($A39="","",IFERROR(INDEX('Tire Inventory'!$M$5:$M$1004,MATCH(SMALL('Tire Inventory'!$AC$5:$AC$1004,ROWS($A$32:A39)),'Tire Inventory'!$AC$5:$AC$1004,0)),"")) | C39: =IF($A39="","",IFERROR(INDEX('Tire Inventory'!$N$5:$N$1004,MATCH(SMALL('Tire Inventory'!$AC$5:$AC$1004,ROWS($A$32:A39)),'Tire Inventory'!$AC$5:$AC$1004,0)),"")) | D39: =IF($A39="","",IFERROR(INDEX('Tire Inventory'!$Q$5:$Q$1004,MATCH(SMALL('Tire Inventory'!$AC$5:$AC$1004,ROWS($A$32:A39)),'Tire Inventory'!$AC$5:$AC$1004,0)),"")) | E39: =IF($A39="","",IFERROR(INDEX('Tire Inventory'!$U$5:$U$1004,MATCH(SMALL('Tire Inventory'!$AC$5:$AC$1004,ROWS($A$32:A39)),'Tire Inventory'!$AC$5:$AC$1004,0)),"")) | F39: =IF($A39="","",IFERROR(INDEX('Tire Inventory'!$W$5:$W$1004,MATCH(SMALL('Tire Inventory'!$AC$5:$AC$1004,ROWS($A$32:A39)),'Tire Inventory'!$AC$5:$AC$1004,0)),"")) | G39: =IF($A39="","",IFERROR(INDEX('Tire Inventory'!$Y$5:$Y$1004,MATCH(SMALL('Tire Inventory'!$AC$5:$AC$1004,ROWS($A$32:A39)),'Tire Inventory'!$AC$5:$AC$1004,0)),"")) | H39: =IF($A39="","",IFERROR(INDEX('Tire Inventory'!$AA$5:$AA$1004,MATCH(SMALL('Tire Inventory'!$AC$5:$AC$1004,ROWS($A$32:A39)),'Tire Inventory'!$AC$5:$AC$1004,0)),"")) | I39: =IF($A39="","",IFERROR(INDEX('Tire Inventory'!$L$5:$L$1004,MATCH(SMALL('Tire Inventory'!$AC$5:$AC$1004,ROWS($A$32:A39)),'Tire Inventory'!$AC$5:$AC$1004,0)),"")) | K39: ="" | L39: ="" | M39: ="" | N39: ="" | O39: ="" | P39: =""
A40: ="" | B40: ="" | C40: ="" | D40: ="" | E40: ="" | F40: ="" | G40: ="" | H40: ="" | I40: ="" | K40: ="" | L40: ="" | M40: ="" | N40: ="" | O40: ="" | P40: =""
A41: ="" | B41: ="" | C41: ="" | D41: ="" | E41: ="" | F41: ="" | G41: ="" | H41: ="" | I41: ="" | K41: ="" | L41: ="" | M41: ="" | N41: ="" | O41: ="" | P41: =""
A42: ="" | B42: ="" | C42: ="" | D42: ="" | E42: ="" | F42: ="" | G42: ="" | H42: ="" | I42: ="" | K42: ="" | L42: ="" | M42: ="" | N42: ="" | O42: ="" | P42: =""
A43: ="" | B43: ="" | C43: ="" | D43: ="" | E43: ="" | F43: ="" | G43: ="" | H43: ="" | I43: ="" | K43: ="" | L43: ="" | M43: ="" | N43: ="" | O43: ="" | P43: =""
A44: ="" | B44: ="" | C44: ="" | D44: ="" | E44: ="" | F44: ="" | G44: ="" | H44: ="" | I44: ="" | K44: ="" | L44: ="" | M44: ="" | N44: ="" | O44: ="" | P44: =""
A45: ="" | B45: ="" | C45: ="" | D45: ="" | E45: ="" | F45: ="" | G45: ="" | H45: ="" | I45: ="" | K45: ="" | L45: ="" | M45: ="" | N45: ="" | O45: ="" | P45: =""
A46: ="" | B46: ="" | C46: ="" | D46: ="" | E46: ="" | F46: ="" | G46: ="" | H46: ="" | I46: ="" | K46: ="" | L46: ="" | M46: ="" | N46: ="" | O46: ="" | P46: =""
A47: ="" | B47: ="" | C47: ="" | D47: ="" | E47: ="" | F47: ="" | G47: ="" | H47: ="" | I47: ="" | K47: ="" | L47: ="" | M47: ="" | N47: ="" | O47: ="" | P47: =""
A48: ="" | B48: ="" | C48: ="" | D48: ="" | E48: ="" | F48: ="" | G48: ="" | H48: ="" | I48: ="" | K48: ="" | L48: ="" | M48: ="" | N48: ="" | O48: ="" | P48: =""
A49: ="" | B49: ="" | C49: ="" | D49: ="" | E49: ="" | F49: ="" | G49: ="" | H49: ="" | I49: ="" | K49: ="" | L49: ="" | M49: ="" | N49: ="" | O49: ="" | P49: =""
A50: ="" | B50: ="" | C50: ="" | D50: ="" | E50: ="" | F50: ="" | G50: ="" | H50: ="" | I50: ="" | K50: ="" | L50: ="" | M50: ="" | N50: ="" | O50: ="" | P50: =""
A51: ="" | B51: ="" | C51: ="" | D51: ="" | E51: ="" | F51: ="" | G51: ="" | H51: ="" | I51: ="" | K51: ="" | L51: ="" | M51: ="" | N51: ="" | O51: ="" | P51: =""
... A101: ="" | B101: ="" | C101: ="" | D101: ="" | E101: ="" | F101: ="" | G101: ="" | H101: ="" | I101: ="" | K101: ="" | L101: ="" | M101: ="" | N101: ="" | O101: ="" | P101: =""

Sheet Tire Inspections
A1: Tire Inspection History
A2: Enter one row per tire and position inspected. Blue cells are inputs; gray cells are calculated.
A4: Inspection ID | B4: Inspection Date | C4: Vehicle/Unit | D4: Odometer (miles) | E4: Tire ID | F4: Position | G4: Inspector | H4: Location | I4: Outer Tread (32nds) | J4: Center Tread (32nds) | K4: Inner Tread (32nds) | L4: Measured PSI | M4: Visual Condition | N4: Action Taken | O4: Notes | P4: Position Group | Q4: Average Tread (32nds) | R4: Minimum Tread (32nds) | S4: Wear Spread (32nds) | T4: Target PSI | U4: Pressure Variance (PSI) | V4: Tread Status | W4: Wear Status | X4: Pressure Status | Y4: Row Check
A5: INS-0001 | B5: 46228 | C5: TRK-101 | D5: 84520 | E5: T-1003 | F5: Left Rear Outer | G5: Maria Lopez | H5: Dallas Yard | I5: 7 | J5: 6 | K5: 5 | L5: 92 | M5: Irregular Wear | N5: None | O5: Initial wear trend observed | P5: =IF($A5="","",IFERROR(INDEX('Settings'!$F$5:$F$21,MATCH($F5,'Settings'!$E$5:$E$21,0)),"Other")) | Q5: =IF($A5="","",IF(COUNT($I5,$J5,$K5)<3,"",IFERROR(AVERAGE($I5,$J5,$K5),""))) | R5: =IF($A5="","",IF(COUNT($I5,$J5,$K5)<3,"",IFERROR(MIN($I5,$J5,$K5),""))) | S5: =IF($A5="","",IF(COUNT($I5,$J5,$K5)<3,"",IFERROR(MAX($I5,$J5,$K5)-MIN($I5,$J5,$K5),""))) | T5: =IF($A5="","",IFERROR(INDEX('Tire Inventory'!$I$5:$I$1004,MATCH($E5,'Tire Inventory'!$A$5:$A$1004,0)),"")) | U5: =IF($A5="","",IF(OR($L5="",$T5=""),"",IFERROR($L5-$T5,""))) | V5: =IF($A5="","",IF($R5="","No Data",IF($R5<='Settings'!$B$6,"Critical",IF($R5<='Settings'!$B$5,"Low","OK")))) | W5: =IF($A5="","",IF($S5="","No Data",IF($S5>='Settings'!$B$7,"Uneven","OK"))) | X5: =IF($A5="","",IF(OR($L5="",$T5=""),"No Data",IF($L5<$T5-'Settings'!$B$8,"Low",IF($L5>$T5+'Settings'!$B$8,"High","OK")))) | Y5: =IF(COUNTA($A5:$O5)=0,"",IF(OR($A5="",$B5="",$C5="",$D5="",$E5="",$F5="",$I5="",$J5="",$K5=""),"Missing Required Input",IF(COUNTIF($A$5:$A$1004,$A5)>1,"Duplicate Inspection ID",IF(COUNTIF('Tire Inventory'!$A$5:$A$1004,$E5)=0,"Unknown Tire ID",IF(OR($I5<0,$I5>32,$J5<0,$J5>32,$K5<0,$K5>32),"Check Tread Reading",IF(OR($D5<0,$D5>2000000),"Check Odometer",IF(AND($L5<>"",OR($L5<0,$L5>150)),"Check PSI","OK"))))))
A6: INS-0002 | B6: 46231 | C6: TRK-101 | D6: 84760 | E6: T-1004 | F6: Right Rear Outer | G6: Kevin Brooks | H6: Dallas Yard | I6: 4 | J6: 3 | K6: 3 | L6: 88 | M6: Irregular Wear | N6: None | O6: Recheck at next service | P6: =IF($A6="","",IFERROR(INDEX('Settings'!$F$5:$F$21,MATCH($F6,'Settings'!$E$5:$E$21,0)),"Other")) | Q6: =IF($A6="","",IF(COUNT($I6,$J6,$K6)<3,"",IFERROR(AVERAGE($I6,$J6,$K6),""))) | R6: =IF($A6="","",IF(COUNT($I6,$J6,$K6)<3,"",IFERROR(MIN($I6,$J6,$K6),""))) | S6: =IF($A6="","",IF(COUNT($I6,$J6,$K6)<3,"",IFERROR(MAX($I6,$J6,$K6)-MIN($I6,$J6,$K6),""))) | T6: =IF($A6="","",IFERROR(INDEX('Tire Inventory'!$I$5:$I$1004,MATCH($E6,'Tire Inventory'!$A$5:$A$1004,0)),"")) | U6: =IF($A6="","",IF(OR($L6="",$T6=""),"",IFERROR($L6-$T6,""))) | V6: =IF($A6="","",IF($R6="","No Data",IF($R6<='Settings'!$B$6,"Critical",IF($R6<='Settings'!$B$5,"Low","OK")))) | W6: =IF($A6="","",IF($S6="","No Data",IF($S6>='Settings'!$B$7,"Uneven","OK"))) | X6: =IF($A6="","",IF(OR($L6="",$T6=""),"No Data",IF($L6<$T6-'Settings'!$B$8,"Low",IF($L6>$T6+'Settings'!$B$8,"High","OK")))) | Y6: =IF(COUNTA($A6:$O6)=0,"",IF(OR($A6="",$B6="",$C6="",$D6="",$E6="",$F6="",$I6="",$J6="",$K6=""),"Missing Required Input",IF(COUNTIF($A$5:$A$1004,$A6)>1,"Duplicate Inspection ID",IF(COUNTIF('Tire Inventory'!$A$5:$A$1004,$E6)=0,"Unknown Tire ID",IF(OR($I6<0,$I6>32,$J6<0,$J6>32,$K6<0,$K6>32),"Check Tread Reading",IF(OR($D6<0,$D6>2000000),"Check Odometer",IF(AND($L6<>"",OR($L6<0,$L6>150)),"Check PSI","OK"))))))
A7: INS-0003 | B7: 46240 | C7: TRK-102 | D7: 42940 | E7: T-1005 | F7: Left Front | G7: Dana Hill | H7: Fort Worth Yard | I7: 9 | J7: 9 | K7: 9 | L7: 35 | M7: Good | N7: None | O7: Routine inspection | P7: =IF($A7="","",IFERROR(INDEX('Settings'!$F$5:$F$21,MATCH($F7,'Settings'!$E$5:$E$21,0)),"Other")) | Q7: =IF($A7="","",IF(COUNT($I7,$J7,$K7)<3,"",IFERROR(AVERAGE($I7,$J7,$K7),""))) | R7: =IF($A7="","",IF(COUNT($I7,$J7,$K7)<3,"",IFERROR(MIN($I7,$J7,$K7),""))) | S7: =IF($A7="","",IF(COUNT($I7,$J7,$K7)<3,"",IFERROR(MAX($I7,$J7,$K7)-MIN($I7,$J7,$K7),""))) | T7: =IF($A7="","",IFERROR(INDEX('Tire Inventory'!$I$5:$I$1004,MATCH($E7,'Tire Inventory'!$A$5:$A$1004,0)),"")) | U7: =IF($A7="","",IF(OR($L7="",$T7=""),"",IFERROR($L7-$T7,""))) | V7: =IF($A7="","",IF($R7="","No Data",IF($R7<='Settings'!$B$6,"Critical",IF($R7<='Settings'!$B$5,"Low","OK")))) | W7: =IF($A7="","",IF($S7="","No Data",IF($S7>='Settings'!$B$7,"Uneven","OK"))) | X7: =IF($A7="","",IF(OR($L7="",$T7=""),"No Data",IF($L7<$T7-'Settings'!$B$8,"Low",IF($L7>$T7+'Settings'!$B$8,"High","OK")))) | Y7: =IF(COUNTA($A7:$O7)=0,"",IF(OR($A7="",$B7="",$C7="",$D7="",$E7="",$F7="",$I7="",$J7="",$K7=""),"Missing Required Input",IF(COUNTIF($A$5:$A$1004,$A7)>1,"Duplicate Inspection ID",IF(COUNTIF('Tire Inventory'!$A$5:$A$1004,$E7)=0,"Unknown Tire ID",IF(OR($I7<0,$I7>32,$J7<0,$J7>32,$K7<0,$K7>32),"Check Tread Reading",IF(OR($D7<0,$D7>2000000),"Check Odometer",IF(AND($L7<>"",OR($L7<0,$L7>150)),"Check PSI","OK"))))))
A8: INS-0004 | B8: 46251 | C8: TRL-201 | D8: 126440 | E8: T-1007 | F8: Axle 1 Left Outer | G8: Maria Lopez | H8: Dallas Yard | I8: 8 | J8: 5 | K8: 4 | L8: 94 | M8: Irregular Wear | N8: None | O8: Check alignment and suspension | P8: =IF($A8="","",IFERROR(INDEX('Settings'!$F$5:$F$21,MATCH($F8,'Settings'!$E$5:$E$21,0)),"Other")) | Q8: =IF($A8="","",IF(COUNT($I8,$J8,$K8)<3,"",IFERROR(AVERAGE($I8,$J8,$K8),""))) | R8: =IF($A8="","",IF(COUNT($I8,$J8,$K8)<3,"",IFERROR(MIN($I8,$J8,$K8),""))) | S8: =IF($A8="","",IF(COUNT($I8,$J8,$K8)<3,"",IFERROR(MAX($I8,$J8,$K8)-MIN($I8,$J8,$K8),""))) | T8: =IF($A8="","",IFERROR(INDEX('Tire Inventory'!$I$5:$I$1004,MATCH($E8,'Tire Inventory'!$A$5:$A$1004,0)),"")) | U8: =IF($A8="","",IF(OR($L8="",$T8=""),"",IFERROR($L8-$T8,""))) | V8: =IF($A8="","",IF($R8="","No Data",IF($R8<='Settings'!$B$6,"Critical",IF($R8<='Settings'!$B$5,"Low","OK")))) | W8: =IF($A8="","",IF($S8="","No Data",IF($S8>='Settings'!$B$7,"Uneven","OK"))) | X8: =IF($A8="","",IF(OR($L8="",$T8=""),"No Data",IF($L8<$T8-'Settings'!$B$8,"Low",IF($L8>$T8+'Settings'!$B$8,"High","OK")))) | Y8: =IF(COUNTA($A8:$O8)=0,"",IF(OR($A8="",$B8="",$C8="",$D8="",$E8="",$F8="",$I8="",$J8="",$K8=""),"Missing Required Input",IF(COUNTIF($A$5:$A$1004,$A8)>1,"Duplicate Inspection ID",IF(COUNTIF('Tire Inventory'!$A$5:$A$1004,$E8)=0,"Unknown Tire ID",IF(OR($I8<0,$I8>32,$J8<0,$J8>32,$K8<0,$K8>32),"Check Tread Reading",IF(OR($D8<0,$D8>2000000),"Check Odometer",IF(AND($L8<>"",OR($L8<0,$L8>150)),"Check PSI","OK"))))))
A9: INS-0005 | B9: 46261 | C9: TRK-101 | D9: 85880 | E9: T-1001 | F9: Left Front | G9: Kevin Brooks | H9: Dallas Yard | I9: 12 | J9: 12 | K9: 11 | L9: 105 | M9: Good | N9: None | O9: No visible damage | P9: =IF($A9="","",IFERROR(INDEX('Settings'!$F$5:$F$21,MATCH($F9,'Settings'!$E$5:$E$21,0)),"Other")) | Q9: =IF($A9="","",IF(COUNT($I9,$J9,$K9)<3,"",IFERROR(AVERAGE($I9,$J9,$K9),""))) | R9: =IF($A9="","",IF(COUNT($I9,$J9,$K9)<3,"",IFERROR(MIN($I9,$J9,$K9),""))) | S9: =IF($A9="","",IF(COUNT($I9,$J9,$K9)<3,"",IFERROR(MAX($I9,$J9,$K9)-MIN($I9,$J9,$K9),""))) | T9: =IF($A9="","",IFERROR(INDEX('Tire Inventory'!$I$5:$I$1004,MATCH($E9,'Tire Inventory'!$A$5:$A$1004,0)),"")) | U9: =IF($A9="","",IF(OR($L9="",$T9=""),"",IFERROR($L9-$T9,""))) | V9: =IF($A9="","",IF($R9="","No Data",IF($R9<='Settings'!$B$6,"Critical",IF($R9<='Settings'!$B$5,"Low","OK")))) | W9: =IF($A9="","",IF($S9="","No Data",IF($S9>='Settings'!$B$7,"Uneven","OK"))) | X9: =IF($A9="","",IF(OR($L9="",$T9=""),"No Data",IF($L9<$T9-'Settings'!$B$8,"Low",IF($L9>$T9+'Settings'!$B$8,"High","OK")))) | Y9: =IF(COUNTA($A9:$O9)=0,"",IF(OR($A9="",$B9="",$C9="",$D9="",$E9="",$F9="",$I9="",$J9="",$K9=""),"Missing Required Input",IF(COUNTIF($A$5:$A$1004,$A9)>1,"Duplicate Inspection ID",IF(COUNTIF('Tire Inventory'!$A$5:$A$1004,$E9)=0,"Unknown Tire ID",IF(OR($I9<0,$I9>32,$J9<0,$J9>32,$K9<0,$K9>32),"Check Tread Reading",IF(OR($D9<0,$D9>2000000),"Check Odometer",IF(AND($L9<>"",OR($L9<0,$L9>150)),"Check PSI","OK"))))))
A10: INS-0006 | B10: 46264 | C10: TRK-101 | D10: 86030 | E10: T-1002 | F10: Right Front | G10: Kevin Brooks | H10: Dallas Yard | I10: 10 | J10: 9 | K10: 8 | L10: 98 | M10: Good | N10: None | O10: Pressure follow-up needed | P10: =IF($A10="","",IFERROR(INDEX('Settings'!$F$5:$F$21,MATCH($F10,'Settings'!$E$5:$E$21,0)),"Other")) | Q10: =IF($A10="","",IF(COUNT($I10,$J10,$K10)<3,"",IFERROR(AVERAGE($I10,$J10,$K10),""))) | R10: =IF($A10="","",IF(COUNT($I10,$J10,$K10)<3,"",IFERROR(MIN($I10,$J10,$K10),""))) | S10: =IF($A10="","",IF(COUNT($I10,$J10,$K10)<3,"",IFERROR(MAX($I10,$J10,$K10)-MIN($I10,$J10,$K10),""))) | T10: =IF($A10="","",IFERROR(INDEX('Tire Inventory'!$I$5:$I$1004,MATCH($E10,'Tire Inventory'!$A$5:$A$1004,0)),"")) | U10: =IF($A10="","",IF(OR($L10="",$T10=""),"",IFERROR($L10-$T10,""))) | V10: =IF($A10="","",IF($R10="","No Data",IF($R10<='Settings'!$B$6,"Critical",IF($R10<='Settings'!$B$5,"Low","OK")))) | W10: =IF($A10="","",IF($S10="","No Data",IF($S10>='Settings'!$B$7,"Uneven","OK"))) | X10: =IF($A10="","",IF(OR($L10="",$T10=""),"No Data",IF($L10<$T10-'Settings'!$B$8,"Low",IF($L10>$T10+'Settings'!$B$8,"High","OK")))) | Y10: =IF(COUNTA($A10:$O10)=0,"",IF(OR($A10="",$B10="",$C10="",$D10="",$E10="",$F10="",$I10="",$J10="",$K10=""),"Missing Required Input",IF(COUNTIF($A$5:$A$1004,$A10)>1,"Duplicate Inspection ID",IF(COUNTIF('Tire Inventory'!$A$5:$A$1004,$E10)=0,"Unknown Tire ID",IF(OR($I10<0,$I10>32,$J10<0,$J10>32,$K10<0,$K10>32),"Check Tread Reading",IF(OR($D10<0,$D10>2000000),"Check Odometer",IF(AND($L10<>"",OR($L10<0,$L10>150)),"Check PSI","OK"))))))
A11: INS-0007 | B11: 46265 | C11: TRK-101 | D11: 86140 | E11: T-1003 | F11: Left Rear Outer | G11: Maria Lopez | H11: Dallas Yard | I11: 6 | J11: 5 | K11: 4 | L11: 90 | M11: Irregular Wear | N11: Scheduled Replacement | O11: Monitor until service appointment | P11: =IF($A11="","",IFERROR(INDEX('Settings'!$F$5:$F$21,MATCH($F11,'Settings'!$E$5:$E$21,0)),"Other")) | Q11: =IF($A11="","",IF(COUNT($I11,$J11,$K11)<3,"",IFERROR(AVERAGE($I11,$J11,$K11),""))) | R11: =IF($A11="","",IF(COUNT($I11,$J11,$K11)<3,"",IFERROR(MIN($I11,$J11,$K11),""))) | S11: =IF($A11="","",IF(COUNT($I11,$J11,$K11)<3,"",IFERROR(MAX($I11,$J11,$K11)-MIN($I11,$J11,$K11),""))) | T11: =IF($A11="","",IFERROR(INDEX('Tire Inventory'!$I$5:$I$1004,MATCH($E11,'Tire Inventory'!$A$5:$A$1004,0)),"")) | U11: =IF($A11="","",IF(OR($L11="",$T11=""),"",IFERROR($L11-$T11,""))) | V11: =IF($A11="","",IF($R11="","No Data",IF($R11<='Settings'!$B$6,"Critical",IF($R11<='Settings'!$B$5,"Low","OK")))) | W11: =IF($A11="","",IF($S11="","No Data",IF($S11>='Settings'!$B$7,"Uneven","OK"))) | X11: =IF($A11="","",IF(OR($L11="",$T11=""),"No Data",IF($L11<$T11-'Settings'!$B$8,"Low",IF($L11>$T11+'Settings'!$B$8,"High","OK")))) | Y11: =IF(COUNTA($A11:$O11)=0,"",IF(OR($A11="",$B11="",$C11="",$D11="",$E11="",$F11="",$I11="",$J11="",$K11=""),"Missing Required Input",IF(COUNTIF($A$5:$A$1004,$A11)>1,"Duplicate Inspection ID",IF(COUNTIF('Tire Inventory'!$A$5:$A$1004,$E11)=0,"Unknown Tire ID",IF(OR($I11<0,$I11>32,$J11<0,$J11>32,$K11<0,$K11>32),"Check Tread Reading",IF(OR($D11<0,$D11>2000000),"Check Odometer",IF(AND($L11<>"",OR($L11<0,$L11>150)),"Check PSI","OK"))))))
A12: INS-0008 | B12: 46267 | C12: TRK-102 | D12: 43180 | E12: T-1006 | F12: Right Front | G12: Dana Hill | H12: Fort Worth Yard | I12: 6 | J12: 5 | K12: 4 | L12: 29 | M12: Good | N12: Adjusted Pressure | O12: Low reading documented before adjustment | P12: =IF($A12="","",IFERROR(INDEX('Settings'!$F$5:$F$21,MATCH($F12,'Settings'!$E$5:$E$21,0)),"Other")) | Q12: =IF($A12="","",IF(COUNT($I12,$J12,$K12)<3,"",IFERROR(AVERAGE($I12,$J12,$K12),""))) | R12: =IF($A12="","",IF(COUNT($I12,$J12,$K12)<3,"",IFERROR(MIN($I12,$J12,$K12),""))) | S12: =IF($A12="","",IF(COUNT($I12,$J12,$K12)<3,"",IFERROR(MAX($I12,$J12,$K12)-MIN($I12,$J12,$K12),""))) | T12: =IF($A12="","",IFERROR(INDEX('Tire Inventory'!$I$5:$I$1004,MATCH($E12,'Tire Inventory'!$A$5:$A$1004,0)),"")) | U12: =IF($A12="","",IF(OR($L12="",$T12=""),"",IFERROR($L12-$T12,""))) | V12: =IF($A12="","",IF($R12="","No Data",IF($R12<='Settings'!$B$6,"Critical",IF($R12<='Settings'!$B$5,"Low","OK")))) | W12: =IF($A12="","",IF($S12="","No Data",IF($S12>='Settings'!$B$7,"Uneven","OK"))) | X12: =IF($A12="","",IF(OR($L12="",$T12=""),"No Data",IF($L12<$T12-'Settings'!$B$8,"Low",IF($L12>$T12+'Settings'!$B$8,"High","OK")))) | Y12: =IF(COUNTA($A12:$O12)=0,"",IF(OR($A12="",$B12="",$C12="",$D12="",$E12="",$F12="",$I12="",$J12="",$K12=""),"Missing Required Input",IF(COUNTIF($A$5:$A$1004,$A12)>1,"Duplicate Inspection ID",IF(COUNTIF('Tire Inventory'!$A$5:$A$1004,$E12)=0,"Unknown Tire ID",IF(OR($I12<0,$I12>32,$J12<0,$J12>32,$K12<0,$K12>32),"Check Tread Reading",IF(OR($D12<0,$D12>2000000),"Check Odometer",IF(AND($L12<>"",OR($L12<0,$L12>150)),"Check PSI","OK"))))))
A13: INS-0009 | B13: 46269 | C13: TRK-101 | D13: 86360 | E13: T-1004 | F13: Right Rear Outer | G13: Maria Lopez | H13: Dallas Yard | I13: 3 | J13: 2 | K13: 2 | L13: 88 | M13: Cuts/Cracks | N13: Scheduled Replacement | O13: Inspect immediately under fleet policy | P13: =IF($A13="","",IFERROR(INDEX('Settings'!$F$5:$F$21,MATCH($F13,'Settings'!$E$5:$E$21,0)),"Other")) | Q13: =IF($A13="","",IF(COUNT($I13,$J13,$K13)<3,"",IFERROR(AVERAGE($I13,$J13,$K13),""))) | R13: =IF($A13="","",IF(COUNT($I13,$J13,$K13)<3,"",IFERROR(MIN($I13,$J13,$K13),""))) | S13: =IF($A13="","",IF(COUNT($I13,$J13,$K13)<3,"",IFERROR(MAX($I13,$J13,$K13)-MIN($I13,$J13,$K13),""))) | T13: =IF($A13="","",IFERROR(INDEX('Tire Inventory'!$I$5:$I$1004,MATCH($E13,'Tire Inventory'!$A$5:$A$1004,0)),"")) | U13: =IF($A13="","",IF(OR($L13="",$T13=""),"",IFERROR($L13-$T13,""))) | V13: =IF($A13="","",IF($R13="","No Data",IF($R13<='Settings'!$B$6,"Critical",IF($R13<='Settings'!$B$5,"Low","OK")))) | W13: =IF($A13="","",IF($S13="","No Data",IF($S13>='Settings'!$B$7,"Uneven","OK"))) | X13: =IF($A13="","",IF(OR($L13="",$T13=""),"No Data",IF($L13<$T13-'Settings'!$B$8,"Low",IF($L13>$T13+'Settings'!$B$8,"High","OK")))) | Y13: =IF(COUNTA($A13:$O13)=0,"",IF(OR($A13="",$B13="",$C13="",$D13="",$E13="",$F13="",$I13="",$J13="",$K13=""),"Missing Required Input",IF(COUNTIF($A$5:$A$1004,$A13)>1,"Duplicate Inspection ID",IF(COUNTIF('Tire Inventory'!$A$5:$A$1004,$E13)=0,"Unknown Tire ID",IF(OR($I13<0,$I13>32,$J13<0,$J13>32,$K13<0,$K13>32),"Check Tread Reading",IF(OR($D13<0,$D13>2000000),"Check Odometer",IF(AND($L13<>"",OR($L13<0,$L13>150)),"Check PSI","OK"))))))
A14: INS-0010 | B14: 46270 | C14: TRL-201 | D14: 127210 | E14: T-1008 | F14: Axle 1 Right Outer | G14: Dana Hill | H14: Austin Hub | I14: 11 | J14: 11 | K14: 10 | L14: 102 | M14: Good | N14: None | O14: Routine inspection | P14: =IF($A14="","",IFERROR(INDEX('Settings'!$F$5:$F$21,MATCH($F14,'Settings'!$E$5:$E$21,0)),"Other")) | Q14: =IF($A14="","",IF(COUNT($I14,$J14,$K14)<3,"",IFERROR(AVERAGE($I14,$J14,$K14),""))) | R14: =IF($A14="","",IF(COUNT($I14,$J14,$K14)<3,"",IFERROR(MIN($I14,$J14,$K14),""))) | S14: =IF($A14="","",IF(COUNT($I14,$J14,$K14)<3,"",IFERROR(MAX($I14,$J14,$K14)-MIN($I14,$J14,$K14),""))) | T14: =IF($A14="","",IFERROR(INDEX('Tire Inventory'!$I$5:$I$1004,MATCH($E14,'Tire Inventory'!$A$5:$A$1004,0)),"")) | U14: =IF($A14="","",IF(OR($L14="",$T14=""),"",IFERROR($L14-$T14,""))) | V14: =IF($A14="","",IF($R14="","No Data",IF($R14<='Settings'!$B$6,"Critical",IF($R14<='Settings'!$B$5,"Low","OK")))) | W14: =IF($A14="","",IF($S14="","No Data",IF($S14>='Settings'!$B$7,"Uneven","OK"))) | X14: =IF($A14="","",IF(OR($L14="",$T14=""),"No Data",IF($L14<$T14-'Settings'!$B$8,"Low",IF($L14>$T14+'Settings'!$B$8,"High","OK")))) | Y14: =IF(COUNTA($A14:$O14)=0,"",IF(OR($A14="",$B14="",$C14="",$D14="",$E14="",$F14="",$I14="",$J14="",$K14=""),"Missing Required Input",IF(COUNTIF($A$5:$A$1004,$A14)>1,"Duplicate Inspection ID",IF(COUNTIF('Tire Inventory'!$A$5:$A$1004,$E14)=0,"Unknown Tire ID",IF(OR($I14<0,$I14>32,$J14<0,$J14>32,$K14<0,$K14>32),"Check Tread Reading",IF(OR($D14<0,$D14>2000000),"Check Odometer",IF(AND($L14<>"",OR($L14<0,$L14>150)),"Check PSI","OK"))))))
P15: =IF($A15="","",IFERROR(INDEX('Settings'!$F$5:$F$21,MATCH($F15,'Settings'!$E$5:$E$21,0)),"Other")) | Q15: =IF($A15="","",IF(COUNT($I15,$J15,$K15)<3,"",IFERROR(AVERAGE($I15,$J15,$K15),""))) | R15: =IF($A15="","",IF(COUNT($I15,$J15,$K15)<3,"",IFERROR(MIN($I15,$J15,$K15),""))) | S15: =IF($A15="","",IF(COUNT($I15,$J15,$K15)<3,"",IFERROR(MAX($I15,$J15,$K15)-MIN($I15,$J15,$K15),""))) | T15: =IF($A15="","",IFERROR(INDEX('Tire Inventory'!$I$5:$I$1004,MATCH($E15,'Tire Inventory'!$A$5:$A$1004,0)),"")) | U15: =IF($A15="","",IF(OR($L15="",$T15=""),"",IFERROR($L15-$T15,""))) | V15: =IF($A15="","",IF($R15="","No Data",IF($R15<='Settings'!$B$6,"Critical",IF($R15<='Settings'!$B$5,"Low","OK")))) | W15: =IF($A15="","",IF($S15="","No Data",IF($S15>='Settings'!$B$7,"Uneven","OK"))) | X15: =IF($A15="","",IF(OR($L15="",$T15=""),"No Data",IF($L15<$T15-'Settings'!$B$8,"Low",IF($L15>$T15+'Settings'!$B$8,"High","OK")))) | Y15: =IF(COUNTA($A15:$O15)=0,"",IF(OR($A15="",$B15="",$C15="",$D15="",$E15="",$F15="",$I15="",$J15="",$K15=""),"Missing Required Input",IF(COUNTIF($A$5:$A$1004,$A15)>1,"Duplicate Inspection ID",IF(COUNTIF('Tire Inventory'!$A$5:$A$1004,$E15)=0,"Unknown Tire ID",IF(OR($I15<0,$I15>32,$J15<0,$J15>32,$K15<0,$K15>32),"Check Tread Reading",IF(OR($D15<0,$D15>2000000),"Check Odometer",IF(AND($L15<>"",OR($L15<0,$L15>150)),"Check PSI","OK"))))))
P16: =IF($A16="","",IFERROR(INDEX('Settings'!$F$5:$F$21,MATCH($F16,'Settings'!$E$5:$E$21,0)),"Other")) | Q16: =IF($A16="","",IF(COUNT($I16,$J16,$K16)<3,"",IFERROR(AVERAGE($I16,$J16,$K16),""))) | R16: =IF($A16="","",IF(COUNT($I16,$J16,$K16)<3,"",IFERROR(MIN($I16,$J16,$K16),""))) | S16: =IF($A16="","",IF(COUNT($I16,$J16,$K16)<3,"",IFERROR(MAX($I16,$J16,$K16)-MIN($I16,$J16,$K16),""))) | T16: =IF($A16="","",IFERROR(INDEX('Tire Inventory'!$I$5:$I$1004,MATCH($E16,'Tire Inventory'!$A$5:$A$1004,0)),"")) | U16: =IF($A16="","",IF(OR($L16="",$T16=""),"",IFERROR($L16-$T16,""))) | V16: =IF($A16="","",IF($R16="","No Data",IF($R16<='Settings'!$B$6,"Critical",IF($R16<='Settings'!$B$5,"Low","OK")))) | W16: =IF($A16="","",IF($S16="","No Data",IF($S16>='Settings'!$B$7,"Uneven","OK"))) | X16: =IF($A16="","",IF(OR($L16="",$T16=""),"No Data",IF($L16<$T16-'Settings'!$B$8,"Low",IF($L16>$T16+'Settings'!$B$8,"High","OK")))) | Y16: =IF(COUNTA($A16:$O16)=0,"",IF(OR($A16="",$B16="",$C16="",$D16="",$E16="",$F16="",$I16="",$J16="",$K16=""),"Missing Required Input",IF(COUNTIF($A$5:$A$1004,$A16)>1,"Duplicate Inspection ID",IF(COUNTIF('Tire Inventory'!$A$5:$A$1004,$E16)=0,"Unknown Tire ID",IF(OR($I16<0,$I16>32,$J16<0,$J16>32,$K16<0,$K16>32),"Check Tread Reading",IF(OR($D16<0,$D16>2000000),"Check Odometer",IF(AND($L16<>"",OR($L16<0,$L16>150)),"Check PSI","OK"))))))
P17: =IF($A17="","",IFERROR(INDEX('Settings'!$F$5:$F$21,MATCH($F17,'Settings'!$E$5:$E$21,0)),"Other")) | Q17: =IF($A17="","",IF(COUNT($I17,$J17,$K17)<3,"",IFERROR(AVERAGE($I17,$J17,$K17),""))) | R17: =IF($A17="","",IF(COUNT($I17,$J17,$K17)<3,"",IFERROR(MIN($I17,$J17,$K17),""))) | S17: =IF($A17="","",IF(COUNT($I17,$J17,$K17)<3,"",IFERROR(MAX($I17,$J17,$K17)-MIN($I17,$J17,$K17),""))) | T17: =IF($A17="","",IFERROR(INDEX('Tire Inventory'!$I$5:$I$1004,MATCH($E17,'Tire Inventory'!$A$5:$A$1004,0)),"")) | U17: =IF($A17="","",IF(OR($L17="",$T17=""),"",IFERROR($L17-$T17,""))) | V17: =IF($A17="","",IF($R17="","No Data",IF($R17<='Settings'!$B$6,"Critical",IF($R17<='Settings'!$B$5,"Low","OK")))) | W17: =IF($A17="","",IF($S17="","No Data",IF($S17>='Settings'!$B$7,"Uneven","OK"))) | X17: =IF($A17="","",IF(OR($L17="",$T17=""),"No Data",IF($L17<$T17-'Settings'!$B$8,"Low",IF($L17>$T17+'Settings'!$B$8,"High","OK")))) | Y17: =IF(COUNTA($A17:$O17)=0,"",IF(OR($A17="",$B17="",$C17="",$D17="",$E17="",$F17="",$I17="",$J17="",$K17=""),"Missing Required Input",IF(COUNTIF($A$5:$A$1004,$A17)>1,"Duplicate Inspection ID",IF(COUNTIF('Tire Inventory'!$A$5:$A$1004,$E17)=0,"Unknown Tire ID",IF(OR($I17<0,$I17>32,$J17<0,$J17>32,$K17<0,$K17>32),"Check Tread Reading",IF(OR($D17<0,$D17>2000000),"Check Odometer",IF(AND($L17<>"",OR($L17<0,$L17>150)),"Check PSI","OK"))))))
P18: =IF($A18="","",IFERROR(INDEX('Settings'!$F$5:$F$21,MATCH($F18,'Settings'!$E$5:$E$21,0)),"Other")) | Q18: =IF($A18="","",IF(COUNT($I18,$J18,$K18)<3,"",IFERROR(AVERAGE($I18,$J18,$K18),""))) | R18: =IF($A18="","",IF(COUNT($I18,$J18,$K18)<3,"",IFERROR(MIN($I18,$J18,$K18),""))) | S18: =IF($A18="","",IF(COUNT($I18,$J18,$K18)<3,"",IFERROR(MAX($I18,$J18,$K18)-MIN($I18,$J18,$K18),""))) | T18: =IF($A18="","",IFERROR(INDEX('Tire Inventory'!$I$5:$I$1004,MATCH($E18,'Tire Inventory'!$A$5:$A$1004,0)),"")) | U18: =IF($A18="","",IF(OR($L18="",$T18=""),"",IFERROR($L18-$T18,""))) | V18: =IF($A18="","",IF($R18="","No Data",IF($R18<='Settings'!$B$6,"Critical",IF($R18<='Settings'!$B$5,"Low","OK")))) | W18: =IF($A18="","",IF($S18="","No Data",IF($S18>='Settings'!$B$7,"Uneven","OK"))) | X18: =IF($A18="","",IF(OR($L18="",$T18=""),"No Data",IF($L18<$T18-'Settings'!$B$8,"Low",IF($L18>$T18+'Settings'!$B$8,"High","OK")))) | Y18: =IF(COUNTA($A18:$O18)=0,"",IF(OR($A18="",$B18="",$C18="",$D18="",$E18="",$F18="",$I18="",$J18="",$K18=""),"Missing Required Input",IF(COUNTIF($A$5:$A$1004,$A18)>1,"Duplicate Inspection ID",IF(COUNTIF('Tire Inventory'!$A$5:$A$1004,$E18)=0,"Unknown Tire ID",IF(OR($I18<0,$I18>32,$J18<0,$J18>32,$K18<0,$K18>32),"Check Tread Reading",IF(OR($D18<0,$D18>2000000),"Check Odometer",IF(AND($L18<>"",OR($L18<0,$L18>150)),"Check PSI","OK"))))))
P19: =IF($A19="","",IFERROR(INDEX('Settings'!$F$5:$F$21,MATCH($F19,'Settings'!$E$5:$E$21,0)),"Other")) | Q19: =IF($A19="","",IF(COUNT($I19,$J19,$K19)<3,"",IFERROR(AVERAGE($I19,$J19,$K19),""))) | R19: =IF($A19="","",IF(COUNT($I19,$J19,$K19)<3,"",IFERROR(MIN($I19,$J19,$K19),""))) | S19: =IF($A19="","",IF(COUNT($I19,$J19,$K19)<3,"",IFERROR(MAX($I19,$J19,$K19)-MIN($I19,$J19,$K19),""))) | T19: =IF($A19="","",IFERROR(INDEX('Tire Inventory'!$I$5:$I$1004,MATCH($E19,'Tire Inventory'!$A$5:$A$1004,0)),"")) | U19: =IF($A19="","",IF(OR($L19="",$T19=""),"",IFERROR($L19-$T19,""))) | V19: =IF($A19="","",IF($R19="","No Data",IF($R19<='Settings'!$B$6,"Critical",IF($R19<='Settings'!$B$5,"Low","OK")))) | W19: =IF($A19="","",IF($S19="","No Data",IF($S19>='Settings'!$B$7,"Uneven","OK"))) | X19: =IF($A19="","",IF(OR($L19="",$T19=""),"No Data",IF($L19<$T19-'Settings'!$B$8,"Low",IF($L19>$T19+'Settings'!$B$8,"High","OK")))) | Y19: =IF(COUNTA($A19:$O19)=0,"",IF(OR($A19="",$B19="",$C19="",$D19="",$E19="",$F19="",$I19="",$J19="",$K19=""),"Missing Required Input",IF(COUNTIF($A$5:$A$1004,$A19)>1,"Duplicate Inspection ID",IF(COUNTIF('Tire Inventory'!$A$5:$A$1004,$E19)=0,"Unknown Tire ID",IF(OR($I19<0,$I19>32,$J19<0,$J19>32,$K19<0,$K19>32),"Check Tread Reading",IF(OR($D19<0,$D19>2000000),"Check Odometer",IF(AND($L19<>"",OR($L19<0,$L19>150)),"Check PSI","OK"))))))
P20: =IF($A20="","",IFERROR(INDEX('Settings'!$F$5:$F$21,MATCH($F20,'Settings'!$E$5:$E$21,0)),"Other")) | Q20: =IF($A20="","",IF(COUNT($I20,$J20,$K20)<3,"",IFERROR(AVERAGE($I20,$J20,$K20),""))) | R20: =IF($A20="","",IF(COUNT($I20,$J20,$K20)<3,"",IFERROR(MIN($I20,$J20,$K20),""))) | S20: =IF($A20="","",IF(COUNT($I20,$J20,$K20)<3,"",IFERROR(MAX($I20,$J20,$K20)-MIN($I20,$J20,$K20),""))) | T20: =IF($A20="","",IFERROR(INDEX('Tire Inventory'!$I$5:$I$1004,MATCH($E20,'Tire Inventory'!$A$5:$A$1004,0)),"")) | U20: =IF($A20="","",IF(OR($L20="",$T20=""),"",IFERROR($L20-$T20,""))) | V20: =IF($A20="","",IF($R20="","No Data",IF($R20<='Settings'!$B$6,"Critical",IF($R20<='Settings'!$B$5,"Low","OK")))) | W20: =IF($A20="","",IF($S20="","No Data",IF($S20>='Settings'!$B$7,"Uneven","OK"))) | X20: =IF($A20="","",IF(OR($L20="",$T20=""),"No Data",IF($L20<$T20-'Settings'!$B$8,"Low",IF($L20>$T20+'Settings'!$B$8,"High","OK")))) | Y20: =IF(COUNTA($A20:$O20)=0,"",IF(OR($A20="",$B20="",$C20="",$D20="",$E20="",$F20="",$I20="",$J20="",$K20=""),"Missing Required Input",IF(COUNTIF($A$5:$A$1004,$A20)>1,"Duplicate Inspection ID",IF(COUNTIF('Tire Inventory'!$A$5:$A$1004,$E20)=0,"Unknown Tire ID",IF(OR($I20<0,$I20>32,$J20<0,$J20>32,$K20<0,$K20>32),"Check Tread Reading",IF(OR($D20<0,$D20>2000000),"Check Odometer",IF(AND($L20<>"",OR($L20<0,$L20>150)),"Check PSI","OK"))))))
P21: =IF($A21="","",IFERROR(INDEX('Settings'!$F$5:$F$21,MATCH($F21,'Settings'!$E$5:$E$21,0)),"Other")) | Q21: =IF($A21="","",IF(COUNT($I21,$J21,$K21)<3,"",IFERROR(AVERAGE($I21,$J21,$K21),""))) | R21: =IF($A21="","",IF(COUNT($I21,$J21,$K21)<3,"",IFERROR(MIN($I21,$J21,$K21),""))) | S21: =IF($A21="","",IF(COUNT($I21,$J21,$K21)<3,"",IFERROR(MAX($I21,$J21,$K21)-MIN($I21,$J21,$K21),""))) | T21: =IF($A21="","",IFERROR(INDEX('Tire Inventory'!$I$5:$I$1004,MATCH($E21,'Tire Inventory'!$A$5:$A$1004,0)),"")) | U21: =IF($A21="","",IF(OR($L21="",$T21=""),"",IFERROR($L21-$T21,""))) | V21: =IF($A21="","",IF($R21="","No Data",IF($R21<='Settings'!$B$6,"Critical",IF($R21<='Settings'!$B$5,"Low","OK")))) | W21: =IF($A21="","",IF($S21="","No Data",IF($S21>='Settings'!$B$7,"Uneven","OK"))) | X21: =IF($A21="","",IF(OR($L21="",$T21=""),"No Data",IF($L21<$T21-'Settings'!$B$8,"Low",IF($L21>$T21+'Settings'!$B$8,"High","OK")))) | Y21: =IF(COUNTA($A21:$O21)=0,"",IF(OR($A21="",$B21="",$C21="",$D21="",$E21="",$F21="",$I21="",$J21="",$K21=""),"Missing Required Input",IF(COUNTIF($A$5:$A$1004,$A21)>1,"Duplicate Inspection ID",IF(COUNTIF('Tire Inventory'!$A$5:$A$1004,$E21)=0,"Unknown Tire ID",IF(OR($I21<0,$I21>32,$J21<0,$J21>32,$K21<0,$K21>32),"Check Tread Reading",IF(OR($D21<0,$D21>2000000),"Check Odometer",IF(AND($L21<>"",OR($L21<0,$L21>150)),"Check PSI","OK"))))))
P22: =IF($A22="","",IFERROR(INDEX('Settings'!$F$5:$F$21,MATCH($F22,'Settings'!$E$5:$E$21,0)),"Other")) | Q22: =IF($A22="","",IF(COUNT($I22,$J22,$K22)<3,"",IFERROR(AVERAGE($I22,$J22,$K22),""))) | R22: =IF($A22="","",IF(COUNT($I22,$J22,$K22)<3,"",IFERROR(MIN($I22,$J22,$K22),""))) | S22: =IF($A22="","",IF(COUNT($I22,$J22,$K22)<3,"",IFERROR(MAX($I22,$J22,$K22)-MIN($I22,$J22,$K22),""))) | T22: =IF($A22="","",IFERROR(INDEX('Tire Inventory'!$I$5:$I$1004,MATCH($E22,'Tire Inventory'!$A$5:$A$1004,0)),"")) | U22: =IF($A22="","",IF(OR($L22="",$T22=""),"",IFERROR($L22-$T22,""))) | V22: =IF($A22="","",IF($R22="","No Data",IF($R22<='Settings'!$B$6,"Critical",IF($R22<='Settings'!$B$5,"Low","OK")))) | W22: =IF($A22="","",IF($S22="","No Data",IF($S22>='Settings'!$B$7,"Uneven","OK"))) | X22: =IF($A22="","",IF(OR($L22="",$T22=""),"No Data",IF($L22<$T22-'Settings'!$B$8,"Low",IF($L22>$T22+'Settings'!$B$8,"High","OK")))) | Y22: =IF(COUNTA($A22:$O22)=0,"",IF(OR($A22="",$B22="",$C22="",$D22="",$E22="",$F22="",$I22="",$J22="",$K22=""),"Missing Required Input",IF(COUNTIF($A$5:$A$1004,$A22)>1,"Duplicate Inspection ID",IF(COUNTIF('Tire Inventory'!$A$5:$A$1004,$E22)=0,"Unknown Tire ID",IF(OR($I22<0,$I22>32,$J22<0,$J22>32,$K22<0,$K22>32),"Check Tread Reading",IF(OR($D22<0,$D22>2000000),"Check Odometer",IF(AND($L22<>"",OR($L22<0,$L22>150)),"Check PSI","OK"))))))
P23: =IF($A23="","",IFERROR(INDEX('Settings'!$F$5:$F$21,MATCH($F23,'Settings'!$E$5:$E$21,0)),"Other")) | Q23: =IF($A23="","",IF(COUNT($I23,$J23,$K23)<3,"",IFERROR(AVERAGE($I23,$J23,$K23),""))) | R23: =IF($A23="","",IF(COUNT($I23,$J23,$K23)<3,"",IFERROR(MIN($I23,$J23,$K23),""))) | S23: =IF($A23="","",IF(COUNT($I23,$J23,$K23)<3,"",IFERROR(MAX($I23,$J23,$K23)-MIN($I23,$J23,$K23),""))) | T23: =IF($A23="","",IFERROR(INDEX('Tire Inventory'!$I$5:$I$1004,MATCH($E23,'Tire Inventory'!$A$5:$A$1004,0)),"")) | U23: =IF($A23="","",IF(OR($L23="",$T23=""),"",IFERROR($L23-$T23,""))) | V23: =IF($A23="","",IF($R23="","No Data",IF($R23<='Settings'!$B$6,"Critical",IF($R23<='Settings'!$B$5,"Low","OK")))) | W23: =IF($A23="","",IF($S23="","No Data",IF($S23>='Settings'!$B$7,"Uneven","OK"))) | X23: =IF($A23="","",IF(OR($L23="",$T23=""),"No Data",IF($L23<$T23-'Settings'!$B$8,"Low",IF($L23>$T23+'Settings'!$B$8,"High","OK")))) | Y23: =IF(COUNTA($A23:$O23)=0,"",IF(OR($A23="",$B23="",$C23="",$D23="",$E23="",$F23="",$I23="",$J23="",$K23=""),"Missing Required Input",IF(COUNTIF($A$5:$A$1004,$A23)>1,"Duplicate Inspection ID",IF(COUNTIF('Tire Inventory'!$A$5:$A$1004,$E23)=0,"Unknown Tire ID",IF(OR($I23<0,$I23>32,$J23<0,$J23>32,$K23<0,$K23>32),"Check Tread Reading",IF(OR($D23<0,$D23>2000000),"Check Odometer",IF(AND($L23<>"",OR($L23<0,$L23>150)),"Check PSI","OK"))))))
P24: =IF($A24="","",IFERROR(INDEX('Settings'!$F$5:$F$21,MATCH($F24,'Settings'!$E$5:$E$21,0)),"Other")) | Q24: =IF($A24="","",IF(COUNT($I24,$J24,$K24)<3,"",IFERROR(AVERAGE($I24,$J24,$K24),""))) | R24: =IF($A24="","",IF(COUNT($I24,$J24,$K24)<3,"",IFERROR(MIN($I24,$J24,$K24),""))) | S24: =IF($A24="","",IF(COUNT($I24,$J24,$K24)<3,"",IFERROR(MAX($I24,$J24,$K24)-MIN($I24,$J24,$K24),""))) | T24: =IF($A24="","",IFERROR(INDEX('Tire Inventory'!$I$5:$I$1004,MATCH($E24,'Tire Inventory'!$A$5:$A$1004,0)),"")) | U24: =IF($A24="","",IF(OR($L24="",$T24=""),"",IFERROR($L24-$T24,""))) | V24: =IF($A24="","",IF($R24="","No Data",IF($R24<='Settings'!$B$6,"Critical",IF($R24<='Settings'!$B$5,"Low","OK")))) | W24: =IF($A24="","",IF($S24="","No Data",IF($S24>='Settings'!$B$7,"Uneven","OK"))) | X24: =IF($A24="","",IF(OR($L24="",$T24=""),"No Data",IF($L24<$T24-'Settings'!$B$8,"Low",IF($L24>$T24+'Settings'!$B$8,"High","OK")))) | Y24: =IF(COUNTA($A24:$O24)=0,"",IF(OR($A24="",$B24="",$C24="",$D24="",$E24="",$F24="",$I24="",$J24="",$K24=""),"Missing Required Input",IF(COUNTIF($A$5:$A$1004,$A24)>1,"Duplicate Inspection ID",IF(COUNTIF('Tire Inventory'!$A$5:$A$1004,$E24)=0,"Unknown Tire ID",IF(OR($I24<0,$I24>32,$J24<0,$J24>32,$K24<0,$K24>32),"Check Tread Reading",IF(OR($D24<0,$D24>2000000),"Check Odometer",IF(AND($L24<>"",OR($L24<0,$L24>150)),"Check PSI","OK"))))))
P25: =IF($A25="","",IFERROR(INDEX('Settings'!$F$5:$F$21,MATCH($F25,'Settings'!$E$5:$E$21,0)),"Other")) | Q25: =IF($A25="","",IF(COUNT($I25,$J25,$K25)<3,"",IFERROR(AVERAGE($I25,$J25,$K25),""))) | R25: =IF($A25="","",IF(COUNT($I25,$J25,$K25)<3,"",IFERROR(MIN($I25,$J25,$K25),""))) | S25: =IF($A25="","",IF(COUNT($I25,$J25,$K25)<3,"",IFERROR(MAX($I25,$J25,$K25)-MIN($I25,$J25,$K25),""))) | T25: =IF($A25="","",IFERROR(INDEX('Tire Inventory'!$I$5:$I$1004,MATCH($E25,'Tire Inventory'!$A$5:$A$1004,0)),"")) | U25: =IF($A25="","",IF(OR($L25="",$T25=""),"",IFERROR($L25-$T25,""))) | V25: =IF($A25="","",IF($R25="","No Data",IF($R25<='Settings'!$B$6,"Critical",IF($R25<='Settings'!$B$5,"Low","OK")))) | W25: =IF($A25="","",IF($S25="","No Data",IF($S25>='Settings'!$B$7,"Uneven","OK"))) | X25: =IF($A25="","",IF(OR($L25="",$T25=""),"No Data",IF($L25<$T25-'Settings'!$B$8,"Low",IF($L25>$T25+'Settings'!$B$8,"High","OK")))) | Y25: =IF(COUNTA($A25:$O25)=0,"",IF(OR($A25="",$B25="",$C25="",$D25="",$E25="",$F25="",$I25="",$J25="",$K25=""),"Missing Required Input",IF(COUNTIF($A$5:$A$1004,$A25)>1,"Duplicate Inspection ID",IF(COUNTIF('Tire Inventory'!$A$5:$A$1004,$E25)=0,"Unknown Tire ID",IF(OR($I25<0,$I25>32,$J25<0,$J25>32,$K25<0,$K25>32),"Check Tread Reading",IF(OR($D25<0,$D25>2000000),"Check Odometer",IF(AND($L25<>"",OR($L25<0,$L25>150)),"Check PSI","OK"))))))
P26: =IF($A26="","",IFERROR(INDEX('Settings'!$F$5:$F$21,MATCH($F26,'Settings'!$E$5:$E$21,0)),"Other")) | Q26: =IF($A26="","",IF(COUNT($I26,$J26,$K26)<3,"",IFERROR(AVERAGE($I26,$J26,$K26),""))) | R26: =IF($A26="","",IF(COUNT($I26,$J26,$K26)<3,"",IFERROR(MIN($I26,$J26,$K26),""))) | S26: =IF($A26="","",IF(COUNT($I26,$J26,$K26)<3,"",IFERROR(MAX($I26,$J26,$K26)-MIN($I26,$J26,$K26),""))) | T26: =IF($A26="","",IFERROR(INDEX('Tire Inventory'!$I$5:$I$1004,MATCH($E26,'Tire Inventory'!$A$5:$A$1004,0)),"")) | U26: =IF($A26="","",IF(OR($L26="",$T26=""),"",IFERROR($L26-$T26,""))) | V26: =IF($A26="","",IF($R26="","No Data",IF($R26<='Settings'!$B$6,"Critical",IF($R26<='Settings'!$B$5,"Low","OK")))) | W26: =IF($A26="","",IF($S26="","No Data",IF($S26>='Settings'!$B$7,"Uneven","OK"))) | X26: =IF($A26="","",IF(OR($L26="",$T26=""),"No Data",IF($L26<$T26-'Settings'!$B$8,"Low",IF($L26>$T26+'Settings'!$B$8,"High","OK")))) | Y26: =IF(COUNTA($A26:$O26)=0,"",IF(OR($A26="",$B26="",$C26="",$D26="",$E26="",$F26="",$I26="",$J26="",$K26=""),"Missing Required Input",IF(COUNTIF($A$5:$A$1004,$A26)>1,"Duplicate Inspection ID",IF(COUNTIF('Tire Inventory'!$A$5:$A$1004,$E26)=0,"Unknown Tire ID",IF(OR($I26<0,$I26>32,$J26<0,$J26>32,$K26<0,$K26>32),"Check Tread Reading",IF(OR($D26<0,$D26>2000000),"Check Odometer",IF(AND($L26<>"",OR($L26<0,$L26>150)),"Check PSI","OK"))))))
... P1004: =IF($A1004="","",IFERROR(INDEX('Settings'!$F$5:$F$21,MATCH($F1004,'Settings'!$E$5:$E$21,0)),"Other")) | Q1004: =IF($A1004="","",IF(COUNT($I1004,$J1004,$K1004)<3,"",IFERROR(AVERAGE($I1004,$J1004,$K1004),""))) | R1004: =IF($A1004="","",IF(COUNT($I1004,$J1004,$K1004)<3,"",IFERROR(MIN($I1004,$J1004,$K1004),""))) | S1004: =IF($A1004="","",IF(COUNT($I1004,$J1004,$K1004)<3,"",IFERROR(MAX($I1004,$J1004,$K1004)-MIN($I1004,$J1004,$K1004),""))) | T1004: =IF($A1004="","",IFERROR(INDEX('Tire Inventory'!$I$5:$I$1004,MATCH($E1004,'Tire Inventory'!$A$5:$A$1004,0)),"")) | U1004: =IF($A1004="","",IF(OR($L1004="",$T1004=""),"",IFERROR($L1004-$T1004,""))) | V1004: =IF($A1004="","",IF($R1004="","No Data",IF($R1004<='Settings'!$B$6,"Critical",IF($R1004<='Settings'!$B$5,"Low","OK")))) | W1004: =IF($A1004="","",IF($S1004="","No Data",IF($S1004>='Settings'!$B$7,"Uneven","OK"))) | X1004: =IF($A1004="","",IF(OR($L1004="",$T1004=""),"No Data",IF($L1004<$T1004-'Settings'!$B$8,"Low",IF($L1004>$T1004+'Settings'!$B$8,"High","OK")))) | Y1004: =IF(COUNTA($A1004:$O1004)=0,"",IF(OR($A1004="",$B1004="",$C1004="",$D1004="",$E1004="",$F1004="",$I1004="",$J1004="",$K1004=""),"Missing Required Input",IF(COUNTIF($A$5:$A$1004,$A1004)>1,"Duplicate Inspection ID",IF(COUNTIF('Tire Inventory'!$A$5:$A$1004,$E1004)=0,"Unknown Tire ID",IF(OR($I1004<0,$I1004>32,$J1004<0,$J1004>32,$K1004<0,$K1004>32),"Check Tread Reading",IF(OR($D1004<0,$D1004>2000000),"Check Odometer",IF(AND($L1004<>"",OR($L1004<0,$L1004>150)),"Check PSI","OK"))))))

Sheet Tire Inventory
A1: Tire Inventory and Current Condition
A2: Maintain one unique Tire ID per row. Current-condition fields use the latest inspection with a Row Check of OK. Blue cells are inputs; gray cells are calculated.
A4: Tire ID | B4: Brand | C4: Model | D4: Tire Size | E4: DOT Date Code (WWYY) | F4: Purchase Date | G4: Purchase Cost | H4: Original Tread (32nds) | I4: Target PSI | J4: Status | K4: Inventory Notes | L4: Latest Inspection Date | M4: Current Vehicle/Unit | N4: Current Position | O4: Position Group | P4: Latest Odometer (miles) | Q4: Current Minimum Tread (32nds) | R4: Current Wear Spread (32nds) | S4: Latest Measured PSI | T4: Usable Tread Remaining (%) | U4: Tread Status | V4: Wear Status | W4: Pressure Status | X4: Next Inspection Due Date | Y4: Inspection Status | Z4: Overall Status | AA4: Recommended Action | AB4: Attention Priority | AC4: Attention Key
A5: T-1001 | B5: Goodyear | C5: Endurance RSA | D5: 11R22.5 | E5: 2326 | F5: 46073 | G5: 485 | H5: 16 | I5: 105 | J5: Mounted | K5: Steer tire | L5: =IF($A5="","",IF(COUNTIFS('Tire Inspections'!$E$5:$E$1004,$A5,'Tire Inspections'!$Y$5:$Y$1004,"OK")=0,"",IFERROR(MAXIFS('Tire Inspections'!$B$5:$B$1004,'Tire Inspections'!$E$5:$E$1004,$A5,'Tire Inspections'!$Y$5:$Y$1004,"OK"),""))) | M5: =IF($A5="","",IF($L5="","",IFERROR(LOOKUP(2,1/(('Tire Inspections'!$E$5:$E$1004=$A5)*('Tire Inspections'!$B$5:$B$1004=$L5)*('Tire Inspections'!$Y$5:$Y$1004="OK")),'Tire Inspections'!$C$5:$C$1004),""))) | N5: =IF($A5="","",IF($L5="","",IFERROR(LOOKUP(2,1/(('Tire Inspections'!$E$5:$E$1004=$A5)*('Tire Inspections'!$B$5:$B$1004=$L5)*('Tire Inspections'!$Y$5:$Y$1004="OK")),'Tire Inspections'!$F$5:$F$1004),""))) | O5: =IF($A5="","",IF($L5="","",IFERROR(LOOKUP(2,1/(('Tire Inspections'!$E$5:$E$1004=$A5)*('Tire Inspections'!$B$5:$B$1004=$L5)*('Tire Inspections'!$Y$5:$Y$1004="OK")),'Tire Inspections'!$P$5:$P$1004),""))) | P5: =IF($A5="","",IF($L5="","",IFERROR(LOOKUP(2,1/(('Tire Inspections'!$E$5:$E$1004=$A5)*('Tire Inspections'!$B$5:$B$1004=$L5)*('Tire Inspections'!$Y$5:$Y$1004="OK")),'Tire Inspections'!$D$5:$D$1004),""))) | Q5: =IF($A5="","",IF($L5="","",IFERROR(LOOKUP(2,1/(('Tire Inspections'!$E$5:$E$1004=$A5)*('Tire Inspections'!$B$5:$B$1004=$L5)*('Tire Inspections'!$Y$5:$Y$1004="OK")),'Tire Inspections'!$R$5:$R$1004),""))) | R5: =IF($A5="","",IF($L5="","",IFERROR(LOOKUP(2,1/(('Tire Inspections'!$E$5:$E$1004=$A5)*('Tire Inspections'!$B$5:$B$1004=$L5)*('Tire Inspections'!$Y$5:$Y$1004="OK")),'Tire Inspections'!$S$5:$S$1004),""))) | S5: =IF($A5="","",IF($L5="","",IFERROR(LOOKUP(2,1/(('Tire Inspections'!$E$5:$E$1004=$A5)*('Tire Inspections'!$B$5:$B$1004=$L5)*('Tire Inspections'!$Y$5:$Y$1004="OK")),'Tire Inspections'!$L$5:$L$1004),""))) | T5: =IF($A5="","",IF(OR($Q5="",$H5=""),"",IFERROR(MAX(0,MIN(1,($Q5-'Settings'!$B$6)/($H5-'Settings'!$B$6))),""))) | U5: =IF($A5="","",IF($Q5="","No Data",IF($Q5<='Settings'!$B$6,"Critical",IF($Q5<='Settings'!$B$5,"Low","OK")))) | V5: =IF($A5="","",IF($R5="","No Data",IF($R5>='Settings'!$B$7,"Uneven","OK"))) | W5: =IF($A5="","",IF($J5<>"Mounted","N/A",IF(OR($S5="",$I5=""),"No Data",IF($S5<$I5-'Settings'!$B$8,"Low",IF($S5>$I5+'Settings'!$B$8,"High","OK"))))) | X5: =IF($A5="","",IF(OR($J5<>"Mounted",$L5=""),"",IFERROR($L5+'Settings'!$B$9,""))) | Y5: =IF($A5="","",IF($J5<>"Mounted","N/A",IF($L5="","No Data",IF(TODAY()>$X5,"Overdue",IF(TODAY()+'Settings'!$B$10>=$X5,"Due Soon","Current"))))) | Z5: =IF($A5="","",IF($J5<>"Mounted","N/A",IF(OR($U5="No Data",$W5="No Data"),"No Data",IF($U5="Critical","Critical",IF(OR($U5="Low",$V5="Uneven",$W5="Low",$W5="High",$Y5="Overdue",$Y5="Due Soon"),"Attention","OK"))))) | AA5: =IF($A5="","",IF($J5<>"Mounted","No action",IF($U5="Critical","Inspect immediately and follow fleet removal policy",IF($W5="Low","Correct pressure and inspect",IF($W5="High","Correct pressure",IF($V5="Uneven","Inspect alignment, suspension, and rotation",IF($U5="Low","Schedule tire service",IF($Y5="Overdue","Complete inspection",IF($Y5="Due Soon","Schedule inspection","No action"))))))))) | AB5: =IF($A5="","",IF(OR($J5<>"Mounted",$Z5="OK",$Z5="N/A"),"",IF($U5="Critical",1,IF(OR($W5="Low",$W5="High"),2,IF(OR($U5="Low",$V5="Uneven"),3,IF($Y5="Overdue",4,5)))))) | AC5: =IF($A5="","",IF($AB5="","",IFERROR($AB5*100000+ROW(),"")))
A6: T-1002 | B6: Michelin | C6: X Line Energy Z | D6: 11R22.5 | E6: 1926 | F6: 46073 | G6: 535 | H6: 18 | I6: 105 | J6: Mounted | K6: Steer tire | L6: =IF($A6="","",IF(COUNTIFS('Tire Inspections'!$E$5:$E$1004,$A6,'Tire Inspections'!$Y$5:$Y$1004,"OK")=0,"",IFERROR(MAXIFS('Tire Inspections'!$B$5:$B$1004,'Tire Inspections'!$E$5:$E$1004,$A6,'Tire Inspections'!$Y$5:$Y$1004,"OK"),""))) | M6: =IF($A6="","",IF($L6="","",IFERROR(LOOKUP(2,1/(('Tire Inspections'!$E$5:$E$1004=$A6)*('Tire Inspections'!$B$5:$B$1004=$L6)*('Tire Inspections'!$Y$5:$Y$1004="OK")),'Tire Inspections'!$C$5:$C$1004),""))) | N6: =IF($A6="","",IF($L6="","",IFERROR(LOOKUP(2,1/(('Tire Inspections'!$E$5:$E$1004=$A6)*('Tire Inspections'!$B$5:$B$1004=$L6)*('Tire Inspections'!$Y$5:$Y$1004="OK")),'Tire Inspections'!$F$5:$F$1004),""))) | O6: =IF($A6="","",IF($L6="","",IFERROR(LOOKUP(2,1/(('Tire Inspections'!$E$5:$E$1004=$A6)*('Tire Inspections'!$B$5:$B$1004=$L6)*('Tire Inspections'!$Y$5:$Y$1004="OK")),'Tire Inspections'!$P$5:$P$1004),""))) | P6: =IF($A6="","",IF($L6="","",IFERROR(LOOKUP(2,1/(('Tire Inspections'!$E$5:$E$1004=$A6)*('Tire Inspections'!$B$5:$B$1004=$L6)*('Tire Inspections'!$Y$5:$Y$1004="OK")),'Tire Inspections'!$D$5:$D$1004),""))) | Q6: =IF($A6="","",IF($L6="","",IFERROR(LOOKUP(2,1/(('Tire Inspections'!$E$5:$E$1004=$A6)*('Tire Inspections'!$B$5:$B$1004=$L6)*('Tire Inspections'!$Y$5:$Y$1004="OK")),'Tire Inspections'!$R$5:$R$1004),""))) | R6: =IF($A6="","",IF($L6="","",IFERROR(LOOKUP(2,1/(('Tire Inspections'!$E$5:$E$1004=$A6)*('Tire Inspections'!$B$5:$B$1004=$L6)*('Tire Inspections'!$Y$5:$Y$1004="OK")),'Tire Inspections'!$S$5:$S$1004),""))) | S6: =IF($A6="","",IF($L6="","",IFERROR(LOOKUP(2,1/(('Tire Inspections'!$E$5:$E$1004=$A6)*('Tire Inspections'!$B$5:$B$1004=$L6)*('Tire Inspections'!$Y$5:$Y$1004="OK")),'Tire Inspections'!$L$5:$L$1004),""))) | T6: =IF($A6="","",IF(OR($Q6="",$H6=""),"",IFERROR(MAX(0,MIN(1,($Q6-'Settings'!$B$6)/($H6-'Settings'!$B$6))),""))) | U6: =IF($A6="","",IF($Q6="","No Data",IF($Q6<='Settings'!$B$6,"Critical",IF($Q6<='Settings'!$B$5,"Low","OK")))) | V6: =IF($A6="","",IF($R6="","No Data",IF($R6>='Settings'!$B$7,"Uneven","OK"))) | W6: =IF($A6="","",IF($J6<>"Mounted","N/A",IF(OR($S6="",$I6=""),"No Data",IF($S6<$I6-'Settings'!$B$8,"Low",IF($S6>$I6+'Settings'!$B$8,"High","OK"))))) | X6: =IF($A6="","",IF(OR($J6<>"Mounted",$L6=""),"",IFERROR($L6+'Settings'!$B$9,""))) | Y6: =IF($A6="","",IF($J6<>"Mounted","N/A",IF($L6="","No Data",IF(TODAY()>$X6,"Overdue",IF(TODAY()+'Settings'!$B$10>=$X6,"Due Soon","Current"))))) | Z6: =IF($A6="","",IF($J6<>"Mounted","N/A",IF(OR($U6="No Data",$W6="No Data"),"No Data",IF($U6="Critical","Critical",IF(OR($U6="Low",$V6="Uneven",$W6="Low",$W6="High",$Y6="Overdue",$Y6="Due Soon"),"Attention","OK"))))) | AA6: =IF($A6="","",IF($J6<>"Mounted","No action",IF($U6="Critical","Inspect immediately and follow fleet removal policy",IF($W6="Low","Correct pressure and inspect",IF($W6="High","Correct pressure",IF($V6="Uneven","Inspect alignment, suspension, and rotation",IF($U6="Low","Schedule tire service",IF($Y6="Overdue","Complete inspection",IF($Y6="Due Soon","Schedule inspection","No action"))))))))) | AB6: =IF($A6="","",IF(OR($J6<>"Mounted",$Z6="OK",$Z6="N/A"),"",IF($U6="Critical",1,IF(OR($W6="Low",$W6="High"),2,IF(OR($U6="Low",$V6="Uneven"),3,IF($Y6="Overdue",4,5)))))) | AC6: =IF($A6="","",IF($AB6="","",IFERROR($AB6*100000+ROW(),"")))
A7: T-1003 | B7: Bridgestone | C7: M726 EL | D7: 11R22.5 | E7: 1426 | F7: 46103 | G7: 510 | H7: 26 | I7: 95 | J7: Mounted | K7: Drive position | L7: =IF($A7="","",IF(COUNTIFS('Tire Inspections'!$E$5:$E$1004,$A7,'Tire Inspections'!$Y$5:$Y$1004,"OK")=0,"",IFERROR(MAXIFS('Tire Inspections'!$B$5:$B$1004,'Tire Inspections'!$E$5:$E$1004,$A7,'Tire Inspections'!$Y$5:$Y$1004,"OK"),""))) | M7: =IF($A7="","",IF($L7="","",IFERROR(LOOKUP(2,1/(('Tire Inspections'!$E$5:$E$1004=$A7)*('Tire Inspections'!$B$5:$B$1004=$L7)*('Tire Inspections'!$Y$5:$Y$1004="OK")),'Tire Inspections'!$C$5:$C$1004),""))) | N7: =IF($A7="","",IF($L7="","",IFERROR(LOOKUP(2,1/(('Tire Inspections'!$E$5:$E$1004=$A7)*('Tire Inspections'!$B$5:$B$1004=$L7)*('Tire Inspections'!$Y$5:$Y$1004="OK")),'Tire Inspections'!$F$5:$F$1004),""))) | O7: =IF($A7="","",IF($L7="","",IFERROR(LOOKUP(2,1/(('Tire Inspections'!$E$5:$E$1004=$A7)*('Tire Inspections'!$B$5:$B$1004=$L7)*('Tire Inspections'!$Y$5:$Y$1004="OK")),'Tire Inspections'!$P$5:$P$1004),""))) | P7: =IF($A7="","",IF($L7="","",IFERROR(LOOKUP(2,1/(('Tire Inspections'!$E$5:$E$1004=$A7)*('Tire Inspections'!$B$5:$B$1004=$L7)*('Tire Inspections'!$Y$5:$Y$1004="OK")),'Tire Inspections'!$D$5:$D$1004),""))) | Q7: =IF($A7="","",IF($L7="","",IFERROR(LOOKUP(2,1/(('Tire Inspections'!$E$5:$E$1004=$A7)*('Tire Inspections'!$B$5:$B$1004=$L7)*('Tire Inspections'!$Y$5:$Y$1004="OK")),'Tire Inspections'!$R$5:$R$1004),""))) | R7: =IF($A7="","",IF($L7="","",IFERROR(LOOKUP(2,1/(('Tire Inspections'!$E$5:$E$1004=$A7)*('Tire Inspections'!$B$5:$B$1004=$L7)*('Tire Inspections'!$Y$5:$Y$1004="OK")),'Tire Inspections'!$S$5:$S$1004),""))) | S7: =IF($A7="","",IF($L7="","",IFERROR(LOOKUP(2,1/(('Tire Inspections'!$E$5:$E$1004=$A7)*('Tire Inspections'!$B$5:$B$1004=$L7)*('Tire Inspections'!$Y$5:$Y$1004="OK")),'Tire Inspections'!$L$5:$L$1004),""))) | T7: =IF($A7="","",IF(OR($Q7="",$H7=""),"",IFERROR(MAX(0,MIN(1,($Q7-'Settings'!$B$6)/($H7-'Settings'!$B$6))),""))) | U7: =IF($A7="","",IF($Q7="","No Data",IF($Q7<='Settings'!$B$6,"Critical",IF($Q7<='Settings'!$B$5,"Low","OK")))) | V7: =IF($A7="","",IF($R7="","No Data",IF($R7>='Settings'!$B$7,"Uneven","OK"))) | W7: =IF($A7="","",IF($J7<>"Mounted","N/A",IF(OR($S7="",$I7=""),"No Data",IF($S7<$I7-'Settings'!$B$8,"Low",IF($S7>$I7+'Settings'!$B$8,"High","OK"))))) | X7: =IF($A7="","",IF(OR($J7<>"Mounted",$L7=""),"",IFERROR($L7+'Settings'!$B$9,""))) | Y7: =IF($A7="","",IF($J7<>"Mounted","N/A",IF($L7="","No Data",IF(TODAY()>$X7,"Overdue",IF(TODAY()+'Settings'!$B$10>=$X7,"Due Soon","Current"))))) | Z7: =IF($A7="","",IF($J7<>"Mounted","N/A",IF(OR($U7="No Data",$W7="No Data"),"No Data",IF($U7="Critical","Critical",IF(OR($U7="Low",$V7="Uneven",$W7="Low",$W7="High",$Y7="Overdue",$Y7="Due Soon"),"Attention","OK"))))) | AA7: =IF($A7="","",IF($J7<>"Mounted","No action",IF($U7="Critical","Inspect immediately and follow fleet removal policy",IF($W7="Low","Correct pressure and inspect",IF($W7="High","Correct pressure",IF($V7="Uneven","Inspect alignment, suspension, and rotation",IF($U7="Low","Schedule tire service",IF($Y7="Overdue","Complete inspection",IF($Y7="Due Soon","Schedule inspection","No action"))))))))) | AB7: =IF($A7="","",IF(OR($J7<>"Mounted",$Z7="OK",$Z7="N/A"),"",IF($U7="Critical",1,IF(OR($W7="Low",$W7="High"),2,IF(OR($U7="Low",$V7="Uneven"),3,IF($Y7="Overdue",4,5)))))) | AC7: =IF($A7="","",IF($AB7="","",IFERROR($AB7*100000+ROW(),"")))
A8: T-1004 | B8: Goodyear | C8: Fuel Max SSD | D8: 11R22.5 | E8: 0826 | F8: 46113 | G8: 495 | H8: 26 | I8: 95 | J8: Mounted | K8: Replacement scheduled | L8: =IF($A8="","",IF(COUNTIFS('Tire Inspections'!$E$5:$E$1004,$A8,'Tire Inspections'!$Y$5:$Y$1004,"OK")=0,"",IFERROR(MAXIFS('Tire Inspections'!$B$5:$B$1004,'Tire Inspections'!$E$5:$E$1004,$A8,'Tire Inspections'!$Y$5:$Y$1004,"OK"),""))) | M8: =IF($A8="","",IF($L8="","",IFERROR(LOOKUP(2,1/(('Tire Inspections'!$E$5:$E$1004=$A8)*('Tire Inspections'!$B$5:$B$1004=$L8)*('Tire Inspections'!$Y$5:$Y$1004="OK")),'Tire Inspections'!$C$5:$C$1004),""))) | N8: =IF($A8="","",IF($L8="","",IFERROR(LOOKUP(2,1/(('Tire Inspections'!$E$5:$E$1004=$A8)*('Tire Inspections'!$B$5:$B$1004=$L8)*('Tire Inspections'!$Y$5:$Y$1004="OK")),'Tire Inspections'!$F$5:$F$1004),""))) | O8: =IF($A8="","",IF($L8="","",IFERROR(LOOKUP(2,1/(('Tire Inspections'!$E$5:$E$1004=$A8)*('Tire Inspections'!$B$5:$B$1004=$L8)*('Tire Inspections'!$Y$5:$Y$1004="OK")),'Tire Inspections'!$P$5:$P$1004),""))) | P8: =IF($A8="","",IF($L8="","",IFERROR(LOOKUP(2,1/(('Tire Inspections'!$E$5:$E$1004=$A8)*('Tire Inspections'!$B$5:$B$1004=$L8)*('Tire Inspections'!$Y$5:$Y$1004="OK")),'Tire Inspections'!$D$5:$D$1004),""))) | Q8: =IF($A8="","",IF($L8="","",IFERROR(LOOKUP(2,1/(('Tire Inspections'!$E$5:$E$1004=$A8)*('Tire Inspections'!$B$5:$B$1004=$L8)*('Tire Inspections'!$Y$5:$Y$1004="OK")),'Tire Inspections'!$R$5:$R$1004),""))) | R8: =IF($A8="","",IF($L8="","",IFERROR(LOOKUP(2,1/(('Tire Inspections'!$E$5:$E$1004=$A8)*('Tire Inspections'!$B$5:$B$1004=$L8)*('Tire Inspections'!$Y$5:$Y$1004="OK")),'Tire Inspections'!$S$5:$S$1004),""))) | S8: =IF($A8="","",IF($L8="","",IFERROR(LOOKUP(2,1/(('Tire Inspections'!$E$5:$E$1004=$A8)*('Tire Inspections'!$B$5:$B$1004=$L8)*('Tire Inspections'!$Y$5:$Y$1004="OK")),'Tire Inspections'!$L$5:$L$1004),""))) | T8: =IF($A8="","",IF(OR($Q8="",$H8=""),"",IFERROR(MAX(0,MIN(1,($Q8-'Settings'!$B$6)/($H8-'Settings'!$B$6))),""))) | U8: =IF($A8="","",IF($Q8="","No Data",IF($Q8<='Settings'!$B$6,"Critical",IF($Q8<='Settings'!$B$5,"Low","OK")))) | V8: =IF($A8="","",IF($R8="","No Data",IF($R8>='Settings'!$B$7,"Uneven","OK"))) | W8: =IF($A8="","",IF($J8<>"Mounted","N/A",IF(OR($S8="",$I8=""),"No Data",IF($S8<$I8-'Settings'!$B$8,"Low",IF($S8>$I8+'Settings'!$B$8,"High","OK"))))) | X8: =IF($A8="","",IF(OR($J8<>"Mounted",$L8=""),"",IFERROR($L8+'Settings'!$B$9,""))) | Y8: =IF($A8="","",IF($J8<>"Mounted","N/A",IF($L8="","No Data",IF(TODAY()>$X8,"Overdue",IF(TODAY()+'Settings'!$B$10>=$X8,"Due Soon","Current"))))) | Z8: =IF($A8="","",IF($J8<>"Mounted","N/A",IF(OR($U8="No Data",$W8="No Data"),"No Data",IF($U8="Critical","Critical",IF(OR($U8="Low",$V8="Uneven",$W8="Low",$W8="High",$Y8="Overdue",$Y8="Due Soon"),"Attention","OK"))))) | AA8: =IF($A8="","",IF($J8<>"Mounted","No action",IF($U8="Critical","Inspect immediately and follow fleet removal policy",IF($W8="Low","Correct pressure and inspect",IF($W8="High","Correct pressure",IF($V8="Uneven","Inspect alignment, suspension, and rotation",IF($U8="Low","Schedule tire service",IF($Y8="Overdue","Complete inspection",IF($Y8="Due Soon","Schedule inspection","No action"))))))))) | AB8: =IF($A8="","",IF(OR($J8<>"Mounted",$Z8="OK",$Z8="N/A"),"",IF($U8="Critical",1,IF(OR($W8="Low",$W8="High"),2,IF(OR($U8="Low",$V8="Uneven"),3,IF($Y8="Overdue",4,5)))))) | AC8: =IF($A8="","",IF($AB8="","",IFERROR($AB8*100000+ROW(),"")))
A9: T-1005 | B9: Continental | C9: VanContact A/S | D9: 225/75R16 | E9: 3126 | F9: 46123 | G9: 235 | H9: 12 | I9: 36 | J9: Mounted | K9: Delivery van steer tire | L9: =IF($A9="","",IF(COUNTIFS('Tire Inspections'!$E$5:$E$1004,$A9,'Tire Inspections'!$Y$5:$Y$1004,"OK")=0,"",IFERROR(MAXIFS('Tire Inspections'!$B$5:$B$1004,'Tire Inspections'!$E$5:$E$1004,$A9,'Tire Inspections'!$Y$5:$Y$1004,"OK"),""))) | M9: =IF($A9="","",IF($L9="","",IFERROR(LOOKUP(2,1/(('Tire Inspections'!$E$5:$E$1004=$A9)*('Tire Inspections'!$B$5:$B$1004=$L9)*('Tire Inspections'!$Y$5:$Y$1004="OK")),'Tire Inspections'!$C$5:$C$1004),""))) | N9: =IF($A9="","",IF($L9="","",IFERROR(LOOKUP(2,1/(('Tire Inspections'!$E$5:$E$1004=$A9)*('Tire Inspections'!$B$5:$B$1004=$L9)*('Tire Inspections'!$Y$5:$Y$1004="OK")),'Tire Inspections'!$F$5:$F$1004),""))) | O9: =IF($A9="","",IF($L9="","",IFERROR(LOOKUP(2,1/(('Tire Inspections'!$E$5:$E$1004=$A9)*('Tire Inspections'!$B$5:$B$1004=$L9)*('Tire Inspections'!$Y$5:$Y$1004="OK")),'Tire Inspections'!$P$5:$P$1004),""))) | P9: =IF($A9="","",IF($L9="","",IFERROR(LOOKUP(2,1/(('Tire Inspections'!$E$5:$E$1004=$A9)*('Tire Inspections'!$B$5:$B$1004=$L9)*('Tire Inspections'!$Y$5:$Y$1004="OK")),'Tire Inspections'!$D$5:$D$1004),""))) | Q9: =IF($A9="","",IF($L9="","",IFERROR(LOOKUP(2,1/(('Tire Inspections'!$E$5:$E$1004=$A9)*('Tire Inspections'!$B$5:$B$1004=$L9)*('Tire Inspections'!$Y$5:$Y$1004="OK")),'Tire Inspections'!$R$5:$R$1004),""))) | R9: =IF($A9="","",IF($L9="","",IFERROR(LOOKUP(2,1/(('Tire Inspections'!$E$5:$E$1004=$A9)*('Tire Inspections'!$B$5:$B$1004=$L9)*('Tire Inspections'!$Y$5:$Y$1004="OK")),'Tire Inspections'!$S$5:$S$1004),""))) | S9: =IF($A9="","",IF($L9="","",IFERROR(LOOKUP(2,1/(('Tire Inspections'!$E$5:$E$1004=$A9)*('Tire Inspections'!$B$5:$B$1004=$L9)*('Tire Inspections'!$Y$5:$Y$1004="OK")),'Tire Inspections'!$L$5:$L$1004),""))) | T9: =IF($A9="","",IF(OR($Q9="",$H9=""),"",IFERROR(MAX(0,MIN(1,($Q9-'Settings'!$B$6)/($H9-'Settings'!$B$6))),""))) | U9: =IF($A9="","",IF($Q9="","No Data",IF($Q9<='Settings'!$B$6,"Critical",IF($Q9<='Settings'!$B$5,"Low","OK")))) | V9: =IF($A9="","",IF($R9="","No Data",IF($R9>='Settings'!$B$7,"Uneven","OK"))) | W9: =IF($A9="","",IF($J9<>"Mounted","N/A",IF(OR($S9="",$I9=""),"No Data",IF($S9<$I9-'Settings'!$B$8,"Low",IF($S9>$I9+'Settings'!$B$8,"High","OK"))))) | X9: =IF($A9="","",IF(OR($J9<>"Mounted",$L9=""),"",IFERROR($L9+'Settings'!$B$9,""))) | Y9: =IF($A9="","",IF($J9<>"Mounted","N/A",IF($L9="","No Data",IF(TODAY()>$X9,"Overdue",IF(TODAY()+'Settings'!$B$10>=$X9,"Due Soon","Current"))))) | Z9: =IF($A9="","",IF($J9<>"Mounted","N/A",IF(OR($U9="No Data",$W9="No Data"),"No Data",IF($U9="Critical","Critical",IF(OR($U9="Low",$V9="Uneven",$W9="Low",$W9="High",$Y9="Overdue",$Y9="Due Soon"),"Attention","OK"))))) | AA9: =IF($A9="","",IF($J9<>"Mounted","No action",IF($U9="Critical","Inspect immediately and follow fleet removal policy",IF($W9="Low","Correct pressure and inspect",IF($W9="High","Correct pressure",IF($V9="Uneven","Inspect alignment, suspension, and rotation",IF($U9="Low","Schedule tire service",IF($Y9="Overdue","Complete inspection",IF($Y9="Due Soon","Schedule inspection","No action"))))))))) | AB9: =IF($A9="","",IF(OR($J9<>"Mounted",$Z9="OK",$Z9="N/A"),"",IF($U9="Critical",1,IF(OR($W9="Low",$W9="High"),2,IF(OR($U9="Low",$V9="Uneven"),3,IF($Y9="Overdue",4,5)))))) | AC9: =IF($A9="","",IF($AB9="","",IFERROR($AB9*100000+ROW(),"")))
A10: T-1006 | B10: Firestone | C10: Transforce HT2 | D10: 225/75R16 | E10: 2926 | F10: 46123 | G10: 220 | H10: 12 | I10: 36 | J10: Mounted | K10: Delivery van steer tire | L10: =IF($A10="","",IF(COUNTIFS('Tire Inspections'!$E$5:$E$1004,$A10,'Tire Inspections'!$Y$5:$Y$1004,"OK")=0,"",IFERROR(MAXIFS('Tire Inspections'!$B$5:$B$1004,'Tire Inspections'!$E$5:$E$1004,$A10,'Tire Inspections'!$Y$5:$Y$1004,"OK"),""))) | M10: =IF($A10="","",IF($L10="","",IFERROR(LOOKUP(2,1/(('Tire Inspections'!$E$5:$E$1004=$A10)*('Tire Inspections'!$B$5:$B$1004=$L10)*('Tire Inspections'!$Y$5:$Y$1004="OK")),'Tire Inspections'!$C$5:$C$1004),""))) | N10: =IF($A10="","",IF($L10="","",IFERROR(LOOKUP(2,1/(('Tire Inspections'!$E$5:$E$1004=$A10)*('Tire Inspections'!$B$5:$B$1004=$L10)*('Tire Inspections'!$Y$5:$Y$1004="OK")),'Tire Inspections'!$F$5:$F$1004),""))) | O10: =IF($A10="","",IF($L10="","",IFERROR(LOOKUP(2,1/(('Tire Inspections'!$E$5:$E$1004=$A10)*('Tire Inspections'!$B$5:$B$1004=$L10)*('Tire Inspections'!$Y$5:$Y$1004="OK")),'Tire Inspections'!$P$5:$P$1004),""))) | P10: =IF($A10="","",IF($L10="","",IFERROR(LOOKUP(2,1/(('Tire Inspections'!$E$5:$E$1004=$A10)*('Tire Inspections'!$B$5:$B$1004=$L10)*('Tire Inspections'!$Y$5:$Y$1004="OK")),'Tire Inspections'!$D$5:$D$1004),""))) | Q10: =IF($A10="","",IF($L10="","",IFERROR(LOOKUP(2,1/(('Tire Inspections'!$E$5:$E$1004=$A10)*('Tire Inspections'!$B$5:$B$1004=$L10)*('Tire Inspections'!$Y$5:$Y$1004="OK")),'Tire Inspections'!$R$5:$R$1004),""))) | R10: =IF($A10="","",IF($L10="","",IFERROR(LOOKUP(2,1/(('Tire Inspections'!$E$5:$E$1004=$A10)*('Tire Inspections'!$B$5:$B$1004=$L10)*('Tire Inspections'!$Y$5:$Y$1004="OK")),'Tire Inspections'!$S$5:$S$1004),""))) | S10: =IF($A10="","",IF($L10="","",IFERROR(LOOKUP(2,1/(('Tire Inspections'!$E$5:$E$1004=$A10)*('Tire Inspections'!$B$5:$B$1004=$L10)*('Tire Inspections'!$Y$5:$Y$1004="OK")),'Tire Inspections'!$L$5:$L$1004),""))) | T10: =IF($A10="","",IF(OR($Q10="",$H10=""),"",IFERROR(MAX(0,MIN(1,($Q10-'Settings'!$B$6)/($H10-'Settings'!$B$6))),""))) | U10: =IF($A10="","",IF($Q10="","No Data",IF($Q10<='Settings'!$B$6,"Critical",IF($Q10<='Settings'!$B$5,"Low","OK")))) | V10: =IF($A10="","",IF($R10="","No Data",IF($R10>='Settings'!$B$7,"Uneven","OK"))) | W10: =IF($A10="","",IF($J10<>"Mounted","N/A",IF(OR($S10="",$I10=""),"No Data",IF($S10<$I10-'Settings'!$B$8,"Low",IF($S10>$I10+'Settings'!$B$8,"High","OK"))))) | X10: =IF($A10="","",IF(OR($J10<>"Mounted",$L10=""),"",IFERROR($L10+'Settings'!$B$9,""))) | Y10: =IF($A10="","",IF($J10<>"Mounted","N/A",IF($L10="","No Data",IF(TODAY()>$X10,"Overdue",IF(TODAY()+'Settings'!$B$10>=$X10,"Due Soon","Current"))))) | Z10: =IF($A10="","",IF($J10<>"Mounted","N/A",IF(OR($U10="No Data",$W10="No Data"),"No Data",IF($U10="Critical","Critical",IF(OR($U10="Low",$V10="Uneven",$W10="Low",$W10="High",$Y10="Overdue",$Y10="Due Soon"),"Attention","OK"))))) | AA10: =IF($A10="","",IF($J10<>"Mounted","No action",IF($U10="Critical","Inspect immediately and follow fleet removal policy",IF($W10="Low","Correct pressure and inspect",IF($W10="High","Correct pressure",IF($V10="Uneven","Inspect alignment, suspension, and rotation",IF($U10="Low","Schedule tire service",IF($Y10="Overdue","Complete inspection",IF($Y10="Due Soon","Schedule inspection","No action"))))))))) | AB10: =IF($A10="","",IF(OR($J10<>"Mounted",$Z10="OK",$Z10="N/A"),"",IF($U10="Critical",1,IF(OR($W10="Low",$W10="High"),2,IF(OR($U10="Low",$V10="Uneven"),3,IF($Y10="Overdue",4,5)))))) | AC10: =IF($A10="","",IF($AB10="","",IFERROR($AB10*100000+ROW(),"")))
A11: T-1007 | B11: Bridgestone | C11: R284 Ecopia | D11: 295/75R22.5 | E11: 2126 | F11: 46133 | G11: 520 | H11: 16 | I11: 100 | J11: Mounted | K11: Trailer tire | L11: =IF($A11="","",IF(COUNTIFS('Tire Inspections'!$E$5:$E$1004,$A11,'Tire Inspections'!$Y$5:$Y$1004,"OK")=0,"",IFERROR(MAXIFS('Tire Inspections'!$B$5:$B$1004,'Tire Inspections'!$E$5:$E$1004,$A11,'Tire Inspections'!$Y$5:$Y$1004,"OK"),""))) | M11: =IF($A11="","",IF($L11="","",IFERROR(LOOKUP(2,1/(('Tire Inspections'!$E$5:$E$1004=$A11)*('Tire Inspections'!$B$5:$B$1004=$L11)*('Tire Inspections'!$Y$5:$Y$1004="OK")),'Tire Inspections'!$C$5:$C$1004),""))) | N11: =IF($A11="","",IF($L11="","",IFERROR(LOOKUP(2,1/(('Tire Inspections'!$E$5:$E$1004=$A11)*('Tire Inspections'!$B$5:$B$1004=$L11)*('Tire Inspections'!$Y$5:$Y$1004="OK")),'Tire Inspections'!$F$5:$F$1004),""))) | O11: =IF($A11="","",IF($L11="","",IFERROR(LOOKUP(2,1/(('Tire Inspections'!$E$5:$E$1004=$A11)*('Tire Inspections'!$B$5:$B$1004=$L11)*('Tire Inspections'!$Y$5:$Y$1004="OK")),'Tire Inspections'!$P$5:$P$1004),""))) | P11: =IF($A11="","",IF($L11="","",IFERROR(LOOKUP(2,1/(('Tire Inspections'!$E$5:$E$1004=$A11)*('Tire Inspections'!$B$5:$B$1004=$L11)*('Tire Inspections'!$Y$5:$Y$1004="OK")),'Tire Inspections'!$D$5:$D$1004),""))) | Q11: =IF($A11="","",IF($L11="","",IFERROR(LOOKUP(2,1/(('Tire Inspections'!$E$5:$E$1004=$A11)*('Tire Inspections'!$B$5:$B$1004=$L11)*('Tire Inspections'!$Y$5:$Y$1004="OK")),'Tire Inspections'!$R$5:$R$1004),""))) | R11: =IF($A11="","",IF($L11="","",IFERROR(LOOKUP(2,1/(('Tire Inspections'!$E$5:$E$1004=$A11)*('Tire Inspections'!$B$5:$B$1004=$L11)*('Tire Inspections'!$Y$5:$Y$1004="OK")),'Tire Inspections'!$S$5:$S$1004),""))) | S11: =IF($A11="","",IF($L11="","",IFERROR(LOOKUP(2,1/(('Tire Inspections'!$E$5:$E$1004=$A11)*('Tire Inspections'!$B$5:$B$1004=$L11)*('Tire Inspections'!$Y$5:$Y$1004="OK")),'Tire Inspections'!$L$5:$L$1004),""))) | T11: =IF($A11="","",IF(OR($Q11="",$H11=""),"",IFERROR(MAX(0,MIN(1,($Q11-'Settings'!$B$6)/($H11-'Settings'!$B$6))),""))) | U11: =IF($A11="","",IF($Q11="","No Data",IF($Q11<='Settings'!$B$6,"Critical",IF($Q11<='Settings'!$B$5,"Low","OK")))) | V11: =IF($A11="","",IF($R11="","No Data",IF($R11>='Settings'!$B$7,"Uneven","OK"))) | W11: =IF($A11="","",IF($J11<>"Mounted","N/A",IF(OR($S11="",$I11=""),"No Data",IF($S11<$I11-'Settings'!$B$8,"Low",IF($S11>$I11+'Settings'!$B$8,"High","OK"))))) | X11: =IF($A11="","",IF(OR($J11<>"Mounted",$L11=""),"",IFERROR($L11+'Settings'!$B$9,""))) | Y11: =IF($A11="","",IF($J11<>"Mounted","N/A",IF($L11="","No Data",IF(TODAY()>$X11,"Overdue",IF(TODAY()+'Settings'!$B$10>=$X11,"Due Soon","Current"))))) | Z11: =IF($A11="","",IF($J11<>"Mounted","N/A",IF(OR($U11="No Data",$W11="No Data"),"No Data",IF($U11="Critical","Critical",IF(OR($U11="Low",$V11="Uneven",$W11="Low",$W11="High",$Y11="Overdue",$Y11="Due Soon"),"Attention","OK"))))) | AA11: =IF($A11="","",IF($J11<>"Mounted","No action",IF($U11="Critical","Inspect immediately and follow fleet removal policy",IF($W11="Low","Correct pressure and inspect",IF($W11="High","Correct pressure",IF($V11="Uneven","Inspect alignment, suspension, and rotation",IF($U11="Low","Schedule tire service",IF($Y11="Overdue","Complete inspection",IF($Y11="Due Soon","Schedule inspection","No action"))))))))) | AB11: =IF($A11="","",IF(OR($J11<>"Mounted",$Z11="OK",$Z11="N/A"),"",IF($U11="Critical",1,IF(OR($W11="Low",$W11="High"),2,IF(OR($U11="Low",$V11="Uneven"),3,IF($Y11="Overdue",4,5)))))) | AC11: =IF($A11="","",IF($AB11="","",IFERROR($AB11*100000+ROW(),"")))
A12: T-1008 | B12: Michelin | C12: X Multi T | D12: 295/75R22.5 | E12: 1826 | F12: 46133 | G12: 550 | H12: 16 | I12: 100 | J12: Mounted | K12: Trailer tire | L12: =IF($A12="","",IF(COUNTIFS('Tire Inspections'!$E$5:$E$1004,$A12,'Tire Inspections'!$Y$5:$Y$1004,"OK")=0,"",IFERROR(MAXIFS('Tire Inspections'!$B$5:$B$1004,'Tire Inspections'!$E$5:$E$1004,$A12,'Tire Inspections'!$Y$5:$Y$1004,"OK"),""))) | M12: =IF($A12="","",IF($L12="","",IFERROR(LOOKUP(2,1/(('Tire Inspections'!$E$5:$E$1004=$A12)*('Tire Inspections'!$B$5:$B$1004=$L12)*('Tire Inspections'!$Y$5:$Y$1004="OK")),'Tire Inspections'!$C$5:$C$1004),""))) | N12: =IF($A12="","",IF($L12="","",IFERROR(LOOKUP(2,1/(('Tire Inspections'!$E$5:$E$1004=$A12)*('Tire Inspections'!$B$5:$B$1004=$L12)*('Tire Inspections'!$Y$5:$Y$1004="OK")),'Tire Inspections'!$F$5:$F$1004),""))) | O12: =IF($A12="","",IF($L12="","",IFERROR(LOOKUP(2,1/(('Tire Inspections'!$E$5:$E$1004=$A12)*('Tire Inspections'!$B$5:$B$1004=$L12)*('Tire Inspections'!$Y$5:$Y$1004="OK")),'Tire Inspections'!$P$5:$P$1004),""))) | P12: =IF($A12="","",IF($L12="","",IFERROR(LOOKUP(2,1/(('Tire Inspections'!$E$5:$E$1004=$A12)*('Tire Inspections'!$B$5:$B$1004=$L12)*('Tire Inspections'!$Y$5:$Y$1004="OK")),'Tire Inspections'!$D$5:$D$1004),""))) | Q12: =IF($A12="","",IF($L12="","",IFERROR(LOOKUP(2,1/(('Tire Inspections'!$E$5:$E$1004=$A12)*('Tire Inspections'!$B$5:$B$1004=$L12)*('Tire Inspections'!$Y$5:$Y$1004="OK")),'Tire Inspections'!$R$5:$R$1004),""))) | R12: =IF($A12="","",IF($L12="","",IFERROR(LOOKUP(2,1/(('Tire Inspections'!$E$5:$E$1004=$A12)*('Tire Inspections'!$B$5:$B$1004=$L12)*('Tire Inspections'!$Y$5:$Y$1004="OK")),'Tire Inspections'!$S$5:$S$1004),""))) | S12: =IF($A12="","",IF($L12="","",IFERROR(LOOKUP(2,1/(('Tire Inspections'!$E$5:$E$1004=$A12)*('Tire Inspections'!$B$5:$B$1004=$L12)*('Tire Inspections'!$Y$5:$Y$1004="OK")),'Tire Inspections'!$L$5:$L$1004),""))) | T12: =IF($A12="","",IF(OR($Q12="",$H12=""),"",IFERROR(MAX(0,MIN(1,($Q12-'Settings'!$B$6)/($H12-'Settings'!$B$6))),""))) | U12: =IF($A12="","",IF($Q12="","No Data",IF($Q12<='Settings'!$B$6,"Critical",IF($Q12<='Settings'!$B$5,"Low","OK")))) | V12: =IF($A12="","",IF($R12="","No Data",IF($R12>='Settings'!$B$7,"Uneven","OK"))) | W12: =IF($A12="","",IF($J12<>"Mounted","N/A",IF(OR($S12="",$I12=""),"No Data",IF($S12<$I12-'Settings'!$B$8,"Low",IF($S12>$I12+'Settings'!$B$8,"High","OK"))))) | X12: =IF($A12="","",IF(OR($J12<>"Mounted",$L12=""),"",IFERROR($L12+'Settings'!$B$9,""))) | Y12: =IF($A12="","",IF($J12<>"Mounted","N/A",IF($L12="","No Data",IF(TODAY()>$X12,"Overdue",IF(TODAY()+'Settings'!$B$10>=$X12,"Due Soon","Current"))))) | Z12: =IF($A12="","",IF($J12<>"Mounted","N/A",IF(OR($U12="No Data",$W12="No Data"),"No Data",IF($U12="Critical","Critical",IF(OR($U12="Low",$V12="Uneven",$W12="Low",$W12="High",$Y12="Overdue",$Y12="Due Soon"),"Attention","OK"))))) | AA12: =IF($A12="","",IF($J12<>"Mounted","No action",IF($U12="Critical","Inspect immediately and follow fleet removal policy",IF($W12="Low","Correct pressure and inspect",IF($W12="High","Correct pressure",IF($V12="Uneven","Inspect alignment, suspension, and rotation",IF($U12="Low","Schedule tire service",IF($Y12="Overdue","Complete inspection",IF($Y12="Due Soon","Schedule inspection","No action"))))))))) | AB12: =IF($A12="","",IF(OR($J12<>"Mounted",$Z12="OK",$Z12="N/A"),"",IF($U12="Critical",1,IF(OR($W12="Low",$W12="High"),2,IF(OR($U12="Low",$V12="Uneven"),3,IF($Y12="Overdue",4,5)))))) | AC12: =IF($A12="","",IF($AB12="","",IFERROR($AB12*100000+ROW(),"")))
A13: T-1009 | B13: Goodyear | C13: G661 HSA | D13: 11R22.5 | E13: 3526 | F13: 46183 | G13: 505 | H13: 18 | I13: 105 | J13: In Stock | K13: New replacement tire | L13: =IF($A13="","",IF(COUNTIFS('Tire Inspections'!$E$5:$E$1004,$A13,'Tire Inspections'!$Y$5:$Y$1004,"OK")=0,"",IFERROR(MAXIFS('Tire Inspections'!$B$5:$B$1004,'Tire Inspections'!$E$5:$E$1004,$A13,'Tire Inspections'!$Y$5:$Y$1004,"OK"),""))) | M13: =IF($A13="","",IF($L13="","",IFERROR(LOOKUP(2,1/(('Tire Inspections'!$E$5:$E$1004=$A13)*('Tire Inspections'!$B$5:$B$1004=$L13)*('Tire Inspections'!$Y$5:$Y$1004="OK")),'Tire Inspections'!$C$5:$C$1004),""))) | N13: =IF($A13="","",IF($L13="","",IFERROR(LOOKUP(2,1/(('Tire Inspections'!$E$5:$E$1004=$A13)*('Tire Inspections'!$B$5:$B$1004=$L13)*('Tire Inspections'!$Y$5:$Y$1004="OK")),'Tire Inspections'!$F$5:$F$1004),""))) | O13: =IF($A13="","",IF($L13="","",IFERROR(LOOKUP(2,1/(('Tire Inspections'!$E$5:$E$1004=$A13)*('Tire Inspections'!$B$5:$B$1004=$L13)*('Tire Inspections'!$Y$5:$Y$1004="OK")),'Tire Inspections'!$P$5:$P$1004),""))) | P13: =IF($A13="","",IF($L13="","",IFERROR(LOOKUP(2,1/(('Tire Inspections'!$E$5:$E$1004=$A13)*('Tire Inspections'!$B$5:$B$1004=$L13)*('Tire Inspections'!$Y$5:$Y$1004="OK")),'Tire Inspections'!$D$5:$D$1004),""))) | Q13: =IF($A13="","",IF($L13="","",IFERROR(LOOKUP(2,1/(('Tire Inspections'!$E$5:$E$1004=$A13)*('Tire Inspections'!$B$5:$B$1004=$L13)*('Tire Inspections'!$Y$5:$Y$1004="OK")),'Tire Inspections'!$R$5:$R$1004),""))) | R13: =IF($A13="","",IF($L13="","",IFERROR(LOOKUP(2,1/(('Tire Inspections'!$E$5:$E$1004=$A13)*('Tire Inspections'!$B$5:$B$1004=$L13)*('Tire Inspections'!$Y$5:$Y$1004="OK")),'Tire Inspections'!$S$5:$S$1004),""))) | S13: =IF($A13="","",IF($L13="","",IFERROR(LOOKUP(2,1/(('Tire Inspections'!$E$5:$E$1004=$A13)*('Tire Inspections'!$B$5:$B$1004=$L13)*('Tire Inspections'!$Y$5:$Y$1004="OK")),'Tire Inspections'!$L$5:$L$1004),""))) | T13: =IF($A13="","",IF(OR($Q13="",$H13=""),"",IFERROR(MAX(0,MIN(1,($Q13-'Settings'!$B$6)/($H13-'Settings'!$B$6))),""))) | U13: =IF($A13="","",IF($Q13="","No Data",IF($Q13<='Settings'!$B$6,"Critical",IF($Q13<='Settings'!$B$5,"Low","OK")))) | V13: =IF($A13="","",IF($R13="","No Data",IF($R13>='Settings'!$B$7,"Uneven","OK"))) | W13: =IF($A13="","",IF($J13<>"Mounted","N/A",IF(OR($S13="",$I13=""),"No Data",IF($S13<$I13-'Settings'!$B$8,"Low",IF($S13>$I13+'Settings'!$B$8,"High","OK"))))) | X13: =IF($A13="","",IF(OR($J13<>"Mounted",$L13=""),"",IFERROR($L13+'Settings'!$B$9,""))) | Y13: =IF($A13="","",IF($J13<>"Mounted","N/A",IF($L13="","No Data",IF(TODAY()>$X13,"Overdue",IF(TODAY()+'Settings'!$B$10>=$X13,"Due Soon","Current"))))) | Z13: =IF($A13="","",IF($J13<>"Mounted","N/A",IF(OR($U13="No Data",$W13="No Data"),"No Data",IF($U13="Critical","Critical",IF(OR($U13="Low",$V13="Uneven",$W13="Low",$W13="High",$Y13="Overdue",$Y13="Due Soon"),"Attention","OK"))))) | AA13: =IF($A13="","",IF($J13<>"Mounted","No action",IF($U13="Critical","Inspect immediately and follow fleet removal policy",IF($W13="Low","Correct pressure and inspect",IF($W13="High","Correct pressure",IF($V13="Uneven","Inspect alignment, suspension, and rotation",IF($U13="Low","Schedule tire service",IF($Y13="Overdue","Complete inspection",IF($Y13="Due Soon","Schedule inspection","No action"))))))))) | AB13: =IF($A13="","",IF(OR($J13<>"Mounted",$Z13="OK",$Z13="N/A"),"",IF($U13="Critical",1,IF(OR($W13="Low",$W13="High"),2,IF(OR($U13="Low",$V13="Uneven"),3,IF($Y13="Overdue",4,5)))))) | AC13: =IF($A13="","",IF($AB13="","",IFERROR($AB13*100000+ROW(),"")))
A14: T-1010 | B14: Roadmaster | C14: RM272 | D14: 295/75R22.5 | E14: 1126 | F14: 46043 | G14: 390 | H14: 16 | I14: 100 | J14: Removed | K14: Casing held for evaluation | L14: =IF($A14="","",IF(COUNTIFS('Tire Inspections'!$E$5:$E$1004,$A14,'Tire Inspections'!$Y$5:$Y$1004,"OK")=0,"",IFERROR(MAXIFS('Tire Inspections'!$B$5:$B$1004,'Tire Inspections'!$E$5:$E$1004,$A14,'Tire Inspections'!$Y$5:$Y$1004,"OK"),""))) | M14: =IF($A14="","",IF($L14="","",IFERROR(LOOKUP(2,1/(('Tire Inspections'!$E$5:$E$1004=$A14)*('Tire Inspections'!$B$5:$B$1004=$L14)*('Tire Inspections'!$Y$5:$Y$1004="OK")),'Tire Inspections'!$C$5:$C$1004),""))) | N14: =IF($A14="","",IF($L14="","",IFERROR(LOOKUP(2,1/(('Tire Inspections'!$E$5:$E$1004=$A14)*('Tire Inspections'!$B$5:$B$1004=$L14)*('Tire Inspections'!$Y$5:$Y$1004="OK")),'Tire Inspections'!$F$5:$F$1004),""))) | O14: =IF($A14="","",IF($L14="","",IFERROR(LOOKUP(2,1/(('Tire Inspections'!$E$5:$E$1004=$A14)*('Tire Inspections'!$B$5:$B$1004=$L14)*('Tire Inspections'!$Y$5:$Y$1004="OK")),'Tire Inspections'!$P$5:$P$1004),""))) | P14: =IF($A14="","",IF($L14="","",IFERROR(LOOKUP(2,1/(('Tire Inspections'!$E$5:$E$1004=$A14)*('Tire Inspections'!$B$5:$B$1004=$L14)*('Tire Inspections'!$Y$5:$Y$1004="OK")),'Tire Inspections'!$D$5:$D$1004),""))) | Q14: =IF($A14="","",IF($L14="","",IFERROR(LOOKUP(2,1/(('Tire Inspections'!$E$5:$E$1004=$A14)*('Tire Inspections'!$B$5:$B$1004=$L14)*('Tire Inspections'!$Y$5:$Y$1004="OK")),'Tire Inspections'!$R$5:$R$1004),""))) | R14: =IF($A14="","",IF($L14="","",IFERROR(LOOKUP(2,1/(('Tire Inspections'!$E$5:$E$1004=$A14)*('Tire Inspections'!$B$5:$B$1004=$L14)*('Tire Inspections'!$Y$5:$Y$1004="OK")),'Tire Inspections'!$S$5:$S$1004),""))) | S14: =IF($A14="","",IF($L14="","",IFERROR(LOOKUP(2,1/(('Tire Inspections'!$E$5:$E$1004=$A14)*('Tire Inspections'!$B$5:$B$1004=$L14)*('Tire Inspections'!$Y$5:$Y$1004="OK")),'Tire Inspections'!$L$5:$L$1004),""))) | T14: =IF($A14="","",IF(OR($Q14="",$H14=""),"",IFERROR(MAX(0,MIN(1,($Q14-'Settings'!$B$6)/($H14-'Settings'!$B$6))),""))) | U14: =IF($A14="","",IF($Q14="","No Data",IF($Q14<='Settings'!$B$6,"Critical",IF($Q14<='Settings'!$B$5,"Low","OK")))) | V14: =IF($A14="","",IF($R14="","No Data",IF($R14>='Settings'!$B$7,"Uneven","OK"))) | W14: =IF($A14="","",IF($J14<>"Mounted","N/A",IF(OR($S14="",$I14=""),"No Data",IF($S14<$I14-'Settings'!$B$8,"Low",IF($S14>$I14+'Settings'!$B$8,"High","OK"))))) | X14: =IF($A14="","",IF(OR($J14<>"Mounted",$L14=""),"",IFERROR($L14+'Settings'!$B$9,""))) | Y14: =IF($A14="","",IF($J14<>"Mounted","N/A",IF($L14="","No Data",IF(TODAY()>$X14,"Overdue",IF(TODAY()+'Settings'!$B$10>=$X14,"Due Soon","Current"))))) | Z14: =IF($A14="","",IF($J14<>"Mounted","N/A",IF(OR($U14="No Data",$W14="No Data"),"No Data",IF($U14="Critical","Critical",IF(OR($U14="Low",$V14="Uneven",$W14="Low",$W14="High",$Y14="Overdue",$Y14="Due Soon"),"Attention","OK"))))) | AA14: =IF($A14="","",IF($J14<>"Mounted","No action",IF($U14="Critical","Inspect immediately and follow fleet removal policy",IF($W14="Low","Correct pressure and inspect",IF($W14="High","Correct pressure",IF($V14="Uneven","Inspect alignment, suspension, and rotation",IF($U14="Low","Schedule tire service",IF($Y14="Overdue","Complete inspection",IF($Y14="Due Soon","Schedule inspection","No action"))))))))) | AB14: =IF($A14="","",IF(OR($J14<>"Mounted",$Z14="OK",$Z14="N/A"),"",IF($U14="Critical",1,IF(OR($W14="Low",$W14="High"),2,IF(OR($U14="Low",$V14="Uneven"),3,IF($Y14="Overdue",4,5)))))) | AC14: =IF($A14="","",IF($AB14="","",IFERROR($AB14*100000+ROW(),"")))
L15: =IF($A15="","",IF(COUNTIFS('Tire Inspections'!$E$5:$E$1004,$A15,'Tire Inspections'!$Y$5:$Y$1004,"OK")=0,"",IFERROR(MAXIFS('Tire Inspections'!$B$5:$B$1004,'Tire Inspections'!$E$5:$E$1004,$A15,'Tire Inspections'!$Y$5:$Y$1004,"OK"),""))) | M15: =IF($A15="","",IF($L15="","",IFERROR(LOOKUP(2,1/(('Tire Inspections'!$E$5:$E$1004=$A15)*('Tire Inspections'!$B$5:$B$1004=$L15)*('Tire Inspections'!$Y$5:$Y$1004="OK")),'Tire Inspections'!$C$5:$C$1004),""))) | N15: =IF($A15="","",IF($L15="","",IFERROR(LOOKUP(2,1/(('Tire Inspections'!$E$5:$E$1004=$A15)*('Tire Inspections'!$B$5:$B$1004=$L15)*('Tire Inspections'!$Y$5:$Y$1004="OK")),'Tire Inspections'!$F$5:$F$1004),""))) | O15: =IF($A15="","",IF($L15="","",IFERROR(LOOKUP(2,1/(('Tire Inspections'!$E$5:$E$1004=$A15)*('Tire Inspections'!$B$5:$B$1004=$L15)*('Tire Inspections'!$Y$5:$Y$1004="OK")),'Tire Inspections'!$P$5:$P$1004),""))) | P15: =IF($A15="","",IF($L15="","",IFERROR(LOOKUP(2,1/(('Tire Inspections'!$E$5:$E$1004=$A15)*('Tire Inspections'!$B$5:$B$1004=$L15)*('Tire Inspections'!$Y$5:$Y$1004="OK")),'Tire Inspections'!$D$5:$D$1004),""))) | Q15: =IF($A15="","",IF($L15="","",IFERROR(LOOKUP(2,1/(('Tire Inspections'!$E$5:$E$1004=$A15)*('Tire Inspections'!$B$5:$B$1004=$L15)*('Tire Inspections'!$Y$5:$Y$1004="OK")),'Tire Inspections'!$R$5:$R$1004),""))) | R15: =IF($A15="","",IF($L15="","",IFERROR(LOOKUP(2,1/(('Tire Inspections'!$E$5:$E$1004=$A15)*('Tire Inspections'!$B$5:$B$1004=$L15)*('Tire Inspections'!$Y$5:$Y$1004="OK")),'Tire Inspections'!$S$5:$S$1004),""))) | S15: =IF($A15="","",IF($L15="","",IFERROR(LOOKUP(2,1/(('Tire Inspections'!$E$5:$E$1004=$A15)*('Tire Inspections'!$B$5:$B$1004=$L15)*('Tire Inspections'!$Y$5:$Y$1004="OK")),'Tire Inspections'!$L$5:$L$1004),""))) | T15: =IF($A15="","",IF(OR($Q15="",$H15=""),"",IFERROR(MAX(0,MIN(1,($Q15-'Settings'!$B$6)/($H15-'Settings'!$B$6))),""))) | U15: =IF($A15="","",IF($Q15="","No Data",IF($Q15<='Settings'!$B$6,"Critical",IF($Q15<='Settings'!$B$5,"Low","OK")))) | V15: =IF($A15="","",IF($R15="","No Data",IF($R15>='Settings'!$B$7,"Uneven","OK"))) | W15: =IF($A15="","",IF($J15<>"Mounted","N/A",IF(OR($S15="",$I15=""),"No Data",IF($S15<$I15-'Settings'!$B$8,"Low",IF($S15>$I15+'Settings'!$B$8,"High","OK"))))) | X15: =IF($A15="","",IF(OR($J15<>"Mounted",$L15=""),"",IFERROR($L15+'Settings'!$B$9,""))) | Y15: =IF($A15="","",IF($J15<>"Mounted","N/A",IF($L15="","No Data",IF(TODAY()>$X15,"Overdue",IF(TODAY()+'Settings'!$B$10>=$X15,"Due Soon","Current"))))) | Z15: =IF($A15="","",IF($J15<>"Mounted","N/A",IF(OR($U15="No Data",$W15="No Data"),"No Data",IF($U15="Critical","Critical",IF(OR($U15="Low",$V15="Uneven",$W15="Low",$W15="High",$Y15="Overdue",$Y15="Due Soon"),"Attention","OK"))))) | AA15: =IF($A15="","",IF($J15<>"Mounted","No action",IF($U15="Critical","Inspect immediately and follow fleet removal policy",IF($W15="Low","Correct pressure and inspect",IF($W15="High","Correct pressure",IF($V15="Uneven","Inspect alignment, suspension, and rotation",IF($U15="Low","Schedule tire service",IF($Y15="Overdue","Complete inspection",IF($Y15="Due Soon","Schedule inspection","No action"))))))))) | AB15: =IF($A15="","",IF(OR($J15<>"Mounted",$Z15="OK",$Z15="N/A"),"",IF($U15="Critical",1,IF(OR($W15="Low",$W15="High"),2,IF(OR($U15="Low",$V15="Uneven"),3,IF($Y15="Overdue",4,5)))))) | AC15: =IF($A15="","",IF($AB15="","",IFERROR($AB15*100000+ROW(),"")))
L16: =IF($A16="","",IF(COUNTIFS('Tire Inspections'!$E$5:$E$1004,$A16,'Tire Inspections'!$Y$5:$Y$1004,"OK")=0,"",IFERROR(MAXIFS('Tire Inspections'!$B$5:$B$1004,'Tire Inspections'!$E$5:$E$1004,$A16,'Tire Inspections'!$Y$5:$Y$1004,"OK"),""))) | M16: =IF($A16="","",IF($L16="","",IFERROR(LOOKUP(2,1/(('Tire Inspections'!$E$5:$E$1004=$A16)*('Tire Inspections'!$B$5:$B$1004=$L16)*('Tire Inspections'!$Y$5:$Y$1004="OK")),'Tire Inspections'!$C$5:$C$1004),""))) | N16: =IF($A16="","",IF($L16="","",IFERROR(LOOKUP(2,1/(('Tire Inspections'!$E$5:$E$1004=$A16)*('Tire Inspections'!$B$5:$B$1004=$L16)*('Tire Inspections'!$Y$5:$Y$1004="OK")),'Tire Inspections'!$F$5:$F$1004),""))) | O16: =IF($A16="","",IF($L16="","",IFERROR(LOOKUP(2,1/(('Tire Inspections'!$E$5:$E$1004=$A16)*('Tire Inspections'!$B$5:$B$1004=$L16)*('Tire Inspections'!$Y$5:$Y$1004="OK")),'Tire Inspections'!$P$5:$P$1004),""))) | P16: =IF($A16="","",IF($L16="","",IFERROR(LOOKUP(2,1/(('Tire Inspections'!$E$5:$E$1004=$A16)*('Tire Inspections'!$B$5:$B$1004=$L16)*('Tire Inspections'!$Y$5:$Y$1004="OK")),'Tire Inspections'!$D$5:$D$1004),""))) | Q16: =IF($A16="","",IF($L16="","",IFERROR(LOOKUP(2,1/(('Tire Inspections'!$E$5:$E$1004=$A16)*('Tire Inspections'!$B$5:$B$1004=$L16)*('Tire Inspections'!$Y$5:$Y$1004="OK")),'Tire Inspections'!$R$5:$R$1004),""))) | R16: =IF($A16="","",IF($L16="","",IFERROR(LOOKUP(2,1/(('Tire Inspections'!$E$5:$E$1004=$A16)*('Tire Inspections'!$B$5:$B$1004=$L16)*('Tire Inspections'!$Y$5:$Y$1004="OK")),'Tire Inspections'!$S$5:$S$1004),""))) | S16: =IF($A16="","",IF($L16="","",IFERROR(LOOKUP(2,1/(('Tire Inspections'!$E$5:$E$1004=$A16)*('Tire Inspections'!$B$5:$B$1004=$L16)*('Tire Inspections'!$Y$5:$Y$1004="OK")),'Tire Inspections'!$L$5:$L$1004),""))) | T16: =IF($A16="","",IF(OR($Q16="",$H16=""),"",IFERROR(MAX(0,MIN(1,($Q16-'Settings'!$B$6)/($H16-'Settings'!$B$6))),""))) | U16: =IF($A16="","",IF($Q16="","No Data",IF($Q16<='Settings'!$B$6,"Critical",IF($Q16<='Settings'!$B$5,"Low","OK")))) | V16: =IF($A16="","",IF($R16="","No Data",IF($R16>='Settings'!$B$7,"Uneven","OK"))) | W16: =IF($A16="","",IF($J16<>"Mounted","N/A",IF(OR($S16="",$I16=""),"No Data",IF($S16<$I16-'Settings'!$B$8,"Low",IF($S16>$I16+'Settings'!$B$8,"High","OK"))))) | X16: =IF($A16="","",IF(OR($J16<>"Mounted",$L16=""),"",IFERROR($L16+'Settings'!$B$9,""))) | Y16: =IF($A16="","",IF($J16<>"Mounted","N/A",IF($L16="","No Data",IF(TODAY()>$X16,"Overdue",IF(TODAY()+'Settings'!$B$10>=$X16,"Due Soon","Current"))))) | Z16: =IF($A16="","",IF($J16<>"Mounted","N/A",IF(OR($U16="No Data",$W16="No Data"),"No Data",IF($U16="Critical","Critical",IF(OR($U16="Low",$V16="Uneven",$W16="Low",$W16="High",$Y16="Overdue",$Y16="Due Soon"),"Attention","OK"))))) | AA16: =IF($A16="","",IF($J16<>"Mounted","No action",IF($U16="Critical","Inspect immediately and follow fleet removal policy",IF($W16="Low","Correct pressure and inspect",IF($W16="High","Correct pressure",IF($V16="Uneven","Inspect alignment, suspension, and rotation",IF($U16="Low","Schedule tire service",IF($Y16="Overdue","Complete inspection",IF($Y16="Due Soon","Schedule inspection","No action"))))))))) | AB16: =IF($A16="","",IF(OR($J16<>"Mounted",$Z16="OK",$Z16="N/A"),"",IF($U16="Critical",1,IF(OR($W16="Low",$W16="High"),2,IF(OR($U16="Low",$V16="Uneven"),3,IF($Y16="Overdue",4,5)))))) | AC16: =IF($A16="","",IF($AB16="","",IFERROR($AB16*100000+ROW(),"")))
L17: =IF($A17="","",IF(COUNTIFS('Tire Inspections'!$E$5:$E$1004,$A17,'Tire Inspections'!$Y$5:$Y$1004,"OK")=0,"",IFERROR(MAXIFS('Tire Inspections'!$B$5:$B$1004,'Tire Inspections'!$E$5:$E$1004,$A17,'Tire Inspections'!$Y$5:$Y$1004,"OK"),""))) | M17: =IF($A17="","",IF($L17="","",IFERROR(LOOKUP(2,1/(('Tire Inspections'!$E$5:$E$1004=$A17)*('Tire Inspections'!$B$5:$B$1004=$L17)*('Tire Inspections'!$Y$5:$Y$1004="OK")),'Tire Inspections'!$C$5:$C$1004),""))) | N17: =IF($A17="","",IF($L17="","",IFERROR(LOOKUP(2,1/(('Tire Inspections'!$E$5:$E$1004=$A17)*('Tire Inspections'!$B$5:$B$1004=$L17)*('Tire Inspections'!$Y$5:$Y$1004="OK")),'Tire Inspections'!$F$5:$F$1004),""))) | O17: =IF($A17="","",IF($L17="","",IFERROR(LOOKUP(2,1/(('Tire Inspections'!$E$5:$E$1004=$A17)*('Tire Inspections'!$B$5:$B$1004=$L17)*('Tire Inspections'!$Y$5:$Y$1004="OK")),'Tire Inspections'!$P$5:$P$1004),""))) | P17: =IF($A17="","",IF($L17="","",IFERROR(LOOKUP(2,1/(('Tire Inspections'!$E$5:$E$1004=$A17)*('Tire Inspections'!$B$5:$B$1004=$L17)*('Tire Inspections'!$Y$5:$Y$1004="OK")),'Tire Inspections'!$D$5:$D$1004),""))) | Q17: =IF($A17="","",IF($L17="","",IFERROR(LOOKUP(2,1/(('Tire Inspections'!$E$5:$E$1004=$A17)*('Tire Inspections'!$B$5:$B$1004=$L17)*('Tire Inspections'!$Y$5:$Y$1004="OK")),'Tire Inspections'!$R$5:$R$1004),""))) | R17: =IF($A17="","",IF($L17="","",IFERROR(LOOKUP(2,1/(('Tire Inspections'!$E$5:$E$1004=$A17)*('Tire Inspections'!$B$5:$B$1004=$L17)*('Tire Inspections'!$Y$5:$Y$1004="OK")),'Tire Inspections'!$S$5:$S$1004),""))) | S17: =IF($A17="","",IF($L17="","",IFERROR(LOOKUP(2,1/(('Tire Inspections'!$E$5:$E$1004=$A17)*('Tire Inspections'!$B$5:$B$1004=$L17)*('Tire Inspections'!$Y$5:$Y$1004="OK")),'Tire Inspections'!$L$5:$L$1004),""))) | T17: =IF($A17="","",IF(OR($Q17="",$H17=""),"",IFERROR(MAX(0,MIN(1,($Q17-'Settings'!$B$6)/($H17-'Settings'!$B$6))),""))) | U17: =IF($A17="","",IF($Q17="","No Data",IF($Q17<='Settings'!$B$6,"Critical",IF($Q17<='Settings'!$B$5,"Low","OK")))) | V17: =IF($A17="","",IF($R17="","No Data",IF($R17>='Settings'!$B$7,"Uneven","OK"))) | W17: =IF($A17="","",IF($J17<>"Mounted","N/A",IF(OR($S17="",$I17=""),"No Data",IF($S17<$I17-'Settings'!$B$8,"Low",IF($S17>$I17+'Settings'!$B$8,"High","OK"))))) | X17: =IF($A17="","",IF(OR($J17<>"Mounted",$L17=""),"",IFERROR($L17+'Settings'!$B$9,""))) | Y17: =IF($A17="","",IF($J17<>"Mounted","N/A",IF($L17="","No Data",IF(TODAY()>$X17,"Overdue",IF(TODAY()+'Settings'!$B$10>=$X17,"Due Soon","Current"))))) | Z17: =IF($A17="","",IF($J17<>"Mounted","N/A",IF(OR($U17="No Data",$W17="No Data"),"No Data",IF($U17="Critical","Critical",IF(OR($U17="Low",$V17="Uneven",$W17="Low",$W17="High",$Y17="Overdue",$Y17="Due Soon"),"Attention","OK"))))) | AA17: =IF($A17="","",IF($J17<>"Mounted","No action",IF($U17="Critical","Inspect immediately and follow fleet removal policy",IF($W17="Low","Correct pressure and inspect",IF($W17="High","Correct pressure",IF($V17="Uneven","Inspect alignment, suspension, and rotation",IF($U17="Low","Schedule tire service",IF($Y17="Overdue","Complete inspection",IF($Y17="Due Soon","Schedule inspection","No action"))))))))) | AB17: =IF($A17="","",IF(OR($J17<>"Mounted",$Z17="OK",$Z17="N/A"),"",IF($U17="Critical",1,IF(OR($W17="Low",$W17="High"),2,IF(OR($U17="Low",$V17="Uneven"),3,IF($Y17="Overdue",4,5)))))) | AC17: =IF($A17="","",IF($AB17="","",IFERROR($AB17*100000+ROW(),"")))
L18: =IF($A18="","",IF(COUNTIFS('Tire Inspections'!$E$5:$E$1004,$A18,'Tire Inspections'!$Y$5:$Y$1004,"OK")=0,"",IFERROR(MAXIFS('Tire Inspections'!$B$5:$B$1004,'Tire Inspections'!$E$5:$E$1004,$A18,'Tire Inspections'!$Y$5:$Y$1004,"OK"),""))) | M18: =IF($A18="","",IF($L18="","",IFERROR(LOOKUP(2,1/(('Tire Inspections'!$E$5:$E$1004=$A18)*('Tire Inspections'!$B$5:$B$1004=$L18)*('Tire Inspections'!$Y$5:$Y$1004="OK")),'Tire Inspections'!$C$5:$C$1004),""))) | N18: =IF($A18="","",IF($L18="","",IFERROR(LOOKUP(2,1/(('Tire Inspections'!$E$5:$E$1004=$A18)*('Tire Inspections'!$B$5:$B$1004=$L18)*('Tire Inspections'!$Y$5:$Y$1004="OK")),'Tire Inspections'!$F$5:$F$1004),""))) | O18: =IF($A18="","",IF($L18="","",IFERROR(LOOKUP(2,1/(('Tire Inspections'!$E$5:$E$1004=$A18)*('Tire Inspections'!$B$5:$B$1004=$L18)*('Tire Inspections'!$Y$5:$Y$1004="OK")),'Tire Inspections'!$P$5:$P$1004),""))) | P18: =IF($A18="","",IF($L18="","",IFERROR(LOOKUP(2,1/(('Tire Inspections'!$E$5:$E$1004=$A18)*('Tire Inspections'!$B$5:$B$1004=$L18)*('Tire Inspections'!$Y$5:$Y$1004="OK")),'Tire Inspections'!$D$5:$D$1004),""))) | Q18: =IF($A18="","",IF($L18="","",IFERROR(LOOKUP(2,1/(('Tire Inspections'!$E$5:$E$1004=$A18)*('Tire Inspections'!$B$5:$B$1004=$L18)*('Tire Inspections'!$Y$5:$Y$1004="OK")),'Tire Inspections'!$R$5:$R$1004),""))) | R18: =IF($A18="","",IF($L18="","",IFERROR(LOOKUP(2,1/(('Tire Inspections'!$E$5:$E$1004=$A18)*('Tire Inspections'!$B$5:$B$1004=$L18)*('Tire Inspections'!$Y$5:$Y$1004="OK")),'Tire Inspections'!$S$5:$S$1004),""))) | S18: =IF($A18="","",IF($L18="","",IFERROR(LOOKUP(2,1/(('Tire Inspections'!$E$5:$E$1004=$A18)*('Tire Inspections'!$B$5:$B$1004=$L18)*('Tire Inspections'!$Y$5:$Y$1004="OK")),'Tire Inspections'!$L$5:$L$1004),""))) | T18: =IF($A18="","",IF(OR($Q18="",$H18=""),"",IFERROR(MAX(0,MIN(1,($Q18-'Settings'!$B$6)/($H18-'Settings'!$B$6))),""))) | U18: =IF($A18="","",IF($Q18="","No Data",IF($Q18<='Settings'!$B$6,"Critical",IF($Q18<='Settings'!$B$5,"Low","OK")))) | V18: =IF($A18="","",IF($R18="","No Data",IF($R18>='Settings'!$B$7,"Uneven","OK"))) | W18: =IF($A18="","",IF($J18<>"Mounted","N/A",IF(OR($S18="",$I18=""),"No Data",IF($S18<$I18-'Settings'!$B$8,"Low",IF($S18>$I18+'Settings'!$B$8,"High","OK"))))) | X18: =IF($A18="","",IF(OR($J18<>"Mounted",$L18=""),"",IFERROR($L18+'Settings'!$B$9,""))) | Y18: =IF($A18="","",IF($J18<>"Mounted","N/A",IF($L18="","No Data",IF(TODAY()>$X18,"Overdue",IF(TODAY()+'Settings'!$B$10>=$X18,"Due Soon","Current"))))) | Z18: =IF($A18="","",IF($J18<>"Mounted","N/A",IF(OR($U18="No Data",$W18="No Data"),"No Data",IF($U18="Critical","Critical",IF(OR($U18="Low",$V18="Uneven",$W18="Low",$W18="High",$Y18="Overdue",$Y18="Due Soon"),"Attention","OK"))))) | AA18: =IF($A18="","",IF($J18<>"Mounted","No action",IF($U18="Critical","Inspect immediately and follow fleet removal policy",IF($W18="Low","Correct pressure and inspect",IF($W18="High","Correct pressure",IF($V18="Uneven","Inspect alignment, suspension, and rotation",IF($U18="Low","Schedule tire service",IF($Y18="Overdue","Complete inspection",IF($Y18="Due Soon","Schedule inspection","No action"))))))))) | AB18: =IF($A18="","",IF(OR($J18<>"Mounted",$Z18="OK",$Z18="N/A"),"",IF($U18="Critical",1,IF(OR($W18="Low",$W18="High"),2,IF(OR($U18="Low",$V18="Uneven"),3,IF($Y18="Overdue",4,5)))))) | AC18: =IF($A18="","",IF($AB18="","",IFERROR($AB18*100000+ROW(),"")))
L19: =IF($A19="","",IF(COUNTIFS('Tire Inspections'!$E$5:$E$1004,$A19,'Tire Inspections'!$Y$5:$Y$1004,"OK")=0,"",IFERROR(MAXIFS('Tire Inspections'!$B$5:$B$1004,'Tire Inspections'!$E$5:$E$1004,$A19,'Tire Inspections'!$Y$5:$Y$1004,"OK"),""))) | M19: =IF($A19="","",IF($L19="","",IFERROR(LOOKUP(2,1/(('Tire Inspections'!$E$5:$E$1004=$A19)*('Tire Inspections'!$B$5:$B$1004=$L19)*('Tire Inspections'!$Y$5:$Y$1004="OK")),'Tire Inspections'!$C$5:$C$1004),""))) | N19: =IF($A19="","",IF($L19="","",IFERROR(LOOKUP(2,1/(('Tire Inspections'!$E$5:$E$1004=$A19)*('Tire Inspections'!$B$5:$B$1004=$L19)*('Tire Inspections'!$Y$5:$Y$1004="OK")),'Tire Inspections'!$F$5:$F$1004),""))) | O19: =IF($A19="","",IF($L19="","",IFERROR(LOOKUP(2,1/(('Tire Inspections'!$E$5:$E$1004=$A19)*('Tire Inspections'!$B$5:$B$1004=$L19)*('Tire Inspections'!$Y$5:$Y$1004="OK")),'Tire Inspections'!$P$5:$P$1004),""))) | P19: =IF($A19="","",IF($L19="","",IFERROR(LOOKUP(2,1/(('Tire Inspections'!$E$5:$E$1004=$A19)*('Tire Inspections'!$B$5:$B$1004=$L19)*('Tire Inspections'!$Y$5:$Y$1004="OK")),'Tire Inspections'!$D$5:$D$1004),""))) | Q19: =IF($A19="","",IF($L19="","",IFERROR(LOOKUP(2,1/(('Tire Inspections'!$E$5:$E$1004=$A19)*('Tire Inspections'!$B$5:$B$1004=$L19)*('Tire Inspections'!$Y$5:$Y$1004="OK")),'Tire Inspections'!$R$5:$R$1004),""))) | R19: =IF($A19="","",IF($L19="","",IFERROR(LOOKUP(2,1/(('Tire Inspections'!$E$5:$E$1004=$A19)*('Tire Inspections'!$B$5:$B$1004=$L19)*('Tire Inspections'!$Y$5:$Y$1004="OK")),'Tire Inspections'!$S$5:$S$1004),""))) | S19: =IF($A19="","",IF($L19="","",IFERROR(LOOKUP(2,1/(('Tire Inspections'!$E$5:$E$1004=$A19)*('Tire Inspections'!$B$5:$B$1004=$L19)*('Tire Inspections'!$Y$5:$Y$1004="OK")),'Tire Inspections'!$L$5:$L$1004),""))) | T19: =IF($A19="","",IF(OR($Q19="",$H19=""),"",IFERROR(MAX(0,MIN(1,($Q19-'Settings'!$B$6)/($H19-'Settings'!$B$6))),""))) | U19: =IF($A19="","",IF($Q19="","No Data",IF($Q19<='Settings'!$B$6,"Critical",IF($Q19<='Settings'!$B$5,"Low","OK")))) | V19: =IF($A19="","",IF($R19="","No Data",IF($R19>='Settings'!$B$7,"Uneven","OK"))) | W19: =IF($A19="","",IF($J19<>"Mounted","N/A",IF(OR($S19="",$I19=""),"No Data",IF($S19<$I19-'Settings'!$B$8,"Low",IF($S19>$I19+'Settings'!$B$8,"High","OK"))))) | X19: =IF($A19="","",IF(OR($J19<>"Mounted",$L19=""),"",IFERROR($L19+'Settings'!$B$9,""))) | Y19: =IF($A19="","",IF($J19<>"Mounted","N/A",IF($L19="","No Data",IF(TODAY()>$X19,"Overdue",IF(TODAY()+'Settings'!$B$10>=$X19,"Due Soon","Current"))))) | Z19: =IF($A19="","",IF($J19<>"Mounted","N/A",IF(OR($U19="No Data",$W19="No Data"),"No Data",IF($U19="Critical","Critical",IF(OR($U19="Low",$V19="Uneven",$W19="Low",$W19="High",$Y19="Overdue",$Y19="Due Soon"),"Attention","OK"))))) | AA19: =IF($A19="","",IF($J19<>"Mounted","No action",IF($U19="Critical","Inspect immediately and follow fleet removal policy",IF($W19="Low","Correct pressure and inspect",IF($W19="High","Correct pressure",IF($V19="Uneven","Inspect alignment, suspension, and rotation",IF($U19="Low","Schedule tire service",IF($Y19="Overdue","Complete inspection",IF($Y19="Due Soon","Schedule inspection","No action"))))))))) | AB19: =IF($A19="","",IF(OR($J19<>"Mounted",$Z19="OK",$Z19="N/A"),"",IF($U19="Critical",1,IF(OR($W19="Low",$W19="High"),2,IF(OR($U19="Low",$V19="Uneven"),3,IF($Y19="Overdue",4,5)))))) | AC19: =IF($A19="","",IF($AB19="","",IFERROR($AB19*100000+ROW(),"")))
L20: =IF($A20="","",IF(COUNTIFS('Tire Inspections'!$E$5:$E$1004,$A20,'Tire Inspections'!$Y$5:$Y$1004,"OK")=0,"",IFERROR(MAXIFS('Tire Inspections'!$B$5:$B$1004,'Tire Inspections'!$E$5:$E$1004,$A20,'Tire Inspections'!$Y$5:$Y$1004,"OK"),""))) | M20: =IF($A20="","",IF($L20="","",IFERROR(LOOKUP(2,1/(('Tire Inspections'!$E$5:$E$1004=$A20)*('Tire Inspections'!$B$5:$B$1004=$L20)*('Tire Inspections'!$Y$5:$Y$1004="OK")),'Tire Inspections'!$C$5:$C$1004),""))) | N20: =IF($A20="","",IF($L20="","",IFERROR(LOOKUP(2,1/(('Tire Inspections'!$E$5:$E$1004=$A20)*('Tire Inspections'!$B$5:$B$1004=$L20)*('Tire Inspections'!$Y$5:$Y$1004="OK")),'Tire Inspections'!$F$5:$F$1004),""))) | O20: =IF($A20="","",IF($L20="","",IFERROR(LOOKUP(2,1/(('Tire Inspections'!$E$5:$E$1004=$A20)*('Tire Inspections'!$B$5:$B$1004=$L20)*('Tire Inspections'!$Y$5:$Y$1004="OK")),'Tire Inspections'!$P$5:$P$1004),""))) | P20: =IF($A20="","",IF($L20="","",IFERROR(LOOKUP(2,1/(('Tire Inspections'!$E$5:$E$1004=$A20)*('Tire Inspections'!$B$5:$B$1004=$L20)*('Tire Inspections'!$Y$5:$Y$1004="OK")),'Tire Inspections'!$D$5:$D$1004),""))) | Q20: =IF($A20="","",IF($L20="","",IFERROR(LOOKUP(2,1/(('Tire Inspections'!$E$5:$E$1004=$A20)*('Tire Inspections'!$B$5:$B$1004=$L20)*('Tire Inspections'!$Y$5:$Y$1004="OK")),'Tire Inspections'!$R$5:$R$1004),""))) | R20: =IF($A20="","",IF($L20="","",IFERROR(LOOKUP(2,1/(('Tire Inspections'!$E$5:$E$1004=$A20)*('Tire Inspections'!$B$5:$B$1004=$L20)*('Tire Inspections'!$Y$5:$Y$1004="OK")),'Tire Inspections'!$S$5:$S$1004),""))) | S20: =IF($A20="","",IF($L20="","",IFERROR(LOOKUP(2,1/(('Tire Inspections'!$E$5:$E$1004=$A20)*('Tire Inspections'!$B$5:$B$1004=$L20)*('Tire Inspections'!$Y$5:$Y$1004="OK")),'Tire Inspections'!$L$5:$L$1004),""))) | T20: =IF($A20="","",IF(OR($Q20="",$H20=""),"",IFERROR(MAX(0,MIN(1,($Q20-'Settings'!$B$6)/($H20-'Settings'!$B$6))),""))) | U20: =IF($A20="","",IF($Q20="","No Data",IF($Q20<='Settings'!$B$6,"Critical",IF($Q20<='Settings'!$B$5,"Low","OK")))) | V20: =IF($A20="","",IF($R20="","No Data",IF($R20>='Settings'!$B$7,"Uneven","OK"))) | W20: =IF($A20="","",IF($J20<>"Mounted","N/A",IF(OR($S20="",$I20=""),"No Data",IF($S20<$I20-'Settings'!$B$8,"Low",IF($S20>$I20+'Settings'!$B$8,"High","OK"))))) | X20: =IF($A20="","",IF(OR($J20<>"Mounted",$L20=""),"",IFERROR($L20+'Settings'!$B$9,""))) | Y20: =IF($A20="","",IF($J20<>"Mounted","N/A",IF($L20="","No Data",IF(TODAY()>$X20,"Overdue",IF(TODAY()+'Settings'!$B$10>=$X20,"Due Soon","Current"))))) | Z20: =IF($A20="","",IF($J20<>"Mounted","N/A",IF(OR($U20="No Data",$W20="No Data"),"No Data",IF($U20="Critical","Critical",IF(OR($U20="Low",$V20="Uneven",$W20="Low",$W20="High",$Y20="Overdue",$Y20="Due Soon"),"Attention","OK"))))) | AA20: =IF($A20="","",IF($J20<>"Mounted","No action",IF($U20="Critical","Inspect immediately and follow fleet removal policy",IF($W20="Low","Correct pressure and inspect",IF($W20="High","Correct pressure",IF($V20="Uneven","Inspect alignment, suspension, and rotation",IF($U20="Low","Schedule tire service",IF($Y20="Overdue","Complete inspection",IF($Y20="Due Soon","Schedule inspection","No action"))))))))) | AB20: =IF($A20="","",IF(OR($J20<>"Mounted",$Z20="OK",$Z20="N/A"),"",IF($U20="Critical",1,IF(OR($W20="Low",$W20="High"),2,IF(OR($U20="Low",$V20="Uneven"),3,IF($Y20="Overdue",4,5)))))) | AC20: =IF($A20="","",IF($AB20="","",IFERROR($AB20*100000+ROW(),"")))
L21: =IF($A21="","",IF(COUNTIFS('Tire Inspections'!$E$5:$E$1004,$A21,'Tire Inspections'!$Y$5:$Y$1004,"OK")=0,"",IFERROR(MAXIFS('Tire Inspections'!$B$5:$B$1004,'Tire Inspections'!$E$5:$E$1004,$A21,'Tire Inspections'!$Y$5:$Y$1004,"OK"),""))) | M21: =IF($A21="","",IF($L21="","",IFERROR(LOOKUP(2,1/(('Tire Inspections'!$E$5:$E$1004=$A21)*('Tire Inspections'!$B$5:$B$1004=$L21)*('Tire Inspections'!$Y$5:$Y$1004="OK")),'Tire Inspections'!$C$5:$C$1004),""))) | N21: =IF($A21="","",IF($L21="","",IFERROR(LOOKUP(2,1/(('Tire Inspections'!$E$5:$E$1004=$A21)*('Tire Inspections'!$B$5:$B$1004=$L21)*('Tire Inspections'!$Y$5:$Y$1004="OK")),'Tire Inspections'!$F$5:$F$1004),""))) | O21: =IF($A21="","",IF($L21="","",IFERROR(LOOKUP(2,1/(('Tire Inspections'!$E$5:$E$1004=$A21)*('Tire Inspections'!$B$5:$B$1004=$L21)*('Tire Inspections'!$Y$5:$Y$1004="OK")),'Tire Inspections'!$P$5:$P$1004),""))) | P21: =IF($A21="","",IF($L21="","",IFERROR(LOOKUP(2,1/(('Tire Inspections'!$E$5:$E$1004=$A21)*('Tire Inspections'!$B$5:$B$1004=$L21)*('Tire Inspections'!$Y$5:$Y$1004="OK")),'Tire Inspections'!$D$5:$D$1004),""))) | Q21: =IF($A21="","",IF($L21="","",IFERROR(LOOKUP(2,1/(('Tire Inspections'!$E$5:$E$1004=$A21)*('Tire Inspections'!$B$5:$B$1004=$L21)*('Tire Inspections'!$Y$5:$Y$1004="OK")),'Tire Inspections'!$R$5:$R$1004),""))) | R21: =IF($A21="","",IF($L21="","",IFERROR(LOOKUP(2,1/(('Tire Inspections'!$E$5:$E$1004=$A21)*('Tire Inspections'!$B$5:$B$1004=$L21)*('Tire Inspections'!$Y$5:$Y$1004="OK")),'Tire Inspections'!$S$5:$S$1004),""))) | S21: =IF($A21="","",IF($L21="","",IFERROR(LOOKUP(2,1/(('Tire Inspections'!$E$5:$E$1004=$A21)*('Tire Inspections'!$B$5:$B$1004=$L21)*('Tire Inspections'!$Y$5:$Y$1004="OK")),'Tire Inspections'!$L$5:$L$1004),""))) | T21: =IF($A21="","",IF(OR($Q21="",$H21=""),"",IFERROR(MAX(0,MIN(1,($Q21-'Settings'!$B$6)/($H21-'Settings'!$B$6))),""))) | U21: =IF($A21="","",IF($Q21="","No Data",IF($Q21<='Settings'!$B$6,"Critical",IF($Q21<='Settings'!$B$5,"Low","OK")))) | V21: =IF($A21="","",IF($R21="","No Data",IF($R21>='Settings'!$B$7,"Uneven","OK"))) | W21: =IF($A21="","",IF($J21<>"Mounted","N/A",IF(OR($S21="",$I21=""),"No Data",IF($S21<$I21-'Settings'!$B$8,"Low",IF($S21>$I21+'Settings'!$B$8,"High","OK"))))) | X21: =IF($A21="","",IF(OR($J21<>"Mounted",$L21=""),"",IFERROR($L21+'Settings'!$B$9,""))) | Y21: =IF($A21="","",IF($J21<>"Mounted","N/A",IF($L21="","No Data",IF(TODAY()>$X21,"Overdue",IF(TODAY()+'Settings'!$B$10>=$X21,"Due Soon","Current"))))) | Z21: =IF($A21="","",IF($J21<>"Mounted","N/A",IF(OR($U21="No Data",$W21="No Data"),"No Data",IF($U21="Critical","Critical",IF(OR($U21="Low",$V21="Uneven",$W21="Low",$W21="High",$Y21="Overdue",$Y21="Due Soon"),"Attention","OK"))))) | AA21: =IF($A21="","",IF($J21<>"Mounted","No action",IF($U21="Critical","Inspect immediately and follow fleet removal policy",IF($W21="Low","Correct pressure and inspect",IF($W21="High","Correct pressure",IF($V21="Uneven","Inspect alignment, suspension, and rotation",IF($U21="Low","Schedule tire service",IF($Y21="Overdue","Complete inspection",IF($Y21="Due Soon","Schedule inspection","No action"))))))))) | AB21: =IF($A21="","",IF(OR($J21<>"Mounted",$Z21="OK",$Z21="N/A"),"",IF($U21="Critical",1,IF(OR($W21="Low",$W21="High"),2,IF(OR($U21="Low",$V21="Uneven"),3,IF($Y21="Overdue",4,5)))))) | AC21: =IF($A21="","",IF($AB21="","",IFERROR($AB21*100000+ROW(),"")))
L22: =IF($A22="","",IF(COUNTIFS('Tire Inspections'!$E$5:$E$1004,$A22,'Tire Inspections'!$Y$5:$Y$1004,"OK")=0,"",IFERROR(MAXIFS('Tire Inspections'!$B$5:$B$1004,'Tire Inspections'!$E$5:$E$1004,$A22,'Tire Inspections'!$Y$5:$Y$1004,"OK"),""))) | M22: =IF($A22="","",IF($L22="","",IFERROR(LOOKUP(2,1/(('Tire Inspections'!$E$5:$E$1004=$A22)*('Tire Inspections'!$B$5:$B$1004=$L22)*('Tire Inspections'!$Y$5:$Y$1004="OK")),'Tire Inspections'!$C$5:$C$1004),""))) | N22: =IF($A22="","",IF($L22="","",IFERROR(LOOKUP(2,1/(('Tire Inspections'!$E$5:$E$1004=$A22)*('Tire Inspections'!$B$5:$B$1004=$L22)*('Tire Inspections'!$Y$5:$Y$1004="OK")),'Tire Inspections'!$F$5:$F$1004),""))) | O22: =IF($A22="","",IF($L22="","",IFERROR(LOOKUP(2,1/(('Tire Inspections'!$E$5:$E$1004=$A22)*('Tire Inspections'!$B$5:$B$1004=$L22)*('Tire Inspections'!$Y$5:$Y$1004="OK")),'Tire Inspections'!$P$5:$P$1004),""))) | P22: =IF($A22="","",IF($L22="","",IFERROR(LOOKUP(2,1/(('Tire Inspections'!$E$5:$E$1004=$A22)*('Tire Inspections'!$B$5:$B$1004=$L22)*('Tire Inspections'!$Y$5:$Y$1004="OK")),'Tire Inspections'!$D$5:$D$1004),""))) | Q22: =IF($A22="","",IF($L22="","",IFERROR(LOOKUP(2,1/(('Tire Inspections'!$E$5:$E$1004=$A22)*('Tire Inspections'!$B$5:$B$1004=$L22)*('Tire Inspections'!$Y$5:$Y$1004="OK")),'Tire Inspections'!$R$5:$R$1004),""))) | R22: =IF($A22="","",IF($L22="","",IFERROR(LOOKUP(2,1/(('Tire Inspections'!$E$5:$E$1004=$A22)*('Tire Inspections'!$B$5:$B$1004=$L22)*('Tire Inspections'!$Y$5:$Y$1004="OK")),'Tire Inspections'!$S$5:$S$1004),""))) | S22: =IF($A22="","",IF($L22="","",IFERROR(LOOKUP(2,1/(('Tire Inspections'!$E$5:$E$1004=$A22)*('Tire Inspections'!$B$5:$B$1004=$L22)*('Tire Inspections'!$Y$5:$Y$1004="OK")),'Tire Inspections'!$L$5:$L$1004),""))) | T22: =IF($A22="","",IF(OR($Q22="",$H22=""),"",IFERROR(MAX(0,MIN(1,($Q22-'Settings'!$B$6)/($H22-'Settings'!$B$6))),""))) | U22: =IF($A22="","",IF($Q22="","No Data",IF($Q22<='Settings'!$B$6,"Critical",IF($Q22<='Settings'!$B$5,"Low","OK")))) | V22: =IF($A22="","",IF($R22="","No Data",IF($R22>='Settings'!$B$7,"Uneven","OK"))) | W22: =IF($A22="","",IF($J22<>"Mounted","N/A",IF(OR($S22="",$I22=""),"No Data",IF($S22<$I22-'Settings'!$B$8,"Low",IF($S22>$I22+'Settings'!$B$8,"High","OK"))))) | X22: =IF($A22="","",IF(OR($J22<>"Mounted",$L22=""),"",IFERROR($L22+'Settings'!$B$9,""))) | Y22: =IF($A22="","",IF($J22<>"Mounted","N/A",IF($L22="","No Data",IF(TODAY()>$X22,"Overdue",IF(TODAY()+'Settings'!$B$10>=$X22,"Due Soon","Current"))))) | Z22: =IF($A22="","",IF($J22<>"Mounted","N/A",IF(OR($U22="No Data",$W22="No Data"),"No Data",IF($U22="Critical","Critical",IF(OR($U22="Low",$V22="Uneven",$W22="Low",$W22="High",$Y22="Overdue",$Y22="Due Soon"),"Attention","OK"))))) | AA22: =IF($A22="","",IF($J22<>"Mounted","No action",IF($U22="Critical","Inspect immediately and follow fleet removal policy",IF($W22="Low","Correct pressure and inspect",IF($W22="High","Correct pressure",IF($V22="Uneven","Inspect alignment, suspension, and rotation",IF($U22="Low","Schedule tire service",IF($Y22="Overdue","Complete inspection",IF($Y22="Due Soon","Schedule inspection","No action"))))))))) | AB22: =IF($A22="","",IF(OR($J22<>"Mounted",$Z22="OK",$Z22="N/A"),"",IF($U22="Critical",1,IF(OR($W22="Low",$W22="High"),2,IF(OR($U22="Low",$V22="Uneven"),3,IF($Y22="Overdue",4,5)))))) | AC22: =IF($A22="","",IF($AB22="","",IFERROR($AB22*100000+ROW(),"")))
L23: =IF($A23="","",IF(COUNTIFS('Tire Inspections'!$E$5:$E$1004,$A23,'Tire Inspections'!$Y$5:$Y$1004,"OK")=0,"",IFERROR(MAXIFS('Tire Inspections'!$B$5:$B$1004,'Tire Inspections'!$E$5:$E$1004,$A23,'Tire Inspections'!$Y$5:$Y$1004,"OK"),""))) | M23: =IF($A23="","",IF($L23="","",IFERROR(LOOKUP(2,1/(('Tire Inspections'!$E$5:$E$1004=$A23)*('Tire Inspections'!$B$5:$B$1004=$L23)*('Tire Inspections'!$Y$5:$Y$1004="OK")),'Tire Inspections'!$C$5:$C$1004),""))) | N23: =IF($A23="","",IF($L23="","",IFERROR(LOOKUP(2,1/(('Tire Inspections'!$E$5:$E$1004=$A23)*('Tire Inspections'!$B$5:$B$1004=$L23)*('Tire Inspections'!$Y$5:$Y$1004="OK")),'Tire Inspections'!$F$5:$F$1004),""))) | O23: =IF($A23="","",IF($L23="","",IFERROR(LOOKUP(2,1/(('Tire Inspections'!$E$5:$E$1004=$A23)*('Tire Inspections'!$B$5:$B$1004=$L23)*('Tire Inspections'!$Y$5:$Y$1004="OK")),'Tire Inspections'!$P$5:$P$1004),""))) | P23: =IF($A23="","",IF($L23="","",IFERROR(LOOKUP(2,1/(('Tire Inspections'!$E$5:$E$1004=$A23)*('Tire Inspections'!$B$5:$B$1004=$L23)*('Tire Inspections'!$Y$5:$Y$1004="OK")),'Tire Inspections'!$D$5:$D$1004),""))) | Q23: =IF($A23="","",IF($L23="","",IFERROR(LOOKUP(2,1/(('Tire Inspections'!$E$5:$E$1004=$A23)*('Tire Inspections'!$B$5:$B$1004=$L23)*('Tire Inspections'!$Y$5:$Y$1004="OK")),'Tire Inspections'!$R$5:$R$1004),""))) | R23: =IF($A23="","",IF($L23="","",IFERROR(LOOKUP(2,1/(('Tire Inspections'!$E$5:$E$1004=$A23)*('Tire Inspections'!$B$5:$B$1004=$L23)*('Tire Inspections'!$Y$5:$Y$1004="OK")),'Tire Inspections'!$S$5:$S$1004),""))) | S23: =IF($A23="","",IF($L23="","",IFERROR(LOOKUP(2,1/(('Tire Inspections'!$E$5:$E$1004=$A23)*('Tire Inspections'!$B$5:$B$1004=$L23)*('Tire Inspections'!$Y$5:$Y$1004="OK")),'Tire Inspections'!$L$5:$L$1004),""))) | T23: =IF($A23="","",IF(OR($Q23="",$H23=""),"",IFERROR(MAX(0,MIN(1,($Q23-'Settings'!$B$6)/($H23-'Settings'!$B$6))),""))) | U23: =IF($A23="","",IF($Q23="","No Data",IF($Q23<='Settings'!$B$6,"Critical",IF($Q23<='Settings'!$B$5,"Low","OK")))) | V23: =IF($A23="","",IF($R23="","No Data",IF($R23>='Settings'!$B$7,"Uneven","OK"))) | W23: =IF($A23="","",IF($J23<>"Mounted","N/A",IF(OR($S23="",$I23=""),"No Data",IF($S23<$I23-'Settings'!$B$8,"Low",IF($S23>$I23+'Settings'!$B$8,"High","OK"))))) | X23: =IF($A23="","",IF(OR($J23<>"Mounted",$L23=""),"",IFERROR($L23+'Settings'!$B$9,""))) | Y23: =IF($A23="","",IF($J23<>"Mounted","N/A",IF($L23="","No Data",IF(TODAY()>$X23,"Overdue",IF(TODAY()+'Settings'!$B$10>=$X23,"Due Soon","Current"))))) | Z23: =IF($A23="","",IF($J23<>"Mounted","N/A",IF(OR($U23="No Data",$W23="No Data"),"No Data",IF($U23="Critical","Critical",IF(OR($U23="Low",$V23="Uneven",$W23="Low",$W23="High",$Y23="Overdue",$Y23="Due Soon"),"Attention","OK"))))) | AA23: =IF($A23="","",IF($J23<>"Mounted","No action",IF($U23="Critical","Inspect immediately and follow fleet removal policy",IF($W23="Low","Correct pressure and inspect",IF($W23="High","Correct pressure",IF($V23="Uneven","Inspect alignment, suspension, and rotation",IF($U23="Low","Schedule tire service",IF($Y23="Overdue","Complete inspection",IF($Y23="Due Soon","Schedule inspection","No action"))))))))) | AB23: =IF($A23="","",IF(OR($J23<>"Mounted",$Z23="OK",$Z23="N/A"),"",IF($U23="Critical",1,IF(OR($W23="Low",$W23="High"),2,IF(OR($U23="Low",$V23="Uneven"),3,IF($Y23="Overdue",4,5)))))) | AC23: =IF($A23="","",IF($AB23="","",IFERROR($AB23*100000+ROW(),"")))
L24: =IF($A24="","",IF(COUNTIFS('Tire Inspections'!$E$5:$E$1004,$A24,'Tire Inspections'!$Y$5:$Y$1004,"OK")=0,"",IFERROR(MAXIFS('Tire Inspections'!$B$5:$B$1004,'Tire Inspections'!$E$5:$E$1004,$A24,'Tire Inspections'!$Y$5:$Y$1004,"OK"),""))) | M24: =IF($A24="","",IF($L24="","",IFERROR(LOOKUP(2,1/(('Tire Inspections'!$E$5:$E$1004=$A24)*('Tire Inspections'!$B$5:$B$1004=$L24)*('Tire Inspections'!$Y$5:$Y$1004="OK")),'Tire Inspections'!$C$5:$C$1004),""))) | N24: =IF($A24="","",IF($L24="","",IFERROR(LOOKUP(2,1/(('Tire Inspections'!$E$5:$E$1004=$A24)*('Tire Inspections'!$B$5:$B$1004=$L24)*('Tire Inspections'!$Y$5:$Y$1004="OK")),'Tire Inspections'!$F$5:$F$1004),""))) | O24: =IF($A24="","",IF($L24="","",IFERROR(LOOKUP(2,1/(('Tire Inspections'!$E$5:$E$1004=$A24)*('Tire Inspections'!$B$5:$B$1004=$L24)*('Tire Inspections'!$Y$5:$Y$1004="OK")),'Tire Inspections'!$P$5:$P$1004),""))) | P24: =IF($A24="","",IF($L24="","",IFERROR(LOOKUP(2,1/(('Tire Inspections'!$E$5:$E$1004=$A24)*('Tire Inspections'!$B$5:$B$1004=$L24)*('Tire Inspections'!$Y$5:$Y$1004="OK")),'Tire Inspections'!$D$5:$D$1004),""))) | Q24: =IF($A24="","",IF($L24="","",IFERROR(LOOKUP(2,1/(('Tire Inspections'!$E$5:$E$1004=$A24)*('Tire Inspections'!$B$5:$B$1004=$L24)*('Tire Inspections'!$Y$5:$Y$1004="OK")),'Tire Inspections'!$R$5:$R$1004),""))) | R24: =IF($A24="","",IF($L24="","",IFERROR(LOOKUP(2,1/(('Tire Inspections'!$E$5:$E$1004=$A24)*('Tire Inspections'!$B$5:$B$1004=$L24)*('Tire Inspections'!$Y$5:$Y$1004="OK")),'Tire Inspections'!$S$5:$S$1004),""))) | S24: =IF($A24="","",IF($L24="","",IFERROR(LOOKUP(2,1/(('Tire Inspections'!$E$5:$E$1004=$A24)*('Tire Inspections'!$B$5:$B$1004=$L24)*('Tire Inspections'!$Y$5:$Y$1004="OK")),'Tire Inspections'!$L$5:$L$1004),""))) | T24: =IF($A24="","",IF(OR($Q24="",$H24=""),"",IFERROR(MAX(0,MIN(1,($Q24-'Settings'!$B$6)/($H24-'Settings'!$B$6))),""))) | U24: =IF($A24="","",IF($Q24="","No Data",IF($Q24<='Settings'!$B$6,"Critical",IF($Q24<='Settings'!$B$5,"Low","OK")))) | V24: =IF($A24="","",IF($R24="","No Data",IF($R24>='Settings'!$B$7,"Uneven","OK"))) | W24: =IF($A24="","",IF($J24<>"Mounted","N/A",IF(OR($S24="",$I24=""),"No Data",IF($S24<$I24-'Settings'!$B$8,"Low",IF($S24>$I24+'Settings'!$B$8,"High","OK"))))) | X24: =IF($A24="","",IF(OR($J24<>"Mounted",$L24=""),"",IFERROR($L24+'Settings'!$B$9,""))) | Y24: =IF($A24="","",IF($J24<>"Mounted","N/A",IF($L24="","No Data",IF(TODAY()>$X24,"Overdue",IF(TODAY()+'Settings'!$B$10>=$X24,"Due Soon","Current"))))) | Z24: =IF($A24="","",IF($J24<>"Mounted","N/A",IF(OR($U24="No Data",$W24="No Data"),"No Data",IF($U24="Critical","Critical",IF(OR($U24="Low",$V24="Uneven",$W24="Low",$W24="High",$Y24="Overdue",$Y24="Due Soon"),"Attention","OK"))))) | AA24: =IF($A24="","",IF($J24<>"Mounted","No action",IF($U24="Critical","Inspect immediately and follow fleet removal policy",IF($W24="Low","Correct pressure and inspect",IF($W24="High","Correct pressure",IF($V24="Uneven","Inspect alignment, suspension, and rotation",IF($U24="Low","Schedule tire service",IF($Y24="Overdue","Complete inspection",IF($Y24="Due Soon","Schedule inspection","No action"))))))))) | AB24: =IF($A24="","",IF(OR($J24<>"Mounted",$Z24="OK",$Z24="N/A"),"",IF($U24="Critical",1,IF(OR($W24="Low",$W24="High"),2,IF(OR($U24="Low",$V24="Uneven"),3,IF($Y24="Overdue",4,5)))))) | AC24: =IF($A24="","",IF($AB24="","",IFERROR($AB24*100000+ROW(),"")))
L25: =IF($A25="","",IF(COUNTIFS('Tire Inspections'!$E$5:$E$1004,$A25,'Tire Inspections'!$Y$5:$Y$1004,"OK")=0,"",IFERROR(MAXIFS('Tire Inspections'!$B$5:$B$1004,'Tire Inspections'!$E$5:$E$1004,$A25,'Tire Inspections'!$Y$5:$Y$1004,"OK"),""))) | M25: =IF($A25="","",IF($L25="","",IFERROR(LOOKUP(2,1/(('Tire Inspections'!$E$5:$E$1004=$A25)*('Tire Inspections'!$B$5:$B$1004=$L25)*('Tire Inspections'!$Y$5:$Y$1004="OK")),'Tire Inspections'!$C$5:$C$1004),""))) | N25: =IF($A25="","",IF($L25="","",IFERROR(LOOKUP(2,1/(('Tire Inspections'!$E$5:$E$1004=$A25)*('Tire Inspections'!$B$5:$B$1004=$L25)*('Tire Inspections'!$Y$5:$Y$1004="OK")),'Tire Inspections'!$F$5:$F$1004),""))) | O25: =IF($A25="","",IF($L25="","",IFERROR(LOOKUP(2,1/(('Tire Inspections'!$E$5:$E$1004=$A25)*('Tire Inspections'!$B$5:$B$1004=$L25)*('Tire Inspections'!$Y$5:$Y$1004="OK")),'Tire Inspections'!$P$5:$P$1004),""))) | P25: =IF($A25="","",IF($L25="","",IFERROR(LOOKUP(2,1/(('Tire Inspections'!$E$5:$E$1004=$A25)*('Tire Inspections'!$B$5:$B$1004=$L25)*('Tire Inspections'!$Y$5:$Y$1004="OK")),'Tire Inspections'!$D$5:$D$1004),""))) | Q25: =IF($A25="","",IF($L25="","",IFERROR(LOOKUP(2,1/(('Tire Inspections'!$E$5:$E$1004=$A25)*('Tire Inspections'!$B$5:$B$1004=$L25)*('Tire Inspections'!$Y$5:$Y$1004="OK")),'Tire Inspections'!$R$5:$R$1004),""))) | R25: =IF($A25="","",IF($L25="","",IFERROR(LOOKUP(2,1/(('Tire Inspections'!$E$5:$E$1004=$A25)*('Tire Inspections'!$B$5:$B$1004=$L25)*('Tire Inspections'!$Y$5:$Y$1004="OK")),'Tire Inspections'!$S$5:$S$1004),""))) | S25: =IF($A25="","",IF($L25="","",IFERROR(LOOKUP(2,1/(('Tire Inspections'!$E$5:$E$1004=$A25)*('Tire Inspections'!$B$5:$B$1004=$L25)*('Tire Inspections'!$Y$5:$Y$1004="OK")),'Tire Inspections'!$L$5:$L$1004),""))) | T25: =IF($A25="","",IF(OR($Q25="",$H25=""),"",IFERROR(MAX(0,MIN(1,($Q25-'Settings'!$B$6)/($H25-'Settings'!$B$6))),""))) | U25: =IF($A25="","",IF($Q25="","No Data",IF($Q25<='Settings'!$B$6,"Critical",IF($Q25<='Settings'!$B$5,"Low","OK")))) | V25: =IF($A25="","",IF($R25="","No Data",IF($R25>='Settings'!$B$7,"Uneven","OK"))) | W25: =IF($A25="","",IF($J25<>"Mounted","N/A",IF(OR($S25="",$I25=""),"No Data",IF($S25<$I25-'Settings'!$B$8,"Low",IF($S25>$I25+'Settings'!$B$8,"High","OK"))))) | X25: =IF($A25="","",IF(OR($J25<>"Mounted",$L25=""),"",IFERROR($L25+'Settings'!$B$9,""))) | Y25: =IF($A25="","",IF($J25<>"Mounted","N/A",IF($L25="","No Data",IF(TODAY()>$X25,"Overdue",IF(TODAY()+'Settings'!$B$10>=$X25,"Due Soon","Current"))))) | Z25: =IF($A25="","",IF($J25<>"Mounted","N/A",IF(OR($U25="No Data",$W25="No Data"),"No Data",IF($U25="Critical","Critical",IF(OR($U25="Low",$V25="Uneven",$W25="Low",$W25="High",$Y25="Overdue",$Y25="Due Soon"),"Attention","OK"))))) | AA25: =IF($A25="","",IF($J25<>"Mounted","No action",IF($U25="Critical","Inspect immediately and follow fleet removal policy",IF($W25="Low","Correct pressure and inspect",IF($W25="High","Correct pressure",IF($V25="Uneven","Inspect alignment, suspension, and rotation",IF($U25="Low","Schedule tire service",IF($Y25="Overdue","Complete inspection",IF($Y25="Due Soon","Schedule inspection","No action"))))))))) | AB25: =IF($A25="","",IF(OR($J25<>"Mounted",$Z25="OK",$Z25="N/A"),"",IF($U25="Critical",1,IF(OR($W25="Low",$W25="High"),2,IF(OR($U25="Low",$V25="Uneven"),3,IF($Y25="Overdue",4,5)))))) | AC25: =IF($A25="","",IF($AB25="","",IFERROR($AB25*100000+ROW(),"")))
L26: =IF($A26="","",IF(COUNTIFS('Tire Inspections'!$E$5:$E$1004,$A26,'Tire Inspections'!$Y$5:$Y$1004,"OK")=0,"",IFERROR(MAXIFS('Tire Inspections'!$B$5:$B$1004,'Tire Inspections'!$E$5:$E$1004,$A26,'Tire Inspections'!$Y$5:$Y$1004,"OK"),""))) | M26: =IF($A26="","",IF($L26="","",IFERROR(LOOKUP(2,1/(('Tire Inspections'!$E$5:$E$1004=$A26)*('Tire Inspections'!$B$5:$B$1004=$L26)*('Tire Inspections'!$Y$5:$Y$1004="OK")),'Tire Inspections'!$C$5:$C$1004),""))) | N26: =IF($A26="","",IF($L26="","",IFERROR(LOOKUP(2,1/(('Tire Inspections'!$E$5:$E$1004=$A26)*('Tire Inspections'!$B$5:$B$1004=$L26)*('Tire Inspections'!$Y$5:$Y$1004="OK")),'Tire Inspections'!$F$5:$F$1004),""))) | O26: =IF($A26="","",IF($L26="","",IFERROR(LOOKUP(2,1/(('Tire Inspections'!$E$5:$E$1004=$A26)*('Tire Inspections'!$B$5:$B$1004=$L26)*('Tire Inspections'!$Y$5:$Y$1004="OK")),'Tire Inspections'!$P$5:$P$1004),""))) | P26: =IF($A26="","",IF($L26="","",IFERROR(LOOKUP(2,1/(('Tire Inspections'!$E$5:$E$1004=$A26)*('Tire Inspections'!$B$5:$B$1004=$L26)*('Tire Inspections'!$Y$5:$Y$1004="OK")),'Tire Inspections'!$D$5:$D$1004),""))) | Q26: =IF($A26="","",IF($L26="","",IFERROR(LOOKUP(2,1/(('Tire Inspections'!$E$5:$E$1004=$A26)*('Tire Inspections'!$B$5:$B$1004=$L26)*('Tire Inspections'!$Y$5:$Y$1004="OK")),'Tire Inspections'!$R$5:$R$1004),""))) | R26: =IF($A26="","",IF($L26="","",IFERROR(LOOKUP(2,1/(('Tire Inspections'!$E$5:$E$1004=$A26)*('Tire Inspections'!$B$5:$B$1004=$L26)*('Tire Inspections'!$Y$5:$Y$1004="OK")),'Tire Inspections'!$S$5:$S$1004),""))) | S26: =IF($A26="","",IF($L26="","",IFERROR(LOOKUP(2,1/(('Tire Inspections'!$E$5:$E$1004=$A26)*('Tire Inspections'!$B$5:$B$1004=$L26)*('Tire Inspections'!$Y$5:$Y$1004="OK")),'Tire Inspections'!$L$5:$L$1004),""))) | T26: =IF($A26="","",IF(OR($Q26="",$H26=""),"",IFERROR(MAX(0,MIN(1,($Q26-'Settings'!$B$6)/($H26-'Settings'!$B$6))),""))) | U26: =IF($A26="","",IF($Q26="","No Data",IF($Q26<='Settings'!$B$6,"Critical",IF($Q26<='Settings'!$B$5,"Low","OK")))) | V26: =IF($A26="","",IF($R26="","No Data",IF($R26>='Settings'!$B$7,"Uneven","OK"))) | W26: =IF($A26="","",IF($J26<>"Mounted","N/A",IF(OR($S26="",$I26=""),"No Data",IF($S26<$I26-'Settings'!$B$8,"Low",IF($S26>$I26+'Settings'!$B$8,"High","OK"))))) | X26: =IF($A26="","",IF(OR($J26<>"Mounted",$L26=""),"",IFERROR($L26+'Settings'!$B$9,""))) | Y26: =IF($A26="","",IF($J26<>"Mounted","N/A",IF($L26="","No Data",IF(TODAY()>$X26,"Overdue",IF(TODAY()+'Settings'!$B$10>=$X26,"Due Soon","Current"))))) | Z26: =IF($A26="","",IF($J26<>"Mounted","N/A",IF(OR($U26="No Data",$W26="No Data"),"No Data",IF($U26="Critical","Critical",IF(OR($U26="Low",$V26="Uneven",$W26="Low",$W26="High",$Y26="Overdue",$Y26="Due Soon"),"Attention","OK"))))) | AA26: =IF($A26="","",IF($J26<>"Mounted","No action",IF($U26="Critical","Inspect immediately and follow fleet removal policy",IF($W26="Low","Correct pressure and inspect",IF($W26="High","Correct pressure",IF($V26="Uneven","Inspect alignment, suspension, and rotation",IF($U26="Low","Schedule tire service",IF($Y26="Overdue","Complete inspection",IF($Y26="Due Soon","Schedule inspection","No action"))))))))) | AB26: =IF($A26="","",IF(OR($J26<>"Mounted",$Z26="OK",$Z26="N/A"),"",IF($U26="Critical",1,IF(OR($W26="Low",$W26="High"),2,IF(OR($U26="Low",$V26="Uneven"),3,IF($Y26="Overdue",4,5)))))) | AC26: =IF($A26="","",IF($AB26="","",IFERROR($AB26*100000+ROW(),"")))
... L1004: =IF($A1004="","",IF(COUNTIFS('Tire Inspections'!$E$5:$E$1004,$A1004,'Tire Inspections'!$Y$5:$Y$1004,"OK")=0,"",IFERROR(MAXIFS('Tire Inspections'!$B$5:$B$1004,'Tire Inspections'!$E$5:$E$1004,$A1004,'Tire Inspections'!$Y$5:$Y$1004,"OK"),""))) | M1004: =IF($A1004="","",IF($L1004="","",IFERROR(LOOKUP(2,1/(('Tire Inspections'!$E$5:$E$1004=$A1004)*('Tire Inspections'!$B$5:$B$1004=$L1004)*('Tire Inspections'!$Y$5:$Y$1004="OK")),'Tire Inspections'!$C$5:$C$1004),""))) | N1004: =IF($A1004="","",IF($L1004="","",IFERROR(LOOKUP(2,1/(('Tire Inspections'!$E$5:$E$1004=$A1004)*('Tire Inspections'!$B$5:$B$1004=$L1004)*('Tire Inspections'!$Y$5:$Y$1004="OK")),'Tire Inspections'!$F$5:$F$1004),""))) | O1004: =IF($A1004="","",IF($L1004="","",IFERROR(LOOKUP(2,1/(('Tire Inspections'!$E$5:$E$1004=$A1004)*('Tire Inspections'!$B$5:$B$1004=$L1004)*('Tire Inspections'!$Y$5:$Y$1004="OK")),'Tire Inspections'!$P$5:$P$1004),""))) | P1004: =IF($A1004="","",IF($L1004="","",IFERROR(LOOKUP(2,1/(('Tire Inspections'!$E$5:$E$1004=$A1004)*('Tire Inspections'!$B$5:$B$1004=$L1004)*('Tire Inspections'!$Y$5:$Y$1004="OK")),'Tire Inspections'!$D$5:$D$1004),""))) | Q1004: =IF($A1004="","",IF($L1004="","",IFERROR(LOOKUP(2,1/(('Tire Inspections'!$E$5:$E$1004=$A1004)*('Tire Inspections'!$B$5:$B$1004=$L1004)*('Tire Inspections'!$Y$5:$Y$1004="OK")),'Tire Inspections'!$R$5:$R$1004),""))) | R1004: =IF($A1004="","",IF($L1004="","",IFERROR(LOOKUP(2,1/(('Tire Inspections'!$E$5:$E$1004=$A1004)*('Tire Inspections'!$B$5:$B$1004=$L1004)*('Tire Inspections'!$Y$5:$Y$1004="OK")),'Tire Inspections'!$S$5:$S$1004),""))) | S1004: =IF($A1004="","",IF($L1004="","",IFERROR(LOOKUP(2,1/(('Tire Inspections'!$E$5:$E$1004=$A1004)*('Tire Inspections'!$B$5:$B$1004=$L1004)*('Tire Inspections'!$Y$5:$Y$1004="OK")),'Tire Inspections'!$L$5:$L$1004),""))) | T1004: =IF($A1004="","",IF(OR($Q1004="",$H1004=""),"",IFERROR(MAX(0,MIN(1,($Q1004-'Settings'!$B$6)/($H1004-'Settings'!$B$6))),""))) | U1004: =IF($A1004="","",IF($Q1004="","No Data",IF($Q1004<='Settings'!$B$6,"Critical",IF($Q1004<='Settings'!$B$5,"Low","OK")))) | V1004: =IF($A1004="","",IF($R1004="","No Data",IF($R1004>='Settings'!$B$7,"Uneven","OK"))) | W1004: =IF($A1004="","",IF($J1004<>"Mounted","N/A",IF(OR($S1004="",$I1004=""),"No Data",IF($S1004<$I1004-'Settings'!$B$8,"Low",IF($S1004>$I1004+'Settings'!$B$8,"High","OK"))))) | X1004: =IF($A1004="","",IF(OR($J1004<>"Mounted",$L1004=""),"",IFERROR($L1004+'Settings'!$B$9,""))) | Y1004: =IF($A1004="","",IF($J1004<>"Mounted","N/A",IF($L1004="","No Data",IF(TODAY()>$X1004,"Overdue",IF(TODAY()+'Settings'!$B$10>=$X1004,"Due Soon","Current"))))) | Z1004: =IF($A1004="","",IF($J1004<>"Mounted","N/A",IF(OR($U1004="No Data",$W1004="No Data"),"No Data",IF($U1004="Critical","Critical",IF(OR($U1004="Low",$V1004="Uneven",$W1004="Low",$W1004="High",$Y1004="Overdue",$Y1004="Due Soon"),"Attention","OK"))))) | AA1004: =IF($A1004="","",IF($J1004<>"Mounted","No action",IF($U1004="Critical","Inspect immediately and follow fleet removal policy",IF($W1004="Low","Correct pressure and inspect",IF($W1004="High","Correct pressure",IF($V1004="Uneven","Inspect alignment, suspension, and rotation",IF($U1004="Low","Schedule tire service",IF($Y1004="Overdue","Complete inspection",IF($Y1004="Due Soon","Schedule inspection","No action"))))))))) | AB1004: =IF($A1004="","",IF(OR($J1004<>"Mounted",$Z1004="OK",$Z1004="N/A"),"",IF($U1004="Critical",1,IF(OR($W1004="Low",$W1004="High"),2,IF(OR($U1004="Low",$V1004="Uneven"),3,IF($Y1004="Overdue",4,5)))))) | AC1004: =IF($A1004="","",IF($AB1004="","",IFERROR($AB1004*100000+ROW(),"")))

Sheet Settings
A1: Settings and Validation Lists
A2: Edit blue cells only. These thresholds support internal maintenance planning and should be reviewed for your vehicles, tire specifications, fleet policy, and operating conditions.
A4: Setting | B4: Value | C4: Description | E4: Position | F4: Position Group | H4: Vehicle/Unit | J4: Tire Status | L4: Visual Condition | N4: Action Taken
A5: Low Tread Alert | B5: 5 | C5: Alert at or below this tread depth, in 32nds | E5: Left Front | F5: Steer | H5: TRK-101 | J5: Mounted | L5: Good | N5: None
A6: Critical Tread | B6: 3 | C6: Critical planning threshold, in 32nds | E6: Right Front | F6: Steer | H6: TRK-102 | J6: In Stock | L6: Cuts/Cracks | N6: Adjusted Pressure
A7: Uneven Wear Threshold | B7: 3 | C7: Maximum allowed spread between readings, in 32nds | E7: Left Rear | F7: Drive | H7: TRK-103 | J7: Spare | L7: Sidewall Damage | N7: Rotated
A8: Pressure Tolerance | B8: 5 | C8: Allowed variance from target PSI | E8: Right Rear | F8: Drive | H8: TRL-201 | J8: Removed | L8: Embedded Object | N8: Repaired
A9: Inspection Interval Days | B9: 30 | C9: Days between planned tire inspections | E9: Left Rear Outer | F9: Drive | H9: TRL-202 | J9: Retread | L9: Irregular Wear | N9: Scheduled Replacement
A10: Due Soon Days | B10: 7 | C10: Days before due date to show Due Soon | E10: Left Rear Inner | F10: Drive | H10: VAN-301 | L10: Other | N10: Removed from Service
E11: Right Rear Inner | F11: Drive | H11: VAN-302 | N11: Other
A12: Settings Check | B12: =IFERROR(IF(AND(B5>B6,B6>=0,B7>=0,B8>=0,B9>0,B10>=0,B10<B9),"OK","Review settings"),"Review settings") | E12: Right Rear Outer | F12: Drive | H12: SV-401
E13: Axle 1 Left Outer | F13: Trailer | H13: SV-402
E14: Axle 1 Left Inner | F14: Trailer | H14: PU-501
E15: Axle 1 Right Inner | F15: Trailer
E16: Axle 1 Right Outer | F16: Trailer
E17: Axle 2 Left Outer | F17: Trailer
E18: Axle 2 Left Inner | F18: Trailer
E19: Axle 2 Right Inner | F19: Trailer
E20: Axle 2 Right Outer | F20: Trailer
E21: Spare Position | F21: Other
