Workbook

Sheet Dashboard
A1: Terminal Dock Appointment Dashboard
A2: Select a date and terminal to review appointment volume, timing, conflicts, and estimated detention.
A3: Selected Date | B3: 46272 | D3: Terminal Filter | E3: All Terminals
A5: Total Appointments | C5: Completed | E5: Late Arrivals | G5: Schedule Conflicts | I5: Records Needing Review
A6: =IFERROR(IF($E$3="All Terminals",COUNTIFS('Appointments'!$F$5:$F$204,">="&$B$3,'Appointments'!$F$5:$F$204,"<"&$B$3+1),COUNTIFS('Appointments'!$F$5:$F$204,">="&$B$3,'Appointments'!$F$5:$F$204,"<"&$B$3+1,'Appointments'!$B$5:$B$204,$E$3)),0) | C6: =IFERROR(IF($E$3="All Terminals",COUNTIFS('Appointments'!$F$5:$F$204,">="&$B$3,'Appointments'!$F$5:$F$204,"<"&$B$3+1,'Appointments'!$N$5:$N$204,"Completed"),COUNTIFS('Appointments'!$F$5:$F$204,">="&$B$3,'Appointments'!$F$5:$F$204,"<"&$B$3+1,'Appointments'!$B$5:$B$204,$E$3,'Appointments'!$N$5:$N$204,"Completed")),0) | E6: =IFERROR(IF($E$3="All Terminals",COUNTIFS('Appointments'!$F$5:$F$204,">="&$B$3,'Appointments'!$F$5:$F$204,"<"&$B$3+1,'Appointments'!$Y$5:$Y$204,"Late"),COUNTIFS('Appointments'!$F$5:$F$204,">="&$B$3,'Appointments'!$F$5:$F$204,"<"&$B$3+1,'Appointments'!$B$5:$B$204,$E$3,'Appointments'!$Y$5:$Y$204,"Late")),0) | G6: =IFERROR(IF($E$3="All Terminals",COUNTIFS('Appointments'!$F$5:$F$204,">="&$B$3,'Appointments'!$F$5:$F$204,"<"&$B$3+1,'Appointments'!$Z$5:$Z$204,"Conflict"),COUNTIFS('Appointments'!$F$5:$F$204,">="&$B$3,'Appointments'!$F$5:$F$204,"<"&$B$3+1,'Appointments'!$B$5:$B$204,$E$3,'Appointments'!$Z$5:$Z$204,"Conflict")),0) | I6: =IFERROR(IF($E$3="All Terminals",COUNTIFS('Appointments'!$F$5:$F$204,">="&$B$3,'Appointments'!$F$5:$F$204,"<"&$B$3+1,'Appointments'!$AA$5:$AA$204,"<>OK",'Appointments'!$AA$5:$AA$204,"<>"),COUNTIFS('Appointments'!$F$5:$F$204,">="&$B$3,'Appointments'!$F$5:$F$204,"<"&$B$3+1,'Appointments'!$B$5:$B$204,$E$3,'Appointments'!$AA$5:$AA$204,"<>OK",'Appointments'!$AA$5:$AA$204,"<>")),0)
A8: Checked In / At Dock | C8: No Shows | E8: Average Wait (min) | G8: Average Turnaround (min) | I8: Estimated Detention Cost
A9: =IFERROR(IF($E$3="All Terminals",COUNTIFS('Appointments'!$F$5:$F$204,">="&$B$3,'Appointments'!$F$5:$F$204,"<"&$B$3+1,'Appointments'!$N$5:$N$204,"Checked In")+COUNTIFS('Appointments'!$F$5:$F$204,">="&$B$3,'Appointments'!$F$5:$F$204,"<"&$B$3+1,'Appointments'!$N$5:$N$204,"At Dock"),COUNTIFS('Appointments'!$F$5:$F$204,">="&$B$3,'Appointments'!$F$5:$F$204,"<"&$B$3+1,'Appointments'!$B$5:$B$204,$E$3,'Appointments'!$N$5:$N$204,"Checked In")+COUNTIFS('Appointments'!$F$5:$F$204,">="&$B$3,'Appointments'!$F$5:$F$204,"<"&$B$3+1,'Appointments'!$B$5:$B$204,$E$3,'Appointments'!$N$5:$N$204,"At Dock")),0) | C9: =IFERROR(IF($E$3="All Terminals",COUNTIFS('Appointments'!$F$5:$F$204,">="&$B$3,'Appointments'!$F$5:$F$204,"<"&$B$3+1,'Appointments'!$N$5:$N$204,"No Show"),COUNTIFS('Appointments'!$F$5:$F$204,">="&$B$3,'Appointments'!$F$5:$F$204,"<"&$B$3+1,'Appointments'!$B$5:$B$204,$E$3,'Appointments'!$N$5:$N$204,"No Show")),0) | E9: =IFERROR(IF($E$3="All Terminals",AVERAGEIFS('Appointments'!$T$5:$T$204,'Appointments'!$F$5:$F$204,">="&$B$3,'Appointments'!$F$5:$F$204,"<"&$B$3+1,'Appointments'!$T$5:$T$204,">=0"),AVERAGEIFS('Appointments'!$T$5:$T$204,'Appointments'!$F$5:$F$204,">="&$B$3,'Appointments'!$F$5:$F$204,"<"&$B$3+1,'Appointments'!$B$5:$B$204,$E$3,'Appointments'!$T$5:$T$204,">=0")),0) | G9: =IFERROR(IF($E$3="All Terminals",AVERAGEIFS('Appointments'!$V$5:$V$204,'Appointments'!$F$5:$F$204,">="&$B$3,'Appointments'!$F$5:$F$204,"<"&$B$3+1,'Appointments'!$V$5:$V$204,">=0"),AVERAGEIFS('Appointments'!$V$5:$V$204,'Appointments'!$F$5:$F$204,">="&$B$3,'Appointments'!$F$5:$F$204,"<"&$B$3+1,'Appointments'!$B$5:$B$204,$E$3,'Appointments'!$V$5:$V$204,">=0")),0) | I9: =IFERROR(IF($E$3="All Terminals",SUMIFS('Appointments'!$X$5:$X$204,'Appointments'!$F$5:$F$204,">="&$B$3,'Appointments'!$F$5:$F$204,"<"&$B$3+1),SUMIFS('Appointments'!$X$5:$X$204,'Appointments'!$F$5:$F$204,">="&$B$3,'Appointments'!$F$5:$F$204,"<"&$B$3+1,'Appointments'!$B$5:$B$204,$E$3)),0)
A12: Status | B12: Appointments | D12: Terminal | E12: Appointments | F12: Completed | G12: Late | H12: Conflicts | I12: Scheduled Dock Hours | J12: Capacity Use
A13: Scheduled | B13: =IFERROR(IF($E$3="All Terminals",COUNTIFS('Appointments'!$F$5:$F$204,">="&$B$3,'Appointments'!$F$5:$F$204,"<"&$B$3+1,'Appointments'!$N$5:$N$204,$A13),COUNTIFS('Appointments'!$F$5:$F$204,">="&$B$3,'Appointments'!$F$5:$F$204,"<"&$B$3+1,'Appointments'!$B$5:$B$204,$E$3,'Appointments'!$N$5:$N$204,$A13)),0) | D13: Atlanta Terminal | E13: =IFERROR(COUNTIFS('Appointments'!$F$5:$F$204,">="&$B$3,'Appointments'!$F$5:$F$204,"<"&$B$3+1,'Appointments'!$B$5:$B$204,$D13),0) | F13: =IFERROR(COUNTIFS('Appointments'!$F$5:$F$204,">="&$B$3,'Appointments'!$F$5:$F$204,"<"&$B$3+1,'Appointments'!$B$5:$B$204,$D13,'Appointments'!$N$5:$N$204,"Completed"),0) | G13: =IFERROR(COUNTIFS('Appointments'!$F$5:$F$204,">="&$B$3,'Appointments'!$F$5:$F$204,"<"&$B$3+1,'Appointments'!$B$5:$B$204,$D13,'Appointments'!$Y$5:$Y$204,"Late"),0) | H13: =IFERROR(COUNTIFS('Appointments'!$F$5:$F$204,">="&$B$3,'Appointments'!$F$5:$F$204,"<"&$B$3+1,'Appointments'!$B$5:$B$204,$D13,'Appointments'!$Z$5:$Z$204,"Conflict"),0) | I13: =IFERROR(SUMIFS('Appointments'!$H$5:$H$204,'Appointments'!$F$5:$F$204,">="&$B$3,'Appointments'!$F$5:$F$204,"<"&$B$3+1,'Appointments'!$B$5:$B$204,$D13)/60,0) | J13: =IFERROR(I13/VLOOKUP(D13,'Settings'!$F$13:$I$15,4,FALSE),0)
A14: Checked In | B14: =IFERROR(IF($E$3="All Terminals",COUNTIFS('Appointments'!$F$5:$F$204,">="&$B$3,'Appointments'!$F$5:$F$204,"<"&$B$3+1,'Appointments'!$N$5:$N$204,$A14),COUNTIFS('Appointments'!$F$5:$F$204,">="&$B$3,'Appointments'!$F$5:$F$204,"<"&$B$3+1,'Appointments'!$B$5:$B$204,$E$3,'Appointments'!$N$5:$N$204,$A14)),0) | D14: Dallas Terminal | E14: =IFERROR(COUNTIFS('Appointments'!$F$5:$F$204,">="&$B$3,'Appointments'!$F$5:$F$204,"<"&$B$3+1,'Appointments'!$B$5:$B$204,$D14),0) | F14: =IFERROR(COUNTIFS('Appointments'!$F$5:$F$204,">="&$B$3,'Appointments'!$F$5:$F$204,"<"&$B$3+1,'Appointments'!$B$5:$B$204,$D14,'Appointments'!$N$5:$N$204,"Completed"),0) | G14: =IFERROR(COUNTIFS('Appointments'!$F$5:$F$204,">="&$B$3,'Appointments'!$F$5:$F$204,"<"&$B$3+1,'Appointments'!$B$5:$B$204,$D14,'Appointments'!$Y$5:$Y$204,"Late"),0) | H14: =IFERROR(COUNTIFS('Appointments'!$F$5:$F$204,">="&$B$3,'Appointments'!$F$5:$F$204,"<"&$B$3+1,'Appointments'!$B$5:$B$204,$D14,'Appointments'!$Z$5:$Z$204,"Conflict"),0) | I14: =IFERROR(SUMIFS('Appointments'!$H$5:$H$204,'Appointments'!$F$5:$F$204,">="&$B$3,'Appointments'!$F$5:$F$204,"<"&$B$3+1,'Appointments'!$B$5:$B$204,$D14)/60,0) | J14: =IFERROR(I14/VLOOKUP(D14,'Settings'!$F$13:$I$15,4,FALSE),0)
A15: At Dock | B15: =IFERROR(IF($E$3="All Terminals",COUNTIFS('Appointments'!$F$5:$F$204,">="&$B$3,'Appointments'!$F$5:$F$204,"<"&$B$3+1,'Appointments'!$N$5:$N$204,$A15),COUNTIFS('Appointments'!$F$5:$F$204,">="&$B$3,'Appointments'!$F$5:$F$204,"<"&$B$3+1,'Appointments'!$B$5:$B$204,$E$3,'Appointments'!$N$5:$N$204,$A15)),0) | D15: Chicago Terminal | E15: =IFERROR(COUNTIFS('Appointments'!$F$5:$F$204,">="&$B$3,'Appointments'!$F$5:$F$204,"<"&$B$3+1,'Appointments'!$B$5:$B$204,$D15),0) | F15: =IFERROR(COUNTIFS('Appointments'!$F$5:$F$204,">="&$B$3,'Appointments'!$F$5:$F$204,"<"&$B$3+1,'Appointments'!$B$5:$B$204,$D15,'Appointments'!$N$5:$N$204,"Completed"),0) | G15: =IFERROR(COUNTIFS('Appointments'!$F$5:$F$204,">="&$B$3,'Appointments'!$F$5:$F$204,"<"&$B$3+1,'Appointments'!$B$5:$B$204,$D15,'Appointments'!$Y$5:$Y$204,"Late"),0) | H15: =IFERROR(COUNTIFS('Appointments'!$F$5:$F$204,">="&$B$3,'Appointments'!$F$5:$F$204,"<"&$B$3+1,'Appointments'!$B$5:$B$204,$D15,'Appointments'!$Z$5:$Z$204,"Conflict"),0) | I15: =IFERROR(SUMIFS('Appointments'!$H$5:$H$204,'Appointments'!$F$5:$F$204,">="&$B$3,'Appointments'!$F$5:$F$204,"<"&$B$3+1,'Appointments'!$B$5:$B$204,$D15)/60,0) | J15: =IFERROR(I15/VLOOKUP(D15,'Settings'!$F$13:$I$15,4,FALSE),0)
A16: Completed | B16: =IFERROR(IF($E$3="All Terminals",COUNTIFS('Appointments'!$F$5:$F$204,">="&$B$3,'Appointments'!$F$5:$F$204,"<"&$B$3+1,'Appointments'!$N$5:$N$204,$A16),COUNTIFS('Appointments'!$F$5:$F$204,">="&$B$3,'Appointments'!$F$5:$F$204,"<"&$B$3+1,'Appointments'!$B$5:$B$204,$E$3,'Appointments'!$N$5:$N$204,$A16)),0) | D16: Total | E16: =IFERROR(SUM(E13:E15),0) | F16: =IFERROR(SUM(F13:F15),0) | G16: =IFERROR(SUM(G13:G15),0) | H16: =IFERROR(SUM(H13:H15),0) | I16: =IFERROR(SUM(I13:I15),0) | J16: =IFERROR(I16/SUM('Settings'!$I$13:$I$15),0)
A17: Canceled | B17: =IFERROR(IF($E$3="All Terminals",COUNTIFS('Appointments'!$F$5:$F$204,">="&$B$3,'Appointments'!$F$5:$F$204,"<"&$B$3+1,'Appointments'!$N$5:$N$204,$A17),COUNTIFS('Appointments'!$F$5:$F$204,">="&$B$3,'Appointments'!$F$5:$F$204,"<"&$B$3+1,'Appointments'!$B$5:$B$204,$E$3,'Appointments'!$N$5:$N$204,$A17)),0) | E17: ="" | F17: ="" | G17: ="" | H17: ="" | I17: ="" | J17: =""
A18: No Show | B18: =IFERROR(IF($E$3="All Terminals",COUNTIFS('Appointments'!$F$5:$F$204,">="&$B$3,'Appointments'!$F$5:$F$204,"<"&$B$3+1,'Appointments'!$N$5:$N$204,$A18),COUNTIFS('Appointments'!$F$5:$F$204,">="&$B$3,'Appointments'!$F$5:$F$204,"<"&$B$3+1,'Appointments'!$B$5:$B$204,$E$3,'Appointments'!$N$5:$N$204,$A18)),0) | E18: ="" | F18: ="" | G18: ="" | H18: ="" | I18: ="" | J18: =""
B19: ="" | E19: ="" | F19: ="" | G19: ="" | H19: ="" | I19: ="" | J19: =""
B20: ="" | E20: ="" | F20: ="" | G20: ="" | H20: ="" | I20: ="" | J20: =""
B21: ="" | E21: ="" | F21: ="" | G21: ="" | H21: ="" | I21: ="" | J21: =""
B22: ="" | E22: ="" | F22: ="" | G22: ="" | H22: ="" | I22: ="" | J22: =""
B23: ="" | E23: ="" | F23: ="" | G23: ="" | H23: ="" | I23: ="" | J23: =""
B24: ="" | E24: ="" | F24: ="" | G24: ="" | H24: ="" | I24: ="" | J24: =""
B25: ="" | E25: ="" | F25: ="" | G25: ="" | H25: ="" | I25: ="" | J25: =""
B26: ="" | E26: ="" | F26: ="" | G26: ="" | H26: ="" | I26: ="" | J26: =""
B27: ="" | E27: ="" | F27: ="" | G27: ="" | H27: ="" | I27: ="" | J27: =""
B28: ="" | E28: ="" | F28: ="" | G28: ="" | H28: ="" | I28: ="" | J28: =""
B29: ="" | E29: ="" | F29: ="" | G29: ="" | H29: ="" | I29: ="" | J29: =""
B30: ="" | E30: ="" | F30: ="" | G30: ="" | H30: ="" | I30: ="" | J30: =""
... B35: ="" | E35: ="" | F35: ="" | G35: ="" | H35: ="" | I35: ="" | J35: =""
A36: Use: Select a date and terminal, then review late arrivals, dock conflicts, data-quality warnings, and estimated detention. Update appointment details on the Appointments sheet. | B36: ="" | E36: ="" | F36: ="" | G36: ="" | H36: ="" | I36: ="" | J36: =""
B37: ="" | E37: ="" | F37: ="" | G37: ="" | H37: ="" | I37: ="" | J37: =""
B38: ="" | E38: ="" | F38: ="" | G38: ="" | H38: ="" | I38: ="" | J38: =""
B39: ="" | E39: ="" | F39: ="" | G39: ="" | H39: ="" | I39: ="" | J39: =""
B40: ="" | E40: ="" | F40: ="" | G40: ="" | H40: ="" | I40: ="" | J40: =""
B41: ="" | E41: ="" | F41: ="" | G41: ="" | H41: ="" | I41: ="" | J41: =""
B42: ="" | E42: ="" | F42: ="" | G42: ="" | H42: ="" | I42: ="" | J42: =""
B43: ="" | E43: ="" | F43: ="" | G43: ="" | H43: ="" | I43: ="" | J43: =""
B44: ="" | E44: ="" | F44: ="" | G44: ="" | H44: ="" | I44: ="" | J44: =""
B45: ="" | E45: ="" | F45: ="" | G45: ="" | H45: ="" | I45: ="" | J45: =""
B46: ="" | E46: ="" | F46: ="" | G46: ="" | H46: ="" | I46: ="" | J46: =""
B47: ="" | E47: ="" | F47: ="" | G47: ="" | H47: ="" | I47: ="" | J47: =""
B48: ="" | E48: ="" | F48: ="" | G48: ="" | H48: ="" | I48: ="" | J48: =""
... B101: ="" | E101: ="" | F101: ="" | G101: ="" | H101: ="" | I101: ="" | J101: =""

Sheet Appointments
A1: Dock Appointments
A2: Enter appointment details in yellow cells. Blue cells calculate automatically. Review red or orange warnings before confirming dock assignments.
A3: Input | C3: Calculated | E3: Warning
A4: Appointment ID | B4: Terminal | C4: Dock Door | D4: Carrier | E4: Driver Name | F4: Scheduled Arrival | G4: Appointment Type | H4: Planned Duration (min) | I4: Scheduled End | J4: Reference Number | K4: Trailer Number | L4: Commodity | M4: Pallets | N4: Status | O4: Actual Check-In | P4: Dock Start | Q4: Dock Complete | R4: Actual Departure | S4: Arrival Variance (min) | T4: Wait Time (min) | U4: Service Time (min) | V4: Turnaround Time (min) | W4: Detention Minutes | X4: Estimated Detention Cost | Y4: On-Time Arrival | Z4: Schedule Conflict | AA4: Data Quality Check | AB4: Notes
A5: APPT-260907-001 | B5: Atlanta Terminal | C5: Door 1 | D5: Southeastern Freight | E5: Maya Carter | F5: 46272.292 | G5: Delivery | H5: =IFERROR(IF(G5="","",VLOOKUP(G5,'Settings'!$A$13:$B$17,2,FALSE)),"") | I5: =IFERROR(IF(OR(F5="",H5=""),"",F5+H5/1440),"") | J5: ATL-78421 | K5: SEF-4821 | L5: Packaged Beverages | M5: 18 | N5: Completed | O5: 46272.286 | P5: 46272.294 | Q5: 46272.325 | R5: 46272.331 | S5: =IFERROR(IF(OR(F5="",O5=""),"",ROUND((O5-F5)*1440,0)),"") | T5: =IFERROR(IF(OR(O5="",P5=""),"",MAX(0,ROUND((P5-O5)*1440,0))),"") | U5: =IFERROR(IF(OR(P5="",Q5=""),"",MAX(0,ROUND((Q5-P5)*1440,0))),"") | V5: =IFERROR(IF(OR(O5="",R5=""),"",MAX(0,ROUND((R5-O5)*1440,0))),"") | W5: =IFERROR(IF(V5="","",MAX(0,V5-'Settings'!$B$6)),"") | X5: =IFERROR(IF(W5="","",ROUND(W5/60*'Settings'!$B$7,2)),"") | Y5: =IFERROR(IF(OR(F5="",O5=""),"",IF(O5<=F5+'Settings'!$B$5/1440,"On Time","Late")),"") | Z5: =IFERROR(IF(OR(B5="",C5="",F5="",I5=""),"",IF(N5="Canceled","Not Applicable",IF(COUNTIFS($B$5:$B$204,B5,$C$5:$C$204,C5,$F$5:$F$204,"<"&I5,$I$5:$I$204,">"&F5,$N$5:$N$204,"<>Canceled")>1,"Conflict","Clear"))),"") | AA5: =IFERROR(IF(A5="","",IF(COUNTIF($A$5:$A$204,A5)>1,"Duplicate appointment ID",IF(OR(B5="",C5="",D5="",F5="",G5="",N5=""),"Missing required field",IF(OR(AND(O5="",OR(P5<>"",Q5<>"",R5<>"")),AND(P5="",OR(Q5<>"",R5<>"")),AND(Q5="",R5<>"")),"Actual time sequence incomplete",IF(OR(AND(O5<>"",P5<>"",P5<O5),AND(P5<>"",Q5<>"",Q5<P5),AND(Q5<>"",R5<>"",R5<Q5)),"Actual times out of order",IF(AND(N5="Completed",OR(O5="",P5="",Q5="",R5="")),"Completed status missing actual times","OK")))))),"Review formula inputs") | AB5: Unloaded without delay
A6: APPT-260907-002 | B6: Atlanta Terminal | C6: Door 2 | D6: Blue Ridge Logistics | E6: Ethan Brooks | F6: 46272.312 | G6: Pickup | H6: =IFERROR(IF(G6="","",VLOOKUP(G6,'Settings'!$A$13:$B$17,2,FALSE)),"") | I6: =IFERROR(IF(OR(F6="",H6=""),"",F6+H6/1440),"") | J6: BRL-55308 | K6: BRL-1937 | L6: Retail Fixtures | M6: 12 | N6: Completed | O6: 46272.321 | P6: 46272.326 | Q6: 46272.355 | R6: 46272.36 | S6: =IFERROR(IF(OR(F6="",O6=""),"",ROUND((O6-F6)*1440,0)),"") | T6: =IFERROR(IF(OR(O6="",P6=""),"",MAX(0,ROUND((P6-O6)*1440,0))),"") | U6: =IFERROR(IF(OR(P6="",Q6=""),"",MAX(0,ROUND((Q6-P6)*1440,0))),"") | V6: =IFERROR(IF(OR(O6="",R6=""),"",MAX(0,ROUND((R6-O6)*1440,0))),"") | W6: =IFERROR(IF(V6="","",MAX(0,V6-'Settings'!$B$6)),"") | X6: =IFERROR(IF(W6="","",ROUND(W6/60*'Settings'!$B$7,2)),"") | Y6: =IFERROR(IF(OR(F6="",O6=""),"",IF(O6<=F6+'Settings'!$B$5/1440,"On Time","Late")),"") | Z6: =IFERROR(IF(OR(B6="",C6="",F6="",I6=""),"",IF(N6="Canceled","Not Applicable",IF(COUNTIFS($B$5:$B$204,B6,$C$5:$C$204,C6,$F$5:$F$204,"<"&I6,$I$5:$I$204,">"&F6,$N$5:$N$204,"<>Canceled")>1,"Conflict","Clear"))),"") | AA6: =IFERROR(IF(A6="","",IF(COUNTIF($A$5:$A$204,A6)>1,"Duplicate appointment ID",IF(OR(B6="",C6="",D6="",F6="",G6="",N6=""),"Missing required field",IF(OR(AND(O6="",OR(P6<>"",Q6<>"",R6<>"")),AND(P6="",OR(Q6<>"",R6<>"")),AND(Q6="",R6<>"")),"Actual time sequence incomplete",IF(OR(AND(O6<>"",P6<>"",P6<O6),AND(P6<>"",Q6<>"",Q6<P6),AND(Q6<>"",R6<>"",R6<Q6)),"Actual times out of order",IF(AND(N6="Completed",OR(O6="",P6="",Q6="",R6="")),"Completed status missing actual times","OK")))))),"Review formula inputs") | AB6: Overlaps next Door 2 appointment
A7: APPT-260907-003 | B7: Atlanta Terminal | C7: Door 2 | D7: Metro Haul Services | E7: Olivia Reed | F7: 46272.333 | G7: Delivery | H7: =IFERROR(IF(G7="","",VLOOKUP(G7,'Settings'!$A$13:$B$17,2,FALSE)),"") | I7: =IFERROR(IF(OR(F7="",H7=""),"",F7+H7/1440),"") | J7: MHS-91844 | K7: MHS-6204 | L7: Canned Goods | M7: 22 | N7: At Dock | O7: 46272.35 | P7: 46272.358 | S7: =IFERROR(IF(OR(F7="",O7=""),"",ROUND((O7-F7)*1440,0)),"") | T7: =IFERROR(IF(OR(O7="",P7=""),"",MAX(0,ROUND((P7-O7)*1440,0))),"") | U7: =IFERROR(IF(OR(P7="",Q7=""),"",MAX(0,ROUND((Q7-P7)*1440,0))),"") | V7: =IFERROR(IF(OR(O7="",R7=""),"",MAX(0,ROUND((R7-O7)*1440,0))),"") | W7: =IFERROR(IF(V7="","",MAX(0,V7-'Settings'!$B$6)),"") | X7: =IFERROR(IF(W7="","",ROUND(W7/60*'Settings'!$B$7,2)),"") | Y7: =IFERROR(IF(OR(F7="",O7=""),"",IF(O7<=F7+'Settings'!$B$5/1440,"On Time","Late")),"") | Z7: =IFERROR(IF(OR(B7="",C7="",F7="",I7=""),"",IF(N7="Canceled","Not Applicable",IF(COUNTIFS($B$5:$B$204,B7,$C$5:$C$204,C7,$F$5:$F$204,"<"&I7,$I$5:$I$204,">"&F7,$N$5:$N$204,"<>Canceled")>1,"Conflict","Clear"))),"") | AA7: =IFERROR(IF(A7="","",IF(COUNTIF($A$5:$A$204,A7)>1,"Duplicate appointment ID",IF(OR(B7="",C7="",D7="",F7="",G7="",N7=""),"Missing required field",IF(OR(AND(O7="",OR(P7<>"",Q7<>"",R7<>"")),AND(P7="",OR(Q7<>"",R7<>"")),AND(Q7="",R7<>"")),"Actual time sequence incomplete",IF(OR(AND(O7<>"",P7<>"",P7<O7),AND(P7<>"",Q7<>"",Q7<P7),AND(Q7<>"",R7<>"",R7<Q7)),"Actual times out of order",IF(AND(N7="Completed",OR(O7="",P7="",Q7="",R7="")),"Completed status missing actual times","OK")))))),"Review formula inputs") | AB7: Late arrival; unloading in progress
A8: APPT-260907-004 | B8: Dallas Terminal | C8: Door 3 | D8: Lone Star Transport | E8: Carlos Ramirez | F8: 46272.375 | G8: Live Load | H8: =IFERROR(IF(G8="","",VLOOKUP(G8,'Settings'!$A$13:$B$17,2,FALSE)),"") | I8: =IFERROR(IF(OR(F8="",H8=""),"",F8+H8/1440),"") | J8: LST-24019 | K8: LST-7712 | L8: Auto Parts | M8: 16 | N8: Completed | O8: 46272.374 | P8: 46272.382 | Q8: 46272.428 | R8: 46272.434 | S8: =IFERROR(IF(OR(F8="",O8=""),"",ROUND((O8-F8)*1440,0)),"") | T8: =IFERROR(IF(OR(O8="",P8=""),"",MAX(0,ROUND((P8-O8)*1440,0))),"") | U8: =IFERROR(IF(OR(P8="",Q8=""),"",MAX(0,ROUND((Q8-P8)*1440,0))),"") | V8: =IFERROR(IF(OR(O8="",R8=""),"",MAX(0,ROUND((R8-O8)*1440,0))),"") | W8: =IFERROR(IF(V8="","",MAX(0,V8-'Settings'!$B$6)),"") | X8: =IFERROR(IF(W8="","",ROUND(W8/60*'Settings'!$B$7,2)),"") | Y8: =IFERROR(IF(OR(F8="",O8=""),"",IF(O8<=F8+'Settings'!$B$5/1440,"On Time","Late")),"") | Z8: =IFERROR(IF(OR(B8="",C8="",F8="",I8=""),"",IF(N8="Canceled","Not Applicable",IF(COUNTIFS($B$5:$B$204,B8,$C$5:$C$204,C8,$F$5:$F$204,"<"&I8,$I$5:$I$204,">"&F8,$N$5:$N$204,"<>Canceled")>1,"Conflict","Clear"))),"") | AA8: =IFERROR(IF(A8="","",IF(COUNTIF($A$5:$A$204,A8)>1,"Duplicate appointment ID",IF(OR(B8="",C8="",D8="",F8="",G8="",N8=""),"Missing required field",IF(OR(AND(O8="",OR(P8<>"",Q8<>"",R8<>"")),AND(P8="",OR(Q8<>"",R8<>"")),AND(Q8="",R8<>"")),"Actual time sequence incomplete",IF(OR(AND(O8<>"",P8<>"",P8<O8),AND(P8<>"",Q8<>"",Q8<P8),AND(Q8<>"",R8<>"",R8<Q8)),"Actual times out of order",IF(AND(N8="Completed",OR(O8="",P8="",Q8="",R8="")),"Completed status missing actual times","OK")))))),"Review formula inputs") | AB8: Completed normally
A9: APPT-260907-005 | B9: Dallas Terminal | C9: Door 1 | D9: Prairie Express | E9: Jordan Kim | F9: 46272.438 | G9: Pickup | H9: =IFERROR(IF(G9="","",VLOOKUP(G9,'Settings'!$A$13:$B$17,2,FALSE)),"") | I9: =IFERROR(IF(OR(F9="",H9=""),"",F9+H9/1440),"") | J9: PEX-44107 | K9: PEX-3088 | L9: Office Supplies | M9: 8 | N9: No Show | S9: =IFERROR(IF(OR(F9="",O9=""),"",ROUND((O9-F9)*1440,0)),"") | T9: =IFERROR(IF(OR(O9="",P9=""),"",MAX(0,ROUND((P9-O9)*1440,0))),"") | U9: =IFERROR(IF(OR(P9="",Q9=""),"",MAX(0,ROUND((Q9-P9)*1440,0))),"") | V9: =IFERROR(IF(OR(O9="",R9=""),"",MAX(0,ROUND((R9-O9)*1440,0))),"") | W9: =IFERROR(IF(V9="","",MAX(0,V9-'Settings'!$B$6)),"") | X9: =IFERROR(IF(W9="","",ROUND(W9/60*'Settings'!$B$7,2)),"") | Y9: =IFERROR(IF(OR(F9="",O9=""),"",IF(O9<=F9+'Settings'!$B$5/1440,"On Time","Late")),"") | Z9: =IFERROR(IF(OR(B9="",C9="",F9="",I9=""),"",IF(N9="Canceled","Not Applicable",IF(COUNTIFS($B$5:$B$204,B9,$C$5:$C$204,C9,$F$5:$F$204,"<"&I9,$I$5:$I$204,">"&F9,$N$5:$N$204,"<>Canceled")>1,"Conflict","Clear"))),"") | AA9: =IFERROR(IF(A9="","",IF(COUNTIF($A$5:$A$204,A9)>1,"Duplicate appointment ID",IF(OR(B9="",C9="",D9="",F9="",G9="",N9=""),"Missing required field",IF(OR(AND(O9="",OR(P9<>"",Q9<>"",R9<>"")),AND(P9="",OR(Q9<>"",R9<>"")),AND(Q9="",R9<>"")),"Actual time sequence incomplete",IF(OR(AND(O9<>"",P9<>"",P9<O9),AND(P9<>"",Q9<>"",Q9<P9),AND(Q9<>"",R9<>"",R9<Q9)),"Actual times out of order",IF(AND(N9="Completed",OR(O9="",P9="",Q9="",R9="")),"Completed status missing actual times","OK")))))),"Review formula inputs") | AB9: Carrier did not arrive
A10: APPT-260907-006 | B10: Chicago Terminal | C10: Door 4 | D10: Great Lakes Carrier | E10: Nia Thompson | F10: 46272.458 | G10: Cross-Dock | H10: =IFERROR(IF(G10="","",VLOOKUP(G10,'Settings'!$A$13:$B$17,2,FALSE)),"") | I10: =IFERROR(IF(OR(F10="",H10=""),"",F10+H10/1440),"") | J10: GLC-67254 | K10: GLC-5140 | L10: Mixed Parcel Freight | M10: 26 | N10: Checked In | O10: 46272.464 | S10: =IFERROR(IF(OR(F10="",O10=""),"",ROUND((O10-F10)*1440,0)),"") | T10: =IFERROR(IF(OR(O10="",P10=""),"",MAX(0,ROUND((P10-O10)*1440,0))),"") | U10: =IFERROR(IF(OR(P10="",Q10=""),"",MAX(0,ROUND((Q10-P10)*1440,0))),"") | V10: =IFERROR(IF(OR(O10="",R10=""),"",MAX(0,ROUND((R10-O10)*1440,0))),"") | W10: =IFERROR(IF(V10="","",MAX(0,V10-'Settings'!$B$6)),"") | X10: =IFERROR(IF(W10="","",ROUND(W10/60*'Settings'!$B$7,2)),"") | Y10: =IFERROR(IF(OR(F10="",O10=""),"",IF(O10<=F10+'Settings'!$B$5/1440,"On Time","Late")),"") | Z10: =IFERROR(IF(OR(B10="",C10="",F10="",I10=""),"",IF(N10="Canceled","Not Applicable",IF(COUNTIFS($B$5:$B$204,B10,$C$5:$C$204,C10,$F$5:$F$204,"<"&I10,$I$5:$I$204,">"&F10,$N$5:$N$204,"<>Canceled")>1,"Conflict","Clear"))),"") | AA10: =IFERROR(IF(A10="","",IF(COUNTIF($A$5:$A$204,A10)>1,"Duplicate appointment ID",IF(OR(B10="",C10="",D10="",F10="",G10="",N10=""),"Missing required field",IF(OR(AND(O10="",OR(P10<>"",Q10<>"",R10<>"")),AND(P10="",OR(Q10<>"",R10<>"")),AND(Q10="",R10<>"")),"Actual time sequence incomplete",IF(OR(AND(O10<>"",P10<>"",P10<O10),AND(P10<>"",Q10<>"",Q10<P10),AND(Q10<>"",R10<>"",R10<Q10)),"Actual times out of order",IF(AND(N10="Completed",OR(O10="",P10="",Q10="",R10="")),"Completed status missing actual times","OK")))))),"Review formula inputs") | AB10: Waiting for dock assignment
A11: APPT-260907-007 | B11: Chicago Terminal | C11: Door 2 | D11: Midwest Parcel | E11: Liam Patel | F11: 46272.542 | G11: Delivery | H11: =IFERROR(IF(G11="","",VLOOKUP(G11,'Settings'!$A$13:$B$17,2,FALSE)),"") | I11: =IFERROR(IF(OR(F11="",H11=""),"",F11+H11/1440),"") | J11: MWP-80563 | K11: MWP-8820 | L11: Consumer Electronics | M11: 20 | N11: Scheduled | S11: =IFERROR(IF(OR(F11="",O11=""),"",ROUND((O11-F11)*1440,0)),"") | T11: =IFERROR(IF(OR(O11="",P11=""),"",MAX(0,ROUND((P11-O11)*1440,0))),"") | U11: =IFERROR(IF(OR(P11="",Q11=""),"",MAX(0,ROUND((Q11-P11)*1440,0))),"") | V11: =IFERROR(IF(OR(O11="",R11=""),"",MAX(0,ROUND((R11-O11)*1440,0))),"") | W11: =IFERROR(IF(V11="","",MAX(0,V11-'Settings'!$B$6)),"") | X11: =IFERROR(IF(W11="","",ROUND(W11/60*'Settings'!$B$7,2)),"") | Y11: =IFERROR(IF(OR(F11="",O11=""),"",IF(O11<=F11+'Settings'!$B$5/1440,"On Time","Late")),"") | Z11: =IFERROR(IF(OR(B11="",C11="",F11="",I11=""),"",IF(N11="Canceled","Not Applicable",IF(COUNTIFS($B$5:$B$204,B11,$C$5:$C$204,C11,$F$5:$F$204,"<"&I11,$I$5:$I$204,">"&F11,$N$5:$N$204,"<>Canceled")>1,"Conflict","Clear"))),"") | AA11: =IFERROR(IF(A11="","",IF(COUNTIF($A$5:$A$204,A11)>1,"Duplicate appointment ID",IF(OR(B11="",C11="",D11="",F11="",G11="",N11=""),"Missing required field",IF(OR(AND(O11="",OR(P11<>"",Q11<>"",R11<>"")),AND(P11="",OR(Q11<>"",R11<>"")),AND(Q11="",R11<>"")),"Actual time sequence incomplete",IF(OR(AND(O11<>"",P11<>"",P11<O11),AND(P11<>"",Q11<>"",Q11<P11),AND(Q11<>"",R11<>"",R11<Q11)),"Actual times out of order",IF(AND(N11="Completed",OR(O11="",P11="",Q11="",R11="")),"Completed status missing actual times","OK")))))),"Review formula inputs") | AB11: Driver confirmation received
A12: APPT-260907-008 | B12: Dallas Terminal | C12: Door 2 | D12: Red River Freight | E12: Sofia Nguyen | F12: 46272.583 | G12: Drop Trailer | H12: =IFERROR(IF(G12="","",VLOOKUP(G12,'Settings'!$A$13:$B$17,2,FALSE)),"") | I12: =IFERROR(IF(OR(F12="",H12=""),"",F12+H12/1440),"") | J12: RRF-11298 | K12: RRF-9471 | L12: Empty Packaging | M12: 10 | N12: Canceled | S12: =IFERROR(IF(OR(F12="",O12=""),"",ROUND((O12-F12)*1440,0)),"") | T12: =IFERROR(IF(OR(O12="",P12=""),"",MAX(0,ROUND((P12-O12)*1440,0))),"") | U12: =IFERROR(IF(OR(P12="",Q12=""),"",MAX(0,ROUND((Q12-P12)*1440,0))),"") | V12: =IFERROR(IF(OR(O12="",R12=""),"",MAX(0,ROUND((R12-O12)*1440,0))),"") | W12: =IFERROR(IF(V12="","",MAX(0,V12-'Settings'!$B$6)),"") | X12: =IFERROR(IF(W12="","",ROUND(W12/60*'Settings'!$B$7,2)),"") | Y12: =IFERROR(IF(OR(F12="",O12=""),"",IF(O12<=F12+'Settings'!$B$5/1440,"On Time","Late")),"") | Z12: =IFERROR(IF(OR(B12="",C12="",F12="",I12=""),"",IF(N12="Canceled","Not Applicable",IF(COUNTIFS($B$5:$B$204,B12,$C$5:$C$204,C12,$F$5:$F$204,"<"&I12,$I$5:$I$204,">"&F12,$N$5:$N$204,"<>Canceled")>1,"Conflict","Clear"))),"") | AA12: =IFERROR(IF(A12="","",IF(COUNTIF($A$5:$A$204,A12)>1,"Duplicate appointment ID",IF(OR(B12="",C12="",D12="",F12="",G12="",N12=""),"Missing required field",IF(OR(AND(O12="",OR(P12<>"",Q12<>"",R12<>"")),AND(P12="",OR(Q12<>"",R12<>"")),AND(Q12="",R12<>"")),"Actual time sequence incomplete",IF(OR(AND(O12<>"",P12<>"",P12<O12),AND(P12<>"",Q12<>"",Q12<P12),AND(Q12<>"",R12<>"",R12<Q12)),"Actual times out of order",IF(AND(N12="Completed",OR(O12="",P12="",Q12="",R12="")),"Completed status missing actual times","OK")))))),"Review formula inputs") | AB12: Canceled by shipper
A13: APPT-260907-009 | B13: Atlanta Terminal | C13: Door 1 | D13: Arrowline Logistics | E13: Marcus Lee | F13: 46272.625 | G13: Live Load | H13: =IFERROR(IF(G13="","",VLOOKUP(G13,'Settings'!$A$13:$B$17,2,FALSE)),"") | I13: =IFERROR(IF(OR(F13="",H13=""),"",F13+H13/1440),"") | J13: ALL-30974 | K13: ALL-2566 | L13: Frozen Foods | M13: 24 | N13: Completed | O13: 46272.638 | P13: 46272.647 | Q13: 46272.722 | R13: 46272.735 | S13: =IFERROR(IF(OR(F13="",O13=""),"",ROUND((O13-F13)*1440,0)),"") | T13: =IFERROR(IF(OR(O13="",P13=""),"",MAX(0,ROUND((P13-O13)*1440,0))),"") | U13: =IFERROR(IF(OR(P13="",Q13=""),"",MAX(0,ROUND((Q13-P13)*1440,0))),"") | V13: =IFERROR(IF(OR(O13="",R13=""),"",MAX(0,ROUND((R13-O13)*1440,0))),"") | W13: =IFERROR(IF(V13="","",MAX(0,V13-'Settings'!$B$6)),"") | X13: =IFERROR(IF(W13="","",ROUND(W13/60*'Settings'!$B$7,2)),"") | Y13: =IFERROR(IF(OR(F13="",O13=""),"",IF(O13<=F13+'Settings'!$B$5/1440,"On Time","Late")),"") | Z13: =IFERROR(IF(OR(B13="",C13="",F13="",I13=""),"",IF(N13="Canceled","Not Applicable",IF(COUNTIFS($B$5:$B$204,B13,$C$5:$C$204,C13,$F$5:$F$204,"<"&I13,$I$5:$I$204,">"&F13,$N$5:$N$204,"<>Canceled")>1,"Conflict","Clear"))),"") | AA13: =IFERROR(IF(A13="","",IF(COUNTIF($A$5:$A$204,A13)>1,"Duplicate appointment ID",IF(OR(B13="",C13="",D13="",F13="",G13="",N13=""),"Missing required field",IF(OR(AND(O13="",OR(P13<>"",Q13<>"",R13<>"")),AND(P13="",OR(Q13<>"",R13<>"")),AND(Q13="",R13<>"")),"Actual time sequence incomplete",IF(OR(AND(O13<>"",P13<>"",P13<O13),AND(P13<>"",Q13<>"",Q13<P13),AND(Q13<>"",R13<>"",R13<Q13)),"Actual times out of order",IF(AND(N13="Completed",OR(O13="",P13="",Q13="",R13="")),"Completed status missing actual times","OK")))))),"Review formula inputs") | AB13: Product count delay
A14: APPT-260906-010 | B14: Dallas Terminal | C14: Door 1 | D14: Sunbelt Carriers | E14: Ava Johnson | F14: 46271.667 | G14: Delivery | H14: =IFERROR(IF(G14="","",VLOOKUP(G14,'Settings'!$A$13:$B$17,2,FALSE)),"") | I14: =IFERROR(IF(OR(F14="",H14=""),"",F14+H14/1440),"") | J14: SBC-70031 | K14: SBC-4102 | L14: Paper Products | M14: 14 | N14: Completed | O14: 46271.663 | P14: 46271.672 | Q14: 46271.71 | R14: 46271.715 | S14: =IFERROR(IF(OR(F14="",O14=""),"",ROUND((O14-F14)*1440,0)),"") | T14: =IFERROR(IF(OR(O14="",P14=""),"",MAX(0,ROUND((P14-O14)*1440,0))),"") | U14: =IFERROR(IF(OR(P14="",Q14=""),"",MAX(0,ROUND((Q14-P14)*1440,0))),"") | V14: =IFERROR(IF(OR(O14="",R14=""),"",MAX(0,ROUND((R14-O14)*1440,0))),"") | W14: =IFERROR(IF(V14="","",MAX(0,V14-'Settings'!$B$6)),"") | X14: =IFERROR(IF(W14="","",ROUND(W14/60*'Settings'!$B$7,2)),"") | Y14: =IFERROR(IF(OR(F14="",O14=""),"",IF(O14<=F14+'Settings'!$B$5/1440,"On Time","Late")),"") | Z14: =IFERROR(IF(OR(B14="",C14="",F14="",I14=""),"",IF(N14="Canceled","Not Applicable",IF(COUNTIFS($B$5:$B$204,B14,$C$5:$C$204,C14,$F$5:$F$204,"<"&I14,$I$5:$I$204,">"&F14,$N$5:$N$204,"<>Canceled")>1,"Conflict","Clear"))),"") | AA14: =IFERROR(IF(A14="","",IF(COUNTIF($A$5:$A$204,A14)>1,"Duplicate appointment ID",IF(OR(B14="",C14="",D14="",F14="",G14="",N14=""),"Missing required field",IF(OR(AND(O14="",OR(P14<>"",Q14<>"",R14<>"")),AND(P14="",OR(Q14<>"",R14<>"")),AND(Q14="",R14<>"")),"Actual time sequence incomplete",IF(OR(AND(O14<>"",P14<>"",P14<O14),AND(P14<>"",Q14<>"",Q14<P14),AND(Q14<>"",R14<>"",R14<Q14)),"Actual times out of order",IF(AND(N14="Completed",OR(O14="",P14="",Q14="",R14="")),"Completed status missing actual times","OK")))))),"Review formula inputs") | AB14: Prior-day completed example
H15: =IFERROR(IF(G15="","",VLOOKUP(G15,'Settings'!$A$13:$B$17,2,FALSE)),"") | I15: =IFERROR(IF(OR(F15="",H15=""),"",F15+H15/1440),"") | S15: =IFERROR(IF(OR(F15="",O15=""),"",ROUND((O15-F15)*1440,0)),"") | T15: =IFERROR(IF(OR(O15="",P15=""),"",MAX(0,ROUND((P15-O15)*1440,0))),"") | U15: =IFERROR(IF(OR(P15="",Q15=""),"",MAX(0,ROUND((Q15-P15)*1440,0))),"") | V15: =IFERROR(IF(OR(O15="",R15=""),"",MAX(0,ROUND((R15-O15)*1440,0))),"") | W15: =IFERROR(IF(V15="","",MAX(0,V15-'Settings'!$B$6)),"") | X15: =IFERROR(IF(W15="","",ROUND(W15/60*'Settings'!$B$7,2)),"") | Y15: =IFERROR(IF(OR(F15="",O15=""),"",IF(O15<=F15+'Settings'!$B$5/1440,"On Time","Late")),"") | Z15: =IFERROR(IF(OR(B15="",C15="",F15="",I15=""),"",IF(N15="Canceled","Not Applicable",IF(COUNTIFS($B$5:$B$204,B15,$C$5:$C$204,C15,$F$5:$F$204,"<"&I15,$I$5:$I$204,">"&F15,$N$5:$N$204,"<>Canceled")>1,"Conflict","Clear"))),"") | AA15: =IFERROR(IF(A15="","",IF(COUNTIF($A$5:$A$204,A15)>1,"Duplicate appointment ID",IF(OR(B15="",C15="",D15="",F15="",G15="",N15=""),"Missing required field",IF(OR(AND(O15="",OR(P15<>"",Q15<>"",R15<>"")),AND(P15="",OR(Q15<>"",R15<>"")),AND(Q15="",R15<>"")),"Actual time sequence incomplete",IF(OR(AND(O15<>"",P15<>"",P15<O15),AND(P15<>"",Q15<>"",Q15<P15),AND(Q15<>"",R15<>"",R15<Q15)),"Actual times out of order",IF(AND(N15="Completed",OR(O15="",P15="",Q15="",R15="")),"Completed status missing actual times","OK")))))),"Review formula inputs")
H16: =IFERROR(IF(G16="","",VLOOKUP(G16,'Settings'!$A$13:$B$17,2,FALSE)),"") | I16: =IFERROR(IF(OR(F16="",H16=""),"",F16+H16/1440),"") | S16: =IFERROR(IF(OR(F16="",O16=""),"",ROUND((O16-F16)*1440,0)),"") | T16: =IFERROR(IF(OR(O16="",P16=""),"",MAX(0,ROUND((P16-O16)*1440,0))),"") | U16: =IFERROR(IF(OR(P16="",Q16=""),"",MAX(0,ROUND((Q16-P16)*1440,0))),"") | V16: =IFERROR(IF(OR(O16="",R16=""),"",MAX(0,ROUND((R16-O16)*1440,0))),"") | W16: =IFERROR(IF(V16="","",MAX(0,V16-'Settings'!$B$6)),"") | X16: =IFERROR(IF(W16="","",ROUND(W16/60*'Settings'!$B$7,2)),"") | Y16: =IFERROR(IF(OR(F16="",O16=""),"",IF(O16<=F16+'Settings'!$B$5/1440,"On Time","Late")),"") | Z16: =IFERROR(IF(OR(B16="",C16="",F16="",I16=""),"",IF(N16="Canceled","Not Applicable",IF(COUNTIFS($B$5:$B$204,B16,$C$5:$C$204,C16,$F$5:$F$204,"<"&I16,$I$5:$I$204,">"&F16,$N$5:$N$204,"<>Canceled")>1,"Conflict","Clear"))),"") | AA16: =IFERROR(IF(A16="","",IF(COUNTIF($A$5:$A$204,A16)>1,"Duplicate appointment ID",IF(OR(B16="",C16="",D16="",F16="",G16="",N16=""),"Missing required field",IF(OR(AND(O16="",OR(P16<>"",Q16<>"",R16<>"")),AND(P16="",OR(Q16<>"",R16<>"")),AND(Q16="",R16<>"")),"Actual time sequence incomplete",IF(OR(AND(O16<>"",P16<>"",P16<O16),AND(P16<>"",Q16<>"",Q16<P16),AND(Q16<>"",R16<>"",R16<Q16)),"Actual times out of order",IF(AND(N16="Completed",OR(O16="",P16="",Q16="",R16="")),"Completed status missing actual times","OK")))))),"Review formula inputs")
H17: =IFERROR(IF(G17="","",VLOOKUP(G17,'Settings'!$A$13:$B$17,2,FALSE)),"") | I17: =IFERROR(IF(OR(F17="",H17=""),"",F17+H17/1440),"") | S17: =IFERROR(IF(OR(F17="",O17=""),"",ROUND((O17-F17)*1440,0)),"") | T17: =IFERROR(IF(OR(O17="",P17=""),"",MAX(0,ROUND((P17-O17)*1440,0))),"") | U17: =IFERROR(IF(OR(P17="",Q17=""),"",MAX(0,ROUND((Q17-P17)*1440,0))),"") | V17: =IFERROR(IF(OR(O17="",R17=""),"",MAX(0,ROUND((R17-O17)*1440,0))),"") | W17: =IFERROR(IF(V17="","",MAX(0,V17-'Settings'!$B$6)),"") | X17: =IFERROR(IF(W17="","",ROUND(W17/60*'Settings'!$B$7,2)),"") | Y17: =IFERROR(IF(OR(F17="",O17=""),"",IF(O17<=F17+'Settings'!$B$5/1440,"On Time","Late")),"") | Z17: =IFERROR(IF(OR(B17="",C17="",F17="",I17=""),"",IF(N17="Canceled","Not Applicable",IF(COUNTIFS($B$5:$B$204,B17,$C$5:$C$204,C17,$F$5:$F$204,"<"&I17,$I$5:$I$204,">"&F17,$N$5:$N$204,"<>Canceled")>1,"Conflict","Clear"))),"") | AA17: =IFERROR(IF(A17="","",IF(COUNTIF($A$5:$A$204,A17)>1,"Duplicate appointment ID",IF(OR(B17="",C17="",D17="",F17="",G17="",N17=""),"Missing required field",IF(OR(AND(O17="",OR(P17<>"",Q17<>"",R17<>"")),AND(P17="",OR(Q17<>"",R17<>"")),AND(Q17="",R17<>"")),"Actual time sequence incomplete",IF(OR(AND(O17<>"",P17<>"",P17<O17),AND(P17<>"",Q17<>"",Q17<P17),AND(Q17<>"",R17<>"",R17<Q17)),"Actual times out of order",IF(AND(N17="Completed",OR(O17="",P17="",Q17="",R17="")),"Completed status missing actual times","OK")))))),"Review formula inputs")
H18: =IFERROR(IF(G18="","",VLOOKUP(G18,'Settings'!$A$13:$B$17,2,FALSE)),"") | I18: =IFERROR(IF(OR(F18="",H18=""),"",F18+H18/1440),"") | S18: =IFERROR(IF(OR(F18="",O18=""),"",ROUND((O18-F18)*1440,0)),"") | T18: =IFERROR(IF(OR(O18="",P18=""),"",MAX(0,ROUND((P18-O18)*1440,0))),"") | U18: =IFERROR(IF(OR(P18="",Q18=""),"",MAX(0,ROUND((Q18-P18)*1440,0))),"") | V18: =IFERROR(IF(OR(O18="",R18=""),"",MAX(0,ROUND((R18-O18)*1440,0))),"") | W18: =IFERROR(IF(V18="","",MAX(0,V18-'Settings'!$B$6)),"") | X18: =IFERROR(IF(W18="","",ROUND(W18/60*'Settings'!$B$7,2)),"") | Y18: =IFERROR(IF(OR(F18="",O18=""),"",IF(O18<=F18+'Settings'!$B$5/1440,"On Time","Late")),"") | Z18: =IFERROR(IF(OR(B18="",C18="",F18="",I18=""),"",IF(N18="Canceled","Not Applicable",IF(COUNTIFS($B$5:$B$204,B18,$C$5:$C$204,C18,$F$5:$F$204,"<"&I18,$I$5:$I$204,">"&F18,$N$5:$N$204,"<>Canceled")>1,"Conflict","Clear"))),"") | AA18: =IFERROR(IF(A18="","",IF(COUNTIF($A$5:$A$204,A18)>1,"Duplicate appointment ID",IF(OR(B18="",C18="",D18="",F18="",G18="",N18=""),"Missing required field",IF(OR(AND(O18="",OR(P18<>"",Q18<>"",R18<>"")),AND(P18="",OR(Q18<>"",R18<>"")),AND(Q18="",R18<>"")),"Actual time sequence incomplete",IF(OR(AND(O18<>"",P18<>"",P18<O18),AND(P18<>"",Q18<>"",Q18<P18),AND(Q18<>"",R18<>"",R18<Q18)),"Actual times out of order",IF(AND(N18="Completed",OR(O18="",P18="",Q18="",R18="")),"Completed status missing actual times","OK")))))),"Review formula inputs")
H19: =IFERROR(IF(G19="","",VLOOKUP(G19,'Settings'!$A$13:$B$17,2,FALSE)),"") | I19: =IFERROR(IF(OR(F19="",H19=""),"",F19+H19/1440),"") | S19: =IFERROR(IF(OR(F19="",O19=""),"",ROUND((O19-F19)*1440,0)),"") | T19: =IFERROR(IF(OR(O19="",P19=""),"",MAX(0,ROUND((P19-O19)*1440,0))),"") | U19: =IFERROR(IF(OR(P19="",Q19=""),"",MAX(0,ROUND((Q19-P19)*1440,0))),"") | V19: =IFERROR(IF(OR(O19="",R19=""),"",MAX(0,ROUND((R19-O19)*1440,0))),"") | W19: =IFERROR(IF(V19="","",MAX(0,V19-'Settings'!$B$6)),"") | X19: =IFERROR(IF(W19="","",ROUND(W19/60*'Settings'!$B$7,2)),"") | Y19: =IFERROR(IF(OR(F19="",O19=""),"",IF(O19<=F19+'Settings'!$B$5/1440,"On Time","Late")),"") | Z19: =IFERROR(IF(OR(B19="",C19="",F19="",I19=""),"",IF(N19="Canceled","Not Applicable",IF(COUNTIFS($B$5:$B$204,B19,$C$5:$C$204,C19,$F$5:$F$204,"<"&I19,$I$5:$I$204,">"&F19,$N$5:$N$204,"<>Canceled")>1,"Conflict","Clear"))),"") | AA19: =IFERROR(IF(A19="","",IF(COUNTIF($A$5:$A$204,A19)>1,"Duplicate appointment ID",IF(OR(B19="",C19="",D19="",F19="",G19="",N19=""),"Missing required field",IF(OR(AND(O19="",OR(P19<>"",Q19<>"",R19<>"")),AND(P19="",OR(Q19<>"",R19<>"")),AND(Q19="",R19<>"")),"Actual time sequence incomplete",IF(OR(AND(O19<>"",P19<>"",P19<O19),AND(P19<>"",Q19<>"",Q19<P19),AND(Q19<>"",R19<>"",R19<Q19)),"Actual times out of order",IF(AND(N19="Completed",OR(O19="",P19="",Q19="",R19="")),"Completed status missing actual times","OK")))))),"Review formula inputs")
H20: =IFERROR(IF(G20="","",VLOOKUP(G20,'Settings'!$A$13:$B$17,2,FALSE)),"") | I20: =IFERROR(IF(OR(F20="",H20=""),"",F20+H20/1440),"") | S20: =IFERROR(IF(OR(F20="",O20=""),"",ROUND((O20-F20)*1440,0)),"") | T20: =IFERROR(IF(OR(O20="",P20=""),"",MAX(0,ROUND((P20-O20)*1440,0))),"") | U20: =IFERROR(IF(OR(P20="",Q20=""),"",MAX(0,ROUND((Q20-P20)*1440,0))),"") | V20: =IFERROR(IF(OR(O20="",R20=""),"",MAX(0,ROUND((R20-O20)*1440,0))),"") | W20: =IFERROR(IF(V20="","",MAX(0,V20-'Settings'!$B$6)),"") | X20: =IFERROR(IF(W20="","",ROUND(W20/60*'Settings'!$B$7,2)),"") | Y20: =IFERROR(IF(OR(F20="",O20=""),"",IF(O20<=F20+'Settings'!$B$5/1440,"On Time","Late")),"") | Z20: =IFERROR(IF(OR(B20="",C20="",F20="",I20=""),"",IF(N20="Canceled","Not Applicable",IF(COUNTIFS($B$5:$B$204,B20,$C$5:$C$204,C20,$F$5:$F$204,"<"&I20,$I$5:$I$204,">"&F20,$N$5:$N$204,"<>Canceled")>1,"Conflict","Clear"))),"") | AA20: =IFERROR(IF(A20="","",IF(COUNTIF($A$5:$A$204,A20)>1,"Duplicate appointment ID",IF(OR(B20="",C20="",D20="",F20="",G20="",N20=""),"Missing required field",IF(OR(AND(O20="",OR(P20<>"",Q20<>"",R20<>"")),AND(P20="",OR(Q20<>"",R20<>"")),AND(Q20="",R20<>"")),"Actual time sequence incomplete",IF(OR(AND(O20<>"",P20<>"",P20<O20),AND(P20<>"",Q20<>"",Q20<P20),AND(Q20<>"",R20<>"",R20<Q20)),"Actual times out of order",IF(AND(N20="Completed",OR(O20="",P20="",Q20="",R20="")),"Completed status missing actual times","OK")))))),"Review formula inputs")
H21: =IFERROR(IF(G21="","",VLOOKUP(G21,'Settings'!$A$13:$B$17,2,FALSE)),"") | I21: =IFERROR(IF(OR(F21="",H21=""),"",F21+H21/1440),"") | S21: =IFERROR(IF(OR(F21="",O21=""),"",ROUND((O21-F21)*1440,0)),"") | T21: =IFERROR(IF(OR(O21="",P21=""),"",MAX(0,ROUND((P21-O21)*1440,0))),"") | U21: =IFERROR(IF(OR(P21="",Q21=""),"",MAX(0,ROUND((Q21-P21)*1440,0))),"") | V21: =IFERROR(IF(OR(O21="",R21=""),"",MAX(0,ROUND((R21-O21)*1440,0))),"") | W21: =IFERROR(IF(V21="","",MAX(0,V21-'Settings'!$B$6)),"") | X21: =IFERROR(IF(W21="","",ROUND(W21/60*'Settings'!$B$7,2)),"") | Y21: =IFERROR(IF(OR(F21="",O21=""),"",IF(O21<=F21+'Settings'!$B$5/1440,"On Time","Late")),"") | Z21: =IFERROR(IF(OR(B21="",C21="",F21="",I21=""),"",IF(N21="Canceled","Not Applicable",IF(COUNTIFS($B$5:$B$204,B21,$C$5:$C$204,C21,$F$5:$F$204,"<"&I21,$I$5:$I$204,">"&F21,$N$5:$N$204,"<>Canceled")>1,"Conflict","Clear"))),"") | AA21: =IFERROR(IF(A21="","",IF(COUNTIF($A$5:$A$204,A21)>1,"Duplicate appointment ID",IF(OR(B21="",C21="",D21="",F21="",G21="",N21=""),"Missing required field",IF(OR(AND(O21="",OR(P21<>"",Q21<>"",R21<>"")),AND(P21="",OR(Q21<>"",R21<>"")),AND(Q21="",R21<>"")),"Actual time sequence incomplete",IF(OR(AND(O21<>"",P21<>"",P21<O21),AND(P21<>"",Q21<>"",Q21<P21),AND(Q21<>"",R21<>"",R21<Q21)),"Actual times out of order",IF(AND(N21="Completed",OR(O21="",P21="",Q21="",R21="")),"Completed status missing actual times","OK")))))),"Review formula inputs")
H22: =IFERROR(IF(G22="","",VLOOKUP(G22,'Settings'!$A$13:$B$17,2,FALSE)),"") | I22: =IFERROR(IF(OR(F22="",H22=""),"",F22+H22/1440),"") | S22: =IFERROR(IF(OR(F22="",O22=""),"",ROUND((O22-F22)*1440,0)),"") | T22: =IFERROR(IF(OR(O22="",P22=""),"",MAX(0,ROUND((P22-O22)*1440,0))),"") | U22: =IFERROR(IF(OR(P22="",Q22=""),"",MAX(0,ROUND((Q22-P22)*1440,0))),"") | V22: =IFERROR(IF(OR(O22="",R22=""),"",MAX(0,ROUND((R22-O22)*1440,0))),"") | W22: =IFERROR(IF(V22="","",MAX(0,V22-'Settings'!$B$6)),"") | X22: =IFERROR(IF(W22="","",ROUND(W22/60*'Settings'!$B$7,2)),"") | Y22: =IFERROR(IF(OR(F22="",O22=""),"",IF(O22<=F22+'Settings'!$B$5/1440,"On Time","Late")),"") | Z22: =IFERROR(IF(OR(B22="",C22="",F22="",I22=""),"",IF(N22="Canceled","Not Applicable",IF(COUNTIFS($B$5:$B$204,B22,$C$5:$C$204,C22,$F$5:$F$204,"<"&I22,$I$5:$I$204,">"&F22,$N$5:$N$204,"<>Canceled")>1,"Conflict","Clear"))),"") | AA22: =IFERROR(IF(A22="","",IF(COUNTIF($A$5:$A$204,A22)>1,"Duplicate appointment ID",IF(OR(B22="",C22="",D22="",F22="",G22="",N22=""),"Missing required field",IF(OR(AND(O22="",OR(P22<>"",Q22<>"",R22<>"")),AND(P22="",OR(Q22<>"",R22<>"")),AND(Q22="",R22<>"")),"Actual time sequence incomplete",IF(OR(AND(O22<>"",P22<>"",P22<O22),AND(P22<>"",Q22<>"",Q22<P22),AND(Q22<>"",R22<>"",R22<Q22)),"Actual times out of order",IF(AND(N22="Completed",OR(O22="",P22="",Q22="",R22="")),"Completed status missing actual times","OK")))))),"Review formula inputs")
H23: =IFERROR(IF(G23="","",VLOOKUP(G23,'Settings'!$A$13:$B$17,2,FALSE)),"") | I23: =IFERROR(IF(OR(F23="",H23=""),"",F23+H23/1440),"") | S23: =IFERROR(IF(OR(F23="",O23=""),"",ROUND((O23-F23)*1440,0)),"") | T23: =IFERROR(IF(OR(O23="",P23=""),"",MAX(0,ROUND((P23-O23)*1440,0))),"") | U23: =IFERROR(IF(OR(P23="",Q23=""),"",MAX(0,ROUND((Q23-P23)*1440,0))),"") | V23: =IFERROR(IF(OR(O23="",R23=""),"",MAX(0,ROUND((R23-O23)*1440,0))),"") | W23: =IFERROR(IF(V23="","",MAX(0,V23-'Settings'!$B$6)),"") | X23: =IFERROR(IF(W23="","",ROUND(W23/60*'Settings'!$B$7,2)),"") | Y23: =IFERROR(IF(OR(F23="",O23=""),"",IF(O23<=F23+'Settings'!$B$5/1440,"On Time","Late")),"") | Z23: =IFERROR(IF(OR(B23="",C23="",F23="",I23=""),"",IF(N23="Canceled","Not Applicable",IF(COUNTIFS($B$5:$B$204,B23,$C$5:$C$204,C23,$F$5:$F$204,"<"&I23,$I$5:$I$204,">"&F23,$N$5:$N$204,"<>Canceled")>1,"Conflict","Clear"))),"") | AA23: =IFERROR(IF(A23="","",IF(COUNTIF($A$5:$A$204,A23)>1,"Duplicate appointment ID",IF(OR(B23="",C23="",D23="",F23="",G23="",N23=""),"Missing required field",IF(OR(AND(O23="",OR(P23<>"",Q23<>"",R23<>"")),AND(P23="",OR(Q23<>"",R23<>"")),AND(Q23="",R23<>"")),"Actual time sequence incomplete",IF(OR(AND(O23<>"",P23<>"",P23<O23),AND(P23<>"",Q23<>"",Q23<P23),AND(Q23<>"",R23<>"",R23<Q23)),"Actual times out of order",IF(AND(N23="Completed",OR(O23="",P23="",Q23="",R23="")),"Completed status missing actual times","OK")))))),"Review formula inputs")
H24: =IFERROR(IF(G24="","",VLOOKUP(G24,'Settings'!$A$13:$B$17,2,FALSE)),"") | I24: =IFERROR(IF(OR(F24="",H24=""),"",F24+H24/1440),"") | S24: =IFERROR(IF(OR(F24="",O24=""),"",ROUND((O24-F24)*1440,0)),"") | T24: =IFERROR(IF(OR(O24="",P24=""),"",MAX(0,ROUND((P24-O24)*1440,0))),"") | U24: =IFERROR(IF(OR(P24="",Q24=""),"",MAX(0,ROUND((Q24-P24)*1440,0))),"") | V24: =IFERROR(IF(OR(O24="",R24=""),"",MAX(0,ROUND((R24-O24)*1440,0))),"") | W24: =IFERROR(IF(V24="","",MAX(0,V24-'Settings'!$B$6)),"") | X24: =IFERROR(IF(W24="","",ROUND(W24/60*'Settings'!$B$7,2)),"") | Y24: =IFERROR(IF(OR(F24="",O24=""),"",IF(O24<=F24+'Settings'!$B$5/1440,"On Time","Late")),"") | Z24: =IFERROR(IF(OR(B24="",C24="",F24="",I24=""),"",IF(N24="Canceled","Not Applicable",IF(COUNTIFS($B$5:$B$204,B24,$C$5:$C$204,C24,$F$5:$F$204,"<"&I24,$I$5:$I$204,">"&F24,$N$5:$N$204,"<>Canceled")>1,"Conflict","Clear"))),"") | AA24: =IFERROR(IF(A24="","",IF(COUNTIF($A$5:$A$204,A24)>1,"Duplicate appointment ID",IF(OR(B24="",C24="",D24="",F24="",G24="",N24=""),"Missing required field",IF(OR(AND(O24="",OR(P24<>"",Q24<>"",R24<>"")),AND(P24="",OR(Q24<>"",R24<>"")),AND(Q24="",R24<>"")),"Actual time sequence incomplete",IF(OR(AND(O24<>"",P24<>"",P24<O24),AND(P24<>"",Q24<>"",Q24<P24),AND(Q24<>"",R24<>"",R24<Q24)),"Actual times out of order",IF(AND(N24="Completed",OR(O24="",P24="",Q24="",R24="")),"Completed status missing actual times","OK")))))),"Review formula inputs")
H25: =IFERROR(IF(G25="","",VLOOKUP(G25,'Settings'!$A$13:$B$17,2,FALSE)),"") | I25: =IFERROR(IF(OR(F25="",H25=""),"",F25+H25/1440),"") | S25: =IFERROR(IF(OR(F25="",O25=""),"",ROUND((O25-F25)*1440,0)),"") | T25: =IFERROR(IF(OR(O25="",P25=""),"",MAX(0,ROUND((P25-O25)*1440,0))),"") | U25: =IFERROR(IF(OR(P25="",Q25=""),"",MAX(0,ROUND((Q25-P25)*1440,0))),"") | V25: =IFERROR(IF(OR(O25="",R25=""),"",MAX(0,ROUND((R25-O25)*1440,0))),"") | W25: =IFERROR(IF(V25="","",MAX(0,V25-'Settings'!$B$6)),"") | X25: =IFERROR(IF(W25="","",ROUND(W25/60*'Settings'!$B$7,2)),"") | Y25: =IFERROR(IF(OR(F25="",O25=""),"",IF(O25<=F25+'Settings'!$B$5/1440,"On Time","Late")),"") | Z25: =IFERROR(IF(OR(B25="",C25="",F25="",I25=""),"",IF(N25="Canceled","Not Applicable",IF(COUNTIFS($B$5:$B$204,B25,$C$5:$C$204,C25,$F$5:$F$204,"<"&I25,$I$5:$I$204,">"&F25,$N$5:$N$204,"<>Canceled")>1,"Conflict","Clear"))),"") | AA25: =IFERROR(IF(A25="","",IF(COUNTIF($A$5:$A$204,A25)>1,"Duplicate appointment ID",IF(OR(B25="",C25="",D25="",F25="",G25="",N25=""),"Missing required field",IF(OR(AND(O25="",OR(P25<>"",Q25<>"",R25<>"")),AND(P25="",OR(Q25<>"",R25<>"")),AND(Q25="",R25<>"")),"Actual time sequence incomplete",IF(OR(AND(O25<>"",P25<>"",P25<O25),AND(P25<>"",Q25<>"",Q25<P25),AND(Q25<>"",R25<>"",R25<Q25)),"Actual times out of order",IF(AND(N25="Completed",OR(O25="",P25="",Q25="",R25="")),"Completed status missing actual times","OK")))))),"Review formula inputs")
H26: =IFERROR(IF(G26="","",VLOOKUP(G26,'Settings'!$A$13:$B$17,2,FALSE)),"") | I26: =IFERROR(IF(OR(F26="",H26=""),"",F26+H26/1440),"") | S26: =IFERROR(IF(OR(F26="",O26=""),"",ROUND((O26-F26)*1440,0)),"") | T26: =IFERROR(IF(OR(O26="",P26=""),"",MAX(0,ROUND((P26-O26)*1440,0))),"") | U26: =IFERROR(IF(OR(P26="",Q26=""),"",MAX(0,ROUND((Q26-P26)*1440,0))),"") | V26: =IFERROR(IF(OR(O26="",R26=""),"",MAX(0,ROUND((R26-O26)*1440,0))),"") | W26: =IFERROR(IF(V26="","",MAX(0,V26-'Settings'!$B$6)),"") | X26: =IFERROR(IF(W26="","",ROUND(W26/60*'Settings'!$B$7,2)),"") | Y26: =IFERROR(IF(OR(F26="",O26=""),"",IF(O26<=F26+'Settings'!$B$5/1440,"On Time","Late")),"") | Z26: =IFERROR(IF(OR(B26="",C26="",F26="",I26=""),"",IF(N26="Canceled","Not Applicable",IF(COUNTIFS($B$5:$B$204,B26,$C$5:$C$204,C26,$F$5:$F$204,"<"&I26,$I$5:$I$204,">"&F26,$N$5:$N$204,"<>Canceled")>1,"Conflict","Clear"))),"") | AA26: =IFERROR(IF(A26="","",IF(COUNTIF($A$5:$A$204,A26)>1,"Duplicate appointment ID",IF(OR(B26="",C26="",D26="",F26="",G26="",N26=""),"Missing required field",IF(OR(AND(O26="",OR(P26<>"",Q26<>"",R26<>"")),AND(P26="",OR(Q26<>"",R26<>"")),AND(Q26="",R26<>"")),"Actual time sequence incomplete",IF(OR(AND(O26<>"",P26<>"",P26<O26),AND(P26<>"",Q26<>"",Q26<P26),AND(Q26<>"",R26<>"",R26<Q26)),"Actual times out of order",IF(AND(N26="Completed",OR(O26="",P26="",Q26="",R26="")),"Completed status missing actual times","OK")))))),"Review formula inputs")
... H204: =IFERROR(IF(G204="","",VLOOKUP(G204,'Settings'!$A$13:$B$17,2,FALSE)),"") | I204: =IFERROR(IF(OR(F204="",H204=""),"",F204+H204/1440),"") | S204: =IFERROR(IF(OR(F204="",O204=""),"",ROUND((O204-F204)*1440,0)),"") | T204: =IFERROR(IF(OR(O204="",P204=""),"",MAX(0,ROUND((P204-O204)*1440,0))),"") | U204: =IFERROR(IF(OR(P204="",Q204=""),"",MAX(0,ROUND((Q204-P204)*1440,0))),"") | V204: =IFERROR(IF(OR(O204="",R204=""),"",MAX(0,ROUND((R204-O204)*1440,0))),"") | W204: =IFERROR(IF(V204="","",MAX(0,V204-'Settings'!$B$6)),"") | X204: =IFERROR(IF(W204="","",ROUND(W204/60*'Settings'!$B$7,2)),"") | Y204: =IFERROR(IF(OR(F204="",O204=""),"",IF(O204<=F204+'Settings'!$B$5/1440,"On Time","Late")),"") | Z204: =IFERROR(IF(OR(B204="",C204="",F204="",I204=""),"",IF(N204="Canceled","Not Applicable",IF(COUNTIFS($B$5:$B$204,B204,$C$5:$C$204,C204,$F$5:$F$204,"<"&I204,$I$5:$I$204,">"&F204,$N$5:$N$204,"<>Canceled")>1,"Conflict","Clear"))),"") | AA204: =IFERROR(IF(A204="","",IF(COUNTIF($A$5:$A$204,A204)>1,"Duplicate appointment ID",IF(OR(B204="",C204="",D204="",F204="",G204="",N204=""),"Missing required field",IF(OR(AND(O204="",OR(P204<>"",Q204<>"",R204<>"")),AND(P204="",OR(Q204<>"",R204<>"")),AND(Q204="",R204<>"")),"Actual time sequence incomplete",IF(OR(AND(O204<>"",P204<>"",P204<O204),AND(P204<>"",Q204<>"",Q204<P204),AND(Q204<>"",R204<>"",R204<Q204)),"Actual times out of order",IF(AND(N204="Completed",OR(O204="",P204="",Q204="",R204="")),"Completed status missing actual times","OK")))))),"Review formula inputs")

Sheet Settings
A1: Settings
A2: Update yellow assumption cells and list values as operating needs change. Blue cells calculate automatically.
A4: Assumption | B4: Value | C4: Description
A5: On-Time Grace (minutes) | B5: 15 | C5: Arrival is considered on time when check-in is no later than this many minutes after the scheduled arrival.
A6: Free Detention Time (minutes) | B6: 120 | C6: Turnaround time allowed before estimated detention begins.
A7: Detention Rate per Hour | B7: 75 | C7: Estimated hourly rate applied after free detention time.
A8: Earliest Allowed Date | B8: 43831 | C8: Earliest accepted appointment or actual event date.
A9: Latest Allowed Date | B9: 49674 | C9: Latest accepted appointment or actual event date.
A12: Appointment Type | B12: Planned Duration (min) | D12: Status Options | F12: Terminal | G12: Active Dock Doors | H12: Daily Operating Hours | I12: Daily Dock Capacity (hours) | K12: Dock Door Options | M12: Dashboard Terminal Filter Options
A13: Delivery | B13: 60 | D13: Scheduled | F13: Atlanta Terminal | G13: 4 | H13: 12 | I13: =IF(OR(G13="",H13=""),"",IFERROR(G13*H13,0)) | K13: Door 1 | M13: All Terminals
A14: Pickup | B14: 45 | D14: Checked In | F14: Dallas Terminal | G14: 3 | H14: 10 | I14: =IF(OR(G14="",H14=""),"",IFERROR(G14*H14,0)) | K14: Door 2 | M14: Atlanta Terminal
A15: Cross-Dock | B15: 90 | D15: At Dock | F15: Chicago Terminal | G15: 5 | H15: 12 | I15: =IF(OR(G15="",H15=""),"",IFERROR(G15*H15,0)) | K15: Door 3 | M15: Dallas Terminal
A16: Live Load | B16: 75 | D16: Completed | I16: =IF(OR(G16="",H16=""),"",IFERROR(G16*H16,0)) | K16: Door 4 | M16: Chicago Terminal
A17: Drop Trailer | B17: 30 | D17: Canceled | I17: =IF(OR(G17="",H17=""),"",IFERROR(G17*H17,0)) | K17: Door 5
D18: No Show | I18: =IF(OR(G18="",H18=""),"",IFERROR(G18*H18,0)) | K18: Door 6
I19: =IF(OR(G19="",H19=""),"",IFERROR(G19*H19,0))
A20: Editable lists and assumptions feed appointment validation, planned durations, capacity calculations, and estimated detention. | I20: =IF(OR(G20="",H20=""),"",IFERROR(G20*H20,0))
I21: =IF(OR(G21="",H21=""),"",IFERROR(G21*H21,0))
I22: =IF(OR(G22="",H22=""),"",IFERROR(G22*H22,0))
I23: =IF(OR(G23="",H23=""),"",IFERROR(G23*H23,0))
I24: =IF(OR(G24="",H24=""),"",IFERROR(G24*H24,0))
I25: =IF(OR(G25="",H25=""),"",IFERROR(G25*H25,0))
I26: =IF(OR(G26="",H26=""),"",IFERROR(G26*H26,0))
I27: =IF(OR(G27="",H27=""),"",IFERROR(G27*H27,0))
I28: =IF(OR(G28="",H28=""),"",IFERROR(G28*H28,0))
I29: =IF(OR(G29="",H29=""),"",IFERROR(G29*H29,0))
I30: =IF(OR(G30="",H30=""),"",IFERROR(G30*H30,0))
I31: =IF(OR(G31="",H31=""),"",IFERROR(G31*H31,0))
I32: =IF(OR(G32="",H32=""),"",IFERROR(G32*H32,0))
... I101: =IF(OR(G101="",H101=""),"",IFERROR(G101*H101,0))
