Workbook

Sheet Dashboard
A1: Team Driver Trip Planning Dashboard
A2: Route timing, driver assignments, fuel estimates, and planning checks
A4: Trip Overview
A5: Trip ID | B5: ='Settings'!$B$3 | D5: Planned Start | E5: ='Settings'!$B$4 | G5: Target Delivery | H5: ='Settings'!$B$5
A7: Total Miles | B7: =SUM('Trip Plan'!$E$7:$E$206) | D7: Planned Drive Hours | E7: =SUM('Trip Plan'!$H$7:$H$206) | G7: Planned Elapsed Hours | H7: =IFERROR((MAX('Trip Plan'!$L$7:$L$206)-MIN('Trip Plan'!$K$7:$K$206))*24,0)
A9: Estimated Gallons | B9: =SUM('Trip Plan'!$P$7:$P$206) | D9: Estimated Fuel Cost | E9: =SUM('Trip Plan'!$Q$7:$Q$206) | G9: Planned Arrival | H9: =IFERROR(MAX('Trip Plan'!$L$7:$L$206),"")
A11: Completed Legs | B11: =COUNTIF('Trip Plan'!$R$7:$R$206,"Completed") | D11: Total Legs | E11: =COUNT('Trip Plan'!$A$7:$A$206) | G11: Hours Before Target | H11: =IF(OR(H9="",'Settings'!$B$5=""),"",IFERROR(('Settings'!$B$5-H9)*24,""))
A13: Open Plan Alerts | B13: =COUNTIFS('Trip Plan'!$A$7:$A$206,">0",'Trip Plan'!$T$7:$T$206,"<>OK") | D13: Open-Leg Miles | E13: =SUMIFS('Trip Plan'!$E$7:$E$206,'Trip Plan'!$R$7:$R$206,"<>Completed") | G13: Current Trip Status | H13: =IF(E11=0,"No legs",IF(B11=E11,"Completed",IF(COUNTIF('Trip Plan'!$R$7:$R$206,"On Hold")>0,"On Hold",IF(COUNTIF('Trip Plan'!$R$7:$R$206,"In Progress")>0,"In Progress","Planned"))))
A16: Driver Summary
A17: Driver | B17: Planned Miles | C17: Planned Drive Hours | D17: Assignments | E17: Maximum Daily Hours | F17: Minimum Assignment Gap | G17: Daily Target Check | H17: Gap Check
A18: ='Settings'!$B$6 | B18: =SUMIF('Trip Plan'!$D$7:$D$206,$A18,'Trip Plan'!$E$7:$E$206) | C18: =SUMIF('Trip Plan'!$D$7:$D$206,$A18,'Trip Plan'!$H$7:$H$206) | D18: =COUNTIF('Trip Plan'!$D$7:$D$206,$A18) | E18: =MAX(B24:B30) | F18: =IF(COUNTIFS('Trip Plan'!$D$7:$D$206,$A18,'Trip Plan'!$N$7:$N$206,">0")=0,"",IFERROR(MINIFS('Trip Plan'!$N$7:$N$206,'Trip Plan'!$D$7:$D$206,$A18,'Trip Plan'!$N$7:$N$206,">0"),"")) | G18: =IF(E18>'Settings'!$B$11,"Review","OK") | H18: =IF(F18="","No prior assignment",IF(F18<'Settings'!$B$12,"Review","OK"))
A19: ='Settings'!$B$7 | B19: =SUMIF('Trip Plan'!$D$7:$D$206,$A19,'Trip Plan'!$E$7:$E$206) | C19: =SUMIF('Trip Plan'!$D$7:$D$206,$A19,'Trip Plan'!$H$7:$H$206) | D19: =COUNTIF('Trip Plan'!$D$7:$D$206,$A19) | E19: =MAX(C24:C30) | F19: =IF(COUNTIFS('Trip Plan'!$D$7:$D$206,$A19,'Trip Plan'!$N$7:$N$206,">0")=0,"",IFERROR(MINIFS('Trip Plan'!$N$7:$N$206,'Trip Plan'!$D$7:$D$206,$A19,'Trip Plan'!$N$7:$N$206,">0"),"")) | G19: =IF(E19>'Settings'!$B$11,"Review","OK") | H19: =IF(F19="","No prior assignment",IF(F19<'Settings'!$B$12,"Review","OK"))
H20: =""
H21: =""
A22: Planned Drive Hours by Departure Date — Planning Approximation | H22: =""
A23: Date | B23: ='Settings'!$B$6 | C23: ='Settings'!$B$7 | D23: Team Drive Hours | E23: Daily Check | H23: =""
A24: =IF('Settings'!$B$4="","",INT('Settings'!$B$4)+ROW()-24) | B24: =IF($A24="","",SUMIFS('Trip Plan'!$H$7:$H$206,'Trip Plan'!$D$7:$D$206,B$23,'Trip Plan'!$M$7:$M$206,$A24)) | C24: =IF($A24="","",SUMIFS('Trip Plan'!$H$7:$H$206,'Trip Plan'!$D$7:$D$206,C$23,'Trip Plan'!$M$7:$M$206,$A24)) | D24: =SUM(B24:C24) | E24: =IF(MAX(B24:C24)>'Settings'!$B$11,"Over internal target","OK") | H24: =""
A25: =IF('Settings'!$B$4="","",INT('Settings'!$B$4)+ROW()-24) | B25: =IF($A25="","",SUMIFS('Trip Plan'!$H$7:$H$206,'Trip Plan'!$D$7:$D$206,B$23,'Trip Plan'!$M$7:$M$206,$A25)) | C25: =IF($A25="","",SUMIFS('Trip Plan'!$H$7:$H$206,'Trip Plan'!$D$7:$D$206,C$23,'Trip Plan'!$M$7:$M$206,$A25)) | D25: =SUM(B25:C25) | E25: =IF(MAX(B25:C25)>'Settings'!$B$11,"Over internal target","OK") | H25: =""
A26: =IF('Settings'!$B$4="","",INT('Settings'!$B$4)+ROW()-24) | B26: =IF($A26="","",SUMIFS('Trip Plan'!$H$7:$H$206,'Trip Plan'!$D$7:$D$206,B$23,'Trip Plan'!$M$7:$M$206,$A26)) | C26: =IF($A26="","",SUMIFS('Trip Plan'!$H$7:$H$206,'Trip Plan'!$D$7:$D$206,C$23,'Trip Plan'!$M$7:$M$206,$A26)) | D26: =SUM(B26:C26) | E26: =IF(MAX(B26:C26)>'Settings'!$B$11,"Over internal target","OK") | H26: =""
A27: =IF('Settings'!$B$4="","",INT('Settings'!$B$4)+ROW()-24) | B27: =IF($A27="","",SUMIFS('Trip Plan'!$H$7:$H$206,'Trip Plan'!$D$7:$D$206,B$23,'Trip Plan'!$M$7:$M$206,$A27)) | C27: =IF($A27="","",SUMIFS('Trip Plan'!$H$7:$H$206,'Trip Plan'!$D$7:$D$206,C$23,'Trip Plan'!$M$7:$M$206,$A27)) | D27: =SUM(B27:C27) | E27: =IF(MAX(B27:C27)>'Settings'!$B$11,"Over internal target","OK") | H27: =""
A28: =IF('Settings'!$B$4="","",INT('Settings'!$B$4)+ROW()-24) | B28: =IF($A28="","",SUMIFS('Trip Plan'!$H$7:$H$206,'Trip Plan'!$D$7:$D$206,B$23,'Trip Plan'!$M$7:$M$206,$A28)) | C28: =IF($A28="","",SUMIFS('Trip Plan'!$H$7:$H$206,'Trip Plan'!$D$7:$D$206,C$23,'Trip Plan'!$M$7:$M$206,$A28)) | D28: =SUM(B28:C28) | E28: =IF(MAX(B28:C28)>'Settings'!$B$11,"Over internal target","OK") | H28: =""
A29: =IF('Settings'!$B$4="","",INT('Settings'!$B$4)+ROW()-24) | B29: =IF($A29="","",SUMIFS('Trip Plan'!$H$7:$H$206,'Trip Plan'!$D$7:$D$206,B$23,'Trip Plan'!$M$7:$M$206,$A29)) | C29: =IF($A29="","",SUMIFS('Trip Plan'!$H$7:$H$206,'Trip Plan'!$D$7:$D$206,C$23,'Trip Plan'!$M$7:$M$206,$A29)) | D29: =SUM(B29:C29) | E29: =IF(MAX(B29:C29)>'Settings'!$B$11,"Over internal target","OK") | H29: =""
A30: =IF('Settings'!$B$4="","",INT('Settings'!$B$4)+ROW()-24) | B30: =IF($A30="","",SUMIFS('Trip Plan'!$H$7:$H$206,'Trip Plan'!$D$7:$D$206,B$23,'Trip Plan'!$M$7:$M$206,$A30)) | C30: =IF($A30="","",SUMIFS('Trip Plan'!$H$7:$H$206,'Trip Plan'!$D$7:$D$206,C$23,'Trip Plan'!$M$7:$M$206,$A30)) | D30: =SUM(B30:C30) | E30: =IF(MAX(B30:C30)>'Settings'!$B$11,"Over internal target","OK") | H30: =""
A31: ="" | B31: ="" | C31: ="" | D31: ="" | E31: ="" | H31: =""
A32: Legend | B32: Yellow = User Input | C32: ="" | D32: Blue = Calculated | E32: ="" | H32: =""
A33: How to use: Update the assumptions and driver names on Settings, replace the sample route legs on Trip Plan, keep legs in ascending order, and update each leg’s status as the trip progresses. | B33: ="" | C33: ="" | D33: Planning note: Daily hours are assigned to the calendar date on which each leg departs and are not split at midnight. Assignment gaps and daily totals are planning aids only and are not driver logs or regulatory compliance determinations. | E33: ="" | H33: =""
A34: ="" | B34: ="" | C34: ="" | D34: ="" | E34: ="" | H34: =""
A35: ="" | B35: ="" | C35: ="" | D35: ="" | E35: ="" | H35: =""
A36: ="" | B36: ="" | C36: ="" | D36: ="" | E36: ="" | H36: =""
A37: ="" | B37: ="" | C37: ="" | D37: ="" | E37: ="" | H37: =""
A38: ="" | B38: ="" | C38: ="" | D38: ="" | E38: ="" | H38: =""
A39: ="" | B39: ="" | C39: ="" | D39: ="" | E39: ="" | H39: =""
A40: ="" | B40: ="" | C40: ="" | D40: ="" | E40: ="" | H40: =""
A41: ="" | B41: ="" | C41: ="" | D41: ="" | E41: ="" | H41: =""
A42: ="" | B42: ="" | C42: ="" | D42: ="" | E42: ="" | H42: =""
A43: ="" | B43: ="" | C43: ="" | D43: ="" | E43: ="" | H43: =""
A44: ="" | B44: ="" | C44: ="" | D44: ="" | E44: ="" | H44: =""
A45: ="" | B45: ="" | C45: ="" | D45: ="" | E45: ="" | H45: =""
... A101: ="" | B101: ="" | C101: ="" | D101: ="" | E101: ="" | H101: =""

Sheet Trip Plan
A1: Team Driver Trip Plan
A2: Enter route-leg details in yellow cells; blue cells calculate automatically
A3: Legend: | B3: Yellow = User Input | D3: Blue = Calculated
A4: Keep route legs in ascending order. Timing and assignment-gap calculations follow the physical row sequence.
A6: Leg # | B6: Origin | C6: Destination | D6: Assigned Driver | E6: Leg Miles | F6: Speed Override (mph) | G6: Planned Speed (mph) | H6: Planned Drive Hours | I6: Stop/Handoff Override (hours) | J6: Planned Stop/Handoff Hours | K6: Planned Departure | L6: Planned Arrival | M6: Departure Date | N6: Assignment Gap (hours) | O6: Cumulative Miles | P6: Estimated Gallons | Q6: Estimated Fuel Cost | R6: Status | S6: Notes | T6: Plan Check
A7: 1 | B7: Los Angeles, CA | C7: Barstow, CA | D7: Alex Martinez | E7: 115 | G7: =IF($A7="","",IFERROR(IF($F7="",'Settings'!$B$8,$F7),"")) | H7: =IF($A7="","",IFERROR($E7/$G7,"")) | J7: =IF($A7="","",IFERROR(IF($I7="",'Settings'!$B$13,$I7),"")) | K7: =IF($A7="","",'Settings'!$B$4) | L7: =IF($A7="","",IFERROR($K7+$H7/24,"")) | M7: =IF($K7="","",INT($K7)) | N7: ="" | O7: =IF($A7="","",SUM($E$7:$E7)) | P7: =IF($A7="","",IFERROR($E7/'Settings'!$B$9,"")) | Q7: =IF($A7="","",IFERROR($P7*'Settings'!$B$10,"")) | R7: Completed | S7: Depart shipper; verify paperwork | T7: =IF($A7="","",IF($B7="","Missing origin",IF($C7="","Missing destination",IF($D7="","Assign driver",IF(OR($E7<=0,$G7<=0),"Check miles/speed",IF(COUNTIF($A$7:$A$206,$A7)>1,"Duplicate leg number",IF(OR(AND(ROW()=7,$A7<>1),AND(ROW()>7,$A7<>IFERROR($A6+1,$A7))),"Check leg sequence",IF(AND($N7<>"",$N7<'Settings'!$B$12),"Short assignment gap",IF(AND('Settings'!$B$5<>"",$L7>'Settings'!$B$5),"After target delivery","OK")))))))))
A8: 2 | B8: Barstow, CA | C8: Kingman, AZ | D8: Morgan Lee | E8: 206 | G8: =IF($A8="","",IFERROR(IF($F8="",'Settings'!$B$8,$F8),"")) | H8: =IF($A8="","",IFERROR($E8/$G8,"")) | I8: 0.5 | J8: =IF($A8="","",IFERROR(IF($I8="",'Settings'!$B$13,$I8),"")) | K8: =IF($A8="","",IFERROR($L7+$J7/24,"")) | L8: =IF($A8="","",IFERROR($K8+$H8/24,"")) | M8: =IF($K8="","",INT($K8)) | N8: =IF($A8="","",IFERROR(($K8-LOOKUP(2,1/($D$7:$D7=$D8),$L$7:$L7))*24,"")) | O8: =IF($A8="","",SUM($E$7:$E8)) | P8: =IF($A8="","",IFERROR($E8/'Settings'!$B$9,"")) | Q8: =IF($A8="","",IFERROR($P8*'Settings'!$B$10,"")) | R8: Completed | S8: Fuel and driver handoff | T8: =IF($A8="","",IF($B8="","Missing origin",IF($C8="","Missing destination",IF($D8="","Assign driver",IF(OR($E8<=0,$G8<=0),"Check miles/speed",IF(COUNTIF($A$7:$A$206,$A8)>1,"Duplicate leg number",IF(OR(AND(ROW()=7,$A8<>1),AND(ROW()>7,$A8<>IFERROR($A7+1,$A8))),"Check leg sequence",IF(AND($N8<>"",$N8<'Settings'!$B$12),"Short assignment gap",IF(AND('Settings'!$B$5<>"",$L8>'Settings'!$B$5),"After target delivery","OK")))))))))
A9: 3 | B9: Kingman, AZ | C9: Flagstaff, AZ | D9: Alex Martinez | E9: 146 | F9: 50 | G9: =IF($A9="","",IFERROR(IF($F9="",'Settings'!$B$8,$F9),"")) | H9: =IF($A9="","",IFERROR($E9/$G9,"")) | J9: =IF($A9="","",IFERROR(IF($I9="",'Settings'!$B$13,$I9),"")) | K9: =IF($A9="","",IFERROR($L8+$J8/24,"")) | L9: =IF($A9="","",IFERROR($K9+$H9/24,"")) | M9: =IF($K9="","",INT($K9)) | N9: =IF($A9="","",IFERROR(($K9-LOOKUP(2,1/($D$7:$D8=$D9),$L$7:$L8))*24,"")) | O9: =IF($A9="","",SUM($E$7:$E9)) | P9: =IF($A9="","",IFERROR($E9/'Settings'!$B$9,"")) | Q9: =IF($A9="","",IFERROR($P9*'Settings'!$B$10,"")) | R9: In Progress | S9: Mountain grade; use lower planning speed | T9: =IF($A9="","",IF($B9="","Missing origin",IF($C9="","Missing destination",IF($D9="","Assign driver",IF(OR($E9<=0,$G9<=0),"Check miles/speed",IF(COUNTIF($A$7:$A$206,$A9)>1,"Duplicate leg number",IF(OR(AND(ROW()=7,$A9<>1),AND(ROW()>7,$A9<>IFERROR($A8+1,$A9))),"Check leg sequence",IF(AND($N9<>"",$N9<'Settings'!$B$12),"Short assignment gap",IF(AND('Settings'!$B$5<>"",$L9>'Settings'!$B$5),"After target delivery","OK")))))))))
A10: 4 | B10: Flagstaff, AZ | C10: Gallup, NM | D10: Morgan Lee | E10: 188 | G10: =IF($A10="","",IFERROR(IF($F10="",'Settings'!$B$8,$F10),"")) | H10: =IF($A10="","",IFERROR($E10/$G10,"")) | I10: 0.5 | J10: =IF($A10="","",IFERROR(IF($I10="",'Settings'!$B$13,$I10),"")) | K10: =IF($A10="","",IFERROR($L9+$J9/24,"")) | L10: =IF($A10="","",IFERROR($K10+$H10/24,"")) | M10: =IF($K10="","",INT($K10)) | N10: =IF($A10="","",IFERROR(($K10-LOOKUP(2,1/($D$7:$D9=$D10),$L$7:$L9))*24,"")) | O10: =IF($A10="","",SUM($E$7:$E10)) | P10: =IF($A10="","",IFERROR($E10/'Settings'!$B$9,"")) | Q10: =IF($A10="","",IFERROR($P10*'Settings'!$B$10,"")) | R10: Planned | S10: Meal and fuel stop | T10: =IF($A10="","",IF($B10="","Missing origin",IF($C10="","Missing destination",IF($D10="","Assign driver",IF(OR($E10<=0,$G10<=0),"Check miles/speed",IF(COUNTIF($A$7:$A$206,$A10)>1,"Duplicate leg number",IF(OR(AND(ROW()=7,$A10<>1),AND(ROW()>7,$A10<>IFERROR($A9+1,$A10))),"Check leg sequence",IF(AND($N10<>"",$N10<'Settings'!$B$12),"Short assignment gap",IF(AND('Settings'!$B$5<>"",$L10>'Settings'!$B$5),"After target delivery","OK")))))))))
A11: 5 | B11: Gallup, NM | C11: Albuquerque, NM | D11: Alex Martinez | E11: 138 | G11: =IF($A11="","",IFERROR(IF($F11="",'Settings'!$B$8,$F11),"")) | H11: =IF($A11="","",IFERROR($E11/$G11,"")) | J11: =IF($A11="","",IFERROR(IF($I11="",'Settings'!$B$13,$I11),"")) | K11: =IF($A11="","",IFERROR($L10+$J10/24,"")) | L11: =IF($A11="","",IFERROR($K11+$H11/24,"")) | M11: =IF($K11="","",INT($K11)) | N11: =IF($A11="","",IFERROR(($K11-LOOKUP(2,1/($D$7:$D10=$D11),$L$7:$L10))*24,"")) | O11: =IF($A11="","",SUM($E$7:$E11)) | P11: =IF($A11="","",IFERROR($E11/'Settings'!$B$9,"")) | Q11: =IF($A11="","",IFERROR($P11*'Settings'!$B$10,"")) | R11: Planned | S11: Driver handoff | T11: =IF($A11="","",IF($B11="","Missing origin",IF($C11="","Missing destination",IF($D11="","Assign driver",IF(OR($E11<=0,$G11<=0),"Check miles/speed",IF(COUNTIF($A$7:$A$206,$A11)>1,"Duplicate leg number",IF(OR(AND(ROW()=7,$A11<>1),AND(ROW()>7,$A11<>IFERROR($A10+1,$A11))),"Check leg sequence",IF(AND($N11<>"",$N11<'Settings'!$B$12),"Short assignment gap",IF(AND('Settings'!$B$5<>"",$L11>'Settings'!$B$5),"After target delivery","OK")))))))))
A12: 6 | B12: Albuquerque, NM | C12: Amarillo, TX | D12: Morgan Lee | E12: 289 | F12: 58 | G12: =IF($A12="","",IFERROR(IF($F12="",'Settings'!$B$8,$F12),"")) | H12: =IF($A12="","",IFERROR($E12/$G12,"")) | I12: 0.75 | J12: =IF($A12="","",IFERROR(IF($I12="",'Settings'!$B$13,$I12),"")) | K12: =IF($A12="","",IFERROR($L11+$J11/24,"")) | L12: =IF($A12="","",IFERROR($K12+$H12/24,"")) | M12: =IF($K12="","",INT($K12)) | N12: =IF($A12="","",IFERROR(($K12-LOOKUP(2,1/($D$7:$D11=$D12),$L$7:$L11))*24,"")) | O12: =IF($A12="","",SUM($E$7:$E12)) | P12: =IF($A12="","",IFERROR($E12/'Settings'!$B$9,"")) | Q12: =IF($A12="","",IFERROR($P12*'Settings'!$B$10,"")) | R12: Planned | S12: Long fuel and meal stop | T12: =IF($A12="","",IF($B12="","Missing origin",IF($C12="","Missing destination",IF($D12="","Assign driver",IF(OR($E12<=0,$G12<=0),"Check miles/speed",IF(COUNTIF($A$7:$A$206,$A12)>1,"Duplicate leg number",IF(OR(AND(ROW()=7,$A12<>1),AND(ROW()>7,$A12<>IFERROR($A11+1,$A12))),"Check leg sequence",IF(AND($N12<>"",$N12<'Settings'!$B$12),"Short assignment gap",IF(AND('Settings'!$B$5<>"",$L12>'Settings'!$B$5),"After target delivery","OK")))))))))
A13: 7 | B13: Amarillo, TX | C13: Oklahoma City, OK | D13: Alex Martinez | E13: 260 | G13: =IF($A13="","",IFERROR(IF($F13="",'Settings'!$B$8,$F13),"")) | H13: =IF($A13="","",IFERROR($E13/$G13,"")) | I13: 0.25 | J13: =IF($A13="","",IFERROR(IF($I13="",'Settings'!$B$13,$I13),"")) | K13: =IF($A13="","",IFERROR($L12+$J12/24,"")) | L13: =IF($A13="","",IFERROR($K13+$H13/24,"")) | M13: =IF($K13="","",INT($K13)) | N13: =IF($A13="","",IFERROR(($K13-LOOKUP(2,1/($D$7:$D12=$D13),$L$7:$L12))*24,"")) | O13: =IF($A13="","",SUM($E$7:$E13)) | P13: =IF($A13="","",IFERROR($E13/'Settings'!$B$9,"")) | Q13: =IF($A13="","",IFERROR($P13*'Settings'!$B$10,"")) | R13: Planned | S13: Planned handoff | T13: =IF($A13="","",IF($B13="","Missing origin",IF($C13="","Missing destination",IF($D13="","Assign driver",IF(OR($E13<=0,$G13<=0),"Check miles/speed",IF(COUNTIF($A$7:$A$206,$A13)>1,"Duplicate leg number",IF(OR(AND(ROW()=7,$A13<>1),AND(ROW()>7,$A13<>IFERROR($A12+1,$A13))),"Check leg sequence",IF(AND($N13<>"",$N13<'Settings'!$B$12),"Short assignment gap",IF(AND('Settings'!$B$5<>"",$L13>'Settings'!$B$5),"After target delivery","OK")))))))))
A14: 8 | B14: Oklahoma City, OK | C14: Little Rock, AR | D14: Morgan Lee | E14: 339 | F14: 52 | G14: =IF($A14="","",IFERROR(IF($F14="",'Settings'!$B$8,$F14),"")) | H14: =IF($A14="","",IFERROR($E14/$G14,"")) | I14: 0.5 | J14: =IF($A14="","",IFERROR(IF($I14="",'Settings'!$B$13,$I14),"")) | K14: =IF($A14="","",IFERROR($L13+$J13/24,"")) | L14: =IF($A14="","",IFERROR($K14+$H14/24,"")) | M14: =IF($K14="","",INT($K14)) | N14: =IF($A14="","",IFERROR(($K14-LOOKUP(2,1/($D$7:$D13=$D14),$L$7:$L13))*24,"")) | O14: =IF($A14="","",SUM($E$7:$E14)) | P14: =IF($A14="","",IFERROR($E14/'Settings'!$B$9,"")) | Q14: =IF($A14="","",IFERROR($P14*'Settings'!$B$10,"")) | R14: Planned | S14: Fuel stop | T14: =IF($A14="","",IF($B14="","Missing origin",IF($C14="","Missing destination",IF($D14="","Assign driver",IF(OR($E14<=0,$G14<=0),"Check miles/speed",IF(COUNTIF($A$7:$A$206,$A14)>1,"Duplicate leg number",IF(OR(AND(ROW()=7,$A14<>1),AND(ROW()>7,$A14<>IFERROR($A13+1,$A14))),"Check leg sequence",IF(AND($N14<>"",$N14<'Settings'!$B$12),"Short assignment gap",IF(AND('Settings'!$B$5<>"",$L14>'Settings'!$B$5),"After target delivery","OK")))))))))
A15: 9 | B15: Little Rock, AR | C15: Memphis, TN | D15: Alex Martinez | E15: 137 | G15: =IF($A15="","",IFERROR(IF($F15="",'Settings'!$B$8,$F15),"")) | H15: =IF($A15="","",IFERROR($E15/$G15,"")) | I15: 0.25 | J15: =IF($A15="","",IFERROR(IF($I15="",'Settings'!$B$13,$I15),"")) | K15: =IF($A15="","",IFERROR($L14+$J14/24,"")) | L15: =IF($A15="","",IFERROR($K15+$H15/24,"")) | M15: =IF($K15="","",INT($K15)) | N15: =IF($A15="","",IFERROR(($K15-LOOKUP(2,1/($D$7:$D14=$D15),$L$7:$L14))*24,"")) | O15: =IF($A15="","",SUM($E$7:$E15)) | P15: =IF($A15="","",IFERROR($E15/'Settings'!$B$9,"")) | Q15: =IF($A15="","",IFERROR($P15*'Settings'!$B$10,"")) | R15: Planned | S15: Quick handoff | T15: =IF($A15="","",IF($B15="","Missing origin",IF($C15="","Missing destination",IF($D15="","Assign driver",IF(OR($E15<=0,$G15<=0),"Check miles/speed",IF(COUNTIF($A$7:$A$206,$A15)>1,"Duplicate leg number",IF(OR(AND(ROW()=7,$A15<>1),AND(ROW()>7,$A15<>IFERROR($A14+1,$A15))),"Check leg sequence",IF(AND($N15<>"",$N15<'Settings'!$B$12),"Short assignment gap",IF(AND('Settings'!$B$5<>"",$L15>'Settings'!$B$5),"After target delivery","OK")))))))))
A16: 10 | B16: Memphis, TN | C16: Atlanta, GA | D16: Morgan Lee | E16: 384 | G16: =IF($A16="","",IFERROR(IF($F16="",'Settings'!$B$8,$F16),"")) | H16: =IF($A16="","",IFERROR($E16/$G16,"")) | I16: 0 | J16: =IF($A16="","",IFERROR(IF($I16="",'Settings'!$B$13,$I16),"")) | K16: =IF($A16="","",IFERROR($L15+$J15/24,"")) | L16: =IF($A16="","",IFERROR($K16+$H16/24,"")) | M16: =IF($K16="","",INT($K16)) | N16: =IF($A16="","",IFERROR(($K16-LOOKUP(2,1/($D$7:$D15=$D16),$L$7:$L15))*24,"")) | O16: =IF($A16="","",SUM($E$7:$E16)) | P16: =IF($A16="","",IFERROR($E16/'Settings'!$B$9,"")) | Q16: =IF($A16="","",IFERROR($P16*'Settings'!$B$10,"")) | R16: Planned | S16: Final delivery leg | T16: =IF($A16="","",IF($B16="","Missing origin",IF($C16="","Missing destination",IF($D16="","Assign driver",IF(OR($E16<=0,$G16<=0),"Check miles/speed",IF(COUNTIF($A$7:$A$206,$A16)>1,"Duplicate leg number",IF(OR(AND(ROW()=7,$A16<>1),AND(ROW()>7,$A16<>IFERROR($A15+1,$A16))),"Check leg sequence",IF(AND($N16<>"",$N16<'Settings'!$B$12),"Short assignment gap",IF(AND('Settings'!$B$5<>"",$L16>'Settings'!$B$5),"After target delivery","OK")))))))))
G17: =IF($A17="","",IFERROR(IF($F17="",'Settings'!$B$8,$F17),"")) | H17: =IF($A17="","",IFERROR($E17/$G17,"")) | J17: =IF($A17="","",IFERROR(IF($I17="",'Settings'!$B$13,$I17),"")) | K17: =IF($A17="","",IFERROR($L16+$J16/24,"")) | L17: =IF($A17="","",IFERROR($K17+$H17/24,"")) | M17: =IF($K17="","",INT($K17)) | N17: =IF($A17="","",IFERROR(($K17-LOOKUP(2,1/($D$7:$D16=$D17),$L$7:$L16))*24,"")) | O17: =IF($A17="","",SUM($E$7:$E17)) | P17: =IF($A17="","",IFERROR($E17/'Settings'!$B$9,"")) | Q17: =IF($A17="","",IFERROR($P17*'Settings'!$B$10,"")) | T17: =IF($A17="","",IF($B17="","Missing origin",IF($C17="","Missing destination",IF($D17="","Assign driver",IF(OR($E17<=0,$G17<=0),"Check miles/speed",IF(COUNTIF($A$7:$A$206,$A17)>1,"Duplicate leg number",IF(OR(AND(ROW()=7,$A17<>1),AND(ROW()>7,$A17<>IFERROR($A16+1,$A17))),"Check leg sequence",IF(AND($N17<>"",$N17<'Settings'!$B$12),"Short assignment gap",IF(AND('Settings'!$B$5<>"",$L17>'Settings'!$B$5),"After target delivery","OK")))))))))
G18: =IF($A18="","",IFERROR(IF($F18="",'Settings'!$B$8,$F18),"")) | H18: =IF($A18="","",IFERROR($E18/$G18,"")) | J18: =IF($A18="","",IFERROR(IF($I18="",'Settings'!$B$13,$I18),"")) | K18: =IF($A18="","",IFERROR($L17+$J17/24,"")) | L18: =IF($A18="","",IFERROR($K18+$H18/24,"")) | M18: =IF($K18="","",INT($K18)) | N18: =IF($A18="","",IFERROR(($K18-LOOKUP(2,1/($D$7:$D17=$D18),$L$7:$L17))*24,"")) | O18: =IF($A18="","",SUM($E$7:$E18)) | P18: =IF($A18="","",IFERROR($E18/'Settings'!$B$9,"")) | Q18: =IF($A18="","",IFERROR($P18*'Settings'!$B$10,"")) | T18: =IF($A18="","",IF($B18="","Missing origin",IF($C18="","Missing destination",IF($D18="","Assign driver",IF(OR($E18<=0,$G18<=0),"Check miles/speed",IF(COUNTIF($A$7:$A$206,$A18)>1,"Duplicate leg number",IF(OR(AND(ROW()=7,$A18<>1),AND(ROW()>7,$A18<>IFERROR($A17+1,$A18))),"Check leg sequence",IF(AND($N18<>"",$N18<'Settings'!$B$12),"Short assignment gap",IF(AND('Settings'!$B$5<>"",$L18>'Settings'!$B$5),"After target delivery","OK")))))))))
G19: =IF($A19="","",IFERROR(IF($F19="",'Settings'!$B$8,$F19),"")) | H19: =IF($A19="","",IFERROR($E19/$G19,"")) | J19: =IF($A19="","",IFERROR(IF($I19="",'Settings'!$B$13,$I19),"")) | K19: =IF($A19="","",IFERROR($L18+$J18/24,"")) | L19: =IF($A19="","",IFERROR($K19+$H19/24,"")) | M19: =IF($K19="","",INT($K19)) | N19: =IF($A19="","",IFERROR(($K19-LOOKUP(2,1/($D$7:$D18=$D19),$L$7:$L18))*24,"")) | O19: =IF($A19="","",SUM($E$7:$E19)) | P19: =IF($A19="","",IFERROR($E19/'Settings'!$B$9,"")) | Q19: =IF($A19="","",IFERROR($P19*'Settings'!$B$10,"")) | T19: =IF($A19="","",IF($B19="","Missing origin",IF($C19="","Missing destination",IF($D19="","Assign driver",IF(OR($E19<=0,$G19<=0),"Check miles/speed",IF(COUNTIF($A$7:$A$206,$A19)>1,"Duplicate leg number",IF(OR(AND(ROW()=7,$A19<>1),AND(ROW()>7,$A19<>IFERROR($A18+1,$A19))),"Check leg sequence",IF(AND($N19<>"",$N19<'Settings'!$B$12),"Short assignment gap",IF(AND('Settings'!$B$5<>"",$L19>'Settings'!$B$5),"After target delivery","OK")))))))))
G20: =IF($A20="","",IFERROR(IF($F20="",'Settings'!$B$8,$F20),"")) | H20: =IF($A20="","",IFERROR($E20/$G20,"")) | J20: =IF($A20="","",IFERROR(IF($I20="",'Settings'!$B$13,$I20),"")) | K20: =IF($A20="","",IFERROR($L19+$J19/24,"")) | L20: =IF($A20="","",IFERROR($K20+$H20/24,"")) | M20: =IF($K20="","",INT($K20)) | N20: =IF($A20="","",IFERROR(($K20-LOOKUP(2,1/($D$7:$D19=$D20),$L$7:$L19))*24,"")) | O20: =IF($A20="","",SUM($E$7:$E20)) | P20: =IF($A20="","",IFERROR($E20/'Settings'!$B$9,"")) | Q20: =IF($A20="","",IFERROR($P20*'Settings'!$B$10,"")) | T20: =IF($A20="","",IF($B20="","Missing origin",IF($C20="","Missing destination",IF($D20="","Assign driver",IF(OR($E20<=0,$G20<=0),"Check miles/speed",IF(COUNTIF($A$7:$A$206,$A20)>1,"Duplicate leg number",IF(OR(AND(ROW()=7,$A20<>1),AND(ROW()>7,$A20<>IFERROR($A19+1,$A20))),"Check leg sequence",IF(AND($N20<>"",$N20<'Settings'!$B$12),"Short assignment gap",IF(AND('Settings'!$B$5<>"",$L20>'Settings'!$B$5),"After target delivery","OK")))))))))
G21: =IF($A21="","",IFERROR(IF($F21="",'Settings'!$B$8,$F21),"")) | H21: =IF($A21="","",IFERROR($E21/$G21,"")) | J21: =IF($A21="","",IFERROR(IF($I21="",'Settings'!$B$13,$I21),"")) | K21: =IF($A21="","",IFERROR($L20+$J20/24,"")) | L21: =IF($A21="","",IFERROR($K21+$H21/24,"")) | M21: =IF($K21="","",INT($K21)) | N21: =IF($A21="","",IFERROR(($K21-LOOKUP(2,1/($D$7:$D20=$D21),$L$7:$L20))*24,"")) | O21: =IF($A21="","",SUM($E$7:$E21)) | P21: =IF($A21="","",IFERROR($E21/'Settings'!$B$9,"")) | Q21: =IF($A21="","",IFERROR($P21*'Settings'!$B$10,"")) | T21: =IF($A21="","",IF($B21="","Missing origin",IF($C21="","Missing destination",IF($D21="","Assign driver",IF(OR($E21<=0,$G21<=0),"Check miles/speed",IF(COUNTIF($A$7:$A$206,$A21)>1,"Duplicate leg number",IF(OR(AND(ROW()=7,$A21<>1),AND(ROW()>7,$A21<>IFERROR($A20+1,$A21))),"Check leg sequence",IF(AND($N21<>"",$N21<'Settings'!$B$12),"Short assignment gap",IF(AND('Settings'!$B$5<>"",$L21>'Settings'!$B$5),"After target delivery","OK")))))))))
G22: =IF($A22="","",IFERROR(IF($F22="",'Settings'!$B$8,$F22),"")) | H22: =IF($A22="","",IFERROR($E22/$G22,"")) | J22: =IF($A22="","",IFERROR(IF($I22="",'Settings'!$B$13,$I22),"")) | K22: =IF($A22="","",IFERROR($L21+$J21/24,"")) | L22: =IF($A22="","",IFERROR($K22+$H22/24,"")) | M22: =IF($K22="","",INT($K22)) | N22: =IF($A22="","",IFERROR(($K22-LOOKUP(2,1/($D$7:$D21=$D22),$L$7:$L21))*24,"")) | O22: =IF($A22="","",SUM($E$7:$E22)) | P22: =IF($A22="","",IFERROR($E22/'Settings'!$B$9,"")) | Q22: =IF($A22="","",IFERROR($P22*'Settings'!$B$10,"")) | T22: =IF($A22="","",IF($B22="","Missing origin",IF($C22="","Missing destination",IF($D22="","Assign driver",IF(OR($E22<=0,$G22<=0),"Check miles/speed",IF(COUNTIF($A$7:$A$206,$A22)>1,"Duplicate leg number",IF(OR(AND(ROW()=7,$A22<>1),AND(ROW()>7,$A22<>IFERROR($A21+1,$A22))),"Check leg sequence",IF(AND($N22<>"",$N22<'Settings'!$B$12),"Short assignment gap",IF(AND('Settings'!$B$5<>"",$L22>'Settings'!$B$5),"After target delivery","OK")))))))))
G23: =IF($A23="","",IFERROR(IF($F23="",'Settings'!$B$8,$F23),"")) | H23: =IF($A23="","",IFERROR($E23/$G23,"")) | J23: =IF($A23="","",IFERROR(IF($I23="",'Settings'!$B$13,$I23),"")) | K23: =IF($A23="","",IFERROR($L22+$J22/24,"")) | L23: =IF($A23="","",IFERROR($K23+$H23/24,"")) | M23: =IF($K23="","",INT($K23)) | N23: =IF($A23="","",IFERROR(($K23-LOOKUP(2,1/($D$7:$D22=$D23),$L$7:$L22))*24,"")) | O23: =IF($A23="","",SUM($E$7:$E23)) | P23: =IF($A23="","",IFERROR($E23/'Settings'!$B$9,"")) | Q23: =IF($A23="","",IFERROR($P23*'Settings'!$B$10,"")) | T23: =IF($A23="","",IF($B23="","Missing origin",IF($C23="","Missing destination",IF($D23="","Assign driver",IF(OR($E23<=0,$G23<=0),"Check miles/speed",IF(COUNTIF($A$7:$A$206,$A23)>1,"Duplicate leg number",IF(OR(AND(ROW()=7,$A23<>1),AND(ROW()>7,$A23<>IFERROR($A22+1,$A23))),"Check leg sequence",IF(AND($N23<>"",$N23<'Settings'!$B$12),"Short assignment gap",IF(AND('Settings'!$B$5<>"",$L23>'Settings'!$B$5),"After target delivery","OK")))))))))
G24: =IF($A24="","",IFERROR(IF($F24="",'Settings'!$B$8,$F24),"")) | H24: =IF($A24="","",IFERROR($E24/$G24,"")) | J24: =IF($A24="","",IFERROR(IF($I24="",'Settings'!$B$13,$I24),"")) | K24: =IF($A24="","",IFERROR($L23+$J23/24,"")) | L24: =IF($A24="","",IFERROR($K24+$H24/24,"")) | M24: =IF($K24="","",INT($K24)) | N24: =IF($A24="","",IFERROR(($K24-LOOKUP(2,1/($D$7:$D23=$D24),$L$7:$L23))*24,"")) | O24: =IF($A24="","",SUM($E$7:$E24)) | P24: =IF($A24="","",IFERROR($E24/'Settings'!$B$9,"")) | Q24: =IF($A24="","",IFERROR($P24*'Settings'!$B$10,"")) | T24: =IF($A24="","",IF($B24="","Missing origin",IF($C24="","Missing destination",IF($D24="","Assign driver",IF(OR($E24<=0,$G24<=0),"Check miles/speed",IF(COUNTIF($A$7:$A$206,$A24)>1,"Duplicate leg number",IF(OR(AND(ROW()=7,$A24<>1),AND(ROW()>7,$A24<>IFERROR($A23+1,$A24))),"Check leg sequence",IF(AND($N24<>"",$N24<'Settings'!$B$12),"Short assignment gap",IF(AND('Settings'!$B$5<>"",$L24>'Settings'!$B$5),"After target delivery","OK")))))))))
G25: =IF($A25="","",IFERROR(IF($F25="",'Settings'!$B$8,$F25),"")) | H25: =IF($A25="","",IFERROR($E25/$G25,"")) | J25: =IF($A25="","",IFERROR(IF($I25="",'Settings'!$B$13,$I25),"")) | K25: =IF($A25="","",IFERROR($L24+$J24/24,"")) | L25: =IF($A25="","",IFERROR($K25+$H25/24,"")) | M25: =IF($K25="","",INT($K25)) | N25: =IF($A25="","",IFERROR(($K25-LOOKUP(2,1/($D$7:$D24=$D25),$L$7:$L24))*24,"")) | O25: =IF($A25="","",SUM($E$7:$E25)) | P25: =IF($A25="","",IFERROR($E25/'Settings'!$B$9,"")) | Q25: =IF($A25="","",IFERROR($P25*'Settings'!$B$10,"")) | T25: =IF($A25="","",IF($B25="","Missing origin",IF($C25="","Missing destination",IF($D25="","Assign driver",IF(OR($E25<=0,$G25<=0),"Check miles/speed",IF(COUNTIF($A$7:$A$206,$A25)>1,"Duplicate leg number",IF(OR(AND(ROW()=7,$A25<>1),AND(ROW()>7,$A25<>IFERROR($A24+1,$A25))),"Check leg sequence",IF(AND($N25<>"",$N25<'Settings'!$B$12),"Short assignment gap",IF(AND('Settings'!$B$5<>"",$L25>'Settings'!$B$5),"After target delivery","OK")))))))))
G26: =IF($A26="","",IFERROR(IF($F26="",'Settings'!$B$8,$F26),"")) | H26: =IF($A26="","",IFERROR($E26/$G26,"")) | J26: =IF($A26="","",IFERROR(IF($I26="",'Settings'!$B$13,$I26),"")) | K26: =IF($A26="","",IFERROR($L25+$J25/24,"")) | L26: =IF($A26="","",IFERROR($K26+$H26/24,"")) | M26: =IF($K26="","",INT($K26)) | N26: =IF($A26="","",IFERROR(($K26-LOOKUP(2,1/($D$7:$D25=$D26),$L$7:$L25))*24,"")) | O26: =IF($A26="","",SUM($E$7:$E26)) | P26: =IF($A26="","",IFERROR($E26/'Settings'!$B$9,"")) | Q26: =IF($A26="","",IFERROR($P26*'Settings'!$B$10,"")) | T26: =IF($A26="","",IF($B26="","Missing origin",IF($C26="","Missing destination",IF($D26="","Assign driver",IF(OR($E26<=0,$G26<=0),"Check miles/speed",IF(COUNTIF($A$7:$A$206,$A26)>1,"Duplicate leg number",IF(OR(AND(ROW()=7,$A26<>1),AND(ROW()>7,$A26<>IFERROR($A25+1,$A26))),"Check leg sequence",IF(AND($N26<>"",$N26<'Settings'!$B$12),"Short assignment gap",IF(AND('Settings'!$B$5<>"",$L26>'Settings'!$B$5),"After target delivery","OK")))))))))
G27: =IF($A27="","",IFERROR(IF($F27="",'Settings'!$B$8,$F27),"")) | H27: =IF($A27="","",IFERROR($E27/$G27,"")) | J27: =IF($A27="","",IFERROR(IF($I27="",'Settings'!$B$13,$I27),"")) | K27: =IF($A27="","",IFERROR($L26+$J26/24,"")) | L27: =IF($A27="","",IFERROR($K27+$H27/24,"")) | M27: =IF($K27="","",INT($K27)) | N27: =IF($A27="","",IFERROR(($K27-LOOKUP(2,1/($D$7:$D26=$D27),$L$7:$L26))*24,"")) | O27: =IF($A27="","",SUM($E$7:$E27)) | P27: =IF($A27="","",IFERROR($E27/'Settings'!$B$9,"")) | Q27: =IF($A27="","",IFERROR($P27*'Settings'!$B$10,"")) | T27: =IF($A27="","",IF($B27="","Missing origin",IF($C27="","Missing destination",IF($D27="","Assign driver",IF(OR($E27<=0,$G27<=0),"Check miles/speed",IF(COUNTIF($A$7:$A$206,$A27)>1,"Duplicate leg number",IF(OR(AND(ROW()=7,$A27<>1),AND(ROW()>7,$A27<>IFERROR($A26+1,$A27))),"Check leg sequence",IF(AND($N27<>"",$N27<'Settings'!$B$12),"Short assignment gap",IF(AND('Settings'!$B$5<>"",$L27>'Settings'!$B$5),"After target delivery","OK")))))))))
G28: =IF($A28="","",IFERROR(IF($F28="",'Settings'!$B$8,$F28),"")) | H28: =IF($A28="","",IFERROR($E28/$G28,"")) | J28: =IF($A28="","",IFERROR(IF($I28="",'Settings'!$B$13,$I28),"")) | K28: =IF($A28="","",IFERROR($L27+$J27/24,"")) | L28: =IF($A28="","",IFERROR($K28+$H28/24,"")) | M28: =IF($K28="","",INT($K28)) | N28: =IF($A28="","",IFERROR(($K28-LOOKUP(2,1/($D$7:$D27=$D28),$L$7:$L27))*24,"")) | O28: =IF($A28="","",SUM($E$7:$E28)) | P28: =IF($A28="","",IFERROR($E28/'Settings'!$B$9,"")) | Q28: =IF($A28="","",IFERROR($P28*'Settings'!$B$10,"")) | T28: =IF($A28="","",IF($B28="","Missing origin",IF($C28="","Missing destination",IF($D28="","Assign driver",IF(OR($E28<=0,$G28<=0),"Check miles/speed",IF(COUNTIF($A$7:$A$206,$A28)>1,"Duplicate leg number",IF(OR(AND(ROW()=7,$A28<>1),AND(ROW()>7,$A28<>IFERROR($A27+1,$A28))),"Check leg sequence",IF(AND($N28<>"",$N28<'Settings'!$B$12),"Short assignment gap",IF(AND('Settings'!$B$5<>"",$L28>'Settings'!$B$5),"After target delivery","OK")))))))))
... G206: =IF($A206="","",IFERROR(IF($F206="",'Settings'!$B$8,$F206),"")) | H206: =IF($A206="","",IFERROR($E206/$G206,"")) | J206: =IF($A206="","",IFERROR(IF($I206="",'Settings'!$B$13,$I206),"")) | K206: =IF($A206="","",IFERROR($L205+$J205/24,"")) | L206: =IF($A206="","",IFERROR($K206+$H206/24,"")) | M206: =IF($K206="","",INT($K206)) | N206: =IF($A206="","",IFERROR(($K206-LOOKUP(2,1/($D$7:$D205=$D206),$L$7:$L205))*24,"")) | O206: =IF($A206="","",SUM($E$7:$E206)) | P206: =IF($A206="","",IFERROR($E206/'Settings'!$B$9,"")) | Q206: =IF($A206="","",IFERROR($P206*'Settings'!$B$10,"")) | T206: =IF($A206="","",IF($B206="","Missing origin",IF($C206="","Missing destination",IF($D206="","Assign driver",IF(OR($E206<=0,$G206<=0),"Check miles/speed",IF(COUNTIF($A$7:$A$206,$A206)>1,"Duplicate leg number",IF(OR(AND(ROW()=7,$A206<>1),AND(ROW()>7,$A206<>IFERROR($A205+1,$A206))),"Check leg sequence",IF(AND($N206<>"",$N206<'Settings'!$B$12),"Short assignment gap",IF(AND('Settings'!$B$5<>"",$L206>'Settings'!$B$5),"After target delivery","OK")))))))))

Sheet Settings
A1: Trip Planning Settings
A2: Update yellow cells before replacing or extending the sample trip plan.
A3: Trip ID | B3: TDT-091626-01 | D3: Status Options
A4: Trip Start Date/Time | B4: 46281.25 | D4: Planned
A5: Target Delivery Date/Time | B5: 46283.458 | D5: In Progress
A6: Driver 1 Name | B6: Alex Martinez | D6: Completed
A7: Driver 2 Name | B7: Morgan Lee | D7: On Hold
A8: Default Planning Speed (mph) | B8: 55
A9: Fuel Economy (mpg) | B9: 7.2 | D9: Driver List
A10: Fuel Price ($/gallon) | B10: 3.89 | D10: =$B$6
A11: Internal Daily Driving Target (hours) | B11: 10 | D11: =$B$7
A12: Preferred Minimum Assignment Gap (hours) | B12: 4
A13: Default Stop/Handoff Time (hours) | B13: 0.25
A15: Legend | B15: Yellow = User Input | C15: Blue = Calculated
A16: Important: Default speed, daily driving target, assignment gap, and stop time are internal planning assumptions. Adjust them for the operation’s own planning practices. This workbook does not determine legal driving limits, sleeper-berth eligibility, hours-of-service compliance, or driver availability.
