Workbook

Sheet Dashboard
A1: Scheduled Route Roster Dashboard
A3: Review scheduled routes, assignments, workload, estimated costs, and items requiring attention.
A4: Blue = Input | D4: Gray = Calculated | G4: Red/Orange = Review Required
A5: Report Start Date | B5: 46272 | D5: Report End Date | E5: 46278
A7: Scheduled Routes | B7: =COUNTIFS(tblRoster[Service Date],">="&$B$5,tblRoster[Service Date],"<="&$E$5,tblRoster[Status],"<>Canceled") | D7: Confirmed Routes | E7: =COUNTIFS(tblRoster[Service Date],">="&$B$5,tblRoster[Service Date],"<="&$E$5,tblRoster[Status],"Confirmed") | G7: Rows to Review | H7: =COUNTIFS(tblRoster[Service Date],">="&$B$5,tblRoster[Service Date],"<="&$E$5,tblRoster[Assignment Check],"Review")
A9: Scheduled Miles | B9: =SUMIFS(tblRoster[Scheduled Miles],tblRoster[Service Date],">="&$B$5,tblRoster[Service Date],"<="&$E$5,tblRoster[Status],"<>Canceled") | D9: Estimated Hours | E9: =SUMIFS(tblRoster[Estimated Hours],tblRoster[Service Date],">="&$B$5,tblRoster[Service Date],"<="&$E$5,tblRoster[Status],"<>Canceled") | G9: Estimated Route Cost | H9: =SUMIFS(tblRoster[Estimated Route Cost],tblRoster[Service Date],">="&$B$5,tblRoster[Service Date],"<="&$E$5,tblRoster[Status],"<>Canceled")
A11: Ready Assignment % | B11: =IFERROR(COUNTIFS(tblRoster[Service Date],">="&$B$5,tblRoster[Service Date],"<="&$E$5,tblRoster[Assignment Check],"OK")/COUNTIFS(tblRoster[Service Date],">="&$B$5,tblRoster[Service Date],"<="&$E$5,tblRoster[Status],"<>Canceled"),0)
A14: Route Status | B14: Route Count
A15: Planned | B15: =COUNTIFS(tblRoster[Service Date],">="&$B$5,tblRoster[Service Date],"<="&$E$5,tblRoster[Status],A15)
A16: Confirmed | B16: =COUNTIFS(tblRoster[Service Date],">="&$B$5,tblRoster[Service Date],"<="&$E$5,tblRoster[Status],A16)
A17: In Progress | B17: =COUNTIFS(tblRoster[Service Date],">="&$B$5,tblRoster[Service Date],"<="&$E$5,tblRoster[Status],A17)
A18: Completed | B18: =COUNTIFS(tblRoster[Service Date],">="&$B$5,tblRoster[Service Date],"<="&$E$5,tblRoster[Status],A18)
A19: Canceled | B19: =COUNTIFS(tblRoster[Service Date],">="&$B$5,tblRoster[Service Date],"<="&$E$5,tblRoster[Status],A19)
A23: First 7 Days of Selected Period | G23: Driver Workload
A24: Date | B24: Route Count | C24: Scheduled Miles | D24: Estimated Hours | E24: Review Rows | G24: Driver ID | H24: Driver Name | I24: Route Count | J24: Estimated Hours
A25: =IF($B$5+ROWS($A$25:A25)-1<=$E$5,$B$5+ROWS($A$25:A25)-1,"") | B25: =IF($A25="","",COUNTIFS(tblRoster[Service Date],$A25,tblRoster[Status],"<>Canceled")) | C25: =IF($A25="","",SUMIFS(tblRoster[Scheduled Miles],tblRoster[Service Date],$A25,tblRoster[Status],"<>Canceled")) | D25: =IF($A25="","",SUMIFS(tblRoster[Estimated Hours],tblRoster[Service Date],$A25,tblRoster[Status],"<>Canceled")) | E25: =IF($A25="","",COUNTIFS(tblRoster[Service Date],$A25,tblRoster[Assignment Check],"Review")) | G25: =IFERROR(INDEX(tblDrivers[Driver ID],ROWS($G$25:G25)),"") | H25: =IF($G25="","",IFERROR(INDEX(tblDrivers[Driver Name],MATCH($G25,tblDrivers[Driver ID],0)),"Not Found")) | I25: =IF($G25="","",COUNTIFS(tblRoster[Driver ID],$G25,tblRoster[Service Date],">="&$B$5,tblRoster[Service Date],"<="&$E$5,tblRoster[Status],"<>Canceled")) | J25: =IF($G25="","",SUMIFS(tblRoster[Estimated Hours],tblRoster[Driver ID],$G25,tblRoster[Service Date],">="&$B$5,tblRoster[Service Date],"<="&$E$5,tblRoster[Status],"<>Canceled"))
A26: =IF($B$5+ROWS($A$25:A26)-1<=$E$5,$B$5+ROWS($A$25:A26)-1,"") | B26: =IF($A26="","",COUNTIFS(tblRoster[Service Date],$A26,tblRoster[Status],"<>Canceled")) | C26: =IF($A26="","",SUMIFS(tblRoster[Scheduled Miles],tblRoster[Service Date],$A26,tblRoster[Status],"<>Canceled")) | D26: =IF($A26="","",SUMIFS(tblRoster[Estimated Hours],tblRoster[Service Date],$A26,tblRoster[Status],"<>Canceled")) | E26: =IF($A26="","",COUNTIFS(tblRoster[Service Date],$A26,tblRoster[Assignment Check],"Review")) | G26: =IFERROR(INDEX(tblDrivers[Driver ID],ROWS($G$25:G26)),"") | H26: =IF($G26="","",IFERROR(INDEX(tblDrivers[Driver Name],MATCH($G26,tblDrivers[Driver ID],0)),"Not Found")) | I26: =IF($G26="","",COUNTIFS(tblRoster[Driver ID],$G26,tblRoster[Service Date],">="&$B$5,tblRoster[Service Date],"<="&$E$5,tblRoster[Status],"<>Canceled")) | J26: =IF($G26="","",SUMIFS(tblRoster[Estimated Hours],tblRoster[Driver ID],$G26,tblRoster[Service Date],">="&$B$5,tblRoster[Service Date],"<="&$E$5,tblRoster[Status],"<>Canceled"))
A27: =IF($B$5+ROWS($A$25:A27)-1<=$E$5,$B$5+ROWS($A$25:A27)-1,"") | B27: =IF($A27="","",COUNTIFS(tblRoster[Service Date],$A27,tblRoster[Status],"<>Canceled")) | C27: =IF($A27="","",SUMIFS(tblRoster[Scheduled Miles],tblRoster[Service Date],$A27,tblRoster[Status],"<>Canceled")) | D27: =IF($A27="","",SUMIFS(tblRoster[Estimated Hours],tblRoster[Service Date],$A27,tblRoster[Status],"<>Canceled")) | E27: =IF($A27="","",COUNTIFS(tblRoster[Service Date],$A27,tblRoster[Assignment Check],"Review")) | G27: =IFERROR(INDEX(tblDrivers[Driver ID],ROWS($G$25:G27)),"") | H27: =IF($G27="","",IFERROR(INDEX(tblDrivers[Driver Name],MATCH($G27,tblDrivers[Driver ID],0)),"Not Found")) | I27: =IF($G27="","",COUNTIFS(tblRoster[Driver ID],$G27,tblRoster[Service Date],">="&$B$5,tblRoster[Service Date],"<="&$E$5,tblRoster[Status],"<>Canceled")) | J27: =IF($G27="","",SUMIFS(tblRoster[Estimated Hours],tblRoster[Driver ID],$G27,tblRoster[Service Date],">="&$B$5,tblRoster[Service Date],"<="&$E$5,tblRoster[Status],"<>Canceled"))
A28: =IF($B$5+ROWS($A$25:A28)-1<=$E$5,$B$5+ROWS($A$25:A28)-1,"") | B28: =IF($A28="","",COUNTIFS(tblRoster[Service Date],$A28,tblRoster[Status],"<>Canceled")) | C28: =IF($A28="","",SUMIFS(tblRoster[Scheduled Miles],tblRoster[Service Date],$A28,tblRoster[Status],"<>Canceled")) | D28: =IF($A28="","",SUMIFS(tblRoster[Estimated Hours],tblRoster[Service Date],$A28,tblRoster[Status],"<>Canceled")) | E28: =IF($A28="","",COUNTIFS(tblRoster[Service Date],$A28,tblRoster[Assignment Check],"Review")) | G28: =IFERROR(INDEX(tblDrivers[Driver ID],ROWS($G$25:G28)),"") | H28: =IF($G28="","",IFERROR(INDEX(tblDrivers[Driver Name],MATCH($G28,tblDrivers[Driver ID],0)),"Not Found")) | I28: =IF($G28="","",COUNTIFS(tblRoster[Driver ID],$G28,tblRoster[Service Date],">="&$B$5,tblRoster[Service Date],"<="&$E$5,tblRoster[Status],"<>Canceled")) | J28: =IF($G28="","",SUMIFS(tblRoster[Estimated Hours],tblRoster[Driver ID],$G28,tblRoster[Service Date],">="&$B$5,tblRoster[Service Date],"<="&$E$5,tblRoster[Status],"<>Canceled"))
A29: =IF($B$5+ROWS($A$25:A29)-1<=$E$5,$B$5+ROWS($A$25:A29)-1,"") | B29: =IF($A29="","",COUNTIFS(tblRoster[Service Date],$A29,tblRoster[Status],"<>Canceled")) | C29: =IF($A29="","",SUMIFS(tblRoster[Scheduled Miles],tblRoster[Service Date],$A29,tblRoster[Status],"<>Canceled")) | D29: =IF($A29="","",SUMIFS(tblRoster[Estimated Hours],tblRoster[Service Date],$A29,tblRoster[Status],"<>Canceled")) | E29: =IF($A29="","",COUNTIFS(tblRoster[Service Date],$A29,tblRoster[Assignment Check],"Review")) | G29: =IFERROR(INDEX(tblDrivers[Driver ID],ROWS($G$25:G29)),"") | H29: =IF($G29="","",IFERROR(INDEX(tblDrivers[Driver Name],MATCH($G29,tblDrivers[Driver ID],0)),"Not Found")) | I29: =IF($G29="","",COUNTIFS(tblRoster[Driver ID],$G29,tblRoster[Service Date],">="&$B$5,tblRoster[Service Date],"<="&$E$5,tblRoster[Status],"<>Canceled")) | J29: =IF($G29="","",SUMIFS(tblRoster[Estimated Hours],tblRoster[Driver ID],$G29,tblRoster[Service Date],">="&$B$5,tblRoster[Service Date],"<="&$E$5,tblRoster[Status],"<>Canceled"))
A30: =IF($B$5+ROWS($A$25:A30)-1<=$E$5,$B$5+ROWS($A$25:A30)-1,"") | B30: =IF($A30="","",COUNTIFS(tblRoster[Service Date],$A30,tblRoster[Status],"<>Canceled")) | C30: =IF($A30="","",SUMIFS(tblRoster[Scheduled Miles],tblRoster[Service Date],$A30,tblRoster[Status],"<>Canceled")) | D30: =IF($A30="","",SUMIFS(tblRoster[Estimated Hours],tblRoster[Service Date],$A30,tblRoster[Status],"<>Canceled")) | E30: =IF($A30="","",COUNTIFS(tblRoster[Service Date],$A30,tblRoster[Assignment Check],"Review")) | G30: =IFERROR(INDEX(tblDrivers[Driver ID],ROWS($G$25:G30)),"") | H30: =IF($G30="","",IFERROR(INDEX(tblDrivers[Driver Name],MATCH($G30,tblDrivers[Driver ID],0)),"Not Found")) | I30: =IF($G30="","",COUNTIFS(tblRoster[Driver ID],$G30,tblRoster[Service Date],">="&$B$5,tblRoster[Service Date],"<="&$E$5,tblRoster[Status],"<>Canceled")) | J30: =IF($G30="","",SUMIFS(tblRoster[Estimated Hours],tblRoster[Driver ID],$G30,tblRoster[Service Date],">="&$B$5,tblRoster[Service Date],"<="&$E$5,tblRoster[Status],"<>Canceled"))
A31: =IF($B$5+ROWS($A$25:A31)-1<=$E$5,$B$5+ROWS($A$25:A31)-1,"") | B31: =IF($A31="","",COUNTIFS(tblRoster[Service Date],$A31,tblRoster[Status],"<>Canceled")) | C31: =IF($A31="","",SUMIFS(tblRoster[Scheduled Miles],tblRoster[Service Date],$A31,tblRoster[Status],"<>Canceled")) | D31: =IF($A31="","",SUMIFS(tblRoster[Estimated Hours],tblRoster[Service Date],$A31,tblRoster[Status],"<>Canceled")) | E31: =IF($A31="","",COUNTIFS(tblRoster[Service Date],$A31,tblRoster[Assignment Check],"Review")) | G31: ="" | H31: ="" | I31: ="" | J31: =""
A32: ="" | B32: ="" | C32: ="" | D32: ="" | E32: ="" | G32: ="" | H32: ="" | I32: ="" | J32: =""
A33: ="" | B33: ="" | C33: ="" | D33: ="" | E33: ="" | G33: ="" | H33: ="" | I33: ="" | J33: =""
A34: ="" | B34: ="" | C34: ="" | D34: ="" | E34: ="" | G34: ="" | H34: ="" | I34: ="" | J34: =""
A35: ="" | B35: ="" | C35: ="" | D35: ="" | E35: ="" | G35: ="" | H35: ="" | I35: ="" | J35: =""
A36: ="" | B36: ="" | C36: ="" | D36: ="" | E36: ="" | G36: ="" | H36: ="" | I36: ="" | J36: =""
A37: ="" | B37: ="" | C37: ="" | D37: ="" | E37: ="" | G37: ="" | H37: ="" | I37: ="" | J37: =""
A38: ="" | B38: ="" | C38: ="" | D38: ="" | E38: ="" | G38: ="" | H38: ="" | I38: ="" | J38: =""
A39: ="" | B39: ="" | C39: ="" | D39: ="" | E39: ="" | G39: ="" | H39: ="" | I39: ="" | J39: =""
A40: ="" | B40: ="" | C40: ="" | D40: ="" | E40: ="" | G40: ="" | H40: ="" | I40: ="" | J40: =""
A41: ="" | B41: ="" | C41: ="" | D41: ="" | E41: ="" | G41: ="" | H41: ="" | I41: ="" | J41: =""
A42: ="" | B42: ="" | C42: ="" | D42: ="" | E42: ="" | G42: ="" | H42: ="" | I42: ="" | J42: =""
A43: ="" | B43: ="" | C43: ="" | D43: ="" | E43: ="" | G43: ="" | H43: ="" | I43: ="" | J43: =""
... A101: ="" | B101: ="" | C101: ="" | D101: ="" | E101: ="" | G101: ="" | H101: ="" | I101: ="" | J101: =""

Sheet Route Roster
A1: Scheduled Route Roster
A2: Enter schedule and assignment details in blue cells. Gray cells calculate from the Resources and Settings sheets.
A3: Blue = Input | E3: Gray = Calculated | I3: Red/Orange = Review Required
A6: Roster ID | B6: Service Date | C6: Day | D6: Route ID | E6: Route Name | F6: Origin | G6: Destination | H6: Scheduled Start | I6: Scheduled End | J6: Estimated Hours | K6: Driver ID | L6: Driver Name | M6: Vehicle ID | N6: Vehicle Description | O6: Scheduled Miles | P6: Planned Stops | Q6: Estimated Gallons | R6: Estimated Route Cost | S6: Status | T6: Dispatch Notes | U6: Driver Check | V6: Vehicle Check | W6: Schedule Check | X6: Assignment Check | Y6: Start Date/Time | Z6: End Date/Time
A7: SR-260907-01 | B7: 46272 | C7: =IF([@[Service Date]]="","",TEXT([@[Service Date]],"ddd")) | D7: RT-101 | E7: =IF([@[Route ID]]="","",IFERROR(INDEX(tblRoutes[Route Name],MATCH([@[Route ID]],tblRoutes[Route ID],0)),"Not Found")) | F7: =IF([@[Route ID]]="","",IFERROR(INDEX(tblRoutes[Origin],MATCH([@[Route ID]],tblRoutes[Route ID],0)),"Not Found")) | G7: =IF([@[Route ID]]="","",IFERROR(INDEX(tblRoutes[Destination],MATCH([@[Route ID]],tblRoutes[Route ID],0)),"Not Found")) | H7: 0.25 | I7: 0.41666667 | J7: =IF(OR([@[Start Date/Time]]="",[@[End Date/Time]]=""),"",IFERROR(([@[End Date/Time]]-[@[Start Date/Time]])*24,"")) | K7: D-001 | L7: =IF([@[Driver ID]]="","",IFERROR(INDEX(tblDrivers[Driver Name],MATCH([@[Driver ID]],tblDrivers[Driver ID],0)),"Not Found")) | M7: V-101 | N7: =IF([@[Vehicle ID]]="","",IFERROR(INDEX(tblVehicles[Unit Description],MATCH([@[Vehicle ID]],tblVehicles[Vehicle ID],0)),"Not Found")) | O7: =IF([@[Route ID]]="","",IFERROR(INDEX(tblRoutes[Scheduled Miles],MATCH([@[Route ID]],tblRoutes[Route ID],0)),"")) | P7: =IF([@[Route ID]]="","",IFERROR(INDEX(tblRoutes[Planned Stops],MATCH([@[Route ID]],tblRoutes[Route ID],0)),"")) | Q7: =IF(OR([@[Scheduled Miles]]="",[@[Vehicle ID]]=""),"",IFERROR([@[Scheduled Miles]]/INDEX(tblVehicles[MPG],MATCH([@[Vehicle ID]],tblVehicles[Vehicle ID],0)),"")) | R7: =IF(OR([@[Estimated Gallons]]="",[@[Estimated Hours]]="",[@[Driver ID]]=""),"",IFERROR([@[Estimated Gallons]]*'Settings'!$B$4+[@[Scheduled Miles]]*'Settings'!$B$5+[@[Estimated Hours]]*INDEX(tblDrivers[Hourly Rate],MATCH([@[Driver ID]],tblDrivers[Driver ID],0)),"")) | S7: Completed | T7: Retail deliveries; return signed delivery slips. | U7: =IF(COUNTA([@[Roster ID]],[@[Service Date]],[@[Route ID]],[@[Scheduled Start]],[@[Scheduled End]],[@[Driver ID]],[@[Vehicle ID]],[@Status],[@[Dispatch Notes]])=0,"",IF([@Status]="Canceled","Not Required",IF([@[Driver ID]]="","Unassigned",IF([@[Driver Name]]="Not Found","Unknown Driver",IF(IFERROR(INDEX(tblDrivers[Active?],MATCH([@[Driver ID]],tblDrivers[Driver ID],0)),"No")<>"Yes","Inactive",IF(OR([@[Start Date/Time]]="",[@[End Date/Time]]=""),"Missing Time",IFERROR(IF(COUNTIFS(tblRoster[Driver ID],[@[Driver ID]],tblRoster[Status],"<>Canceled",tblRoster[Start Date/Time],"<"&[@[End Date/Time]],tblRoster[End Date/Time],">"&[@[Start Date/Time]])>1,"Conflict","OK"),"Check"))))))) | V7: =IF(COUNTA([@[Roster ID]],[@[Service Date]],[@[Route ID]],[@[Scheduled Start]],[@[Scheduled End]],[@[Driver ID]],[@[Vehicle ID]],[@Status],[@[Dispatch Notes]])=0,"",IF([@Status]="Canceled","Not Required",IF([@[Vehicle ID]]="","Unassigned",IF([@[Vehicle Description]]="Not Found","Unknown Vehicle",IF(IFERROR(INDEX(tblVehicles[Available?],MATCH([@[Vehicle ID]],tblVehicles[Vehicle ID],0)),"No")<>"Yes","Unavailable",IF(OR([@[Start Date/Time]]="",[@[End Date/Time]]=""),"Missing Time",IFERROR(IF(COUNTIFS(tblRoster[Vehicle ID],[@[Vehicle ID]],tblRoster[Status],"<>Canceled",tblRoster[Start Date/Time],"<"&[@[End Date/Time]],tblRoster[End Date/Time],">"&[@[Start Date/Time]])>1,"Conflict","OK"),"Check"))))))) | W7: =IF(COUNTA([@[Roster ID]],[@[Service Date]],[@[Route ID]],[@[Scheduled Start]],[@[Scheduled End]],[@[Driver ID]],[@[Vehicle ID]],[@Status],[@[Dispatch Notes]])=0,"",IF([@Status]="Canceled","Not Required",IF(OR([@[Roster ID]]="",[@[Service Date]]="",[@[Route ID]]="",[@[Scheduled Start]]="",[@[Scheduled End]]="",[@Status]=""),"Missing Required Field",IF(COUNTIF(tblRoster[Roster ID],[@[Roster ID]])>1,"Duplicate Roster ID",IF([@[Route Name]]="Not Found","Unknown Route",IF(OR([@[Estimated Hours]]="",[@[Estimated Hours]]<=0),"Invalid Time",IF([@[Estimated Hours]]>'Settings'!$B$6,"Long Shift","OK"))))))) | X7: =IF(COUNTA([@[Roster ID]],[@[Service Date]],[@[Route ID]],[@[Scheduled Start]],[@[Scheduled End]],[@[Driver ID]],[@[Vehicle ID]],[@Status],[@[Dispatch Notes]])=0,"",IF([@Status]="Canceled","Not Required",IF(AND([@[Driver Check]]="OK",[@[Vehicle Check]]="OK",[@[Schedule Check]]="OK"),"OK","Review"))) | Y7: =IF(OR([@[Service Date]]="",[@[Scheduled Start]]=""),"",IFERROR([@[Service Date]]+[@[Scheduled Start]],"")) | Z7: =IF(OR([@[Service Date]]="",[@[Scheduled Start]]="",[@[Scheduled End]]=""),"",IFERROR([@[Service Date]]+[@[Scheduled End]]+IF([@[Scheduled End]]<[@[Scheduled Start]],1,0),""))
A8: SR-260907-02 | B8: 46272 | C8: =IF([@[Service Date]]="","",TEXT([@[Service Date]],"ddd")) | D8: RT-102 | E8: =IF([@[Route ID]]="","",IFERROR(INDEX(tblRoutes[Route Name],MATCH([@[Route ID]],tblRoutes[Route ID],0)),"Not Found")) | F8: =IF([@[Route ID]]="","",IFERROR(INDEX(tblRoutes[Origin],MATCH([@[Route ID]],tblRoutes[Route ID],0)),"Not Found")) | G8: =IF([@[Route ID]]="","",IFERROR(INDEX(tblRoutes[Destination],MATCH([@[Route ID]],tblRoutes[Route ID],0)),"Not Found")) | H8: 0.29166667 | I8: 0.45833333 | J8: =IF(OR([@[Start Date/Time]]="",[@[End Date/Time]]=""),"",IFERROR(([@[End Date/Time]]-[@[Start Date/Time]])*24,"")) | K8: D-002 | L8: =IF([@[Driver ID]]="","",IFERROR(INDEX(tblDrivers[Driver Name],MATCH([@[Driver ID]],tblDrivers[Driver ID],0)),"Not Found")) | M8: V-102 | N8: =IF([@[Vehicle ID]]="","",IFERROR(INDEX(tblVehicles[Unit Description],MATCH([@[Vehicle ID]],tblVehicles[Vehicle ID],0)),"Not Found")) | O8: =IF([@[Route ID]]="","",IFERROR(INDEX(tblRoutes[Scheduled Miles],MATCH([@[Route ID]],tblRoutes[Route ID],0)),"")) | P8: =IF([@[Route ID]]="","",IFERROR(INDEX(tblRoutes[Planned Stops],MATCH([@[Route ID]],tblRoutes[Route ID],0)),"")) | Q8: =IF(OR([@[Scheduled Miles]]="",[@[Vehicle ID]]=""),"",IFERROR([@[Scheduled Miles]]/INDEX(tblVehicles[MPG],MATCH([@[Vehicle ID]],tblVehicles[Vehicle ID],0)),"")) | R8: =IF(OR([@[Estimated Gallons]]="",[@[Estimated Hours]]="",[@[Driver ID]]=""),"",IFERROR([@[Estimated Gallons]]*'Settings'!$B$4+[@[Scheduled Miles]]*'Settings'!$B$5+[@[Estimated Hours]]*INDEX(tblDrivers[Hourly Rate],MATCH([@[Driver ID]],tblDrivers[Driver ID],0)),"")) | S8: Completed | T8: Air cargo pickup at west freight entrance. | U8: =IF(COUNTA([@[Roster ID]],[@[Service Date]],[@[Route ID]],[@[Scheduled Start]],[@[Scheduled End]],[@[Driver ID]],[@[Vehicle ID]],[@Status],[@[Dispatch Notes]])=0,"",IF([@Status]="Canceled","Not Required",IF([@[Driver ID]]="","Unassigned",IF([@[Driver Name]]="Not Found","Unknown Driver",IF(IFERROR(INDEX(tblDrivers[Active?],MATCH([@[Driver ID]],tblDrivers[Driver ID],0)),"No")<>"Yes","Inactive",IF(OR([@[Start Date/Time]]="",[@[End Date/Time]]=""),"Missing Time",IFERROR(IF(COUNTIFS(tblRoster[Driver ID],[@[Driver ID]],tblRoster[Status],"<>Canceled",tblRoster[Start Date/Time],"<"&[@[End Date/Time]],tblRoster[End Date/Time],">"&[@[Start Date/Time]])>1,"Conflict","OK"),"Check"))))))) | V8: =IF(COUNTA([@[Roster ID]],[@[Service Date]],[@[Route ID]],[@[Scheduled Start]],[@[Scheduled End]],[@[Driver ID]],[@[Vehicle ID]],[@Status],[@[Dispatch Notes]])=0,"",IF([@Status]="Canceled","Not Required",IF([@[Vehicle ID]]="","Unassigned",IF([@[Vehicle Description]]="Not Found","Unknown Vehicle",IF(IFERROR(INDEX(tblVehicles[Available?],MATCH([@[Vehicle ID]],tblVehicles[Vehicle ID],0)),"No")<>"Yes","Unavailable",IF(OR([@[Start Date/Time]]="",[@[End Date/Time]]=""),"Missing Time",IFERROR(IF(COUNTIFS(tblRoster[Vehicle ID],[@[Vehicle ID]],tblRoster[Status],"<>Canceled",tblRoster[Start Date/Time],"<"&[@[End Date/Time]],tblRoster[End Date/Time],">"&[@[Start Date/Time]])>1,"Conflict","OK"),"Check"))))))) | W8: =IF(COUNTA([@[Roster ID]],[@[Service Date]],[@[Route ID]],[@[Scheduled Start]],[@[Scheduled End]],[@[Driver ID]],[@[Vehicle ID]],[@Status],[@[Dispatch Notes]])=0,"",IF([@Status]="Canceled","Not Required",IF(OR([@[Roster ID]]="",[@[Service Date]]="",[@[Route ID]]="",[@[Scheduled Start]]="",[@[Scheduled End]]="",[@Status]=""),"Missing Required Field",IF(COUNTIF(tblRoster[Roster ID],[@[Roster ID]])>1,"Duplicate Roster ID",IF([@[Route Name]]="Not Found","Unknown Route",IF(OR([@[Estimated Hours]]="",[@[Estimated Hours]]<=0),"Invalid Time",IF([@[Estimated Hours]]>'Settings'!$B$6,"Long Shift","OK"))))))) | X8: =IF(COUNTA([@[Roster ID]],[@[Service Date]],[@[Route ID]],[@[Scheduled Start]],[@[Scheduled End]],[@[Driver ID]],[@[Vehicle ID]],[@Status],[@[Dispatch Notes]])=0,"",IF([@Status]="Canceled","Not Required",IF(AND([@[Driver Check]]="OK",[@[Vehicle Check]]="OK",[@[Schedule Check]]="OK"),"OK","Review"))) | Y8: =IF(OR([@[Service Date]]="",[@[Scheduled Start]]=""),"",IFERROR([@[Service Date]]+[@[Scheduled Start]],"")) | Z8: =IF(OR([@[Service Date]]="",[@[Scheduled Start]]="",[@[Scheduled End]]=""),"",IFERROR([@[Service Date]]+[@[Scheduled End]]+IF([@[Scheduled End]]<[@[Scheduled Start]],1,0),""))
A9: SR-260907-03 | B9: 46272 | C9: =IF([@[Service Date]]="","",TEXT([@[Service Date]],"ddd")) | D9: RT-103 | E9: =IF([@[Route ID]]="","",IFERROR(INDEX(tblRoutes[Route Name],MATCH([@[Route ID]],tblRoutes[Route ID],0)),"Not Found")) | F9: =IF([@[Route ID]]="","",IFERROR(INDEX(tblRoutes[Origin],MATCH([@[Route ID]],tblRoutes[Route ID],0)),"Not Found")) | G9: =IF([@[Route ID]]="","",IFERROR(INDEX(tblRoutes[Destination],MATCH([@[Route ID]],tblRoutes[Route ID],0)),"Not Found")) | H9: 0.375 | I9: 0.54166667 | J9: =IF(OR([@[Start Date/Time]]="",[@[End Date/Time]]=""),"",IFERROR(([@[End Date/Time]]-[@[Start Date/Time]])*24,"")) | K9: D-001 | L9: =IF([@[Driver ID]]="","",IFERROR(INDEX(tblDrivers[Driver Name],MATCH([@[Driver ID]],tblDrivers[Driver ID],0)),"Not Found")) | M9: V-103 | N9: =IF([@[Vehicle ID]]="","",IFERROR(INDEX(tblVehicles[Unit Description],MATCH([@[Vehicle ID]],tblVehicles[Vehicle ID],0)),"Not Found")) | O9: =IF([@[Route ID]]="","",IFERROR(INDEX(tblRoutes[Scheduled Miles],MATCH([@[Route ID]],tblRoutes[Route ID],0)),"")) | P9: =IF([@[Route ID]]="","",IFERROR(INDEX(tblRoutes[Planned Stops],MATCH([@[Route ID]],tblRoutes[Route ID],0)),"")) | Q9: =IF(OR([@[Scheduled Miles]]="",[@[Vehicle ID]]=""),"",IFERROR([@[Scheduled Miles]]/INDEX(tblVehicles[MPG],MATCH([@[Vehicle ID]],tblVehicles[Vehicle ID],0)),"")) | R9: =IF(OR([@[Estimated Gallons]]="",[@[Estimated Hours]]="",[@[Driver ID]]=""),"",IFERROR([@[Estimated Gallons]]*'Settings'!$B$4+[@[Scheduled Miles]]*'Settings'!$B$5+[@[Estimated Hours]]*INDEX(tblDrivers[Hourly Rate],MATCH([@[Driver ID]],tblDrivers[Driver ID],0)),"")) | S9: Planned | T9: Customer requests arrival before noon. | U9: =IF(COUNTA([@[Roster ID]],[@[Service Date]],[@[Route ID]],[@[Scheduled Start]],[@[Scheduled End]],[@[Driver ID]],[@[Vehicle ID]],[@Status],[@[Dispatch Notes]])=0,"",IF([@Status]="Canceled","Not Required",IF([@[Driver ID]]="","Unassigned",IF([@[Driver Name]]="Not Found","Unknown Driver",IF(IFERROR(INDEX(tblDrivers[Active?],MATCH([@[Driver ID]],tblDrivers[Driver ID],0)),"No")<>"Yes","Inactive",IF(OR([@[Start Date/Time]]="",[@[End Date/Time]]=""),"Missing Time",IFERROR(IF(COUNTIFS(tblRoster[Driver ID],[@[Driver ID]],tblRoster[Status],"<>Canceled",tblRoster[Start Date/Time],"<"&[@[End Date/Time]],tblRoster[End Date/Time],">"&[@[Start Date/Time]])>1,"Conflict","OK"),"Check"))))))) | V9: =IF(COUNTA([@[Roster ID]],[@[Service Date]],[@[Route ID]],[@[Scheduled Start]],[@[Scheduled End]],[@[Driver ID]],[@[Vehicle ID]],[@Status],[@[Dispatch Notes]])=0,"",IF([@Status]="Canceled","Not Required",IF([@[Vehicle ID]]="","Unassigned",IF([@[Vehicle Description]]="Not Found","Unknown Vehicle",IF(IFERROR(INDEX(tblVehicles[Available?],MATCH([@[Vehicle ID]],tblVehicles[Vehicle ID],0)),"No")<>"Yes","Unavailable",IF(OR([@[Start Date/Time]]="",[@[End Date/Time]]=""),"Missing Time",IFERROR(IF(COUNTIFS(tblRoster[Vehicle ID],[@[Vehicle ID]],tblRoster[Status],"<>Canceled",tblRoster[Start Date/Time],"<"&[@[End Date/Time]],tblRoster[End Date/Time],">"&[@[Start Date/Time]])>1,"Conflict","OK"),"Check"))))))) | W9: =IF(COUNTA([@[Roster ID]],[@[Service Date]],[@[Route ID]],[@[Scheduled Start]],[@[Scheduled End]],[@[Driver ID]],[@[Vehicle ID]],[@Status],[@[Dispatch Notes]])=0,"",IF([@Status]="Canceled","Not Required",IF(OR([@[Roster ID]]="",[@[Service Date]]="",[@[Route ID]]="",[@[Scheduled Start]]="",[@[Scheduled End]]="",[@Status]=""),"Missing Required Field",IF(COUNTIF(tblRoster[Roster ID],[@[Roster ID]])>1,"Duplicate Roster ID",IF([@[Route Name]]="Not Found","Unknown Route",IF(OR([@[Estimated Hours]]="",[@[Estimated Hours]]<=0),"Invalid Time",IF([@[Estimated Hours]]>'Settings'!$B$6,"Long Shift","OK"))))))) | X9: =IF(COUNTA([@[Roster ID]],[@[Service Date]],[@[Route ID]],[@[Scheduled Start]],[@[Scheduled End]],[@[Driver ID]],[@[Vehicle ID]],[@Status],[@[Dispatch Notes]])=0,"",IF([@Status]="Canceled","Not Required",IF(AND([@[Driver Check]]="OK",[@[Vehicle Check]]="OK",[@[Schedule Check]]="OK"),"OK","Review"))) | Y9: =IF(OR([@[Service Date]]="",[@[Scheduled Start]]=""),"",IFERROR([@[Service Date]]+[@[Scheduled Start]],"")) | Z9: =IF(OR([@[Service Date]]="",[@[Scheduled Start]]="",[@[Scheduled End]]=""),"",IFERROR([@[Service Date]]+[@[Scheduled End]]+IF([@[Scheduled End]]<[@[Scheduled Start]],1,0),""))
A10: SR-260907-04 | B10: 46272 | C10: =IF([@[Service Date]]="","",TEXT([@[Service Date]],"ddd")) | D10: RT-104 | E10: =IF([@[Route ID]]="","",IFERROR(INDEX(tblRoutes[Route Name],MATCH([@[Route ID]],tblRoutes[Route ID],0)),"Not Found")) | F10: =IF([@[Route ID]]="","",IFERROR(INDEX(tblRoutes[Origin],MATCH([@[Route ID]],tblRoutes[Route ID],0)),"Not Found")) | G10: =IF([@[Route ID]]="","",IFERROR(INDEX(tblRoutes[Destination],MATCH([@[Route ID]],tblRoutes[Route ID],0)),"Not Found")) | H10: 0.45833333 | I10: 0.64583333 | J10: =IF(OR([@[Start Date/Time]]="",[@[End Date/Time]]=""),"",IFERROR(([@[End Date/Time]]-[@[Start Date/Time]])*24,"")) | K10: D-003 | L10: =IF([@[Driver ID]]="","",IFERROR(INDEX(tblDrivers[Driver Name],MATCH([@[Driver ID]],tblDrivers[Driver ID],0)),"Not Found")) | M10: V-102 | N10: =IF([@[Vehicle ID]]="","",IFERROR(INDEX(tblVehicles[Unit Description],MATCH([@[Vehicle ID]],tblVehicles[Vehicle ID],0)),"Not Found")) | O10: =IF([@[Route ID]]="","",IFERROR(INDEX(tblRoutes[Scheduled Miles],MATCH([@[Route ID]],tblRoutes[Route ID],0)),"")) | P10: =IF([@[Route ID]]="","",IFERROR(INDEX(tblRoutes[Planned Stops],MATCH([@[Route ID]],tblRoutes[Route ID],0)),"")) | Q10: =IF(OR([@[Scheduled Miles]]="",[@[Vehicle ID]]=""),"",IFERROR([@[Scheduled Miles]]/INDEX(tblVehicles[MPG],MATCH([@[Vehicle ID]],tblVehicles[Vehicle ID],0)),"")) | R10: =IF(OR([@[Estimated Gallons]]="",[@[Estimated Hours]]="",[@[Driver ID]]=""),"",IFERROR([@[Estimated Gallons]]*'Settings'!$B$4+[@[Scheduled Miles]]*'Settings'!$B$5+[@[Estimated Hours]]*INDEX(tblDrivers[Hourly Rate],MATCH([@[Driver ID]],tblDrivers[Driver ID],0)),"")) | S10: Confirmed | T10: Use rear loading dock at final stop. | U10: =IF(COUNTA([@[Roster ID]],[@[Service Date]],[@[Route ID]],[@[Scheduled Start]],[@[Scheduled End]],[@[Driver ID]],[@[Vehicle ID]],[@Status],[@[Dispatch Notes]])=0,"",IF([@Status]="Canceled","Not Required",IF([@[Driver ID]]="","Unassigned",IF([@[Driver Name]]="Not Found","Unknown Driver",IF(IFERROR(INDEX(tblDrivers[Active?],MATCH([@[Driver ID]],tblDrivers[Driver ID],0)),"No")<>"Yes","Inactive",IF(OR([@[Start Date/Time]]="",[@[End Date/Time]]=""),"Missing Time",IFERROR(IF(COUNTIFS(tblRoster[Driver ID],[@[Driver ID]],tblRoster[Status],"<>Canceled",tblRoster[Start Date/Time],"<"&[@[End Date/Time]],tblRoster[End Date/Time],">"&[@[Start Date/Time]])>1,"Conflict","OK"),"Check"))))))) | V10: =IF(COUNTA([@[Roster ID]],[@[Service Date]],[@[Route ID]],[@[Scheduled Start]],[@[Scheduled End]],[@[Driver ID]],[@[Vehicle ID]],[@Status],[@[Dispatch Notes]])=0,"",IF([@Status]="Canceled","Not Required",IF([@[Vehicle ID]]="","Unassigned",IF([@[Vehicle Description]]="Not Found","Unknown Vehicle",IF(IFERROR(INDEX(tblVehicles[Available?],MATCH([@[Vehicle ID]],tblVehicles[Vehicle ID],0)),"No")<>"Yes","Unavailable",IF(OR([@[Start Date/Time]]="",[@[End Date/Time]]=""),"Missing Time",IFERROR(IF(COUNTIFS(tblRoster[Vehicle ID],[@[Vehicle ID]],tblRoster[Status],"<>Canceled",tblRoster[Start Date/Time],"<"&[@[End Date/Time]],tblRoster[End Date/Time],">"&[@[Start Date/Time]])>1,"Conflict","OK"),"Check"))))))) | W10: =IF(COUNTA([@[Roster ID]],[@[Service Date]],[@[Route ID]],[@[Scheduled Start]],[@[Scheduled End]],[@[Driver ID]],[@[Vehicle ID]],[@Status],[@[Dispatch Notes]])=0,"",IF([@Status]="Canceled","Not Required",IF(OR([@[Roster ID]]="",[@[Service Date]]="",[@[Route ID]]="",[@[Scheduled Start]]="",[@[Scheduled End]]="",[@Status]=""),"Missing Required Field",IF(COUNTIF(tblRoster[Roster ID],[@[Roster ID]])>1,"Duplicate Roster ID",IF([@[Route Name]]="Not Found","Unknown Route",IF(OR([@[Estimated Hours]]="",[@[Estimated Hours]]<=0),"Invalid Time",IF([@[Estimated Hours]]>'Settings'!$B$6,"Long Shift","OK"))))))) | X10: =IF(COUNTA([@[Roster ID]],[@[Service Date]],[@[Route ID]],[@[Scheduled Start]],[@[Scheduled End]],[@[Driver ID]],[@[Vehicle ID]],[@Status],[@[Dispatch Notes]])=0,"",IF([@Status]="Canceled","Not Required",IF(AND([@[Driver Check]]="OK",[@[Vehicle Check]]="OK",[@[Schedule Check]]="OK"),"OK","Review"))) | Y10: =IF(OR([@[Service Date]]="",[@[Scheduled Start]]=""),"",IFERROR([@[Service Date]]+[@[Scheduled Start]],"")) | Z10: =IF(OR([@[Service Date]]="",[@[Scheduled Start]]="",[@[Scheduled End]]=""),"",IFERROR([@[Service Date]]+[@[Scheduled End]]+IF([@[Scheduled End]]<[@[Scheduled Start]],1,0),""))
A11: SR-260907-05 | B11: 46272 | C11: =IF([@[Service Date]]="","",TEXT([@[Service Date]],"ddd")) | D11: RT-105 | E11: =IF([@[Route ID]]="","",IFERROR(INDEX(tblRoutes[Route Name],MATCH([@[Route ID]],tblRoutes[Route ID],0)),"Not Found")) | F11: =IF([@[Route ID]]="","",IFERROR(INDEX(tblRoutes[Origin],MATCH([@[Route ID]],tblRoutes[Route ID],0)),"Not Found")) | G11: =IF([@[Route ID]]="","",IFERROR(INDEX(tblRoutes[Destination],MATCH([@[Route ID]],tblRoutes[Route ID],0)),"Not Found")) | H11: 0.58333333 | I11: 0.70833333 | J11: =IF(OR([@[Start Date/Time]]="",[@[End Date/Time]]=""),"",IFERROR(([@[End Date/Time]]-[@[Start Date/Time]])*24,"")) | K11: D-004 | L11: =IF([@[Driver ID]]="","",IFERROR(INDEX(tblDrivers[Driver Name],MATCH([@[Driver ID]],tblDrivers[Driver ID],0)),"Not Found")) | M11: V-104 | N11: =IF([@[Vehicle ID]]="","",IFERROR(INDEX(tblVehicles[Unit Description],MATCH([@[Vehicle ID]],tblVehicles[Vehicle ID],0)),"Not Found")) | O11: =IF([@[Route ID]]="","",IFERROR(INDEX(tblRoutes[Scheduled Miles],MATCH([@[Route ID]],tblRoutes[Route ID],0)),"")) | P11: =IF([@[Route ID]]="","",IFERROR(INDEX(tblRoutes[Planned Stops],MATCH([@[Route ID]],tblRoutes[Route ID],0)),"")) | Q11: =IF(OR([@[Scheduled Miles]]="",[@[Vehicle ID]]=""),"",IFERROR([@[Scheduled Miles]]/INDEX(tblVehicles[MPG],MATCH([@[Vehicle ID]],tblVehicles[Vehicle ID],0)),"")) | R11: =IF(OR([@[Estimated Gallons]]="",[@[Estimated Hours]]="",[@[Driver ID]]=""),"",IFERROR([@[Estimated Gallons]]*'Settings'!$B$4+[@[Scheduled Miles]]*'Settings'!$B$5+[@[Estimated Hours]]*INDEX(tblDrivers[Hourly Rate],MATCH([@[Driver ID]],tblDrivers[Driver ID],0)),"")) | S11: Planned | T11: Parts shuttle; verify return containers. | U11: =IF(COUNTA([@[Roster ID]],[@[Service Date]],[@[Route ID]],[@[Scheduled Start]],[@[Scheduled End]],[@[Driver ID]],[@[Vehicle ID]],[@Status],[@[Dispatch Notes]])=0,"",IF([@Status]="Canceled","Not Required",IF([@[Driver ID]]="","Unassigned",IF([@[Driver Name]]="Not Found","Unknown Driver",IF(IFERROR(INDEX(tblDrivers[Active?],MATCH([@[Driver ID]],tblDrivers[Driver ID],0)),"No")<>"Yes","Inactive",IF(OR([@[Start Date/Time]]="",[@[End Date/Time]]=""),"Missing Time",IFERROR(IF(COUNTIFS(tblRoster[Driver ID],[@[Driver ID]],tblRoster[Status],"<>Canceled",tblRoster[Start Date/Time],"<"&[@[End Date/Time]],tblRoster[End Date/Time],">"&[@[Start Date/Time]])>1,"Conflict","OK"),"Check"))))))) | V11: =IF(COUNTA([@[Roster ID]],[@[Service Date]],[@[Route ID]],[@[Scheduled Start]],[@[Scheduled End]],[@[Driver ID]],[@[Vehicle ID]],[@Status],[@[Dispatch Notes]])=0,"",IF([@Status]="Canceled","Not Required",IF([@[Vehicle ID]]="","Unassigned",IF([@[Vehicle Description]]="Not Found","Unknown Vehicle",IF(IFERROR(INDEX(tblVehicles[Available?],MATCH([@[Vehicle ID]],tblVehicles[Vehicle ID],0)),"No")<>"Yes","Unavailable",IF(OR([@[Start Date/Time]]="",[@[End Date/Time]]=""),"Missing Time",IFERROR(IF(COUNTIFS(tblRoster[Vehicle ID],[@[Vehicle ID]],tblRoster[Status],"<>Canceled",tblRoster[Start Date/Time],"<"&[@[End Date/Time]],tblRoster[End Date/Time],">"&[@[Start Date/Time]])>1,"Conflict","OK"),"Check"))))))) | W11: =IF(COUNTA([@[Roster ID]],[@[Service Date]],[@[Route ID]],[@[Scheduled Start]],[@[Scheduled End]],[@[Driver ID]],[@[Vehicle ID]],[@Status],[@[Dispatch Notes]])=0,"",IF([@Status]="Canceled","Not Required",IF(OR([@[Roster ID]]="",[@[Service Date]]="",[@[Route ID]]="",[@[Scheduled Start]]="",[@[Scheduled End]]="",[@Status]=""),"Missing Required Field",IF(COUNTIF(tblRoster[Roster ID],[@[Roster ID]])>1,"Duplicate Roster ID",IF([@[Route Name]]="Not Found","Unknown Route",IF(OR([@[Estimated Hours]]="",[@[Estimated Hours]]<=0),"Invalid Time",IF([@[Estimated Hours]]>'Settings'!$B$6,"Long Shift","OK"))))))) | X11: =IF(COUNTA([@[Roster ID]],[@[Service Date]],[@[Route ID]],[@[Scheduled Start]],[@[Scheduled End]],[@[Driver ID]],[@[Vehicle ID]],[@Status],[@[Dispatch Notes]])=0,"",IF([@Status]="Canceled","Not Required",IF(AND([@[Driver Check]]="OK",[@[Vehicle Check]]="OK",[@[Schedule Check]]="OK"),"OK","Review"))) | Y11: =IF(OR([@[Service Date]]="",[@[Scheduled Start]]=""),"",IFERROR([@[Service Date]]+[@[Scheduled Start]],"")) | Z11: =IF(OR([@[Service Date]]="",[@[Scheduled Start]]="",[@[Scheduled End]]=""),"",IFERROR([@[Service Date]]+[@[Scheduled End]]+IF([@[Scheduled End]]<[@[Scheduled Start]],1,0),""))
A12: SR-260908-01 | B12: 46273 | C12: =IF([@[Service Date]]="","",TEXT([@[Service Date]],"ddd")) | D12: RT-106 | E12: =IF([@[Route ID]]="","",IFERROR(INDEX(tblRoutes[Route Name],MATCH([@[Route ID]],tblRoutes[Route ID],0)),"Not Found")) | F12: =IF([@[Route ID]]="","",IFERROR(INDEX(tblRoutes[Origin],MATCH([@[Route ID]],tblRoutes[Route ID],0)),"Not Found")) | G12: =IF([@[Route ID]]="","",IFERROR(INDEX(tblRoutes[Destination],MATCH([@[Route ID]],tblRoutes[Route ID],0)),"Not Found")) | H12: 0.22916667 | I12: 0.60416667 | J12: =IF(OR([@[Start Date/Time]]="",[@[End Date/Time]]=""),"",IFERROR(([@[End Date/Time]]-[@[Start Date/Time]])*24,"")) | K12: D-005 | L12: =IF([@[Driver ID]]="","",IFERROR(INDEX(tblDrivers[Driver Name],MATCH([@[Driver ID]],tblDrivers[Driver ID],0)),"Not Found")) | M12: V-104 | N12: =IF([@[Vehicle ID]]="","",IFERROR(INDEX(tblVehicles[Unit Description],MATCH([@[Vehicle ID]],tblVehicles[Vehicle ID],0)),"Not Found")) | O12: =IF([@[Route ID]]="","",IFERROR(INDEX(tblRoutes[Scheduled Miles],MATCH([@[Route ID]],tblRoutes[Route ID],0)),"")) | P12: =IF([@[Route ID]]="","",IFERROR(INDEX(tblRoutes[Planned Stops],MATCH([@[Route ID]],tblRoutes[Route ID],0)),"")) | Q12: =IF(OR([@[Scheduled Miles]]="",[@[Vehicle ID]]=""),"",IFERROR([@[Scheduled Miles]]/INDEX(tblVehicles[MPG],MATCH([@[Vehicle ID]],tblVehicles[Vehicle ID],0)),"")) | R12: =IF(OR([@[Estimated Gallons]]="",[@[Estimated Hours]]="",[@[Driver ID]]=""),"",IFERROR([@[Estimated Gallons]]*'Settings'!$B$4+[@[Scheduled Miles]]*'Settings'!$B$5+[@[Estimated Hours]]*INDEX(tblDrivers[Hourly Rate],MATCH([@[Driver ID]],tblDrivers[Driver ID],0)),"")) | S12: Confirmed | T12: Long-distance route; fuel before departure. | U12: =IF(COUNTA([@[Roster ID]],[@[Service Date]],[@[Route ID]],[@[Scheduled Start]],[@[Scheduled End]],[@[Driver ID]],[@[Vehicle ID]],[@Status],[@[Dispatch Notes]])=0,"",IF([@Status]="Canceled","Not Required",IF([@[Driver ID]]="","Unassigned",IF([@[Driver Name]]="Not Found","Unknown Driver",IF(IFERROR(INDEX(tblDrivers[Active?],MATCH([@[Driver ID]],tblDrivers[Driver ID],0)),"No")<>"Yes","Inactive",IF(OR([@[Start Date/Time]]="",[@[End Date/Time]]=""),"Missing Time",IFERROR(IF(COUNTIFS(tblRoster[Driver ID],[@[Driver ID]],tblRoster[Status],"<>Canceled",tblRoster[Start Date/Time],"<"&[@[End Date/Time]],tblRoster[End Date/Time],">"&[@[Start Date/Time]])>1,"Conflict","OK"),"Check"))))))) | V12: =IF(COUNTA([@[Roster ID]],[@[Service Date]],[@[Route ID]],[@[Scheduled Start]],[@[Scheduled End]],[@[Driver ID]],[@[Vehicle ID]],[@Status],[@[Dispatch Notes]])=0,"",IF([@Status]="Canceled","Not Required",IF([@[Vehicle ID]]="","Unassigned",IF([@[Vehicle Description]]="Not Found","Unknown Vehicle",IF(IFERROR(INDEX(tblVehicles[Available?],MATCH([@[Vehicle ID]],tblVehicles[Vehicle ID],0)),"No")<>"Yes","Unavailable",IF(OR([@[Start Date/Time]]="",[@[End Date/Time]]=""),"Missing Time",IFERROR(IF(COUNTIFS(tblRoster[Vehicle ID],[@[Vehicle ID]],tblRoster[Status],"<>Canceled",tblRoster[Start Date/Time],"<"&[@[End Date/Time]],tblRoster[End Date/Time],">"&[@[Start Date/Time]])>1,"Conflict","OK"),"Check"))))))) | W12: =IF(COUNTA([@[Roster ID]],[@[Service Date]],[@[Route ID]],[@[Scheduled Start]],[@[Scheduled End]],[@[Driver ID]],[@[Vehicle ID]],[@Status],[@[Dispatch Notes]])=0,"",IF([@Status]="Canceled","Not Required",IF(OR([@[Roster ID]]="",[@[Service Date]]="",[@[Route ID]]="",[@[Scheduled Start]]="",[@[Scheduled End]]="",[@Status]=""),"Missing Required Field",IF(COUNTIF(tblRoster[Roster ID],[@[Roster ID]])>1,"Duplicate Roster ID",IF([@[Route Name]]="Not Found","Unknown Route",IF(OR([@[Estimated Hours]]="",[@[Estimated Hours]]<=0),"Invalid Time",IF([@[Estimated Hours]]>'Settings'!$B$6,"Long Shift","OK"))))))) | X12: =IF(COUNTA([@[Roster ID]],[@[Service Date]],[@[Route ID]],[@[Scheduled Start]],[@[Scheduled End]],[@[Driver ID]],[@[Vehicle ID]],[@Status],[@[Dispatch Notes]])=0,"",IF([@Status]="Canceled","Not Required",IF(AND([@[Driver Check]]="OK",[@[Vehicle Check]]="OK",[@[Schedule Check]]="OK"),"OK","Review"))) | Y12: =IF(OR([@[Service Date]]="",[@[Scheduled Start]]=""),"",IFERROR([@[Service Date]]+[@[Scheduled Start]],"")) | Z12: =IF(OR([@[Service Date]]="",[@[Scheduled Start]]="",[@[Scheduled End]]=""),"",IFERROR([@[Service Date]]+[@[Scheduled End]]+IF([@[Scheduled End]]<[@[Scheduled Start]],1,0),""))
A13: SR-260908-02 | B13: 46273 | C13: =IF([@[Service Date]]="","",TEXT([@[Service Date]],"ddd")) | D13: RT-101 | E13: =IF([@[Route ID]]="","",IFERROR(INDEX(tblRoutes[Route Name],MATCH([@[Route ID]],tblRoutes[Route ID],0)),"Not Found")) | F13: =IF([@[Route ID]]="","",IFERROR(INDEX(tblRoutes[Origin],MATCH([@[Route ID]],tblRoutes[Route ID],0)),"Not Found")) | G13: =IF([@[Route ID]]="","",IFERROR(INDEX(tblRoutes[Destination],MATCH([@[Route ID]],tblRoutes[Route ID],0)),"Not Found")) | H13: 0.27083333 | I13: 0.4375 | J13: =IF(OR([@[Start Date/Time]]="",[@[End Date/Time]]=""),"",IFERROR(([@[End Date/Time]]-[@[Start Date/Time]])*24,"")) | K13: D-002 | L13: =IF([@[Driver ID]]="","",IFERROR(INDEX(tblDrivers[Driver Name],MATCH([@[Driver ID]],tblDrivers[Driver ID],0)),"Not Found")) | M13: V-101 | N13: =IF([@[Vehicle ID]]="","",IFERROR(INDEX(tblVehicles[Unit Description],MATCH([@[Vehicle ID]],tblVehicles[Vehicle ID],0)),"Not Found")) | O13: =IF([@[Route ID]]="","",IFERROR(INDEX(tblRoutes[Scheduled Miles],MATCH([@[Route ID]],tblRoutes[Route ID],0)),"")) | P13: =IF([@[Route ID]]="","",IFERROR(INDEX(tblRoutes[Planned Stops],MATCH([@[Route ID]],tblRoutes[Route ID],0)),"")) | Q13: =IF(OR([@[Scheduled Miles]]="",[@[Vehicle ID]]=""),"",IFERROR([@[Scheduled Miles]]/INDEX(tblVehicles[MPG],MATCH([@[Vehicle ID]],tblVehicles[Vehicle ID],0)),"")) | R13: =IF(OR([@[Estimated Gallons]]="",[@[Estimated Hours]]="",[@[Driver ID]]=""),"",IFERROR([@[Estimated Gallons]]*'Settings'!$B$4+[@[Scheduled Miles]]*'Settings'!$B$5+[@[Estimated Hours]]*INDEX(tblDrivers[Hourly Rate],MATCH([@[Driver ID]],tblDrivers[Driver ID],0)),"")) | S13: Completed | T13: Add pharmacy delivery at stop 8. | U13: =IF(COUNTA([@[Roster ID]],[@[Service Date]],[@[Route ID]],[@[Scheduled Start]],[@[Scheduled End]],[@[Driver ID]],[@[Vehicle ID]],[@Status],[@[Dispatch Notes]])=0,"",IF([@Status]="Canceled","Not Required",IF([@[Driver ID]]="","Unassigned",IF([@[Driver Name]]="Not Found","Unknown Driver",IF(IFERROR(INDEX(tblDrivers[Active?],MATCH([@[Driver ID]],tblDrivers[Driver ID],0)),"No")<>"Yes","Inactive",IF(OR([@[Start Date/Time]]="",[@[End Date/Time]]=""),"Missing Time",IFERROR(IF(COUNTIFS(tblRoster[Driver ID],[@[Driver ID]],tblRoster[Status],"<>Canceled",tblRoster[Start Date/Time],"<"&[@[End Date/Time]],tblRoster[End Date/Time],">"&[@[Start Date/Time]])>1,"Conflict","OK"),"Check"))))))) | V13: =IF(COUNTA([@[Roster ID]],[@[Service Date]],[@[Route ID]],[@[Scheduled Start]],[@[Scheduled End]],[@[Driver ID]],[@[Vehicle ID]],[@Status],[@[Dispatch Notes]])=0,"",IF([@Status]="Canceled","Not Required",IF([@[Vehicle ID]]="","Unassigned",IF([@[Vehicle Description]]="Not Found","Unknown Vehicle",IF(IFERROR(INDEX(tblVehicles[Available?],MATCH([@[Vehicle ID]],tblVehicles[Vehicle ID],0)),"No")<>"Yes","Unavailable",IF(OR([@[Start Date/Time]]="",[@[End Date/Time]]=""),"Missing Time",IFERROR(IF(COUNTIFS(tblRoster[Vehicle ID],[@[Vehicle ID]],tblRoster[Status],"<>Canceled",tblRoster[Start Date/Time],"<"&[@[End Date/Time]],tblRoster[End Date/Time],">"&[@[Start Date/Time]])>1,"Conflict","OK"),"Check"))))))) | W13: =IF(COUNTA([@[Roster ID]],[@[Service Date]],[@[Route ID]],[@[Scheduled Start]],[@[Scheduled End]],[@[Driver ID]],[@[Vehicle ID]],[@Status],[@[Dispatch Notes]])=0,"",IF([@Status]="Canceled","Not Required",IF(OR([@[Roster ID]]="",[@[Service Date]]="",[@[Route ID]]="",[@[Scheduled Start]]="",[@[Scheduled End]]="",[@Status]=""),"Missing Required Field",IF(COUNTIF(tblRoster[Roster ID],[@[Roster ID]])>1,"Duplicate Roster ID",IF([@[Route Name]]="Not Found","Unknown Route",IF(OR([@[Estimated Hours]]="",[@[Estimated Hours]]<=0),"Invalid Time",IF([@[Estimated Hours]]>'Settings'!$B$6,"Long Shift","OK"))))))) | X13: =IF(COUNTA([@[Roster ID]],[@[Service Date]],[@[Route ID]],[@[Scheduled Start]],[@[Scheduled End]],[@[Driver ID]],[@[Vehicle ID]],[@Status],[@[Dispatch Notes]])=0,"",IF([@Status]="Canceled","Not Required",IF(AND([@[Driver Check]]="OK",[@[Vehicle Check]]="OK",[@[Schedule Check]]="OK"),"OK","Review"))) | Y13: =IF(OR([@[Service Date]]="",[@[Scheduled Start]]=""),"",IFERROR([@[Service Date]]+[@[Scheduled Start]],"")) | Z13: =IF(OR([@[Service Date]]="",[@[Scheduled Start]]="",[@[Scheduled End]]=""),"",IFERROR([@[Service Date]]+[@[Scheduled End]]+IF([@[Scheduled End]]<[@[Scheduled Start]],1,0),""))
A14: SR-260908-03 | B14: 46273 | C14: =IF([@[Service Date]]="","",TEXT([@[Service Date]],"ddd")) | D14: RT-102 | E14: =IF([@[Route ID]]="","",IFERROR(INDEX(tblRoutes[Route Name],MATCH([@[Route ID]],tblRoutes[Route ID],0)),"Not Found")) | F14: =IF([@[Route ID]]="","",IFERROR(INDEX(tblRoutes[Origin],MATCH([@[Route ID]],tblRoutes[Route ID],0)),"Not Found")) | G14: =IF([@[Route ID]]="","",IFERROR(INDEX(tblRoutes[Destination],MATCH([@[Route ID]],tblRoutes[Route ID],0)),"Not Found")) | H14: 0.41666667 | I14: 0.58333333 | J14: =IF(OR([@[Start Date/Time]]="",[@[End Date/Time]]=""),"",IFERROR(([@[End Date/Time]]-[@[Start Date/Time]])*24,"")) | K14: D-003 | L14: =IF([@[Driver ID]]="","",IFERROR(INDEX(tblDrivers[Driver Name],MATCH([@[Driver ID]],tblDrivers[Driver ID],0)),"Not Found")) | M14: V-103 | N14: =IF([@[Vehicle ID]]="","",IFERROR(INDEX(tblVehicles[Unit Description],MATCH([@[Vehicle ID]],tblVehicles[Vehicle ID],0)),"Not Found")) | O14: =IF([@[Route ID]]="","",IFERROR(INDEX(tblRoutes[Scheduled Miles],MATCH([@[Route ID]],tblRoutes[Route ID],0)),"")) | P14: =IF([@[Route ID]]="","",IFERROR(INDEX(tblRoutes[Planned Stops],MATCH([@[Route ID]],tblRoutes[Route ID],0)),"")) | Q14: =IF(OR([@[Scheduled Miles]]="",[@[Vehicle ID]]=""),"",IFERROR([@[Scheduled Miles]]/INDEX(tblVehicles[MPG],MATCH([@[Vehicle ID]],tblVehicles[Vehicle ID],0)),"")) | R14: =IF(OR([@[Estimated Gallons]]="",[@[Estimated Hours]]="",[@[Driver ID]]=""),"",IFERROR([@[Estimated Gallons]]*'Settings'!$B$4+[@[Scheduled Miles]]*'Settings'!$B$5+[@[Estimated Hours]]*INDEX(tblDrivers[Hourly Rate],MATCH([@[Driver ID]],tblDrivers[Driver ID],0)),"")) | S14: In Progress | T14: Call dispatch after airport pickup. | U14: =IF(COUNTA([@[Roster ID]],[@[Service Date]],[@[Route ID]],[@[Scheduled Start]],[@[Scheduled End]],[@[Driver ID]],[@[Vehicle ID]],[@Status],[@[Dispatch Notes]])=0,"",IF([@Status]="Canceled","Not Required",IF([@[Driver ID]]="","Unassigned",IF([@[Driver Name]]="Not Found","Unknown Driver",IF(IFERROR(INDEX(tblDrivers[Active?],MATCH([@[Driver ID]],tblDrivers[Driver ID],0)),"No")<>"Yes","Inactive",IF(OR([@[Start Date/Time]]="",[@[End Date/Time]]=""),"Missing Time",IFERROR(IF(COUNTIFS(tblRoster[Driver ID],[@[Driver ID]],tblRoster[Status],"<>Canceled",tblRoster[Start Date/Time],"<"&[@[End Date/Time]],tblRoster[End Date/Time],">"&[@[Start Date/Time]])>1,"Conflict","OK"),"Check"))))))) | V14: =IF(COUNTA([@[Roster ID]],[@[Service Date]],[@[Route ID]],[@[Scheduled Start]],[@[Scheduled End]],[@[Driver ID]],[@[Vehicle ID]],[@Status],[@[Dispatch Notes]])=0,"",IF([@Status]="Canceled","Not Required",IF([@[Vehicle ID]]="","Unassigned",IF([@[Vehicle Description]]="Not Found","Unknown Vehicle",IF(IFERROR(INDEX(tblVehicles[Available?],MATCH([@[Vehicle ID]],tblVehicles[Vehicle ID],0)),"No")<>"Yes","Unavailable",IF(OR([@[Start Date/Time]]="",[@[End Date/Time]]=""),"Missing Time",IFERROR(IF(COUNTIFS(tblRoster[Vehicle ID],[@[Vehicle ID]],tblRoster[Status],"<>Canceled",tblRoster[Start Date/Time],"<"&[@[End Date/Time]],tblRoster[End Date/Time],">"&[@[Start Date/Time]])>1,"Conflict","OK"),"Check"))))))) | W14: =IF(COUNTA([@[Roster ID]],[@[Service Date]],[@[Route ID]],[@[Scheduled Start]],[@[Scheduled End]],[@[Driver ID]],[@[Vehicle ID]],[@Status],[@[Dispatch Notes]])=0,"",IF([@Status]="Canceled","Not Required",IF(OR([@[Roster ID]]="",[@[Service Date]]="",[@[Route ID]]="",[@[Scheduled Start]]="",[@[Scheduled End]]="",[@Status]=""),"Missing Required Field",IF(COUNTIF(tblRoster[Roster ID],[@[Roster ID]])>1,"Duplicate Roster ID",IF([@[Route Name]]="Not Found","Unknown Route",IF(OR([@[Estimated Hours]]="",[@[Estimated Hours]]<=0),"Invalid Time",IF([@[Estimated Hours]]>'Settings'!$B$6,"Long Shift","OK"))))))) | X14: =IF(COUNTA([@[Roster ID]],[@[Service Date]],[@[Route ID]],[@[Scheduled Start]],[@[Scheduled End]],[@[Driver ID]],[@[Vehicle ID]],[@Status],[@[Dispatch Notes]])=0,"",IF([@Status]="Canceled","Not Required",IF(AND([@[Driver Check]]="OK",[@[Vehicle Check]]="OK",[@[Schedule Check]]="OK"),"OK","Review"))) | Y14: =IF(OR([@[Service Date]]="",[@[Scheduled Start]]=""),"",IFERROR([@[Service Date]]+[@[Scheduled Start]],"")) | Z14: =IF(OR([@[Service Date]]="",[@[Scheduled Start]]="",[@[Scheduled End]]=""),"",IFERROR([@[Service Date]]+[@[Scheduled End]]+IF([@[Scheduled End]]<[@[Scheduled Start]],1,0),""))
A15: SR-260909-01 | B15: 46274 | C15: =IF([@[Service Date]]="","",TEXT([@[Service Date]],"ddd")) | D15: RT-104 | E15: =IF([@[Route ID]]="","",IFERROR(INDEX(tblRoutes[Route Name],MATCH([@[Route ID]],tblRoutes[Route ID],0)),"Not Found")) | F15: =IF([@[Route ID]]="","",IFERROR(INDEX(tblRoutes[Origin],MATCH([@[Route ID]],tblRoutes[Route ID],0)),"Not Found")) | G15: =IF([@[Route ID]]="","",IFERROR(INDEX(tblRoutes[Destination],MATCH([@[Route ID]],tblRoutes[Route ID],0)),"Not Found")) | H15: 0.29166667 | I15: 0.5 | J15: =IF(OR([@[Start Date/Time]]="",[@[End Date/Time]]=""),"",IFERROR(([@[End Date/Time]]-[@[Start Date/Time]])*24,"")) | L15: =IF([@[Driver ID]]="","",IFERROR(INDEX(tblDrivers[Driver Name],MATCH([@[Driver ID]],tblDrivers[Driver ID],0)),"Not Found")) | M15: V-102 | N15: =IF([@[Vehicle ID]]="","",IFERROR(INDEX(tblVehicles[Unit Description],MATCH([@[Vehicle ID]],tblVehicles[Vehicle ID],0)),"Not Found")) | O15: =IF([@[Route ID]]="","",IFERROR(INDEX(tblRoutes[Scheduled Miles],MATCH([@[Route ID]],tblRoutes[Route ID],0)),"")) | P15: =IF([@[Route ID]]="","",IFERROR(INDEX(tblRoutes[Planned Stops],MATCH([@[Route ID]],tblRoutes[Route ID],0)),"")) | Q15: =IF(OR([@[Scheduled Miles]]="",[@[Vehicle ID]]=""),"",IFERROR([@[Scheduled Miles]]/INDEX(tblVehicles[MPG],MATCH([@[Vehicle ID]],tblVehicles[Vehicle ID],0)),"")) | R15: =IF(OR([@[Estimated Gallons]]="",[@[Estimated Hours]]="",[@[Driver ID]]=""),"",IFERROR([@[Estimated Gallons]]*'Settings'!$B$4+[@[Scheduled Miles]]*'Settings'!$B$5+[@[Estimated Hours]]*INDEX(tblDrivers[Hourly Rate],MATCH([@[Driver ID]],tblDrivers[Driver ID],0)),"")) | S15: Planned | T15: Driver assignment pending. | U15: =IF(COUNTA([@[Roster ID]],[@[Service Date]],[@[Route ID]],[@[Scheduled Start]],[@[Scheduled End]],[@[Driver ID]],[@[Vehicle ID]],[@Status],[@[Dispatch Notes]])=0,"",IF([@Status]="Canceled","Not Required",IF([@[Driver ID]]="","Unassigned",IF([@[Driver Name]]="Not Found","Unknown Driver",IF(IFERROR(INDEX(tblDrivers[Active?],MATCH([@[Driver ID]],tblDrivers[Driver ID],0)),"No")<>"Yes","Inactive",IF(OR([@[Start Date/Time]]="",[@[End Date/Time]]=""),"Missing Time",IFERROR(IF(COUNTIFS(tblRoster[Driver ID],[@[Driver ID]],tblRoster[Status],"<>Canceled",tblRoster[Start Date/Time],"<"&[@[End Date/Time]],tblRoster[End Date/Time],">"&[@[Start Date/Time]])>1,"Conflict","OK"),"Check"))))))) | V15: =IF(COUNTA([@[Roster ID]],[@[Service Date]],[@[Route ID]],[@[Scheduled Start]],[@[Scheduled End]],[@[Driver ID]],[@[Vehicle ID]],[@Status],[@[Dispatch Notes]])=0,"",IF([@Status]="Canceled","Not Required",IF([@[Vehicle ID]]="","Unassigned",IF([@[Vehicle Description]]="Not Found","Unknown Vehicle",IF(IFERROR(INDEX(tblVehicles[Available?],MATCH([@[Vehicle ID]],tblVehicles[Vehicle ID],0)),"No")<>"Yes","Unavailable",IF(OR([@[Start Date/Time]]="",[@[End Date/Time]]=""),"Missing Time",IFERROR(IF(COUNTIFS(tblRoster[Vehicle ID],[@[Vehicle ID]],tblRoster[Status],"<>Canceled",tblRoster[Start Date/Time],"<"&[@[End Date/Time]],tblRoster[End Date/Time],">"&[@[Start Date/Time]])>1,"Conflict","OK"),"Check"))))))) | W15: =IF(COUNTA([@[Roster ID]],[@[Service Date]],[@[Route ID]],[@[Scheduled Start]],[@[Scheduled End]],[@[Driver ID]],[@[Vehicle ID]],[@Status],[@[Dispatch Notes]])=0,"",IF([@Status]="Canceled","Not Required",IF(OR([@[Roster ID]]="",[@[Service Date]]="",[@[Route ID]]="",[@[Scheduled Start]]="",[@[Scheduled End]]="",[@Status]=""),"Missing Required Field",IF(COUNTIF(tblRoster[Roster ID],[@[Roster ID]])>1,"Duplicate Roster ID",IF([@[Route Name]]="Not Found","Unknown Route",IF(OR([@[Estimated Hours]]="",[@[Estimated Hours]]<=0),"Invalid Time",IF([@[Estimated Hours]]>'Settings'!$B$6,"Long Shift","OK"))))))) | X15: =IF(COUNTA([@[Roster ID]],[@[Service Date]],[@[Route ID]],[@[Scheduled Start]],[@[Scheduled End]],[@[Driver ID]],[@[Vehicle ID]],[@Status],[@[Dispatch Notes]])=0,"",IF([@Status]="Canceled","Not Required",IF(AND([@[Driver Check]]="OK",[@[Vehicle Check]]="OK",[@[Schedule Check]]="OK"),"OK","Review"))) | Y15: =IF(OR([@[Service Date]]="",[@[Scheduled Start]]=""),"",IFERROR([@[Service Date]]+[@[Scheduled Start]],"")) | Z15: =IF(OR([@[Service Date]]="",[@[Scheduled Start]]="",[@[Scheduled End]]=""),"",IFERROR([@[Service Date]]+[@[Scheduled End]]+IF([@[Scheduled End]]<[@[Scheduled Start]],1,0),""))
A16: SR-260909-02 | B16: 46274 | C16: =IF([@[Service Date]]="","",TEXT([@[Service Date]],"ddd")) | D16: RT-105 | E16: =IF([@[Route ID]]="","",IFERROR(INDEX(tblRoutes[Route Name],MATCH([@[Route ID]],tblRoutes[Route ID],0)),"Not Found")) | F16: =IF([@[Route ID]]="","",IFERROR(INDEX(tblRoutes[Origin],MATCH([@[Route ID]],tblRoutes[Route ID],0)),"Not Found")) | G16: =IF([@[Route ID]]="","",IFERROR(INDEX(tblRoutes[Destination],MATCH([@[Route ID]],tblRoutes[Route ID],0)),"Not Found")) | H16: 0.33333333 | I16: 0.47916667 | J16: =IF(OR([@[Start Date/Time]]="",[@[End Date/Time]]=""),"",IFERROR(([@[End Date/Time]]-[@[Start Date/Time]])*24,"")) | K16: D-006 | L16: =IF([@[Driver ID]]="","",IFERROR(INDEX(tblDrivers[Driver Name],MATCH([@[Driver ID]],tblDrivers[Driver ID],0)),"Not Found")) | M16: V-106 | N16: =IF([@[Vehicle ID]]="","",IFERROR(INDEX(tblVehicles[Unit Description],MATCH([@[Vehicle ID]],tblVehicles[Vehicle ID],0)),"Not Found")) | O16: =IF([@[Route ID]]="","",IFERROR(INDEX(tblRoutes[Scheduled Miles],MATCH([@[Route ID]],tblRoutes[Route ID],0)),"")) | P16: =IF([@[Route ID]]="","",IFERROR(INDEX(tblRoutes[Planned Stops],MATCH([@[Route ID]],tblRoutes[Route ID],0)),"")) | Q16: =IF(OR([@[Scheduled Miles]]="",[@[Vehicle ID]]=""),"",IFERROR([@[Scheduled Miles]]/INDEX(tblVehicles[MPG],MATCH([@[Vehicle ID]],tblVehicles[Vehicle ID],0)),"")) | R16: =IF(OR([@[Estimated Gallons]]="",[@[Estimated Hours]]="",[@[Driver ID]]=""),"",IFERROR([@[Estimated Gallons]]*'Settings'!$B$4+[@[Scheduled Miles]]*'Settings'!$B$5+[@[Estimated Hours]]*INDEX(tblDrivers[Hourly Rate],MATCH([@[Driver ID]],tblDrivers[Driver ID],0)),"")) | S16: Planned | T16: Backup assignment entered for review. | U16: =IF(COUNTA([@[Roster ID]],[@[Service Date]],[@[Route ID]],[@[Scheduled Start]],[@[Scheduled End]],[@[Driver ID]],[@[Vehicle ID]],[@Status],[@[Dispatch Notes]])=0,"",IF([@Status]="Canceled","Not Required",IF([@[Driver ID]]="","Unassigned",IF([@[Driver Name]]="Not Found","Unknown Driver",IF(IFERROR(INDEX(tblDrivers[Active?],MATCH([@[Driver ID]],tblDrivers[Driver ID],0)),"No")<>"Yes","Inactive",IF(OR([@[Start Date/Time]]="",[@[End Date/Time]]=""),"Missing Time",IFERROR(IF(COUNTIFS(tblRoster[Driver ID],[@[Driver ID]],tblRoster[Status],"<>Canceled",tblRoster[Start Date/Time],"<"&[@[End Date/Time]],tblRoster[End Date/Time],">"&[@[Start Date/Time]])>1,"Conflict","OK"),"Check"))))))) | V16: =IF(COUNTA([@[Roster ID]],[@[Service Date]],[@[Route ID]],[@[Scheduled Start]],[@[Scheduled End]],[@[Driver ID]],[@[Vehicle ID]],[@Status],[@[Dispatch Notes]])=0,"",IF([@Status]="Canceled","Not Required",IF([@[Vehicle ID]]="","Unassigned",IF([@[Vehicle Description]]="Not Found","Unknown Vehicle",IF(IFERROR(INDEX(tblVehicles[Available?],MATCH([@[Vehicle ID]],tblVehicles[Vehicle ID],0)),"No")<>"Yes","Unavailable",IF(OR([@[Start Date/Time]]="",[@[End Date/Time]]=""),"Missing Time",IFERROR(IF(COUNTIFS(tblRoster[Vehicle ID],[@[Vehicle ID]],tblRoster[Status],"<>Canceled",tblRoster[Start Date/Time],"<"&[@[End Date/Time]],tblRoster[End Date/Time],">"&[@[Start Date/Time]])>1,"Conflict","OK"),"Check"))))))) | W16: =IF(COUNTA([@[Roster ID]],[@[Service Date]],[@[Route ID]],[@[Scheduled Start]],[@[Scheduled End]],[@[Driver ID]],[@[Vehicle ID]],[@Status],[@[Dispatch Notes]])=0,"",IF([@Status]="Canceled","Not Required",IF(OR([@[Roster ID]]="",[@[Service Date]]="",[@[Route ID]]="",[@[Scheduled Start]]="",[@[Scheduled End]]="",[@Status]=""),"Missing Required Field",IF(COUNTIF(tblRoster[Roster ID],[@[Roster ID]])>1,"Duplicate Roster ID",IF([@[Route Name]]="Not Found","Unknown Route",IF(OR([@[Estimated Hours]]="",[@[Estimated Hours]]<=0),"Invalid Time",IF([@[Estimated Hours]]>'Settings'!$B$6,"Long Shift","OK"))))))) | X16: =IF(COUNTA([@[Roster ID]],[@[Service Date]],[@[Route ID]],[@[Scheduled Start]],[@[Scheduled End]],[@[Driver ID]],[@[Vehicle ID]],[@Status],[@[Dispatch Notes]])=0,"",IF([@Status]="Canceled","Not Required",IF(AND([@[Driver Check]]="OK",[@[Vehicle Check]]="OK",[@[Schedule Check]]="OK"),"OK","Review"))) | Y16: =IF(OR([@[Service Date]]="",[@[Scheduled Start]]=""),"",IFERROR([@[Service Date]]+[@[Scheduled Start]],"")) | Z16: =IF(OR([@[Service Date]]="",[@[Scheduled Start]]="",[@[Scheduled End]]=""),"",IFERROR([@[Service Date]]+[@[Scheduled End]]+IF([@[Scheduled End]]<[@[Scheduled Start]],1,0),""))
C17: =IF([@[Service Date]]="","",TEXT([@[Service Date]],"ddd")) | E17: =IF([@[Route ID]]="","",IFERROR(INDEX(tblRoutes[Route Name],MATCH([@[Route ID]],tblRoutes[Route ID],0)),"Not Found")) | F17: =IF([@[Route ID]]="","",IFERROR(INDEX(tblRoutes[Origin],MATCH([@[Route ID]],tblRoutes[Route ID],0)),"Not Found")) | G17: =IF([@[Route ID]]="","",IFERROR(INDEX(tblRoutes[Destination],MATCH([@[Route ID]],tblRoutes[Route ID],0)),"Not Found")) | J17: =IF(OR([@[Start Date/Time]]="",[@[End Date/Time]]=""),"",IFERROR(([@[End Date/Time]]-[@[Start Date/Time]])*24,"")) | L17: =IF([@[Driver ID]]="","",IFERROR(INDEX(tblDrivers[Driver Name],MATCH([@[Driver ID]],tblDrivers[Driver ID],0)),"Not Found")) | N17: =IF([@[Vehicle ID]]="","",IFERROR(INDEX(tblVehicles[Unit Description],MATCH([@[Vehicle ID]],tblVehicles[Vehicle ID],0)),"Not Found")) | O17: =IF([@[Route ID]]="","",IFERROR(INDEX(tblRoutes[Scheduled Miles],MATCH([@[Route ID]],tblRoutes[Route ID],0)),"")) | P17: =IF([@[Route ID]]="","",IFERROR(INDEX(tblRoutes[Planned Stops],MATCH([@[Route ID]],tblRoutes[Route ID],0)),"")) | Q17: =IF(OR([@[Scheduled Miles]]="",[@[Vehicle ID]]=""),"",IFERROR([@[Scheduled Miles]]/INDEX(tblVehicles[MPG],MATCH([@[Vehicle ID]],tblVehicles[Vehicle ID],0)),"")) | R17: =IF(OR([@[Estimated Gallons]]="",[@[Estimated Hours]]="",[@[Driver ID]]=""),"",IFERROR([@[Estimated Gallons]]*'Settings'!$B$4+[@[Scheduled Miles]]*'Settings'!$B$5+[@[Estimated Hours]]*INDEX(tblDrivers[Hourly Rate],MATCH([@[Driver ID]],tblDrivers[Driver ID],0)),"")) | U17: =IF(COUNTA([@[Roster ID]],[@[Service Date]],[@[Route ID]],[@[Scheduled Start]],[@[Scheduled End]],[@[Driver ID]],[@[Vehicle ID]],[@Status],[@[Dispatch Notes]])=0,"",IF([@Status]="Canceled","Not Required",IF([@[Driver ID]]="","Unassigned",IF([@[Driver Name]]="Not Found","Unknown Driver",IF(IFERROR(INDEX(tblDrivers[Active?],MATCH([@[Driver ID]],tblDrivers[Driver ID],0)),"No")<>"Yes","Inactive",IF(OR([@[Start Date/Time]]="",[@[End Date/Time]]=""),"Missing Time",IFERROR(IF(COUNTIFS(tblRoster[Driver ID],[@[Driver ID]],tblRoster[Status],"<>Canceled",tblRoster[Start Date/Time],"<"&[@[End Date/Time]],tblRoster[End Date/Time],">"&[@[Start Date/Time]])>1,"Conflict","OK"),"Check"))))))) | V17: =IF(COUNTA([@[Roster ID]],[@[Service Date]],[@[Route ID]],[@[Scheduled Start]],[@[Scheduled End]],[@[Driver ID]],[@[Vehicle ID]],[@Status],[@[Dispatch Notes]])=0,"",IF([@Status]="Canceled","Not Required",IF([@[Vehicle ID]]="","Unassigned",IF([@[Vehicle Description]]="Not Found","Unknown Vehicle",IF(IFERROR(INDEX(tblVehicles[Available?],MATCH([@[Vehicle ID]],tblVehicles[Vehicle ID],0)),"No")<>"Yes","Unavailable",IF(OR([@[Start Date/Time]]="",[@[End Date/Time]]=""),"Missing Time",IFERROR(IF(COUNTIFS(tblRoster[Vehicle ID],[@[Vehicle ID]],tblRoster[Status],"<>Canceled",tblRoster[Start Date/Time],"<"&[@[End Date/Time]],tblRoster[End Date/Time],">"&[@[Start Date/Time]])>1,"Conflict","OK"),"Check"))))))) | W17: =IF(COUNTA([@[Roster ID]],[@[Service Date]],[@[Route ID]],[@[Scheduled Start]],[@[Scheduled End]],[@[Driver ID]],[@[Vehicle ID]],[@Status],[@[Dispatch Notes]])=0,"",IF([@Status]="Canceled","Not Required",IF(OR([@[Roster ID]]="",[@[Service Date]]="",[@[Route ID]]="",[@[Scheduled Start]]="",[@[Scheduled End]]="",[@Status]=""),"Missing Required Field",IF(COUNTIF(tblRoster[Roster ID],[@[Roster ID]])>1,"Duplicate Roster ID",IF([@[Route Name]]="Not Found","Unknown Route",IF(OR([@[Estimated Hours]]="",[@[Estimated Hours]]<=0),"Invalid Time",IF([@[Estimated Hours]]>'Settings'!$B$6,"Long Shift","OK"))))))) | X17: =IF(COUNTA([@[Roster ID]],[@[Service Date]],[@[Route ID]],[@[Scheduled Start]],[@[Scheduled End]],[@[Driver ID]],[@[Vehicle ID]],[@Status],[@[Dispatch Notes]])=0,"",IF([@Status]="Canceled","Not Required",IF(AND([@[Driver Check]]="OK",[@[Vehicle Check]]="OK",[@[Schedule Check]]="OK"),"OK","Review"))) | Y17: =IF(OR([@[Service Date]]="",[@[Scheduled Start]]=""),"",IFERROR([@[Service Date]]+[@[Scheduled Start]],"")) | Z17: =IF(OR([@[Service Date]]="",[@[Scheduled Start]]="",[@[Scheduled End]]=""),"",IFERROR([@[Service Date]]+[@[Scheduled End]]+IF([@[Scheduled End]]<[@[Scheduled Start]],1,0),""))
