Workbook

Sheet Dashboard
A1: Route Capacity Planning Dashboard
A2: Review route demand against vehicle capacity, shift time, and estimated fuel use.
A3: Planning Date | B3: 46272 | D3: Change the planning date to refresh the summaries below.
A6: Routes Scheduled | B6: =COUNTIFS('Route Plan'!$A$6:$A$205,$B$3,'Route Plan'!$B$6:$B$205,"<>",'Route Plan'!$F$6:$F$205,"<>Canceled") | C6: Planned Stops | D6: =SUMIFS('Route Plan'!$I$6:$I$205,'Route Plan'!$A$6:$A$205,$B$3,'Route Plan'!$F$6:$F$205,"<>Canceled") | E6: Planned Miles | F6: =SUMIFS('Route Plan'!$J$6:$J$205,'Route Plan'!$A$6:$A$205,$B$3,'Route Plan'!$F$6:$F$205,"<>Canceled") | G6: Load Weight (lb) | H6: =SUMIFS('Route Plan'!$K$6:$K$205,'Route Plan'!$A$6:$A$205,$B$3,'Route Plan'!$F$6:$F$205,"<>Canceled")
A9: Average Capacity Utilization | B9: =IFERROR(AVERAGEIFS('Route Plan'!$Q$6:$Q$205,'Route Plan'!$A$6:$A$205,$B$3,'Route Plan'!$F$6:$F$205,"<>Canceled"),0) | C9: Over-Capacity Routes | D9: =COUNTIFS('Route Plan'!$A$6:$A$205,$B$3,'Route Plan'!$Q$6:$Q$205,">1",'Route Plan'!$F$6:$F$205,"<>Canceled") | E9: Over-Shift Routes | F9: =COUNTIFS('Route Plan'!$A$6:$A$205,$B$3,'Route Plan'!$V$6:$V$205,">1",'Route Plan'!$F$6:$F$205,"<>Canceled") | G9: Ready Routes | H9: =COUNTIFS('Route Plan'!$A$6:$A$205,$B$3,'Route Plan'!$AA$6:$AA$205,"Ready")
A12: Estimated Fuel (gal) | B12: =SUMIFS('Route Plan'!$W$6:$W$205,'Route Plan'!$A$6:$A$205,$B$3,'Route Plan'!$F$6:$F$205,"<>Canceled") | C12: Estimated Fuel Cost | D12: =SUMIFS('Route Plan'!$X$6:$X$205,'Route Plan'!$A$6:$A$205,$B$3,'Route Plan'!$F$6:$F$205,"<>Canceled") | E12: Exception Routes | F12: =COUNTIFS('Route Plan'!$A$6:$A$205,$B$3,'Route Plan'!$B$6:$B$205,"<>",'Route Plan'!$F$6:$F$205,"<>Canceled",'Route Plan'!$AA$6:$AA$205,"<>Ready",'Route Plan'!$AA$6:$AA$205,"<>Canceled") | G12: Maximum Capacity Utilization | H12: =IFERROR(MAXIFS('Route Plan'!$Q$6:$Q$205,'Route Plan'!$A$6:$A$205,$B$3,'Route Plan'!$F$6:$F$205,"<>Canceled"),0)
A15: Depot Capacity Summary
A16: Depot | B16: Routes | C16: Weight Loaded (lb) | D16: Weight Capacity (lb) | E16: Weight Utilization | F16: Volume Loaded (cu ft) | G16: Volume Capacity (cu ft) | H16: Volume Utilization
A17: ='Settings'!$D$6 | B17: =COUNTIFS('Route Plan'!$A$6:$A$205,$B$3,'Route Plan'!$C$6:$C$205,$A17,'Route Plan'!$F$6:$F$205,"<>Canceled") | C17: =SUMIFS('Route Plan'!$K$6:$K$205,'Route Plan'!$A$6:$A$205,$B$3,'Route Plan'!$C$6:$C$205,$A17,'Route Plan'!$F$6:$F$205,"<>Canceled") | D17: =SUMIFS('Route Plan'!$M$6:$M$205,'Route Plan'!$A$6:$A$205,$B$3,'Route Plan'!$C$6:$C$205,$A17,'Route Plan'!$F$6:$F$205,"<>Canceled") | E17: =IFERROR(C17/D17,0) | F17: =SUMIFS('Route Plan'!$L$6:$L$205,'Route Plan'!$A$6:$A$205,$B$3,'Route Plan'!$C$6:$C$205,$A17,'Route Plan'!$F$6:$F$205,"<>Canceled") | G17: =SUMIFS('Route Plan'!$N$6:$N$205,'Route Plan'!$A$6:$A$205,$B$3,'Route Plan'!$C$6:$C$205,$A17,'Route Plan'!$F$6:$F$205,"<>Canceled") | H17: =IFERROR(F17/G17,0)
A18: ='Settings'!$D$7 | B18: =COUNTIFS('Route Plan'!$A$6:$A$205,$B$3,'Route Plan'!$C$6:$C$205,$A18,'Route Plan'!$F$6:$F$205,"<>Canceled") | C18: =SUMIFS('Route Plan'!$K$6:$K$205,'Route Plan'!$A$6:$A$205,$B$3,'Route Plan'!$C$6:$C$205,$A18,'Route Plan'!$F$6:$F$205,"<>Canceled") | D18: =SUMIFS('Route Plan'!$M$6:$M$205,'Route Plan'!$A$6:$A$205,$B$3,'Route Plan'!$C$6:$C$205,$A18,'Route Plan'!$F$6:$F$205,"<>Canceled") | E18: =IFERROR(C18/D18,0) | F18: =SUMIFS('Route Plan'!$L$6:$L$205,'Route Plan'!$A$6:$A$205,$B$3,'Route Plan'!$C$6:$C$205,$A18,'Route Plan'!$F$6:$F$205,"<>Canceled") | G18: =SUMIFS('Route Plan'!$N$6:$N$205,'Route Plan'!$A$6:$A$205,$B$3,'Route Plan'!$C$6:$C$205,$A18,'Route Plan'!$F$6:$F$205,"<>Canceled") | H18: =IFERROR(F18/G18,0)
A19: ='Settings'!$D$8 | B19: =COUNTIFS('Route Plan'!$A$6:$A$205,$B$3,'Route Plan'!$C$6:$C$205,$A19,'Route Plan'!$F$6:$F$205,"<>Canceled") | C19: =SUMIFS('Route Plan'!$K$6:$K$205,'Route Plan'!$A$6:$A$205,$B$3,'Route Plan'!$C$6:$C$205,$A19,'Route Plan'!$F$6:$F$205,"<>Canceled") | D19: =SUMIFS('Route Plan'!$M$6:$M$205,'Route Plan'!$A$6:$A$205,$B$3,'Route Plan'!$C$6:$C$205,$A19,'Route Plan'!$F$6:$F$205,"<>Canceled") | E19: =IFERROR(C19/D19,0) | F19: =SUMIFS('Route Plan'!$L$6:$L$205,'Route Plan'!$A$6:$A$205,$B$3,'Route Plan'!$C$6:$C$205,$A19,'Route Plan'!$F$6:$F$205,"<>Canceled") | G19: =SUMIFS('Route Plan'!$N$6:$N$205,'Route Plan'!$A$6:$A$205,$B$3,'Route Plan'!$C$6:$C$205,$A19,'Route Plan'!$F$6:$F$205,"<>Canceled") | H19: =IFERROR(F19/G19,0)
A20: ='Settings'!$D$9 | B20: =COUNTIFS('Route Plan'!$A$6:$A$205,$B$3,'Route Plan'!$C$6:$C$205,$A20,'Route Plan'!$F$6:$F$205,"<>Canceled") | C20: =SUMIFS('Route Plan'!$K$6:$K$205,'Route Plan'!$A$6:$A$205,$B$3,'Route Plan'!$C$6:$C$205,$A20,'Route Plan'!$F$6:$F$205,"<>Canceled") | D20: =SUMIFS('Route Plan'!$M$6:$M$205,'Route Plan'!$A$6:$A$205,$B$3,'Route Plan'!$C$6:$C$205,$A20,'Route Plan'!$F$6:$F$205,"<>Canceled") | E20: =IFERROR(C20/D20,0) | F20: =SUMIFS('Route Plan'!$L$6:$L$205,'Route Plan'!$A$6:$A$205,$B$3,'Route Plan'!$C$6:$C$205,$A20,'Route Plan'!$F$6:$F$205,"<>Canceled") | G20: =SUMIFS('Route Plan'!$N$6:$N$205,'Route Plan'!$A$6:$A$205,$B$3,'Route Plan'!$C$6:$C$205,$A20,'Route Plan'!$F$6:$F$205,"<>Canceled") | H20: =IFERROR(F20/G20,0)
A21: ='Settings'!$D$10 | B21: =COUNTIFS('Route Plan'!$A$6:$A$205,$B$3,'Route Plan'!$C$6:$C$205,$A21,'Route Plan'!$F$6:$F$205,"<>Canceled") | C21: =SUMIFS('Route Plan'!$K$6:$K$205,'Route Plan'!$A$6:$A$205,$B$3,'Route Plan'!$C$6:$C$205,$A21,'Route Plan'!$F$6:$F$205,"<>Canceled") | D21: =SUMIFS('Route Plan'!$M$6:$M$205,'Route Plan'!$A$6:$A$205,$B$3,'Route Plan'!$C$6:$C$205,$A21,'Route Plan'!$F$6:$F$205,"<>Canceled") | E21: =IFERROR(C21/D21,0) | F21: =SUMIFS('Route Plan'!$L$6:$L$205,'Route Plan'!$A$6:$A$205,$B$3,'Route Plan'!$C$6:$C$205,$A21,'Route Plan'!$F$6:$F$205,"<>Canceled") | G21: =SUMIFS('Route Plan'!$N$6:$N$205,'Route Plan'!$A$6:$A$205,$B$3,'Route Plan'!$C$6:$C$205,$A21,'Route Plan'!$F$6:$F$205,"<>Canceled") | H21: =IFERROR(F21/G21,0)
A22: Capacity is summed from assigned vehicle values; review repeated vehicle assignments when interpreting totals.
A23: Route Exceptions | D23: Shows up to 10 non-ready routes for the selected date. Review Route Plan for the full list.
A24: Route ID | B24: Depot | C24: Vehicle ID | D24: Capacity Utilization | E24: Time Utilization | F24: Overall Check | G24: Load Weight (lb) | H24: Planned Miles
A25: =IFERROR(INDEX('Route Plan'!$B$6:$B$205,AGGREGATE(15,6,(ROW('Route Plan'!$B$6:$B$205)-ROW('Route Plan'!$B$6)+1)/(('Route Plan'!$A$6:$A$205=$B$3)*('Route Plan'!$AA$6:$AA$205<>"")*('Route Plan'!$AA$6:$AA$205<>"Ready")*('Route Plan'!$AA$6:$AA$205<>"Canceled")),ROWS($A$25:A25))),"") | B25: =IF($A25="","",IFERROR(INDEX('Route Plan'!$C$6:$C$205,MATCH($A25,'Route Plan'!$B$6:$B$205,0)),"")) | C25: =IF($A25="","",IFERROR(INDEX('Route Plan'!$D$6:$D$205,MATCH($A25,'Route Plan'!$B$6:$B$205,0)),"")) | D25: =IF($A25="","",IFERROR(INDEX('Route Plan'!$Q$6:$Q$205,MATCH($A25,'Route Plan'!$B$6:$B$205,0)),"")) | E25: =IF($A25="","",IFERROR(INDEX('Route Plan'!$V$6:$V$205,MATCH($A25,'Route Plan'!$B$6:$B$205,0)),"")) | F25: =IF($A25="","",IFERROR(INDEX('Route Plan'!$AA$6:$AA$205,MATCH($A25,'Route Plan'!$B$6:$B$205,0)),"")) | G25: =IF($A25="","",IFERROR(INDEX('Route Plan'!$K$6:$K$205,MATCH($A25,'Route Plan'!$B$6:$B$205,0)),"")) | H25: =IF($A25="","",IFERROR(INDEX('Route Plan'!$J$6:$J$205,MATCH($A25,'Route Plan'!$B$6:$B$205,0)),""))
A26: =IFERROR(INDEX('Route Plan'!$B$6:$B$205,AGGREGATE(15,6,(ROW('Route Plan'!$B$6:$B$205)-ROW('Route Plan'!$B$6)+1)/(('Route Plan'!$A$6:$A$205=$B$3)*('Route Plan'!$AA$6:$AA$205<>"")*('Route Plan'!$AA$6:$AA$205<>"Ready")*('Route Plan'!$AA$6:$AA$205<>"Canceled")),ROWS($A$25:A26))),"") | B26: =IF($A26="","",IFERROR(INDEX('Route Plan'!$C$6:$C$205,MATCH($A26,'Route Plan'!$B$6:$B$205,0)),"")) | C26: =IF($A26="","",IFERROR(INDEX('Route Plan'!$D$6:$D$205,MATCH($A26,'Route Plan'!$B$6:$B$205,0)),"")) | D26: =IF($A26="","",IFERROR(INDEX('Route Plan'!$Q$6:$Q$205,MATCH($A26,'Route Plan'!$B$6:$B$205,0)),"")) | E26: =IF($A26="","",IFERROR(INDEX('Route Plan'!$V$6:$V$205,MATCH($A26,'Route Plan'!$B$6:$B$205,0)),"")) | F26: =IF($A26="","",IFERROR(INDEX('Route Plan'!$AA$6:$AA$205,MATCH($A26,'Route Plan'!$B$6:$B$205,0)),"")) | G26: =IF($A26="","",IFERROR(INDEX('Route Plan'!$K$6:$K$205,MATCH($A26,'Route Plan'!$B$6:$B$205,0)),"")) | H26: =IF($A26="","",IFERROR(INDEX('Route Plan'!$J$6:$J$205,MATCH($A26,'Route Plan'!$B$6:$B$205,0)),""))
A27: =IFERROR(INDEX('Route Plan'!$B$6:$B$205,AGGREGATE(15,6,(ROW('Route Plan'!$B$6:$B$205)-ROW('Route Plan'!$B$6)+1)/(('Route Plan'!$A$6:$A$205=$B$3)*('Route Plan'!$AA$6:$AA$205<>"")*('Route Plan'!$AA$6:$AA$205<>"Ready")*('Route Plan'!$AA$6:$AA$205<>"Canceled")),ROWS($A$25:A27))),"") | B27: =IF($A27="","",IFERROR(INDEX('Route Plan'!$C$6:$C$205,MATCH($A27,'Route Plan'!$B$6:$B$205,0)),"")) | C27: =IF($A27="","",IFERROR(INDEX('Route Plan'!$D$6:$D$205,MATCH($A27,'Route Plan'!$B$6:$B$205,0)),"")) | D27: =IF($A27="","",IFERROR(INDEX('Route Plan'!$Q$6:$Q$205,MATCH($A27,'Route Plan'!$B$6:$B$205,0)),"")) | E27: =IF($A27="","",IFERROR(INDEX('Route Plan'!$V$6:$V$205,MATCH($A27,'Route Plan'!$B$6:$B$205,0)),"")) | F27: =IF($A27="","",IFERROR(INDEX('Route Plan'!$AA$6:$AA$205,MATCH($A27,'Route Plan'!$B$6:$B$205,0)),"")) | G27: =IF($A27="","",IFERROR(INDEX('Route Plan'!$K$6:$K$205,MATCH($A27,'Route Plan'!$B$6:$B$205,0)),"")) | H27: =IF($A27="","",IFERROR(INDEX('Route Plan'!$J$6:$J$205,MATCH($A27,'Route Plan'!$B$6:$B$205,0)),""))
A28: =IFERROR(INDEX('Route Plan'!$B$6:$B$205,AGGREGATE(15,6,(ROW('Route Plan'!$B$6:$B$205)-ROW('Route Plan'!$B$6)+1)/(('Route Plan'!$A$6:$A$205=$B$3)*('Route Plan'!$AA$6:$AA$205<>"")*('Route Plan'!$AA$6:$AA$205<>"Ready")*('Route Plan'!$AA$6:$AA$205<>"Canceled")),ROWS($A$25:A28))),"") | B28: =IF($A28="","",IFERROR(INDEX('Route Plan'!$C$6:$C$205,MATCH($A28,'Route Plan'!$B$6:$B$205,0)),"")) | C28: =IF($A28="","",IFERROR(INDEX('Route Plan'!$D$6:$D$205,MATCH($A28,'Route Plan'!$B$6:$B$205,0)),"")) | D28: =IF($A28="","",IFERROR(INDEX('Route Plan'!$Q$6:$Q$205,MATCH($A28,'Route Plan'!$B$6:$B$205,0)),"")) | E28: =IF($A28="","",IFERROR(INDEX('Route Plan'!$V$6:$V$205,MATCH($A28,'Route Plan'!$B$6:$B$205,0)),"")) | F28: =IF($A28="","",IFERROR(INDEX('Route Plan'!$AA$6:$AA$205,MATCH($A28,'Route Plan'!$B$6:$B$205,0)),"")) | G28: =IF($A28="","",IFERROR(INDEX('Route Plan'!$K$6:$K$205,MATCH($A28,'Route Plan'!$B$6:$B$205,0)),"")) | H28: =IF($A28="","",IFERROR(INDEX('Route Plan'!$J$6:$J$205,MATCH($A28,'Route Plan'!$B$6:$B$205,0)),""))
A29: =IFERROR(INDEX('Route Plan'!$B$6:$B$205,AGGREGATE(15,6,(ROW('Route Plan'!$B$6:$B$205)-ROW('Route Plan'!$B$6)+1)/(('Route Plan'!$A$6:$A$205=$B$3)*('Route Plan'!$AA$6:$AA$205<>"")*('Route Plan'!$AA$6:$AA$205<>"Ready")*('Route Plan'!$AA$6:$AA$205<>"Canceled")),ROWS($A$25:A29))),"") | B29: =IF($A29="","",IFERROR(INDEX('Route Plan'!$C$6:$C$205,MATCH($A29,'Route Plan'!$B$6:$B$205,0)),"")) | C29: =IF($A29="","",IFERROR(INDEX('Route Plan'!$D$6:$D$205,MATCH($A29,'Route Plan'!$B$6:$B$205,0)),"")) | D29: =IF($A29="","",IFERROR(INDEX('Route Plan'!$Q$6:$Q$205,MATCH($A29,'Route Plan'!$B$6:$B$205,0)),"")) | E29: =IF($A29="","",IFERROR(INDEX('Route Plan'!$V$6:$V$205,MATCH($A29,'Route Plan'!$B$6:$B$205,0)),"")) | F29: =IF($A29="","",IFERROR(INDEX('Route Plan'!$AA$6:$AA$205,MATCH($A29,'Route Plan'!$B$6:$B$205,0)),"")) | G29: =IF($A29="","",IFERROR(INDEX('Route Plan'!$K$6:$K$205,MATCH($A29,'Route Plan'!$B$6:$B$205,0)),"")) | H29: =IF($A29="","",IFERROR(INDEX('Route Plan'!$J$6:$J$205,MATCH($A29,'Route Plan'!$B$6:$B$205,0)),""))
A30: =IFERROR(INDEX('Route Plan'!$B$6:$B$205,AGGREGATE(15,6,(ROW('Route Plan'!$B$6:$B$205)-ROW('Route Plan'!$B$6)+1)/(('Route Plan'!$A$6:$A$205=$B$3)*('Route Plan'!$AA$6:$AA$205<>"")*('Route Plan'!$AA$6:$AA$205<>"Ready")*('Route Plan'!$AA$6:$AA$205<>"Canceled")),ROWS($A$25:A30))),"") | B30: =IF($A30="","",IFERROR(INDEX('Route Plan'!$C$6:$C$205,MATCH($A30,'Route Plan'!$B$6:$B$205,0)),"")) | C30: =IF($A30="","",IFERROR(INDEX('Route Plan'!$D$6:$D$205,MATCH($A30,'Route Plan'!$B$6:$B$205,0)),"")) | D30: =IF($A30="","",IFERROR(INDEX('Route Plan'!$Q$6:$Q$205,MATCH($A30,'Route Plan'!$B$6:$B$205,0)),"")) | E30: =IF($A30="","",IFERROR(INDEX('Route Plan'!$V$6:$V$205,MATCH($A30,'Route Plan'!$B$6:$B$205,0)),"")) | F30: =IF($A30="","",IFERROR(INDEX('Route Plan'!$AA$6:$AA$205,MATCH($A30,'Route Plan'!$B$6:$B$205,0)),"")) | G30: =IF($A30="","",IFERROR(INDEX('Route Plan'!$K$6:$K$205,MATCH($A30,'Route Plan'!$B$6:$B$205,0)),"")) | H30: =IF($A30="","",IFERROR(INDEX('Route Plan'!$J$6:$J$205,MATCH($A30,'Route Plan'!$B$6:$B$205,0)),""))
A31: =IFERROR(INDEX('Route Plan'!$B$6:$B$205,AGGREGATE(15,6,(ROW('Route Plan'!$B$6:$B$205)-ROW('Route Plan'!$B$6)+1)/(('Route Plan'!$A$6:$A$205=$B$3)*('Route Plan'!$AA$6:$AA$205<>"")*('Route Plan'!$AA$6:$AA$205<>"Ready")*('Route Plan'!$AA$6:$AA$205<>"Canceled")),ROWS($A$25:A31))),"") | B31: =IF($A31="","",IFERROR(INDEX('Route Plan'!$C$6:$C$205,MATCH($A31,'Route Plan'!$B$6:$B$205,0)),"")) | C31: =IF($A31="","",IFERROR(INDEX('Route Plan'!$D$6:$D$205,MATCH($A31,'Route Plan'!$B$6:$B$205,0)),"")) | D31: =IF($A31="","",IFERROR(INDEX('Route Plan'!$Q$6:$Q$205,MATCH($A31,'Route Plan'!$B$6:$B$205,0)),"")) | E31: =IF($A31="","",IFERROR(INDEX('Route Plan'!$V$6:$V$205,MATCH($A31,'Route Plan'!$B$6:$B$205,0)),"")) | F31: =IF($A31="","",IFERROR(INDEX('Route Plan'!$AA$6:$AA$205,MATCH($A31,'Route Plan'!$B$6:$B$205,0)),"")) | G31: =IF($A31="","",IFERROR(INDEX('Route Plan'!$K$6:$K$205,MATCH($A31,'Route Plan'!$B$6:$B$205,0)),"")) | H31: =IF($A31="","",IFERROR(INDEX('Route Plan'!$J$6:$J$205,MATCH($A31,'Route Plan'!$B$6:$B$205,0)),""))
A32: =IFERROR(INDEX('Route Plan'!$B$6:$B$205,AGGREGATE(15,6,(ROW('Route Plan'!$B$6:$B$205)-ROW('Route Plan'!$B$6)+1)/(('Route Plan'!$A$6:$A$205=$B$3)*('Route Plan'!$AA$6:$AA$205<>"")*('Route Plan'!$AA$6:$AA$205<>"Ready")*('Route Plan'!$AA$6:$AA$205<>"Canceled")),ROWS($A$25:A32))),"") | B32: =IF($A32="","",IFERROR(INDEX('Route Plan'!$C$6:$C$205,MATCH($A32,'Route Plan'!$B$6:$B$205,0)),"")) | C32: =IF($A32="","",IFERROR(INDEX('Route Plan'!$D$6:$D$205,MATCH($A32,'Route Plan'!$B$6:$B$205,0)),"")) | D32: =IF($A32="","",IFERROR(INDEX('Route Plan'!$Q$6:$Q$205,MATCH($A32,'Route Plan'!$B$6:$B$205,0)),"")) | E32: =IF($A32="","",IFERROR(INDEX('Route Plan'!$V$6:$V$205,MATCH($A32,'Route Plan'!$B$6:$B$205,0)),"")) | F32: =IF($A32="","",IFERROR(INDEX('Route Plan'!$AA$6:$AA$205,MATCH($A32,'Route Plan'!$B$6:$B$205,0)),"")) | G32: =IF($A32="","",IFERROR(INDEX('Route Plan'!$K$6:$K$205,MATCH($A32,'Route Plan'!$B$6:$B$205,0)),"")) | H32: =IF($A32="","",IFERROR(INDEX('Route Plan'!$J$6:$J$205,MATCH($A32,'Route Plan'!$B$6:$B$205,0)),""))
A33: =IFERROR(INDEX('Route Plan'!$B$6:$B$205,AGGREGATE(15,6,(ROW('Route Plan'!$B$6:$B$205)-ROW('Route Plan'!$B$6)+1)/(('Route Plan'!$A$6:$A$205=$B$3)*('Route Plan'!$AA$6:$AA$205<>"")*('Route Plan'!$AA$6:$AA$205<>"Ready")*('Route Plan'!$AA$6:$AA$205<>"Canceled")),ROWS($A$25:A33))),"") | B33: =IF($A33="","",IFERROR(INDEX('Route Plan'!$C$6:$C$205,MATCH($A33,'Route Plan'!$B$6:$B$205,0)),"")) | C33: =IF($A33="","",IFERROR(INDEX('Route Plan'!$D$6:$D$205,MATCH($A33,'Route Plan'!$B$6:$B$205,0)),"")) | D33: =IF($A33="","",IFERROR(INDEX('Route Plan'!$Q$6:$Q$205,MATCH($A33,'Route Plan'!$B$6:$B$205,0)),"")) | E33: =IF($A33="","",IFERROR(INDEX('Route Plan'!$V$6:$V$205,MATCH($A33,'Route Plan'!$B$6:$B$205,0)),"")) | F33: =IF($A33="","",IFERROR(INDEX('Route Plan'!$AA$6:$AA$205,MATCH($A33,'Route Plan'!$B$6:$B$205,0)),"")) | G33: =IF($A33="","",IFERROR(INDEX('Route Plan'!$K$6:$K$205,MATCH($A33,'Route Plan'!$B$6:$B$205,0)),"")) | H33: =IF($A33="","",IFERROR(INDEX('Route Plan'!$J$6:$J$205,MATCH($A33,'Route Plan'!$B$6:$B$205,0)),""))
A34: =IFERROR(INDEX('Route Plan'!$B$6:$B$205,AGGREGATE(15,6,(ROW('Route Plan'!$B$6:$B$205)-ROW('Route Plan'!$B$6)+1)/(('Route Plan'!$A$6:$A$205=$B$3)*('Route Plan'!$AA$6:$AA$205<>"")*('Route Plan'!$AA$6:$AA$205<>"Ready")*('Route Plan'!$AA$6:$AA$205<>"Canceled")),ROWS($A$25:A34))),"") | B34: =IF($A34="","",IFERROR(INDEX('Route Plan'!$C$6:$C$205,MATCH($A34,'Route Plan'!$B$6:$B$205,0)),"")) | C34: =IF($A34="","",IFERROR(INDEX('Route Plan'!$D$6:$D$205,MATCH($A34,'Route Plan'!$B$6:$B$205,0)),"")) | D34: =IF($A34="","",IFERROR(INDEX('Route Plan'!$Q$6:$Q$205,MATCH($A34,'Route Plan'!$B$6:$B$205,0)),"")) | E34: =IF($A34="","",IFERROR(INDEX('Route Plan'!$V$6:$V$205,MATCH($A34,'Route Plan'!$B$6:$B$205,0)),"")) | F34: =IF($A34="","",IFERROR(INDEX('Route Plan'!$AA$6:$AA$205,MATCH($A34,'Route Plan'!$B$6:$B$205,0)),"")) | G34: =IF($A34="","",IFERROR(INDEX('Route Plan'!$K$6:$K$205,MATCH($A34,'Route Plan'!$B$6:$B$205,0)),"")) | H34: =IF($A34="","",IFERROR(INDEX('Route Plan'!$J$6:$J$205,MATCH($A34,'Route Plan'!$B$6:$B$205,0)),""))
A35: ="" | B35: ="" | C35: ="" | D35: ="" | E35: ="" | F35: ="" | G35: ="" | H35: =""
A36: ="" | B36: ="" | C36: ="" | D36: ="" | E36: ="" | F36: ="" | G36: ="" | H36: =""
A37: ="" | B37: ="" | C37: ="" | D37: ="" | E37: ="" | F37: ="" | G37: ="" | H37: =""
A38: ="" | B38: ="" | C38: ="" | D38: ="" | E38: ="" | F38: ="" | G38: ="" | H38: =""
A39: ="" | B39: ="" | C39: ="" | D39: ="" | E39: ="" | F39: ="" | G39: ="" | H39: =""
A40: ="" | B40: ="" | C40: ="" | D40: ="" | E40: ="" | F40: ="" | G40: ="" | H40: =""
A41: ="" | B41: ="" | C41: ="" | D41: ="" | E41: ="" | F41: ="" | G41: ="" | H41: =""
A42: ="" | B42: ="" | C42: ="" | D42: ="" | E42: ="" | F42: ="" | G42: ="" | H42: =""
A43: ="" | B43: ="" | C43: ="" | D43: ="" | E43: ="" | F43: ="" | G43: ="" | H43: =""
A44: ="" | B44: ="" | C44: ="" | D44: ="" | E44: ="" | F44: ="" | G44: ="" | H44: =""
A45: ="" | B45: ="" | C45: ="" | D45: ="" | E45: ="" | F45: ="" | G45: ="" | H45: =""
A46: ="" | B46: ="" | C46: ="" | D46: ="" | E46: ="" | F46: ="" | G46: ="" | H46: =""
... A101: ="" | B101: ="" | C101: ="" | D101: ="" | E101: ="" | F101: ="" | G101: ="" | H101: =""

Sheet Route Plan
A1: Route Capacity Plan
A2: Enter route demand in blue cells. Gray cells are calculated from vehicle capacities and planning assumptions.
A3: Blue cells = input | D3: Gray cells = calculated
A5: Plan Date | B5: Route ID | C5: Depot | D5: Vehicle ID | E5: Driver | F5: Status | G5: Shift Start | H5: Shift End | I5: Planned Stops | J5: Planned Miles | K5: Load Weight (lb) | L5: Load Volume (cu ft) | M5: Payload Capacity (lb) | N5: Cargo Volume Capacity (cu ft) | O5: Weight Utilization | P5: Volume Utilization | Q5: Capacity Utilization | R5: Remaining Payload (lb) | S5: Remaining Volume (cu ft) | T5: Planned Route Hours | U5: Shift Hours | V5: Time Utilization | W5: Estimated Fuel (gal) | X5: Estimated Fuel Cost | Y5: Capacity Status | Z5: Time Status | AA5: Overall Check | AB5: Notes
A6: 46272 | B6: DAL-0907-01 | C6: Dallas | D6: V-101 | E6: Mia Alvarez | F6: Planned | G6: 0.27083333 | H6: 0.625 | I6: 18 | J6: 86 | K6: 6200 | L6: 820 | M6: =IF($D6="","",IFERROR(INDEX('Vehicles'!$F$6:$F$105,MATCH($D6,'Vehicles'!$A$6:$A$105,0)),"")) | N6: =IF($D6="","",IFERROR(INDEX('Vehicles'!$G$6:$G$105,MATCH($D6,'Vehicles'!$A$6:$A$105,0)),"")) | O6: =IF(OR($K6="",$M6=""),"",IFERROR($K6/$M6,"")) | P6: =IF(OR($L6="",$N6=""),"",IFERROR($L6/$N6,"")) | Q6: =IF(OR($O6="",$P6=""),"",MAX($O6,$P6)) | R6: =IF(OR($M6="",$K6=""),"",$M6-$K6) | S6: =IF(OR($N6="",$L6=""),"",$N6-$L6) | T6: =IF(OR($I6="",$J6=""),"",IFERROR($J6/'Settings'!$B$5+$I6*'Settings'!$B$6/60,"")) | U6: =IF(OR($G6="",$H6=""),"",IFERROR(MOD($H6-$G6,1)*24,"")) | V6: =IF(OR($T6="",$U6=""),"",IFERROR($T6/$U6,"")) | W6: =IF(OR($J6="",$D6=""),"",IFERROR($J6/INDEX('Vehicles'!$I$6:$I$105,MATCH($D6,'Vehicles'!$A$6:$A$105,0)),"")) | X6: =IF($W6="","",IFERROR($W6*INDEX('Settings'!$H$6:$H$7,MATCH(INDEX('Vehicles'!$H$6:$H$105,MATCH($D6,'Vehicles'!$A$6:$A$105,0)),'Settings'!$G$6:$G$7,0)),"")) | Y6: =IF($B6="","",IF(OR($K6="",$L6="",$M6="",$N6=""),"Incomplete",IF(AND($O6>1,$P6>1),"Over Weight & Volume",IF($O6>1,"Over Weight",IF($P6>1,"Over Volume",IF($Q6>='Settings'!$B$7,"Near Capacity","Within Capacity")))))) | Z6: =IF($B6="","",IF(OR($T6="",$U6="",$V6=""),"Incomplete",IF($V6>1,"Over Shift",IF($V6>='Settings'!$B$8,"Near Shift Limit","Within Shift")))) | AA6: =IF($B6="","",IF($F6="Canceled","Canceled",IF(OR($A6="",$C6="",$D6="",$E6="",$F6="",$G6="",$H6="",$I6="",$J6="",$K6="",$L6="",$U6="",IFERROR($U6=0,TRUE)),"Incomplete",IF(COUNTIF($B$6:$B$205,$B6)>1,"Duplicate Route ID",IF(IFERROR(MATCH($D6,'Vehicles'!$A$6:$A$105,0),0)=0,"Vehicle Not Found",IF(IFERROR(INDEX('Vehicles'!$E$6:$E$105,MATCH($D6,'Vehicles'!$A$6:$A$105,0)),"No")<>"Yes","Inactive Vehicle",IF(AND(IFERROR($Q6>1,FALSE),IFERROR($V6>1,FALSE)),"Over Capacity & Shift",IF(IFERROR($Q6>1,FALSE),"Over Capacity",IF(IFERROR($V6>1,FALSE),"Over Shift",IF(OR(IFERROR($Q6>='Settings'!$B$7,FALSE),IFERROR($V6>='Settings'!$B$8,FALSE)),"Review","Ready"))))))))))) | AB6: Downtown retail loop
A7: 46272 | B7: DAL-0907-02 | C7: Dallas | D7: V-102 | E7: Jordan Lee | F7: Planned | G7: 0.25 | H7: 0.60416667 | I7: 22 | J7: 112 | K7: 2850 | L7: 390 | M7: =IF($D7="","",IFERROR(INDEX('Vehicles'!$F$6:$F$105,MATCH($D7,'Vehicles'!$A$6:$A$105,0)),"")) | N7: =IF($D7="","",IFERROR(INDEX('Vehicles'!$G$6:$G$105,MATCH($D7,'Vehicles'!$A$6:$A$105,0)),"")) | O7: =IF(OR($K7="",$M7=""),"",IFERROR($K7/$M7,"")) | P7: =IF(OR($L7="",$N7=""),"",IFERROR($L7/$N7,"")) | Q7: =IF(OR($O7="",$P7=""),"",MAX($O7,$P7)) | R7: =IF(OR($M7="",$K7=""),"",$M7-$K7) | S7: =IF(OR($N7="",$L7=""),"",$N7-$L7) | T7: =IF(OR($I7="",$J7=""),"",IFERROR($J7/'Settings'!$B$5+$I7*'Settings'!$B$6/60,"")) | U7: =IF(OR($G7="",$H7=""),"",IFERROR(MOD($H7-$G7,1)*24,"")) | V7: =IF(OR($T7="",$U7=""),"",IFERROR($T7/$U7,"")) | W7: =IF(OR($J7="",$D7=""),"",IFERROR($J7/INDEX('Vehicles'!$I$6:$I$105,MATCH($D7,'Vehicles'!$A$6:$A$105,0)),"")) | X7: =IF($W7="","",IFERROR($W7*INDEX('Settings'!$H$6:$H$7,MATCH(INDEX('Vehicles'!$H$6:$H$105,MATCH($D7,'Vehicles'!$A$6:$A$105,0)),'Settings'!$G$6:$G$7,0)),"")) | Y7: =IF($B7="","",IF(OR($K7="",$L7="",$M7="",$N7=""),"Incomplete",IF(AND($O7>1,$P7>1),"Over Weight & Volume",IF($O7>1,"Over Weight",IF($P7>1,"Over Volume",IF($Q7>='Settings'!$B$7,"Near Capacity","Within Capacity")))))) | Z7: =IF($B7="","",IF(OR($T7="",$U7="",$V7=""),"Incomplete",IF($V7>1,"Over Shift",IF($V7>='Settings'!$B$8,"Near Shift Limit","Within Shift")))) | AA7: =IF($B7="","",IF($F7="Canceled","Canceled",IF(OR($A7="",$C7="",$D7="",$E7="",$F7="",$G7="",$H7="",$I7="",$J7="",$K7="",$L7="",$U7="",IFERROR($U7=0,TRUE)),"Incomplete",IF(COUNTIF($B$6:$B$205,$B7)>1,"Duplicate Route ID",IF(IFERROR(MATCH($D7,'Vehicles'!$A$6:$A$105,0),0)=0,"Vehicle Not Found",IF(IFERROR(INDEX('Vehicles'!$E$6:$E$105,MATCH($D7,'Vehicles'!$A$6:$A$105,0)),"No")<>"Yes","Inactive Vehicle",IF(AND(IFERROR($Q7>1,FALSE),IFERROR($V7>1,FALSE)),"Over Capacity & Shift",IF(IFERROR($Q7>1,FALSE),"Over Capacity",IF(IFERROR($V7>1,FALSE),"Over Shift",IF(OR(IFERROR($Q7>='Settings'!$B$7,FALSE),IFERROR($V7>='Settings'!$B$8,FALSE)),"Review","Ready"))))))))))) | AB7: North Dallas parcel route
A8: 46272 | B8: FTW-0907-01 | C8: Fort Worth | D8: V-103 | E8: Devin Brooks | F8: Planned | G8: 0.29166667 | H8: 0.625 | I8: 16 | J8: 74 | K8: 8300 | L8: 780 | M8: =IF($D8="","",IFERROR(INDEX('Vehicles'!$F$6:$F$105,MATCH($D8,'Vehicles'!$A$6:$A$105,0)),"")) | N8: =IF($D8="","",IFERROR(INDEX('Vehicles'!$G$6:$G$105,MATCH($D8,'Vehicles'!$A$6:$A$105,0)),"")) | O8: =IF(OR($K8="",$M8=""),"",IFERROR($K8/$M8,"")) | P8: =IF(OR($L8="",$N8=""),"",IFERROR($L8/$N8,"")) | Q8: =IF(OR($O8="",$P8=""),"",MAX($O8,$P8)) | R8: =IF(OR($M8="",$K8=""),"",$M8-$K8) | S8: =IF(OR($N8="",$L8=""),"",$N8-$L8) | T8: =IF(OR($I8="",$J8=""),"",IFERROR($J8/'Settings'!$B$5+$I8*'Settings'!$B$6/60,"")) | U8: =IF(OR($G8="",$H8=""),"",IFERROR(MOD($H8-$G8,1)*24,"")) | V8: =IF(OR($T8="",$U8=""),"",IFERROR($T8/$U8,"")) | W8: =IF(OR($J8="",$D8=""),"",IFERROR($J8/INDEX('Vehicles'!$I$6:$I$105,MATCH($D8,'Vehicles'!$A$6:$A$105,0)),"")) | X8: =IF($W8="","",IFERROR($W8*INDEX('Settings'!$H$6:$H$7,MATCH(INDEX('Vehicles'!$H$6:$H$105,MATCH($D8,'Vehicles'!$A$6:$A$105,0)),'Settings'!$G$6:$G$7,0)),"")) | Y8: =IF($B8="","",IF(OR($K8="",$L8="",$M8="",$N8=""),"Incomplete",IF(AND($O8>1,$P8>1),"Over Weight & Volume",IF($O8>1,"Over Weight",IF($P8>1,"Over Volume",IF($Q8>='Settings'!$B$7,"Near Capacity","Within Capacity")))))) | Z8: =IF($B8="","",IF(OR($T8="",$U8="",$V8=""),"Incomplete",IF($V8>1,"Over Shift",IF($V8>='Settings'!$B$8,"Near Shift Limit","Within Shift")))) | AA8: =IF($B8="","",IF($F8="Canceled","Canceled",IF(OR($A8="",$C8="",$D8="",$E8="",$F8="",$G8="",$H8="",$I8="",$J8="",$K8="",$L8="",$U8="",IFERROR($U8=0,TRUE)),"Incomplete",IF(COUNTIF($B$6:$B$205,$B8)>1,"Duplicate Route ID",IF(IFERROR(MATCH($D8,'Vehicles'!$A$6:$A$105,0),0)=0,"Vehicle Not Found",IF(IFERROR(INDEX('Vehicles'!$E$6:$E$105,MATCH($D8,'Vehicles'!$A$6:$A$105,0)),"No")<>"Yes","Inactive Vehicle",IF(AND(IFERROR($Q8>1,FALSE),IFERROR($V8>1,FALSE)),"Over Capacity & Shift",IF(IFERROR($Q8>1,FALSE),"Over Capacity",IF(IFERROR($V8>1,FALSE),"Over Shift",IF(OR(IFERROR($Q8>='Settings'!$B$7,FALSE),IFERROR($V8>='Settings'!$B$8,FALSE)),"Review","Ready"))))))))))) | AB8: Industrial customer deliveries
A9: 46272 | B9: FTW-0907-02 | C9: Fort Worth | D9: V-104 | E9: Taylor Morgan | F9: Planned | G9: 0.3125 | H9: 0.60416667 | I9: 14 | J9: 58 | K9: 2400 | L9: 510 | M9: =IF($D9="","",IFERROR(INDEX('Vehicles'!$F$6:$F$105,MATCH($D9,'Vehicles'!$A$6:$A$105,0)),"")) | N9: =IF($D9="","",IFERROR(INDEX('Vehicles'!$G$6:$G$105,MATCH($D9,'Vehicles'!$A$6:$A$105,0)),"")) | O9: =IF(OR($K9="",$M9=""),"",IFERROR($K9/$M9,"")) | P9: =IF(OR($L9="",$N9=""),"",IFERROR($L9/$N9,"")) | Q9: =IF(OR($O9="",$P9=""),"",MAX($O9,$P9)) | R9: =IF(OR($M9="",$K9=""),"",$M9-$K9) | S9: =IF(OR($N9="",$L9=""),"",$N9-$L9) | T9: =IF(OR($I9="",$J9=""),"",IFERROR($J9/'Settings'!$B$5+$I9*'Settings'!$B$6/60,"")) | U9: =IF(OR($G9="",$H9=""),"",IFERROR(MOD($H9-$G9,1)*24,"")) | V9: =IF(OR($T9="",$U9=""),"",IFERROR($T9/$U9,"")) | W9: =IF(OR($J9="",$D9=""),"",IFERROR($J9/INDEX('Vehicles'!$I$6:$I$105,MATCH($D9,'Vehicles'!$A$6:$A$105,0)),"")) | X9: =IF($W9="","",IFERROR($W9*INDEX('Settings'!$H$6:$H$7,MATCH(INDEX('Vehicles'!$H$6:$H$105,MATCH($D9,'Vehicles'!$A$6:$A$105,0)),'Settings'!$G$6:$G$7,0)),"")) | Y9: =IF($B9="","",IF(OR($K9="",$L9="",$M9="",$N9=""),"Incomplete",IF(AND($O9>1,$P9>1),"Over Weight & Volume",IF($O9>1,"Over Weight",IF($P9>1,"Over Volume",IF($Q9>='Settings'!$B$7,"Near Capacity","Within Capacity")))))) | Z9: =IF($B9="","",IF(OR($T9="",$U9="",$V9=""),"Incomplete",IF($V9>1,"Over Shift",IF($V9>='Settings'!$B$8,"Near Shift Limit","Within Shift")))) | AA9: =IF($B9="","",IF($F9="Canceled","Canceled",IF(OR($A9="",$C9="",$D9="",$E9="",$F9="",$G9="",$H9="",$I9="",$J9="",$K9="",$L9="",$U9="",IFERROR($U9=0,TRUE)),"Incomplete",IF(COUNTIF($B$6:$B$205,$B9)>1,"Duplicate Route ID",IF(IFERROR(MATCH($D9,'Vehicles'!$A$6:$A$105,0),0)=0,"Vehicle Not Found",IF(IFERROR(INDEX('Vehicles'!$E$6:$E$105,MATCH($D9,'Vehicles'!$A$6:$A$105,0)),"No")<>"Yes","Inactive Vehicle",IF(AND(IFERROR($Q9>1,FALSE),IFERROR($V9>1,FALSE)),"Over Capacity & Shift",IF(IFERROR($Q9>1,FALSE),"Over Capacity",IF(IFERROR($V9>1,FALSE),"Over Shift",IF(OR(IFERROR($Q9>='Settings'!$B$7,FALSE),IFERROR($V9>='Settings'!$B$8,FALSE)),"Review","Ready"))))))))))) | AB9: Medical supply route
A10: 46272 | B10: ARL-0907-01 | C10: Arlington | D10: V-105 | E10: Casey Nguyen | F10: Planned | G10: 0.25 | H10: 0.66666667 | I10: 25 | J10: 132 | K10: 9000 | L10: 1180 | M10: =IF($D10="","",IFERROR(INDEX('Vehicles'!$F$6:$F$105,MATCH($D10,'Vehicles'!$A$6:$A$105,0)),"")) | N10: =IF($D10="","",IFERROR(INDEX('Vehicles'!$G$6:$G$105,MATCH($D10,'Vehicles'!$A$6:$A$105,0)),"")) | O10: =IF(OR($K10="",$M10=""),"",IFERROR($K10/$M10,"")) | P10: =IF(OR($L10="",$N10=""),"",IFERROR($L10/$N10,"")) | Q10: =IF(OR($O10="",$P10=""),"",MAX($O10,$P10)) | R10: =IF(OR($M10="",$K10=""),"",$M10-$K10) | S10: =IF(OR($N10="",$L10=""),"",$N10-$L10) | T10: =IF(OR($I10="",$J10=""),"",IFERROR($J10/'Settings'!$B$5+$I10*'Settings'!$B$6/60,"")) | U10: =IF(OR($G10="",$H10=""),"",IFERROR(MOD($H10-$G10,1)*24,"")) | V10: =IF(OR($T10="",$U10=""),"",IFERROR($T10/$U10,"")) | W10: =IF(OR($J10="",$D10=""),"",IFERROR($J10/INDEX('Vehicles'!$I$6:$I$105,MATCH($D10,'Vehicles'!$A$6:$A$105,0)),"")) | X10: =IF($W10="","",IFERROR($W10*INDEX('Settings'!$H$6:$H$7,MATCH(INDEX('Vehicles'!$H$6:$H$105,MATCH($D10,'Vehicles'!$A$6:$A$105,0)),'Settings'!$G$6:$G$7,0)),"")) | Y10: =IF($B10="","",IF(OR($K10="",$L10="",$M10="",$N10=""),"Incomplete",IF(AND($O10>1,$P10>1),"Over Weight & Volume",IF($O10>1,"Over Weight",IF($P10>1,"Over Volume",IF($Q10>='Settings'!$B$7,"Near Capacity","Within Capacity")))))) | Z10: =IF($B10="","",IF(OR($T10="",$U10="",$V10=""),"Incomplete",IF($V10>1,"Over Shift",IF($V10>='Settings'!$B$8,"Near Shift Limit","Within Shift")))) | AA10: =IF($B10="","",IF($F10="Canceled","Canceled",IF(OR($A10="",$C10="",$D10="",$E10="",$F10="",$G10="",$H10="",$I10="",$J10="",$K10="",$L10="",$U10="",IFERROR($U10=0,TRUE)),"Incomplete",IF(COUNTIF($B$6:$B$205,$B10)>1,"Duplicate Route ID",IF(IFERROR(MATCH($D10,'Vehicles'!$A$6:$A$105,0),0)=0,"Vehicle Not Found",IF(IFERROR(INDEX('Vehicles'!$E$6:$E$105,MATCH($D10,'Vehicles'!$A$6:$A$105,0)),"No")<>"Yes","Inactive Vehicle",IF(AND(IFERROR($Q10>1,FALSE),IFERROR($V10>1,FALSE)),"Over Capacity & Shift",IF(IFERROR($Q10>1,FALSE),"Over Capacity",IF(IFERROR($V10>1,FALSE),"Over Shift",IF(OR(IFERROR($Q10>='Settings'!$B$7,FALSE),IFERROR($V10>='Settings'!$B$8,FALSE)),"Review","Ready"))))))))))) | AB10: High-stop suburban route
A11: 46272 | B11: DAL-0907-03 | C11: Dallas | D11: V-106 | E11: Avery Jackson | F11: Planned | G11: 0.29166667 | H11: 0.58333333 | I11: 11 | J11: 49 | K11: 2100 | L11: 310 | M11: =IF($D11="","",IFERROR(INDEX('Vehicles'!$F$6:$F$105,MATCH($D11,'Vehicles'!$A$6:$A$105,0)),"")) | N11: =IF($D11="","",IFERROR(INDEX('Vehicles'!$G$6:$G$105,MATCH($D11,'Vehicles'!$A$6:$A$105,0)),"")) | O11: =IF(OR($K11="",$M11=""),"",IFERROR($K11/$M11,"")) | P11: =IF(OR($L11="",$N11=""),"",IFERROR($L11/$N11,"")) | Q11: =IF(OR($O11="",$P11=""),"",MAX($O11,$P11)) | R11: =IF(OR($M11="",$K11=""),"",$M11-$K11) | S11: =IF(OR($N11="",$L11=""),"",$N11-$L11) | T11: =IF(OR($I11="",$J11=""),"",IFERROR($J11/'Settings'!$B$5+$I11*'Settings'!$B$6/60,"")) | U11: =IF(OR($G11="",$H11=""),"",IFERROR(MOD($H11-$G11,1)*24,"")) | V11: =IF(OR($T11="",$U11=""),"",IFERROR($T11/$U11,"")) | W11: =IF(OR($J11="",$D11=""),"",IFERROR($J11/INDEX('Vehicles'!$I$6:$I$105,MATCH($D11,'Vehicles'!$A$6:$A$105,0)),"")) | X11: =IF($W11="","",IFERROR($W11*INDEX('Settings'!$H$6:$H$7,MATCH(INDEX('Vehicles'!$H$6:$H$105,MATCH($D11,'Vehicles'!$A$6:$A$105,0)),'Settings'!$G$6:$G$7,0)),"")) | Y11: =IF($B11="","",IF(OR($K11="",$L11="",$M11="",$N11=""),"Incomplete",IF(AND($O11>1,$P11>1),"Over Weight & Volume",IF($O11>1,"Over Weight",IF($P11>1,"Over Volume",IF($Q11>='Settings'!$B$7,"Near Capacity","Within Capacity")))))) | Z11: =IF($B11="","",IF(OR($T11="",$U11="",$V11=""),"Incomplete",IF($V11>1,"Over Shift",IF($V11>='Settings'!$B$8,"Near Shift Limit","Within Shift")))) | AA11: =IF($B11="","",IF($F11="Canceled","Canceled",IF(OR($A11="",$C11="",$D11="",$E11="",$F11="",$G11="",$H11="",$I11="",$J11="",$K11="",$L11="",$U11="",IFERROR($U11=0,TRUE)),"Incomplete",IF(COUNTIF($B$6:$B$205,$B11)>1,"Duplicate Route ID",IF(IFERROR(MATCH($D11,'Vehicles'!$A$6:$A$105,0),0)=0,"Vehicle Not Found",IF(IFERROR(INDEX('Vehicles'!$E$6:$E$105,MATCH($D11,'Vehicles'!$A$6:$A$105,0)),"No")<>"Yes","Inactive Vehicle",IF(AND(IFERROR($Q11>1,FALSE),IFERROR($V11>1,FALSE)),"Over Capacity & Shift",IF(IFERROR($Q11>1,FALSE),"Over Capacity",IF(IFERROR($V11>1,FALSE),"Over Shift",IF(OR(IFERROR($Q11>='Settings'!$B$7,FALSE),IFERROR($V11>='Settings'!$B$8,FALSE)),"Review","Ready"))))))))))) | AB11: Local service-parts route
A12: 46272 | B12: FTW-0907-03 | C12: Fort Worth | D12: V-108 | E12: Riley Thompson | F12: Planned | G12: 0.29166667 | H12: 0.625 | I12: 13 | J12: 67 | K12: 7100 | L12: 800 | M12: =IF($D12="","",IFERROR(INDEX('Vehicles'!$F$6:$F$105,MATCH($D12,'Vehicles'!$A$6:$A$105,0)),"")) | N12: =IF($D12="","",IFERROR(INDEX('Vehicles'!$G$6:$G$105,MATCH($D12,'Vehicles'!$A$6:$A$105,0)),"")) | O12: =IF(OR($K12="",$M12=""),"",IFERROR($K12/$M12,"")) | P12: =IF(OR($L12="",$N12=""),"",IFERROR($L12/$N12,"")) | Q12: =IF(OR($O12="",$P12=""),"",MAX($O12,$P12)) | R12: =IF(OR($M12="",$K12=""),"",$M12-$K12) | S12: =IF(OR($N12="",$L12=""),"",$N12-$L12) | T12: =IF(OR($I12="",$J12=""),"",IFERROR($J12/'Settings'!$B$5+$I12*'Settings'!$B$6/60,"")) | U12: =IF(OR($G12="",$H12=""),"",IFERROR(MOD($H12-$G12,1)*24,"")) | V12: =IF(OR($T12="",$U12=""),"",IFERROR($T12/$U12,"")) | W12: =IF(OR($J12="",$D12=""),"",IFERROR($J12/INDEX('Vehicles'!$I$6:$I$105,MATCH($D12,'Vehicles'!$A$6:$A$105,0)),"")) | X12: =IF($W12="","",IFERROR($W12*INDEX('Settings'!$H$6:$H$7,MATCH(INDEX('Vehicles'!$H$6:$H$105,MATCH($D12,'Vehicles'!$A$6:$A$105,0)),'Settings'!$G$6:$G$7,0)),"")) | Y12: =IF($B12="","",IF(OR($K12="",$L12="",$M12="",$N12=""),"Incomplete",IF(AND($O12>1,$P12>1),"Over Weight & Volume",IF($O12>1,"Over Weight",IF($P12>1,"Over Volume",IF($Q12>='Settings'!$B$7,"Near Capacity","Within Capacity")))))) | Z12: =IF($B12="","",IF(OR($T12="",$U12="",$V12=""),"Incomplete",IF($V12>1,"Over Shift",IF($V12>='Settings'!$B$8,"Near Shift Limit","Within Shift")))) | AA12: =IF($B12="","",IF($F12="Canceled","Canceled",IF(OR($A12="",$C12="",$D12="",$E12="",$F12="",$G12="",$H12="",$I12="",$J12="",$K12="",$L12="",$U12="",IFERROR($U12=0,TRUE)),"Incomplete",IF(COUNTIF($B$6:$B$205,$B12)>1,"Duplicate Route ID",IF(IFERROR(MATCH($D12,'Vehicles'!$A$6:$A$105,0),0)=0,"Vehicle Not Found",IF(IFERROR(INDEX('Vehicles'!$E$6:$E$105,MATCH($D12,'Vehicles'!$A$6:$A$105,0)),"No")<>"Yes","Inactive Vehicle",IF(AND(IFERROR($Q12>1,FALSE),IFERROR($V12>1,FALSE)),"Over Capacity & Shift",IF(IFERROR($Q12>1,FALSE),"Over Capacity",IF(IFERROR($V12>1,FALSE),"Over Shift",IF(OR(IFERROR($Q12>='Settings'!$B$7,FALSE),IFERROR($V12>='Settings'!$B$8,FALSE)),"Review","Ready"))))))))))) | AB12: Refrigerated grocery route
A13: 46272 | B13: ARL-0907-02 | C13: Arlington | D13: V-107 | E13: Cameron Davis | F13: Planned | G13: 0.33333333 | H13: 0.58333333 | I13: 9 | J13: 41 | K13: 4800 | L13: 550 | M13: =IF($D13="","",IFERROR(INDEX('Vehicles'!$F$6:$F$105,MATCH($D13,'Vehicles'!$A$6:$A$105,0)),"")) | N13: =IF($D13="","",IFERROR(INDEX('Vehicles'!$G$6:$G$105,MATCH($D13,'Vehicles'!$A$6:$A$105,0)),"")) | O13: =IF(OR($K13="",$M13=""),"",IFERROR($K13/$M13,"")) | P13: =IF(OR($L13="",$N13=""),"",IFERROR($L13/$N13,"")) | Q13: =IF(OR($O13="",$P13=""),"",MAX($O13,$P13)) | R13: =IF(OR($M13="",$K13=""),"",$M13-$K13) | S13: =IF(OR($N13="",$L13=""),"",$N13-$L13) | T13: =IF(OR($I13="",$J13=""),"",IFERROR($J13/'Settings'!$B$5+$I13*'Settings'!$B$6/60,"")) | U13: =IF(OR($G13="",$H13=""),"",IFERROR(MOD($H13-$G13,1)*24,"")) | V13: =IF(OR($T13="",$U13=""),"",IFERROR($T13/$U13,"")) | W13: =IF(OR($J13="",$D13=""),"",IFERROR($J13/INDEX('Vehicles'!$I$6:$I$105,MATCH($D13,'Vehicles'!$A$6:$A$105,0)),"")) | X13: =IF($W13="","",IFERROR($W13*INDEX('Settings'!$H$6:$H$7,MATCH(INDEX('Vehicles'!$H$6:$H$105,MATCH($D13,'Vehicles'!$A$6:$A$105,0)),'Settings'!$G$6:$G$7,0)),"")) | Y13: =IF($B13="","",IF(OR($K13="",$L13="",$M13="",$N13=""),"Incomplete",IF(AND($O13>1,$P13>1),"Over Weight & Volume",IF($O13>1,"Over Weight",IF($P13>1,"Over Volume",IF($Q13>='Settings'!$B$7,"Near Capacity","Within Capacity")))))) | Z13: =IF($B13="","",IF(OR($T13="",$U13="",$V13=""),"Incomplete",IF($V13>1,"Over Shift",IF($V13>='Settings'!$B$8,"Near Shift Limit","Within Shift")))) | AA13: =IF($B13="","",IF($F13="Canceled","Canceled",IF(OR($A13="",$C13="",$D13="",$E13="",$F13="",$G13="",$H13="",$I13="",$J13="",$K13="",$L13="",$U13="",IFERROR($U13=0,TRUE)),"Incomplete",IF(COUNTIF($B$6:$B$205,$B13)>1,"Duplicate Route ID",IF(IFERROR(MATCH($D13,'Vehicles'!$A$6:$A$105,0),0)=0,"Vehicle Not Found",IF(IFERROR(INDEX('Vehicles'!$E$6:$E$105,MATCH($D13,'Vehicles'!$A$6:$A$105,0)),"No")<>"Yes","Inactive Vehicle",IF(AND(IFERROR($Q13>1,FALSE),IFERROR($V13>1,FALSE)),"Over Capacity & Shift",IF(IFERROR($Q13>1,FALSE),"Over Capacity",IF(IFERROR($V13>1,FALSE),"Over Shift",IF(OR(IFERROR($Q13>='Settings'!$B$7,FALSE),IFERROR($V13>='Settings'!$B$8,FALSE)),"Review","Ready"))))))))))) | AB13: Backup vehicle assignment
A14: 46273 | B14: DAL-0908-01 | C14: Dallas | D14: V-101 | E14: Mia Alvarez | F14: Planned | G14: 0.27083333 | H14: 0.625 | I14: 20 | J14: 95 | K14: 9800 | L14: 1000 | M14: =IF($D14="","",IFERROR(INDEX('Vehicles'!$F$6:$F$105,MATCH($D14,'Vehicles'!$A$6:$A$105,0)),"")) | N14: =IF($D14="","",IFERROR(INDEX('Vehicles'!$G$6:$G$105,MATCH($D14,'Vehicles'!$A$6:$A$105,0)),"")) | O14: =IF(OR($K14="",$M14=""),"",IFERROR($K14/$M14,"")) | P14: =IF(OR($L14="",$N14=""),"",IFERROR($L14/$N14,"")) | Q14: =IF(OR($O14="",$P14=""),"",MAX($O14,$P14)) | R14: =IF(OR($M14="",$K14=""),"",$M14-$K14) | S14: =IF(OR($N14="",$L14=""),"",$N14-$L14) | T14: =IF(OR($I14="",$J14=""),"",IFERROR($J14/'Settings'!$B$5+$I14*'Settings'!$B$6/60,"")) | U14: =IF(OR($G14="",$H14=""),"",IFERROR(MOD($H14-$G14,1)*24,"")) | V14: =IF(OR($T14="",$U14=""),"",IFERROR($T14/$U14,"")) | W14: =IF(OR($J14="",$D14=""),"",IFERROR($J14/INDEX('Vehicles'!$I$6:$I$105,MATCH($D14,'Vehicles'!$A$6:$A$105,0)),"")) | X14: =IF($W14="","",IFERROR($W14*INDEX('Settings'!$H$6:$H$7,MATCH(INDEX('Vehicles'!$H$6:$H$105,MATCH($D14,'Vehicles'!$A$6:$A$105,0)),'Settings'!$G$6:$G$7,0)),"")) | Y14: =IF($B14="","",IF(OR($K14="",$L14="",$M14="",$N14=""),"Incomplete",IF(AND($O14>1,$P14>1),"Over Weight & Volume",IF($O14>1,"Over Weight",IF($P14>1,"Over Volume",IF($Q14>='Settings'!$B$7,"Near Capacity","Within Capacity")))))) | Z14: =IF($B14="","",IF(OR($T14="",$U14="",$V14=""),"Incomplete",IF($V14>1,"Over Shift",IF($V14>='Settings'!$B$8,"Near Shift Limit","Within Shift")))) | AA14: =IF($B14="","",IF($F14="Canceled","Canceled",IF(OR($A14="",$C14="",$D14="",$E14="",$F14="",$G14="",$H14="",$I14="",$J14="",$K14="",$L14="",$U14="",IFERROR($U14=0,TRUE)),"Incomplete",IF(COUNTIF($B$6:$B$205,$B14)>1,"Duplicate Route ID",IF(IFERROR(MATCH($D14,'Vehicles'!$A$6:$A$105,0),0)=0,"Vehicle Not Found",IF(IFERROR(INDEX('Vehicles'!$E$6:$E$105,MATCH($D14,'Vehicles'!$A$6:$A$105,0)),"No")<>"Yes","Inactive Vehicle",IF(AND(IFERROR($Q14>1,FALSE),IFERROR($V14>1,FALSE)),"Over Capacity & Shift",IF(IFERROR($Q14>1,FALSE),"Over Capacity",IF(IFERROR($V14>1,FALSE),"Over Shift",IF(OR(IFERROR($Q14>='Settings'!$B$7,FALSE),IFERROR($V14>='Settings'!$B$8,FALSE)),"Review","Ready"))))))))))) | AB14: North retail replenishment
A15: 46273 | B15: FTW-0908-01 | C15: Fort Worth | D15: V-103 | E15: Devin Brooks | F15: Planned | G15: 0.29166667 | H15: 0.625 | I15: 28 | J15: 145 | K15: 7000 | L15: 920 | M15: =IF($D15="","",IFERROR(INDEX('Vehicles'!$F$6:$F$105,MATCH($D15,'Vehicles'!$A$6:$A$105,0)),"")) | N15: =IF($D15="","",IFERROR(INDEX('Vehicles'!$G$6:$G$105,MATCH($D15,'Vehicles'!$A$6:$A$105,0)),"")) | O15: =IF(OR($K15="",$M15=""),"",IFERROR($K15/$M15,"")) | P15: =IF(OR($L15="",$N15=""),"",IFERROR($L15/$N15,"")) | Q15: =IF(OR($O15="",$P15=""),"",MAX($O15,$P15)) | R15: =IF(OR($M15="",$K15=""),"",$M15-$K15) | S15: =IF(OR($N15="",$L15=""),"",$N15-$L15) | T15: =IF(OR($I15="",$J15=""),"",IFERROR($J15/'Settings'!$B$5+$I15*'Settings'!$B$6/60,"")) | U15: =IF(OR($G15="",$H15=""),"",IFERROR(MOD($H15-$G15,1)*24,"")) | V15: =IF(OR($T15="",$U15=""),"",IFERROR($T15/$U15,"")) | W15: =IF(OR($J15="",$D15=""),"",IFERROR($J15/INDEX('Vehicles'!$I$6:$I$105,MATCH($D15,'Vehicles'!$A$6:$A$105,0)),"")) | X15: =IF($W15="","",IFERROR($W15*INDEX('Settings'!$H$6:$H$7,MATCH(INDEX('Vehicles'!$H$6:$H$105,MATCH($D15,'Vehicles'!$A$6:$A$105,0)),'Settings'!$G$6:$G$7,0)),"")) | Y15: =IF($B15="","",IF(OR($K15="",$L15="",$M15="",$N15=""),"Incomplete",IF(AND($O15>1,$P15>1),"Over Weight & Volume",IF($O15>1,"Over Weight",IF($P15>1,"Over Volume",IF($Q15>='Settings'!$B$7,"Near Capacity","Within Capacity")))))) | Z15: =IF($B15="","",IF(OR($T15="",$U15="",$V15=""),"Incomplete",IF($V15>1,"Over Shift",IF($V15>='Settings'!$B$8,"Near Shift Limit","Within Shift")))) | AA15: =IF($B15="","",IF($F15="Canceled","Canceled",IF(OR($A15="",$C15="",$D15="",$E15="",$F15="",$G15="",$H15="",$I15="",$J15="",$K15="",$L15="",$U15="",IFERROR($U15=0,TRUE)),"Incomplete",IF(COUNTIF($B$6:$B$205,$B15)>1,"Duplicate Route ID",IF(IFERROR(MATCH($D15,'Vehicles'!$A$6:$A$105,0),0)=0,"Vehicle Not Found",IF(IFERROR(INDEX('Vehicles'!$E$6:$E$105,MATCH($D15,'Vehicles'!$A$6:$A$105,0)),"No")<>"Yes","Inactive Vehicle",IF(AND(IFERROR($Q15>1,FALSE),IFERROR($V15>1,FALSE)),"Over Capacity & Shift",IF(IFERROR($Q15>1,FALSE),"Over Capacity",IF(IFERROR($V15>1,FALSE),"Over Shift",IF(OR(IFERROR($Q15>='Settings'!$B$7,FALSE),IFERROR($V15>='Settings'!$B$8,FALSE)),"Review","Ready"))))))))))) | AB15: High-stop suburban route
M16: =IF($D16="","",IFERROR(INDEX('Vehicles'!$F$6:$F$105,MATCH($D16,'Vehicles'!$A$6:$A$105,0)),"")) | N16: =IF($D16="","",IFERROR(INDEX('Vehicles'!$G$6:$G$105,MATCH($D16,'Vehicles'!$A$6:$A$105,0)),"")) | O16: =IF(OR($K16="",$M16=""),"",IFERROR($K16/$M16,"")) | P16: =IF(OR($L16="",$N16=""),"",IFERROR($L16/$N16,"")) | Q16: =IF(OR($O16="",$P16=""),"",MAX($O16,$P16)) | R16: =IF(OR($M16="",$K16=""),"",$M16-$K16) | S16: =IF(OR($N16="",$L16=""),"",$N16-$L16) | T16: =IF(OR($I16="",$J16=""),"",IFERROR($J16/'Settings'!$B$5+$I16*'Settings'!$B$6/60,"")) | U16: =IF(OR($G16="",$H16=""),"",IFERROR(MOD($H16-$G16,1)*24,"")) | V16: =IF(OR($T16="",$U16=""),"",IFERROR($T16/$U16,"")) | W16: =IF(OR($J16="",$D16=""),"",IFERROR($J16/INDEX('Vehicles'!$I$6:$I$105,MATCH($D16,'Vehicles'!$A$6:$A$105,0)),"")) | X16: =IF($W16="","",IFERROR($W16*INDEX('Settings'!$H$6:$H$7,MATCH(INDEX('Vehicles'!$H$6:$H$105,MATCH($D16,'Vehicles'!$A$6:$A$105,0)),'Settings'!$G$6:$G$7,0)),"")) | Y16: =IF($B16="","",IF(OR($K16="",$L16="",$M16="",$N16=""),"Incomplete",IF(AND($O16>1,$P16>1),"Over Weight & Volume",IF($O16>1,"Over Weight",IF($P16>1,"Over Volume",IF($Q16>='Settings'!$B$7,"Near Capacity","Within Capacity")))))) | Z16: =IF($B16="","",IF(OR($T16="",$U16="",$V16=""),"Incomplete",IF($V16>1,"Over Shift",IF($V16>='Settings'!$B$8,"Near Shift Limit","Within Shift")))) | AA16: =IF($B16="","",IF($F16="Canceled","Canceled",IF(OR($A16="",$C16="",$D16="",$E16="",$F16="",$G16="",$H16="",$I16="",$J16="",$K16="",$L16="",$U16="",IFERROR($U16=0,TRUE)),"Incomplete",IF(COUNTIF($B$6:$B$205,$B16)>1,"Duplicate Route ID",IF(IFERROR(MATCH($D16,'Vehicles'!$A$6:$A$105,0),0)=0,"Vehicle Not Found",IF(IFERROR(INDEX('Vehicles'!$E$6:$E$105,MATCH($D16,'Vehicles'!$A$6:$A$105,0)),"No")<>"Yes","Inactive Vehicle",IF(AND(IFERROR($Q16>1,FALSE),IFERROR($V16>1,FALSE)),"Over Capacity & Shift",IF(IFERROR($Q16>1,FALSE),"Over Capacity",IF(IFERROR($V16>1,FALSE),"Over Shift",IF(OR(IFERROR($Q16>='Settings'!$B$7,FALSE),IFERROR($V16>='Settings'!$B$8,FALSE)),"Review","Ready")))))))))))
M17: =IF($D17="","",IFERROR(INDEX('Vehicles'!$F$6:$F$105,MATCH($D17,'Vehicles'!$A$6:$A$105,0)),"")) | N17: =IF($D17="","",IFERROR(INDEX('Vehicles'!$G$6:$G$105,MATCH($D17,'Vehicles'!$A$6:$A$105,0)),"")) | O17: =IF(OR($K17="",$M17=""),"",IFERROR($K17/$M17,"")) | P17: =IF(OR($L17="",$N17=""),"",IFERROR($L17/$N17,"")) | Q17: =IF(OR($O17="",$P17=""),"",MAX($O17,$P17)) | R17: =IF(OR($M17="",$K17=""),"",$M17-$K17) | S17: =IF(OR($N17="",$L17=""),"",$N17-$L17) | T17: =IF(OR($I17="",$J17=""),"",IFERROR($J17/'Settings'!$B$5+$I17*'Settings'!$B$6/60,"")) | U17: =IF(OR($G17="",$H17=""),"",IFERROR(MOD($H17-$G17,1)*24,"")) | V17: =IF(OR($T17="",$U17=""),"",IFERROR($T17/$U17,"")) | W17: =IF(OR($J17="",$D17=""),"",IFERROR($J17/INDEX('Vehicles'!$I$6:$I$105,MATCH($D17,'Vehicles'!$A$6:$A$105,0)),"")) | X17: =IF($W17="","",IFERROR($W17*INDEX('Settings'!$H$6:$H$7,MATCH(INDEX('Vehicles'!$H$6:$H$105,MATCH($D17,'Vehicles'!$A$6:$A$105,0)),'Settings'!$G$6:$G$7,0)),"")) | Y17: =IF($B17="","",IF(OR($K17="",$L17="",$M17="",$N17=""),"Incomplete",IF(AND($O17>1,$P17>1),"Over Weight & Volume",IF($O17>1,"Over Weight",IF($P17>1,"Over Volume",IF($Q17>='Settings'!$B$7,"Near Capacity","Within Capacity")))))) | Z17: =IF($B17="","",IF(OR($T17="",$U17="",$V17=""),"Incomplete",IF($V17>1,"Over Shift",IF($V17>='Settings'!$B$8,"Near Shift Limit","Within Shift")))) | AA17: =IF($B17="","",IF($F17="Canceled","Canceled",IF(OR($A17="",$C17="",$D17="",$E17="",$F17="",$G17="",$H17="",$I17="",$J17="",$K17="",$L17="",$U17="",IFERROR($U17=0,TRUE)),"Incomplete",IF(COUNTIF($B$6:$B$205,$B17)>1,"Duplicate Route ID",IF(IFERROR(MATCH($D17,'Vehicles'!$A$6:$A$105,0),0)=0,"Vehicle Not Found",IF(IFERROR(INDEX('Vehicles'!$E$6:$E$105,MATCH($D17,'Vehicles'!$A$6:$A$105,0)),"No")<>"Yes","Inactive Vehicle",IF(AND(IFERROR($Q17>1,FALSE),IFERROR($V17>1,FALSE)),"Over Capacity & Shift",IF(IFERROR($Q17>1,FALSE),"Over Capacity",IF(IFERROR($V17>1,FALSE),"Over Shift",IF(OR(IFERROR($Q17>='Settings'!$B$7,FALSE),IFERROR($V17>='Settings'!$B$8,FALSE)),"Review","Ready")))))))))))
M18: =IF($D18="","",IFERROR(INDEX('Vehicles'!$F$6:$F$105,MATCH($D18,'Vehicles'!$A$6:$A$105,0)),"")) | N18: =IF($D18="","",IFERROR(INDEX('Vehicles'!$G$6:$G$105,MATCH($D18,'Vehicles'!$A$6:$A$105,0)),"")) | O18: =IF(OR($K18="",$M18=""),"",IFERROR($K18/$M18,"")) | P18: =IF(OR($L18="",$N18=""),"",IFERROR($L18/$N18,"")) | Q18: =IF(OR($O18="",$P18=""),"",MAX($O18,$P18)) | R18: =IF(OR($M18="",$K18=""),"",$M18-$K18) | S18: =IF(OR($N18="",$L18=""),"",$N18-$L18) | T18: =IF(OR($I18="",$J18=""),"",IFERROR($J18/'Settings'!$B$5+$I18*'Settings'!$B$6/60,"")) | U18: =IF(OR($G18="",$H18=""),"",IFERROR(MOD($H18-$G18,1)*24,"")) | V18: =IF(OR($T18="",$U18=""),"",IFERROR($T18/$U18,"")) | W18: =IF(OR($J18="",$D18=""),"",IFERROR($J18/INDEX('Vehicles'!$I$6:$I$105,MATCH($D18,'Vehicles'!$A$6:$A$105,0)),"")) | X18: =IF($W18="","",IFERROR($W18*INDEX('Settings'!$H$6:$H$7,MATCH(INDEX('Vehicles'!$H$6:$H$105,MATCH($D18,'Vehicles'!$A$6:$A$105,0)),'Settings'!$G$6:$G$7,0)),"")) | Y18: =IF($B18="","",IF(OR($K18="",$L18="",$M18="",$N18=""),"Incomplete",IF(AND($O18>1,$P18>1),"Over Weight & Volume",IF($O18>1,"Over Weight",IF($P18>1,"Over Volume",IF($Q18>='Settings'!$B$7,"Near Capacity","Within Capacity")))))) | Z18: =IF($B18="","",IF(OR($T18="",$U18="",$V18=""),"Incomplete",IF($V18>1,"Over Shift",IF($V18>='Settings'!$B$8,"Near Shift Limit","Within Shift")))) | AA18: =IF($B18="","",IF($F18="Canceled","Canceled",IF(OR($A18="",$C18="",$D18="",$E18="",$F18="",$G18="",$H18="",$I18="",$J18="",$K18="",$L18="",$U18="",IFERROR($U18=0,TRUE)),"Incomplete",IF(COUNTIF($B$6:$B$205,$B18)>1,"Duplicate Route ID",IF(IFERROR(MATCH($D18,'Vehicles'!$A$6:$A$105,0),0)=0,"Vehicle Not Found",IF(IFERROR(INDEX('Vehicles'!$E$6:$E$105,MATCH($D18,'Vehicles'!$A$6:$A$105,0)),"No")<>"Yes","Inactive Vehicle",IF(AND(IFERROR($Q18>1,FALSE),IFERROR($V18>1,FALSE)),"Over Capacity & Shift",IF(IFERROR($Q18>1,FALSE),"Over Capacity",IF(IFERROR($V18>1,FALSE),"Over Shift",IF(OR(IFERROR($Q18>='Settings'!$B$7,FALSE),IFERROR($V18>='Settings'!$B$8,FALSE)),"Review","Ready")))))))))))
M19: =IF($D19="","",IFERROR(INDEX('Vehicles'!$F$6:$F$105,MATCH($D19,'Vehicles'!$A$6:$A$105,0)),"")) | N19: =IF($D19="","",IFERROR(INDEX('Vehicles'!$G$6:$G$105,MATCH($D19,'Vehicles'!$A$6:$A$105,0)),"")) | O19: =IF(OR($K19="",$M19=""),"",IFERROR($K19/$M19,"")) | P19: =IF(OR($L19="",$N19=""),"",IFERROR($L19/$N19,"")) | Q19: =IF(OR($O19="",$P19=""),"",MAX($O19,$P19)) | R19: =IF(OR($M19="",$K19=""),"",$M19-$K19) | S19: =IF(OR($N19="",$L19=""),"",$N19-$L19) | T19: =IF(OR($I19="",$J19=""),"",IFERROR($J19/'Settings'!$B$5+$I19*'Settings'!$B$6/60,"")) | U19: =IF(OR($G19="",$H19=""),"",IFERROR(MOD($H19-$G19,1)*24,"")) | V19: =IF(OR($T19="",$U19=""),"",IFERROR($T19/$U19,"")) | W19: =IF(OR($J19="",$D19=""),"",IFERROR($J19/INDEX('Vehicles'!$I$6:$I$105,MATCH($D19,'Vehicles'!$A$6:$A$105,0)),"")) | X19: =IF($W19="","",IFERROR($W19*INDEX('Settings'!$H$6:$H$7,MATCH(INDEX('Vehicles'!$H$6:$H$105,MATCH($D19,'Vehicles'!$A$6:$A$105,0)),'Settings'!$G$6:$G$7,0)),"")) | Y19: =IF($B19="","",IF(OR($K19="",$L19="",$M19="",$N19=""),"Incomplete",IF(AND($O19>1,$P19>1),"Over Weight & Volume",IF($O19>1,"Over Weight",IF($P19>1,"Over Volume",IF($Q19>='Settings'!$B$7,"Near Capacity","Within Capacity")))))) | Z19: =IF($B19="","",IF(OR($T19="",$U19="",$V19=""),"Incomplete",IF($V19>1,"Over Shift",IF($V19>='Settings'!$B$8,"Near Shift Limit","Within Shift")))) | AA19: =IF($B19="","",IF($F19="Canceled","Canceled",IF(OR($A19="",$C19="",$D19="",$E19="",$F19="",$G19="",$H19="",$I19="",$J19="",$K19="",$L19="",$U19="",IFERROR($U19=0,TRUE)),"Incomplete",IF(COUNTIF($B$6:$B$205,$B19)>1,"Duplicate Route ID",IF(IFERROR(MATCH($D19,'Vehicles'!$A$6:$A$105,0),0)=0,"Vehicle Not Found",IF(IFERROR(INDEX('Vehicles'!$E$6:$E$105,MATCH($D19,'Vehicles'!$A$6:$A$105,0)),"No")<>"Yes","Inactive Vehicle",IF(AND(IFERROR($Q19>1,FALSE),IFERROR($V19>1,FALSE)),"Over Capacity & Shift",IF(IFERROR($Q19>1,FALSE),"Over Capacity",IF(IFERROR($V19>1,FALSE),"Over Shift",IF(OR(IFERROR($Q19>='Settings'!$B$7,FALSE),IFERROR($V19>='Settings'!$B$8,FALSE)),"Review","Ready")))))))))))
M20: =IF($D20="","",IFERROR(INDEX('Vehicles'!$F$6:$F$105,MATCH($D20,'Vehicles'!$A$6:$A$105,0)),"")) | N20: =IF($D20="","",IFERROR(INDEX('Vehicles'!$G$6:$G$105,MATCH($D20,'Vehicles'!$A$6:$A$105,0)),"")) | O20: =IF(OR($K20="",$M20=""),"",IFERROR($K20/$M20,"")) | P20: =IF(OR($L20="",$N20=""),"",IFERROR($L20/$N20,"")) | Q20: =IF(OR($O20="",$P20=""),"",MAX($O20,$P20)) | R20: =IF(OR($M20="",$K20=""),"",$M20-$K20) | S20: =IF(OR($N20="",$L20=""),"",$N20-$L20) | T20: =IF(OR($I20="",$J20=""),"",IFERROR($J20/'Settings'!$B$5+$I20*'Settings'!$B$6/60,"")) | U20: =IF(OR($G20="",$H20=""),"",IFERROR(MOD($H20-$G20,1)*24,"")) | V20: =IF(OR($T20="",$U20=""),"",IFERROR($T20/$U20,"")) | W20: =IF(OR($J20="",$D20=""),"",IFERROR($J20/INDEX('Vehicles'!$I$6:$I$105,MATCH($D20,'Vehicles'!$A$6:$A$105,0)),"")) | X20: =IF($W20="","",IFERROR($W20*INDEX('Settings'!$H$6:$H$7,MATCH(INDEX('Vehicles'!$H$6:$H$105,MATCH($D20,'Vehicles'!$A$6:$A$105,0)),'Settings'!$G$6:$G$7,0)),"")) | Y20: =IF($B20="","",IF(OR($K20="",$L20="",$M20="",$N20=""),"Incomplete",IF(AND($O20>1,$P20>1),"Over Weight & Volume",IF($O20>1,"Over Weight",IF($P20>1,"Over Volume",IF($Q20>='Settings'!$B$7,"Near Capacity","Within Capacity")))))) | Z20: =IF($B20="","",IF(OR($T20="",$U20="",$V20=""),"Incomplete",IF($V20>1,"Over Shift",IF($V20>='Settings'!$B$8,"Near Shift Limit","Within Shift")))) | AA20: =IF($B20="","",IF($F20="Canceled","Canceled",IF(OR($A20="",$C20="",$D20="",$E20="",$F20="",$G20="",$H20="",$I20="",$J20="",$K20="",$L20="",$U20="",IFERROR($U20=0,TRUE)),"Incomplete",IF(COUNTIF($B$6:$B$205,$B20)>1,"Duplicate Route ID",IF(IFERROR(MATCH($D20,'Vehicles'!$A$6:$A$105,0),0)=0,"Vehicle Not Found",IF(IFERROR(INDEX('Vehicles'!$E$6:$E$105,MATCH($D20,'Vehicles'!$A$6:$A$105,0)),"No")<>"Yes","Inactive Vehicle",IF(AND(IFERROR($Q20>1,FALSE),IFERROR($V20>1,FALSE)),"Over Capacity & Shift",IF(IFERROR($Q20>1,FALSE),"Over Capacity",IF(IFERROR($V20>1,FALSE),"Over Shift",IF(OR(IFERROR($Q20>='Settings'!$B$7,FALSE),IFERROR($V20>='Settings'!$B$8,FALSE)),"Review","Ready")))))))))))
M21: =IF($D21="","",IFERROR(INDEX('Vehicles'!$F$6:$F$105,MATCH($D21,'Vehicles'!$A$6:$A$105,0)),"")) | N21: =IF($D21="","",IFERROR(INDEX('Vehicles'!$G$6:$G$105,MATCH($D21,'Vehicles'!$A$6:$A$105,0)),"")) | O21: =IF(OR($K21="",$M21=""),"",IFERROR($K21/$M21,"")) | P21: =IF(OR($L21="",$N21=""),"",IFERROR($L21/$N21,"")) | Q21: =IF(OR($O21="",$P21=""),"",MAX($O21,$P21)) | R21: =IF(OR($M21="",$K21=""),"",$M21-$K21) | S21: =IF(OR($N21="",$L21=""),"",$N21-$L21) | T21: =IF(OR($I21="",$J21=""),"",IFERROR($J21/'Settings'!$B$5+$I21*'Settings'!$B$6/60,"")) | U21: =IF(OR($G21="",$H21=""),"",IFERROR(MOD($H21-$G21,1)*24,"")) | V21: =IF(OR($T21="",$U21=""),"",IFERROR($T21/$U21,"")) | W21: =IF(OR($J21="",$D21=""),"",IFERROR($J21/INDEX('Vehicles'!$I$6:$I$105,MATCH($D21,'Vehicles'!$A$6:$A$105,0)),"")) | X21: =IF($W21="","",IFERROR($W21*INDEX('Settings'!$H$6:$H$7,MATCH(INDEX('Vehicles'!$H$6:$H$105,MATCH($D21,'Vehicles'!$A$6:$A$105,0)),'Settings'!$G$6:$G$7,0)),"")) | Y21: =IF($B21="","",IF(OR($K21="",$L21="",$M21="",$N21=""),"Incomplete",IF(AND($O21>1,$P21>1),"Over Weight & Volume",IF($O21>1,"Over Weight",IF($P21>1,"Over Volume",IF($Q21>='Settings'!$B$7,"Near Capacity","Within Capacity")))))) | Z21: =IF($B21="","",IF(OR($T21="",$U21="",$V21=""),"Incomplete",IF($V21>1,"Over Shift",IF($V21>='Settings'!$B$8,"Near Shift Limit","Within Shift")))) | AA21: =IF($B21="","",IF($F21="Canceled","Canceled",IF(OR($A21="",$C21="",$D21="",$E21="",$F21="",$G21="",$H21="",$I21="",$J21="",$K21="",$L21="",$U21="",IFERROR($U21=0,TRUE)),"Incomplete",IF(COUNTIF($B$6:$B$205,$B21)>1,"Duplicate Route ID",IF(IFERROR(MATCH($D21,'Vehicles'!$A$6:$A$105,0),0)=0,"Vehicle Not Found",IF(IFERROR(INDEX('Vehicles'!$E$6:$E$105,MATCH($D21,'Vehicles'!$A$6:$A$105,0)),"No")<>"Yes","Inactive Vehicle",IF(AND(IFERROR($Q21>1,FALSE),IFERROR($V21>1,FALSE)),"Over Capacity & Shift",IF(IFERROR($Q21>1,FALSE),"Over Capacity",IF(IFERROR($V21>1,FALSE),"Over Shift",IF(OR(IFERROR($Q21>='Settings'!$B$7,FALSE),IFERROR($V21>='Settings'!$B$8,FALSE)),"Review","Ready")))))))))))
M22: =IF($D22="","",IFERROR(INDEX('Vehicles'!$F$6:$F$105,MATCH($D22,'Vehicles'!$A$6:$A$105,0)),"")) | N22: =IF($D22="","",IFERROR(INDEX('Vehicles'!$G$6:$G$105,MATCH($D22,'Vehicles'!$A$6:$A$105,0)),"")) | O22: =IF(OR($K22="",$M22=""),"",IFERROR($K22/$M22,"")) | P22: =IF(OR($L22="",$N22=""),"",IFERROR($L22/$N22,"")) | Q22: =IF(OR($O22="",$P22=""),"",MAX($O22,$P22)) | R22: =IF(OR($M22="",$K22=""),"",$M22-$K22) | S22: =IF(OR($N22="",$L22=""),"",$N22-$L22) | T22: =IF(OR($I22="",$J22=""),"",IFERROR($J22/'Settings'!$B$5+$I22*'Settings'!$B$6/60,"")) | U22: =IF(OR($G22="",$H22=""),"",IFERROR(MOD($H22-$G22,1)*24,"")) | V22: =IF(OR($T22="",$U22=""),"",IFERROR($T22/$U22,"")) | W22: =IF(OR($J22="",$D22=""),"",IFERROR($J22/INDEX('Vehicles'!$I$6:$I$105,MATCH($D22,'Vehicles'!$A$6:$A$105,0)),"")) | X22: =IF($W22="","",IFERROR($W22*INDEX('Settings'!$H$6:$H$7,MATCH(INDEX('Vehicles'!$H$6:$H$105,MATCH($D22,'Vehicles'!$A$6:$A$105,0)),'Settings'!$G$6:$G$7,0)),"")) | Y22: =IF($B22="","",IF(OR($K22="",$L22="",$M22="",$N22=""),"Incomplete",IF(AND($O22>1,$P22>1),"Over Weight & Volume",IF($O22>1,"Over Weight",IF($P22>1,"Over Volume",IF($Q22>='Settings'!$B$7,"Near Capacity","Within Capacity")))))) | Z22: =IF($B22="","",IF(OR($T22="",$U22="",$V22=""),"Incomplete",IF($V22>1,"Over Shift",IF($V22>='Settings'!$B$8,"Near Shift Limit","Within Shift")))) | AA22: =IF($B22="","",IF($F22="Canceled","Canceled",IF(OR($A22="",$C22="",$D22="",$E22="",$F22="",$G22="",$H22="",$I22="",$J22="",$K22="",$L22="",$U22="",IFERROR($U22=0,TRUE)),"Incomplete",IF(COUNTIF($B$6:$B$205,$B22)>1,"Duplicate Route ID",IF(IFERROR(MATCH($D22,'Vehicles'!$A$6:$A$105,0),0)=0,"Vehicle Not Found",IF(IFERROR(INDEX('Vehicles'!$E$6:$E$105,MATCH($D22,'Vehicles'!$A$6:$A$105,0)),"No")<>"Yes","Inactive Vehicle",IF(AND(IFERROR($Q22>1,FALSE),IFERROR($V22>1,FALSE)),"Over Capacity & Shift",IF(IFERROR($Q22>1,FALSE),"Over Capacity",IF(IFERROR($V22>1,FALSE),"Over Shift",IF(OR(IFERROR($Q22>='Settings'!$B$7,FALSE),IFERROR($V22>='Settings'!$B$8,FALSE)),"Review","Ready")))))))))))
M23: =IF($D23="","",IFERROR(INDEX('Vehicles'!$F$6:$F$105,MATCH($D23,'Vehicles'!$A$6:$A$105,0)),"")) | N23: =IF($D23="","",IFERROR(INDEX('Vehicles'!$G$6:$G$105,MATCH($D23,'Vehicles'!$A$6:$A$105,0)),"")) | O23: =IF(OR($K23="",$M23=""),"",IFERROR($K23/$M23,"")) | P23: =IF(OR($L23="",$N23=""),"",IFERROR($L23/$N23,"")) | Q23: =IF(OR($O23="",$P23=""),"",MAX($O23,$P23)) | R23: =IF(OR($M23="",$K23=""),"",$M23-$K23) | S23: =IF(OR($N23="",$L23=""),"",$N23-$L23) | T23: =IF(OR($I23="",$J23=""),"",IFERROR($J23/'Settings'!$B$5+$I23*'Settings'!$B$6/60,"")) | U23: =IF(OR($G23="",$H23=""),"",IFERROR(MOD($H23-$G23,1)*24,"")) | V23: =IF(OR($T23="",$U23=""),"",IFERROR($T23/$U23,"")) | W23: =IF(OR($J23="",$D23=""),"",IFERROR($J23/INDEX('Vehicles'!$I$6:$I$105,MATCH($D23,'Vehicles'!$A$6:$A$105,0)),"")) | X23: =IF($W23="","",IFERROR($W23*INDEX('Settings'!$H$6:$H$7,MATCH(INDEX('Vehicles'!$H$6:$H$105,MATCH($D23,'Vehicles'!$A$6:$A$105,0)),'Settings'!$G$6:$G$7,0)),"")) | Y23: =IF($B23="","",IF(OR($K23="",$L23="",$M23="",$N23=""),"Incomplete",IF(AND($O23>1,$P23>1),"Over Weight & Volume",IF($O23>1,"Over Weight",IF($P23>1,"Over Volume",IF($Q23>='Settings'!$B$7,"Near Capacity","Within Capacity")))))) | Z23: =IF($B23="","",IF(OR($T23="",$U23="",$V23=""),"Incomplete",IF($V23>1,"Over Shift",IF($V23>='Settings'!$B$8,"Near Shift Limit","Within Shift")))) | AA23: =IF($B23="","",IF($F23="Canceled","Canceled",IF(OR($A23="",$C23="",$D23="",$E23="",$F23="",$G23="",$H23="",$I23="",$J23="",$K23="",$L23="",$U23="",IFERROR($U23=0,TRUE)),"Incomplete",IF(COUNTIF($B$6:$B$205,$B23)>1,"Duplicate Route ID",IF(IFERROR(MATCH($D23,'Vehicles'!$A$6:$A$105,0),0)=0,"Vehicle Not Found",IF(IFERROR(INDEX('Vehicles'!$E$6:$E$105,MATCH($D23,'Vehicles'!$A$6:$A$105,0)),"No")<>"Yes","Inactive Vehicle",IF(AND(IFERROR($Q23>1,FALSE),IFERROR($V23>1,FALSE)),"Over Capacity & Shift",IF(IFERROR($Q23>1,FALSE),"Over Capacity",IF(IFERROR($V23>1,FALSE),"Over Shift",IF(OR(IFERROR($Q23>='Settings'!$B$7,FALSE),IFERROR($V23>='Settings'!$B$8,FALSE)),"Review","Ready")))))))))))
M24: =IF($D24="","",IFERROR(INDEX('Vehicles'!$F$6:$F$105,MATCH($D24,'Vehicles'!$A$6:$A$105,0)),"")) | N24: =IF($D24="","",IFERROR(INDEX('Vehicles'!$G$6:$G$105,MATCH($D24,'Vehicles'!$A$6:$A$105,0)),"")) | O24: =IF(OR($K24="",$M24=""),"",IFERROR($K24/$M24,"")) | P24: =IF(OR($L24="",$N24=""),"",IFERROR($L24/$N24,"")) | Q24: =IF(OR($O24="",$P24=""),"",MAX($O24,$P24)) | R24: =IF(OR($M24="",$K24=""),"",$M24-$K24) | S24: =IF(OR($N24="",$L24=""),"",$N24-$L24) | T24: =IF(OR($I24="",$J24=""),"",IFERROR($J24/'Settings'!$B$5+$I24*'Settings'!$B$6/60,"")) | U24: =IF(OR($G24="",$H24=""),"",IFERROR(MOD($H24-$G24,1)*24,"")) | V24: =IF(OR($T24="",$U24=""),"",IFERROR($T24/$U24,"")) | W24: =IF(OR($J24="",$D24=""),"",IFERROR($J24/INDEX('Vehicles'!$I$6:$I$105,MATCH($D24,'Vehicles'!$A$6:$A$105,0)),"")) | X24: =IF($W24="","",IFERROR($W24*INDEX('Settings'!$H$6:$H$7,MATCH(INDEX('Vehicles'!$H$6:$H$105,MATCH($D24,'Vehicles'!$A$6:$A$105,0)),'Settings'!$G$6:$G$7,0)),"")) | Y24: =IF($B24="","",IF(OR($K24="",$L24="",$M24="",$N24=""),"Incomplete",IF(AND($O24>1,$P24>1),"Over Weight & Volume",IF($O24>1,"Over Weight",IF($P24>1,"Over Volume",IF($Q24>='Settings'!$B$7,"Near Capacity","Within Capacity")))))) | Z24: =IF($B24="","",IF(OR($T24="",$U24="",$V24=""),"Incomplete",IF($V24>1,"Over Shift",IF($V24>='Settings'!$B$8,"Near Shift Limit","Within Shift")))) | AA24: =IF($B24="","",IF($F24="Canceled","Canceled",IF(OR($A24="",$C24="",$D24="",$E24="",$F24="",$G24="",$H24="",$I24="",$J24="",$K24="",$L24="",$U24="",IFERROR($U24=0,TRUE)),"Incomplete",IF(COUNTIF($B$6:$B$205,$B24)>1,"Duplicate Route ID",IF(IFERROR(MATCH($D24,'Vehicles'!$A$6:$A$105,0),0)=0,"Vehicle Not Found",IF(IFERROR(INDEX('Vehicles'!$E$6:$E$105,MATCH($D24,'Vehicles'!$A$6:$A$105,0)),"No")<>"Yes","Inactive Vehicle",IF(AND(IFERROR($Q24>1,FALSE),IFERROR($V24>1,FALSE)),"Over Capacity & Shift",IF(IFERROR($Q24>1,FALSE),"Over Capacity",IF(IFERROR($V24>1,FALSE),"Over Shift",IF(OR(IFERROR($Q24>='Settings'!$B$7,FALSE),IFERROR($V24>='Settings'!$B$8,FALSE)),"Review","Ready")))))))))))
M25: =IF($D25="","",IFERROR(INDEX('Vehicles'!$F$6:$F$105,MATCH($D25,'Vehicles'!$A$6:$A$105,0)),"")) | N25: =IF($D25="","",IFERROR(INDEX('Vehicles'!$G$6:$G$105,MATCH($D25,'Vehicles'!$A$6:$A$105,0)),"")) | O25: =IF(OR($K25="",$M25=""),"",IFERROR($K25/$M25,"")) | P25: =IF(OR($L25="",$N25=""),"",IFERROR($L25/$N25,"")) | Q25: =IF(OR($O25="",$P25=""),"",MAX($O25,$P25)) | R25: =IF(OR($M25="",$K25=""),"",$M25-$K25) | S25: =IF(OR($N25="",$L25=""),"",$N25-$L25) | T25: =IF(OR($I25="",$J25=""),"",IFERROR($J25/'Settings'!$B$5+$I25*'Settings'!$B$6/60,"")) | U25: =IF(OR($G25="",$H25=""),"",IFERROR(MOD($H25-$G25,1)*24,"")) | V25: =IF(OR($T25="",$U25=""),"",IFERROR($T25/$U25,"")) | W25: =IF(OR($J25="",$D25=""),"",IFERROR($J25/INDEX('Vehicles'!$I$6:$I$105,MATCH($D25,'Vehicles'!$A$6:$A$105,0)),"")) | X25: =IF($W25="","",IFERROR($W25*INDEX('Settings'!$H$6:$H$7,MATCH(INDEX('Vehicles'!$H$6:$H$105,MATCH($D25,'Vehicles'!$A$6:$A$105,0)),'Settings'!$G$6:$G$7,0)),"")) | Y25: =IF($B25="","",IF(OR($K25="",$L25="",$M25="",$N25=""),"Incomplete",IF(AND($O25>1,$P25>1),"Over Weight & Volume",IF($O25>1,"Over Weight",IF($P25>1,"Over Volume",IF($Q25>='Settings'!$B$7,"Near Capacity","Within Capacity")))))) | Z25: =IF($B25="","",IF(OR($T25="",$U25="",$V25=""),"Incomplete",IF($V25>1,"Over Shift",IF($V25>='Settings'!$B$8,"Near Shift Limit","Within Shift")))) | AA25: =IF($B25="","",IF($F25="Canceled","Canceled",IF(OR($A25="",$C25="",$D25="",$E25="",$F25="",$G25="",$H25="",$I25="",$J25="",$K25="",$L25="",$U25="",IFERROR($U25=0,TRUE)),"Incomplete",IF(COUNTIF($B$6:$B$205,$B25)>1,"Duplicate Route ID",IF(IFERROR(MATCH($D25,'Vehicles'!$A$6:$A$105,0),0)=0,"Vehicle Not Found",IF(IFERROR(INDEX('Vehicles'!$E$6:$E$105,MATCH($D25,'Vehicles'!$A$6:$A$105,0)),"No")<>"Yes","Inactive Vehicle",IF(AND(IFERROR($Q25>1,FALSE),IFERROR($V25>1,FALSE)),"Over Capacity & Shift",IF(IFERROR($Q25>1,FALSE),"Over Capacity",IF(IFERROR($V25>1,FALSE),"Over Shift",IF(OR(IFERROR($Q25>='Settings'!$B$7,FALSE),IFERROR($V25>='Settings'!$B$8,FALSE)),"Review","Ready")))))))))))
M26: =IF($D26="","",IFERROR(INDEX('Vehicles'!$F$6:$F$105,MATCH($D26,'Vehicles'!$A$6:$A$105,0)),"")) | N26: =IF($D26="","",IFERROR(INDEX('Vehicles'!$G$6:$G$105,MATCH($D26,'Vehicles'!$A$6:$A$105,0)),"")) | O26: =IF(OR($K26="",$M26=""),"",IFERROR($K26/$M26,"")) | P26: =IF(OR($L26="",$N26=""),"",IFERROR($L26/$N26,"")) | Q26: =IF(OR($O26="",$P26=""),"",MAX($O26,$P26)) | R26: =IF(OR($M26="",$K26=""),"",$M26-$K26) | S26: =IF(OR($N26="",$L26=""),"",$N26-$L26) | T26: =IF(OR($I26="",$J26=""),"",IFERROR($J26/'Settings'!$B$5+$I26*'Settings'!$B$6/60,"")) | U26: =IF(OR($G26="",$H26=""),"",IFERROR(MOD($H26-$G26,1)*24,"")) | V26: =IF(OR($T26="",$U26=""),"",IFERROR($T26/$U26,"")) | W26: =IF(OR($J26="",$D26=""),"",IFERROR($J26/INDEX('Vehicles'!$I$6:$I$105,MATCH($D26,'Vehicles'!$A$6:$A$105,0)),"")) | X26: =IF($W26="","",IFERROR($W26*INDEX('Settings'!$H$6:$H$7,MATCH(INDEX('Vehicles'!$H$6:$H$105,MATCH($D26,'Vehicles'!$A$6:$A$105,0)),'Settings'!$G$6:$G$7,0)),"")) | Y26: =IF($B26="","",IF(OR($K26="",$L26="",$M26="",$N26=""),"Incomplete",IF(AND($O26>1,$P26>1),"Over Weight & Volume",IF($O26>1,"Over Weight",IF($P26>1,"Over Volume",IF($Q26>='Settings'!$B$7,"Near Capacity","Within Capacity")))))) | Z26: =IF($B26="","",IF(OR($T26="",$U26="",$V26=""),"Incomplete",IF($V26>1,"Over Shift",IF($V26>='Settings'!$B$8,"Near Shift Limit","Within Shift")))) | AA26: =IF($B26="","",IF($F26="Canceled","Canceled",IF(OR($A26="",$C26="",$D26="",$E26="",$F26="",$G26="",$H26="",$I26="",$J26="",$K26="",$L26="",$U26="",IFERROR($U26=0,TRUE)),"Incomplete",IF(COUNTIF($B$6:$B$205,$B26)>1,"Duplicate Route ID",IF(IFERROR(MATCH($D26,'Vehicles'!$A$6:$A$105,0),0)=0,"Vehicle Not Found",IF(IFERROR(INDEX('Vehicles'!$E$6:$E$105,MATCH($D26,'Vehicles'!$A$6:$A$105,0)),"No")<>"Yes","Inactive Vehicle",IF(AND(IFERROR($Q26>1,FALSE),IFERROR($V26>1,FALSE)),"Over Capacity & Shift",IF(IFERROR($Q26>1,FALSE),"Over Capacity",IF(IFERROR($V26>1,FALSE),"Over Shift",IF(OR(IFERROR($Q26>='Settings'!$B$7,FALSE),IFERROR($V26>='Settings'!$B$8,FALSE)),"Review","Ready")))))))))))
M27: =IF($D27="","",IFERROR(INDEX('Vehicles'!$F$6:$F$105,MATCH($D27,'Vehicles'!$A$6:$A$105,0)),"")) | N27: =IF($D27="","",IFERROR(INDEX('Vehicles'!$G$6:$G$105,MATCH($D27,'Vehicles'!$A$6:$A$105,0)),"")) | O27: =IF(OR($K27="",$M27=""),"",IFERROR($K27/$M27,"")) | P27: =IF(OR($L27="",$N27=""),"",IFERROR($L27/$N27,"")) | Q27: =IF(OR($O27="",$P27=""),"",MAX($O27,$P27)) | R27: =IF(OR($M27="",$K27=""),"",$M27-$K27) | S27: =IF(OR($N27="",$L27=""),"",$N27-$L27) | T27: =IF(OR($I27="",$J27=""),"",IFERROR($J27/'Settings'!$B$5+$I27*'Settings'!$B$6/60,"")) | U27: =IF(OR($G27="",$H27=""),"",IFERROR(MOD($H27-$G27,1)*24,"")) | V27: =IF(OR($T27="",$U27=""),"",IFERROR($T27/$U27,"")) | W27: =IF(OR($J27="",$D27=""),"",IFERROR($J27/INDEX('Vehicles'!$I$6:$I$105,MATCH($D27,'Vehicles'!$A$6:$A$105,0)),"")) | X27: =IF($W27="","",IFERROR($W27*INDEX('Settings'!$H$6:$H$7,MATCH(INDEX('Vehicles'!$H$6:$H$105,MATCH($D27,'Vehicles'!$A$6:$A$105,0)),'Settings'!$G$6:$G$7,0)),"")) | Y27: =IF($B27="","",IF(OR($K27="",$L27="",$M27="",$N27=""),"Incomplete",IF(AND($O27>1,$P27>1),"Over Weight & Volume",IF($O27>1,"Over Weight",IF($P27>1,"Over Volume",IF($Q27>='Settings'!$B$7,"Near Capacity","Within Capacity")))))) | Z27: =IF($B27="","",IF(OR($T27="",$U27="",$V27=""),"Incomplete",IF($V27>1,"Over Shift",IF($V27>='Settings'!$B$8,"Near Shift Limit","Within Shift")))) | AA27: =IF($B27="","",IF($F27="Canceled","Canceled",IF(OR($A27="",$C27="",$D27="",$E27="",$F27="",$G27="",$H27="",$I27="",$J27="",$K27="",$L27="",$U27="",IFERROR($U27=0,TRUE)),"Incomplete",IF(COUNTIF($B$6:$B$205,$B27)>1,"Duplicate Route ID",IF(IFERROR(MATCH($D27,'Vehicles'!$A$6:$A$105,0),0)=0,"Vehicle Not Found",IF(IFERROR(INDEX('Vehicles'!$E$6:$E$105,MATCH($D27,'Vehicles'!$A$6:$A$105,0)),"No")<>"Yes","Inactive Vehicle",IF(AND(IFERROR($Q27>1,FALSE),IFERROR($V27>1,FALSE)),"Over Capacity & Shift",IF(IFERROR($Q27>1,FALSE),"Over Capacity",IF(IFERROR($V27>1,FALSE),"Over Shift",IF(OR(IFERROR($Q27>='Settings'!$B$7,FALSE),IFERROR($V27>='Settings'!$B$8,FALSE)),"Review","Ready")))))))))))
... M205: =IF($D205="","",IFERROR(INDEX('Vehicles'!$F$6:$F$105,MATCH($D205,'Vehicles'!$A$6:$A$105,0)),"")) | N205: =IF($D205="","",IFERROR(INDEX('Vehicles'!$G$6:$G$105,MATCH($D205,'Vehicles'!$A$6:$A$105,0)),"")) | O205: =IF(OR($K205="",$M205=""),"",IFERROR($K205/$M205,"")) | P205: =IF(OR($L205="",$N205=""),"",IFERROR($L205/$N205,"")) | Q205: =IF(OR($O205="",$P205=""),"",MAX($O205,$P205)) | R205: =IF(OR($M205="",$K205=""),"",$M205-$K205) | S205: =IF(OR($N205="",$L205=""),"",$N205-$L205) | T205: =IF(OR($I205="",$J205=""),"",IFERROR($J205/'Settings'!$B$5+$I205*'Settings'!$B$6/60,"")) | U205: =IF(OR($G205="",$H205=""),"",IFERROR(MOD($H205-$G205,1)*24,"")) | V205: =IF(OR($T205="",$U205=""),"",IFERROR($T205/$U205,"")) | W205: =IF(OR($J205="",$D205=""),"",IFERROR($J205/INDEX('Vehicles'!$I$6:$I$105,MATCH($D205,'Vehicles'!$A$6:$A$105,0)),"")) | X205: =IF($W205="","",IFERROR($W205*INDEX('Settings'!$H$6:$H$7,MATCH(INDEX('Vehicles'!$H$6:$H$105,MATCH($D205,'Vehicles'!$A$6:$A$105,0)),'Settings'!$G$6:$G$7,0)),"")) | Y205: =IF($B205="","",IF(OR($K205="",$L205="",$M205="",$N205=""),"Incomplete",IF(AND($O205>1,$P205>1),"Over Weight & Volume",IF($O205>1,"Over Weight",IF($P205>1,"Over Volume",IF($Q205>='Settings'!$B$7,"Near Capacity","Within Capacity")))))) | Z205: =IF($B205="","",IF(OR($T205="",$U205="",$V205=""),"Incomplete",IF($V205>1,"Over Shift",IF($V205>='Settings'!$B$8,"Near Shift Limit","Within Shift")))) | AA205: =IF($B205="","",IF($F205="Canceled","Canceled",IF(OR($A205="",$C205="",$D205="",$E205="",$F205="",$G205="",$H205="",$I205="",$J205="",$K205="",$L205="",$U205="",IFERROR($U205=0,TRUE)),"Incomplete",IF(COUNTIF($B$6:$B$205,$B205)>1,"Duplicate Route ID",IF(IFERROR(MATCH($D205,'Vehicles'!$A$6:$A$105,0),0)=0,"Vehicle Not Found",IF(IFERROR(INDEX('Vehicles'!$E$6:$E$105,MATCH($D205,'Vehicles'!$A$6:$A$105,0)),"No")<>"Yes","Inactive Vehicle",IF(AND(IFERROR($Q205>1,FALSE),IFERROR($V205>1,FALSE)),"Over Capacity & Shift",IF(IFERROR($Q205>1,FALSE),"Over Capacity",IF(IFERROR($V205>1,FALSE),"Over Shift",IF(OR(IFERROR($Q205>='Settings'!$B$7,FALSE),IFERROR($V205>='Settings'!$B$8,FALSE)),"Review","Ready")))))))))))

Sheet Vehicles
A1: Vehicle Capacity List
A2: Maintain vehicle availability, payload, cargo volume, fuel type, and planning MPG.
A3: Blue cells are user-maintained vehicle inputs.
A5: Vehicle ID | B5: Vehicle Description | C5: Vehicle Type | D5: Home Depot | E5: Active? | F5: Max Payload (lb) | G5: Cargo Volume (cu ft) | H5: Fuel Type | I5: Planning MPG
A6: V-101 | B6: Unit 101 24-ft Straight Truck | C6: Straight Truck | D6: Dallas | E6: Yes | F6: 10000 | G6: 1200 | H6: Diesel | I6: 9
A7: V-102 | B7: Unit 102 Transit Cargo Van | C7: Cargo Van | D7: Dallas | E7: Yes | F7: 3000 | G7: 420 | H7: Gasoline | I7: 14
A8: V-103 | B8: Unit 103 20-ft Box Truck | C8: Box Truck | D8: Fort Worth | E8: Yes | F8: 8000 | G8: 1000 | H8: Diesel | I8: 10
A9: V-104 | B9: Unit 104 Sprinter Van | C9: Cargo Van | D9: Fort Worth | E9: Yes | F9: 3500 | G9: 480 | H9: Diesel | I9: 15
A10: V-105 | B10: Unit 105 26-ft Straight Truck | C10: Straight Truck | D10: Arlington | E10: Yes | F10: 12000 | G10: 1400 | H10: Diesel | I10: 8
A11: V-106 | B11: Unit 106 Express Cargo Van | C11: Cargo Van | D11: Dallas | E11: Yes | F11: 2800 | G11: 400 | H11: Gasoline | I11: 16
A12: V-107 | B12: Unit 107 22-ft Box Truck | C12: Box Truck | D12: Arlington | E12: No | F12: 9000 | G12: 1100 | H12: Diesel | I12: 10
A13: V-108 | B13: Unit 108 Refrigerated Box Truck | C13: Refrigerated Box Truck | D13: Fort Worth | E13: Yes | F13: 7500 | G13: 850 | H13: Diesel | I13: 9

Sheet Settings
A1: Planning Settings
A2: Update assumptions and list values as operating conditions change.
A3: Yellow cells are editable settings. Formula results elsewhere will update when Excel recalculates.
A4: Planning Assumptions
A5: Average Planning Speed | B5: 32 | C5: mph | D5: Depot List | E5: Status List | F5: Yes/No List | G5: Fuel Type | H5: Fuel Price per Gallon
A6: Service Time per Stop | B6: 12 | C6: minutes | D6: Dallas | E6: Draft | F6: Yes | G6: Diesel | H6: 3.78
A7: Capacity Warning Threshold | B7: 0.85 | C7: percent | D7: Fort Worth | E7: Planned | F7: No | G7: Gasoline | H7: 3.45
A8: Time Warning Threshold | B8: 0.9 | C8: percent | D8: Arlington | E8: Dispatched
D9: Plano | E9: Completed
D10: Irving | E10: Canceled
