Workbook

Sheet Dashboard
A1: Pickup and Delivery Appointment Schedule
A2: Update the Schedule As Of value on the Settings sheet before reviewing current alerts.
A3: Schedule As Of | B3: ='Settings'!$B$3 | D3: Schedule Time Zone | E3: ='Settings'!$B$4
A5: Active Appointments | B5: =COUNTIFS('Appointments'!$A$5:$A$104,"<>",'Appointments'!$D$5:$D$104,"<>Completed",'Appointments'!$D$5:$D$104,"<>Canceled") | C5: Pickups Today | D5: =COUNTIFS('Appointments'!$J$5:$J$104,INT('Settings'!$B$3),'Appointments'!$C$5:$C$104,"Pickup",'Appointments'!$D$5:$D$104,"<>Canceled") | E5: Deliveries Today | F5: =COUNTIFS('Appointments'!$J$5:$J$104,INT('Settings'!$B$3),'Appointments'!$C$5:$C$104,"Delivery",'Appointments'!$D$5:$D$104,"<>Canceled") | G5: Late / Not Arrived | H5: =COUNTIF('Appointments'!$X$5:$X$104,"Late")
A7: Due Soon | B7: =COUNTIF('Appointments'!$X$5:$X$104,"Due Soon") | C7: At Stop | D7: =COUNTIF('Appointments'!$X$5:$X$104,"At Stop") | E7: Completed Today | F7: =COUNTIFS('Appointments'!$D$5:$D$104,"Completed",'Appointments'!$T$5:$T$104,">="&INT('Settings'!$B$3),'Appointments'!$T$5:$T$104,"<"&INT('Settings'!$B$3)+1) | G7: Data Exceptions | H7: =COUNTIFS('Appointments'!$A$5:$A$104,"<>",'Appointments'!$AD$5:$AD$104,"<>OK")
A9: Planned Miles in Lookahead | B9: =IFERROR(SUMIFS('Appointments'!$Q$5:$Q$104,'Appointments'!$V$5:$V$104,">="&'Settings'!$B$3,'Appointments'!$V$5:$V$104,"<"&'Settings'!$B$3+'Settings'!$B$10,'Appointments'!$D$5:$D$104,"<>Canceled"),0) | C9: Estimated Detention Charges | D9: =IFERROR(SUM('Appointments'!$AC$5:$AC$104),0) | E9: Arrival On-Time % | F9: =IFERROR(COUNTIF('Appointments'!$Y$5:$Y$104,"On Time")/(COUNTIF('Appointments'!$Y$5:$Y$104,"On Time")+COUNTIF('Appointments'!$Y$5:$Y$104,"Late")+COUNTIF('Appointments'!$Y$5:$Y$104,"Early")),0) | G9: Miles Today | H9: =IFERROR(SUMIFS('Appointments'!$Q$5:$Q$104,'Appointments'!$J$5:$J$104,INT('Settings'!$B$3),'Appointments'!$D$5:$D$104,"<>Canceled"),0)
A11: Active Schedule — Earliest First
A12: Appointment ID | B12: Stop Type | C12: Scheduled Start | D12: Facility | E12: City / State | F12: Driver | G12: Status | H12: Schedule Alert
A13: =IF($Z13="","",IFERROR(INDEX('Appointments'!$A$5:$A$104,MATCH($Z13,'Appointments'!$AE$5:$AE$104,0)),"")) | B13: =IF($Z13="","",IFERROR(INDEX('Appointments'!$C$5:$C$104,MATCH($Z13,'Appointments'!$AE$5:$AE$104,0)),"")) | C13: =IF($Z13="","",IFERROR(INDEX('Appointments'!$V$5:$V$104,MATCH($Z13,'Appointments'!$AE$5:$AE$104,0)),"")) | D13: =IF($Z13="","",IFERROR(INDEX('Appointments'!$G$5:$G$104,MATCH($Z13,'Appointments'!$AE$5:$AE$104,0)),"")) | E13: =IF($Z13="","",IFERROR(INDEX('Appointments'!$H$5:$H$104,MATCH($Z13,'Appointments'!$AE$5:$AE$104,0))&", "&INDEX('Appointments'!$I$5:$I$104,MATCH($Z13,'Appointments'!$AE$5:$AE$104,0)),"")) | F13: =IF($Z13="","",IFERROR(INDEX('Appointments'!$N$5:$N$104,MATCH($Z13,'Appointments'!$AE$5:$AE$104,0)),"")) | G13: =IF($Z13="","",IFERROR(INDEX('Appointments'!$D$5:$D$104,MATCH($Z13,'Appointments'!$AE$5:$AE$104,0)),"")) | H13: =IF($Z13="","",IFERROR(INDEX('Appointments'!$X$5:$X$104,MATCH($Z13,'Appointments'!$AE$5:$AE$104,0)),"")) | Z13: =IFERROR(AGGREGATE(15,6,'Appointments'!$AE$5:$AE$104/('Appointments'!$AE$5:$AE$104<>""),ROWS($Z$13:Z13)),"")
A14: =IF($Z14="","",IFERROR(INDEX('Appointments'!$A$5:$A$104,MATCH($Z14,'Appointments'!$AE$5:$AE$104,0)),"")) | B14: =IF($Z14="","",IFERROR(INDEX('Appointments'!$C$5:$C$104,MATCH($Z14,'Appointments'!$AE$5:$AE$104,0)),"")) | C14: =IF($Z14="","",IFERROR(INDEX('Appointments'!$V$5:$V$104,MATCH($Z14,'Appointments'!$AE$5:$AE$104,0)),"")) | D14: =IF($Z14="","",IFERROR(INDEX('Appointments'!$G$5:$G$104,MATCH($Z14,'Appointments'!$AE$5:$AE$104,0)),"")) | E14: =IF($Z14="","",IFERROR(INDEX('Appointments'!$H$5:$H$104,MATCH($Z14,'Appointments'!$AE$5:$AE$104,0))&", "&INDEX('Appointments'!$I$5:$I$104,MATCH($Z14,'Appointments'!$AE$5:$AE$104,0)),"")) | F14: =IF($Z14="","",IFERROR(INDEX('Appointments'!$N$5:$N$104,MATCH($Z14,'Appointments'!$AE$5:$AE$104,0)),"")) | G14: =IF($Z14="","",IFERROR(INDEX('Appointments'!$D$5:$D$104,MATCH($Z14,'Appointments'!$AE$5:$AE$104,0)),"")) | H14: =IF($Z14="","",IFERROR(INDEX('Appointments'!$X$5:$X$104,MATCH($Z14,'Appointments'!$AE$5:$AE$104,0)),"")) | Z14: =IFERROR(AGGREGATE(15,6,'Appointments'!$AE$5:$AE$104/('Appointments'!$AE$5:$AE$104<>""),ROWS($Z$13:Z14)),"")
A15: =IF($Z15="","",IFERROR(INDEX('Appointments'!$A$5:$A$104,MATCH($Z15,'Appointments'!$AE$5:$AE$104,0)),"")) | B15: =IF($Z15="","",IFERROR(INDEX('Appointments'!$C$5:$C$104,MATCH($Z15,'Appointments'!$AE$5:$AE$104,0)),"")) | C15: =IF($Z15="","",IFERROR(INDEX('Appointments'!$V$5:$V$104,MATCH($Z15,'Appointments'!$AE$5:$AE$104,0)),"")) | D15: =IF($Z15="","",IFERROR(INDEX('Appointments'!$G$5:$G$104,MATCH($Z15,'Appointments'!$AE$5:$AE$104,0)),"")) | E15: =IF($Z15="","",IFERROR(INDEX('Appointments'!$H$5:$H$104,MATCH($Z15,'Appointments'!$AE$5:$AE$104,0))&", "&INDEX('Appointments'!$I$5:$I$104,MATCH($Z15,'Appointments'!$AE$5:$AE$104,0)),"")) | F15: =IF($Z15="","",IFERROR(INDEX('Appointments'!$N$5:$N$104,MATCH($Z15,'Appointments'!$AE$5:$AE$104,0)),"")) | G15: =IF($Z15="","",IFERROR(INDEX('Appointments'!$D$5:$D$104,MATCH($Z15,'Appointments'!$AE$5:$AE$104,0)),"")) | H15: =IF($Z15="","",IFERROR(INDEX('Appointments'!$X$5:$X$104,MATCH($Z15,'Appointments'!$AE$5:$AE$104,0)),"")) | Z15: =IFERROR(AGGREGATE(15,6,'Appointments'!$AE$5:$AE$104/('Appointments'!$AE$5:$AE$104<>""),ROWS($Z$13:Z15)),"")
A16: =IF($Z16="","",IFERROR(INDEX('Appointments'!$A$5:$A$104,MATCH($Z16,'Appointments'!$AE$5:$AE$104,0)),"")) | B16: =IF($Z16="","",IFERROR(INDEX('Appointments'!$C$5:$C$104,MATCH($Z16,'Appointments'!$AE$5:$AE$104,0)),"")) | C16: =IF($Z16="","",IFERROR(INDEX('Appointments'!$V$5:$V$104,MATCH($Z16,'Appointments'!$AE$5:$AE$104,0)),"")) | D16: =IF($Z16="","",IFERROR(INDEX('Appointments'!$G$5:$G$104,MATCH($Z16,'Appointments'!$AE$5:$AE$104,0)),"")) | E16: =IF($Z16="","",IFERROR(INDEX('Appointments'!$H$5:$H$104,MATCH($Z16,'Appointments'!$AE$5:$AE$104,0))&", "&INDEX('Appointments'!$I$5:$I$104,MATCH($Z16,'Appointments'!$AE$5:$AE$104,0)),"")) | F16: =IF($Z16="","",IFERROR(INDEX('Appointments'!$N$5:$N$104,MATCH($Z16,'Appointments'!$AE$5:$AE$104,0)),"")) | G16: =IF($Z16="","",IFERROR(INDEX('Appointments'!$D$5:$D$104,MATCH($Z16,'Appointments'!$AE$5:$AE$104,0)),"")) | H16: =IF($Z16="","",IFERROR(INDEX('Appointments'!$X$5:$X$104,MATCH($Z16,'Appointments'!$AE$5:$AE$104,0)),"")) | Z16: =IFERROR(AGGREGATE(15,6,'Appointments'!$AE$5:$AE$104/('Appointments'!$AE$5:$AE$104<>""),ROWS($Z$13:Z16)),"")
A17: =IF($Z17="","",IFERROR(INDEX('Appointments'!$A$5:$A$104,MATCH($Z17,'Appointments'!$AE$5:$AE$104,0)),"")) | B17: =IF($Z17="","",IFERROR(INDEX('Appointments'!$C$5:$C$104,MATCH($Z17,'Appointments'!$AE$5:$AE$104,0)),"")) | C17: =IF($Z17="","",IFERROR(INDEX('Appointments'!$V$5:$V$104,MATCH($Z17,'Appointments'!$AE$5:$AE$104,0)),"")) | D17: =IF($Z17="","",IFERROR(INDEX('Appointments'!$G$5:$G$104,MATCH($Z17,'Appointments'!$AE$5:$AE$104,0)),"")) | E17: =IF($Z17="","",IFERROR(INDEX('Appointments'!$H$5:$H$104,MATCH($Z17,'Appointments'!$AE$5:$AE$104,0))&", "&INDEX('Appointments'!$I$5:$I$104,MATCH($Z17,'Appointments'!$AE$5:$AE$104,0)),"")) | F17: =IF($Z17="","",IFERROR(INDEX('Appointments'!$N$5:$N$104,MATCH($Z17,'Appointments'!$AE$5:$AE$104,0)),"")) | G17: =IF($Z17="","",IFERROR(INDEX('Appointments'!$D$5:$D$104,MATCH($Z17,'Appointments'!$AE$5:$AE$104,0)),"")) | H17: =IF($Z17="","",IFERROR(INDEX('Appointments'!$X$5:$X$104,MATCH($Z17,'Appointments'!$AE$5:$AE$104,0)),"")) | Z17: =IFERROR(AGGREGATE(15,6,'Appointments'!$AE$5:$AE$104/('Appointments'!$AE$5:$AE$104<>""),ROWS($Z$13:Z17)),"")
A18: =IF($Z18="","",IFERROR(INDEX('Appointments'!$A$5:$A$104,MATCH($Z18,'Appointments'!$AE$5:$AE$104,0)),"")) | B18: =IF($Z18="","",IFERROR(INDEX('Appointments'!$C$5:$C$104,MATCH($Z18,'Appointments'!$AE$5:$AE$104,0)),"")) | C18: =IF($Z18="","",IFERROR(INDEX('Appointments'!$V$5:$V$104,MATCH($Z18,'Appointments'!$AE$5:$AE$104,0)),"")) | D18: =IF($Z18="","",IFERROR(INDEX('Appointments'!$G$5:$G$104,MATCH($Z18,'Appointments'!$AE$5:$AE$104,0)),"")) | E18: =IF($Z18="","",IFERROR(INDEX('Appointments'!$H$5:$H$104,MATCH($Z18,'Appointments'!$AE$5:$AE$104,0))&", "&INDEX('Appointments'!$I$5:$I$104,MATCH($Z18,'Appointments'!$AE$5:$AE$104,0)),"")) | F18: =IF($Z18="","",IFERROR(INDEX('Appointments'!$N$5:$N$104,MATCH($Z18,'Appointments'!$AE$5:$AE$104,0)),"")) | G18: =IF($Z18="","",IFERROR(INDEX('Appointments'!$D$5:$D$104,MATCH($Z18,'Appointments'!$AE$5:$AE$104,0)),"")) | H18: =IF($Z18="","",IFERROR(INDEX('Appointments'!$X$5:$X$104,MATCH($Z18,'Appointments'!$AE$5:$AE$104,0)),"")) | Z18: =IFERROR(AGGREGATE(15,6,'Appointments'!$AE$5:$AE$104/('Appointments'!$AE$5:$AE$104<>""),ROWS($Z$13:Z18)),"")
A19: =IF($Z19="","",IFERROR(INDEX('Appointments'!$A$5:$A$104,MATCH($Z19,'Appointments'!$AE$5:$AE$104,0)),"")) | B19: =IF($Z19="","",IFERROR(INDEX('Appointments'!$C$5:$C$104,MATCH($Z19,'Appointments'!$AE$5:$AE$104,0)),"")) | C19: =IF($Z19="","",IFERROR(INDEX('Appointments'!$V$5:$V$104,MATCH($Z19,'Appointments'!$AE$5:$AE$104,0)),"")) | D19: =IF($Z19="","",IFERROR(INDEX('Appointments'!$G$5:$G$104,MATCH($Z19,'Appointments'!$AE$5:$AE$104,0)),"")) | E19: =IF($Z19="","",IFERROR(INDEX('Appointments'!$H$5:$H$104,MATCH($Z19,'Appointments'!$AE$5:$AE$104,0))&", "&INDEX('Appointments'!$I$5:$I$104,MATCH($Z19,'Appointments'!$AE$5:$AE$104,0)),"")) | F19: =IF($Z19="","",IFERROR(INDEX('Appointments'!$N$5:$N$104,MATCH($Z19,'Appointments'!$AE$5:$AE$104,0)),"")) | G19: =IF($Z19="","",IFERROR(INDEX('Appointments'!$D$5:$D$104,MATCH($Z19,'Appointments'!$AE$5:$AE$104,0)),"")) | H19: =IF($Z19="","",IFERROR(INDEX('Appointments'!$X$5:$X$104,MATCH($Z19,'Appointments'!$AE$5:$AE$104,0)),"")) | Z19: =IFERROR(AGGREGATE(15,6,'Appointments'!$AE$5:$AE$104/('Appointments'!$AE$5:$AE$104<>""),ROWS($Z$13:Z19)),"")
A20: =IF($Z20="","",IFERROR(INDEX('Appointments'!$A$5:$A$104,MATCH($Z20,'Appointments'!$AE$5:$AE$104,0)),"")) | B20: =IF($Z20="","",IFERROR(INDEX('Appointments'!$C$5:$C$104,MATCH($Z20,'Appointments'!$AE$5:$AE$104,0)),"")) | C20: =IF($Z20="","",IFERROR(INDEX('Appointments'!$V$5:$V$104,MATCH($Z20,'Appointments'!$AE$5:$AE$104,0)),"")) | D20: =IF($Z20="","",IFERROR(INDEX('Appointments'!$G$5:$G$104,MATCH($Z20,'Appointments'!$AE$5:$AE$104,0)),"")) | E20: =IF($Z20="","",IFERROR(INDEX('Appointments'!$H$5:$H$104,MATCH($Z20,'Appointments'!$AE$5:$AE$104,0))&", "&INDEX('Appointments'!$I$5:$I$104,MATCH($Z20,'Appointments'!$AE$5:$AE$104,0)),"")) | F20: =IF($Z20="","",IFERROR(INDEX('Appointments'!$N$5:$N$104,MATCH($Z20,'Appointments'!$AE$5:$AE$104,0)),"")) | G20: =IF($Z20="","",IFERROR(INDEX('Appointments'!$D$5:$D$104,MATCH($Z20,'Appointments'!$AE$5:$AE$104,0)),"")) | H20: =IF($Z20="","",IFERROR(INDEX('Appointments'!$X$5:$X$104,MATCH($Z20,'Appointments'!$AE$5:$AE$104,0)),"")) | Z20: =IFERROR(AGGREGATE(15,6,'Appointments'!$AE$5:$AE$104/('Appointments'!$AE$5:$AE$104<>""),ROWS($Z$13:Z20)),"")
A21: =IF($Z21="","",IFERROR(INDEX('Appointments'!$A$5:$A$104,MATCH($Z21,'Appointments'!$AE$5:$AE$104,0)),"")) | B21: =IF($Z21="","",IFERROR(INDEX('Appointments'!$C$5:$C$104,MATCH($Z21,'Appointments'!$AE$5:$AE$104,0)),"")) | C21: =IF($Z21="","",IFERROR(INDEX('Appointments'!$V$5:$V$104,MATCH($Z21,'Appointments'!$AE$5:$AE$104,0)),"")) | D21: =IF($Z21="","",IFERROR(INDEX('Appointments'!$G$5:$G$104,MATCH($Z21,'Appointments'!$AE$5:$AE$104,0)),"")) | E21: =IF($Z21="","",IFERROR(INDEX('Appointments'!$H$5:$H$104,MATCH($Z21,'Appointments'!$AE$5:$AE$104,0))&", "&INDEX('Appointments'!$I$5:$I$104,MATCH($Z21,'Appointments'!$AE$5:$AE$104,0)),"")) | F21: =IF($Z21="","",IFERROR(INDEX('Appointments'!$N$5:$N$104,MATCH($Z21,'Appointments'!$AE$5:$AE$104,0)),"")) | G21: =IF($Z21="","",IFERROR(INDEX('Appointments'!$D$5:$D$104,MATCH($Z21,'Appointments'!$AE$5:$AE$104,0)),"")) | H21: =IF($Z21="","",IFERROR(INDEX('Appointments'!$X$5:$X$104,MATCH($Z21,'Appointments'!$AE$5:$AE$104,0)),"")) | Z21: =IFERROR(AGGREGATE(15,6,'Appointments'!$AE$5:$AE$104/('Appointments'!$AE$5:$AE$104<>""),ROWS($Z$13:Z21)),"")
A22: =IF($Z22="","",IFERROR(INDEX('Appointments'!$A$5:$A$104,MATCH($Z22,'Appointments'!$AE$5:$AE$104,0)),"")) | B22: =IF($Z22="","",IFERROR(INDEX('Appointments'!$C$5:$C$104,MATCH($Z22,'Appointments'!$AE$5:$AE$104,0)),"")) | C22: =IF($Z22="","",IFERROR(INDEX('Appointments'!$V$5:$V$104,MATCH($Z22,'Appointments'!$AE$5:$AE$104,0)),"")) | D22: =IF($Z22="","",IFERROR(INDEX('Appointments'!$G$5:$G$104,MATCH($Z22,'Appointments'!$AE$5:$AE$104,0)),"")) | E22: =IF($Z22="","",IFERROR(INDEX('Appointments'!$H$5:$H$104,MATCH($Z22,'Appointments'!$AE$5:$AE$104,0))&", "&INDEX('Appointments'!$I$5:$I$104,MATCH($Z22,'Appointments'!$AE$5:$AE$104,0)),"")) | F22: =IF($Z22="","",IFERROR(INDEX('Appointments'!$N$5:$N$104,MATCH($Z22,'Appointments'!$AE$5:$AE$104,0)),"")) | G22: =IF($Z22="","",IFERROR(INDEX('Appointments'!$D$5:$D$104,MATCH($Z22,'Appointments'!$AE$5:$AE$104,0)),"")) | H22: =IF($Z22="","",IFERROR(INDEX('Appointments'!$X$5:$X$104,MATCH($Z22,'Appointments'!$AE$5:$AE$104,0)),"")) | Z22: =IFERROR(AGGREGATE(15,6,'Appointments'!$AE$5:$AE$104/('Appointments'!$AE$5:$AE$104<>""),ROWS($Z$13:Z22)),"")
F23: ="" | G23: ="" | H23: ="" | Z23: =""
F24: ="" | G24: ="" | H24: ="" | Z24: =""
A25: 7-Day Appointment Outlook | F25: ="" | G25: ="" | H25: ="" | Z25: =""
A26: Date | B26: Pickups | C26: Deliveries | D26: Total Stops | E26: Planned Miles | F26: ="" | G26: ="" | H26: ="" | Z26: =""
A27: =INT('Settings'!$B$3)+ROWS($A$27:A27)-1 | B27: =COUNTIFS('Appointments'!$J$5:$J$104,$A27,'Appointments'!$C$5:$C$104,"Pickup",'Appointments'!$D$5:$D$104,"<>Canceled") | C27: =COUNTIFS('Appointments'!$J$5:$J$104,$A27,'Appointments'!$C$5:$C$104,"Delivery",'Appointments'!$D$5:$D$104,"<>Canceled") | D27: =B27+C27 | E27: =IFERROR(SUMIFS('Appointments'!$Q$5:$Q$104,'Appointments'!$J$5:$J$104,$A27,'Appointments'!$D$5:$D$104,"<>Canceled"),0) | F27: ="" | G27: ="" | H27: ="" | Z27: =""
A28: =INT('Settings'!$B$3)+ROWS($A$27:A28)-1 | B28: =COUNTIFS('Appointments'!$J$5:$J$104,$A28,'Appointments'!$C$5:$C$104,"Pickup",'Appointments'!$D$5:$D$104,"<>Canceled") | C28: =COUNTIFS('Appointments'!$J$5:$J$104,$A28,'Appointments'!$C$5:$C$104,"Delivery",'Appointments'!$D$5:$D$104,"<>Canceled") | D28: =B28+C28 | E28: =IFERROR(SUMIFS('Appointments'!$Q$5:$Q$104,'Appointments'!$J$5:$J$104,$A28,'Appointments'!$D$5:$D$104,"<>Canceled"),0) | F28: ="" | G28: ="" | H28: ="" | Z28: =""
A29: =INT('Settings'!$B$3)+ROWS($A$27:A29)-1 | B29: =COUNTIFS('Appointments'!$J$5:$J$104,$A29,'Appointments'!$C$5:$C$104,"Pickup",'Appointments'!$D$5:$D$104,"<>Canceled") | C29: =COUNTIFS('Appointments'!$J$5:$J$104,$A29,'Appointments'!$C$5:$C$104,"Delivery",'Appointments'!$D$5:$D$104,"<>Canceled") | D29: =B29+C29 | E29: =IFERROR(SUMIFS('Appointments'!$Q$5:$Q$104,'Appointments'!$J$5:$J$104,$A29,'Appointments'!$D$5:$D$104,"<>Canceled"),0) | F29: ="" | G29: ="" | H29: ="" | Z29: =""
A30: =INT('Settings'!$B$3)+ROWS($A$27:A30)-1 | B30: =COUNTIFS('Appointments'!$J$5:$J$104,$A30,'Appointments'!$C$5:$C$104,"Pickup",'Appointments'!$D$5:$D$104,"<>Canceled") | C30: =COUNTIFS('Appointments'!$J$5:$J$104,$A30,'Appointments'!$C$5:$C$104,"Delivery",'Appointments'!$D$5:$D$104,"<>Canceled") | D30: =B30+C30 | E30: =IFERROR(SUMIFS('Appointments'!$Q$5:$Q$104,'Appointments'!$J$5:$J$104,$A30,'Appointments'!$D$5:$D$104,"<>Canceled"),0) | F30: ="" | G30: ="" | H30: ="" | Z30: =""
A31: =INT('Settings'!$B$3)+ROWS($A$27:A31)-1 | B31: =COUNTIFS('Appointments'!$J$5:$J$104,$A31,'Appointments'!$C$5:$C$104,"Pickup",'Appointments'!$D$5:$D$104,"<>Canceled") | C31: =COUNTIFS('Appointments'!$J$5:$J$104,$A31,'Appointments'!$C$5:$C$104,"Delivery",'Appointments'!$D$5:$D$104,"<>Canceled") | D31: =B31+C31 | E31: =IFERROR(SUMIFS('Appointments'!$Q$5:$Q$104,'Appointments'!$J$5:$J$104,$A31,'Appointments'!$D$5:$D$104,"<>Canceled"),0) | F31: ="" | G31: ="" | H31: ="" | Z31: =""
A32: =INT('Settings'!$B$3)+ROWS($A$27:A32)-1 | B32: =COUNTIFS('Appointments'!$J$5:$J$104,$A32,'Appointments'!$C$5:$C$104,"Pickup",'Appointments'!$D$5:$D$104,"<>Canceled") | C32: =COUNTIFS('Appointments'!$J$5:$J$104,$A32,'Appointments'!$C$5:$C$104,"Delivery",'Appointments'!$D$5:$D$104,"<>Canceled") | D32: =B32+C32 | E32: =IFERROR(SUMIFS('Appointments'!$Q$5:$Q$104,'Appointments'!$J$5:$J$104,$A32,'Appointments'!$D$5:$D$104,"<>Canceled"),0) | F32: ="" | G32: ="" | H32: ="" | Z32: =""
A33: =INT('Settings'!$B$3)+ROWS($A$27:A33)-1 | B33: =COUNTIFS('Appointments'!$J$5:$J$104,$A33,'Appointments'!$C$5:$C$104,"Pickup",'Appointments'!$D$5:$D$104,"<>Canceled") | C33: =COUNTIFS('Appointments'!$J$5:$J$104,$A33,'Appointments'!$C$5:$C$104,"Delivery",'Appointments'!$D$5:$D$104,"<>Canceled") | D33: =B33+C33 | E33: =IFERROR(SUMIFS('Appointments'!$Q$5:$Q$104,'Appointments'!$J$5:$J$104,$A33,'Appointments'!$D$5:$D$104,"<>Canceled"),0) | F33: ="" | G33: ="" | H33: ="" | Z33: =""
A34: ="" | B34: ="" | C34: ="" | D34: ="" | E34: ="" | F34: ="" | G34: ="" | H34: ="" | Z34: =""
A35: ="" | B35: ="" | C35: ="" | D35: ="" | E35: ="" | F35: ="" | G35: ="" | H35: ="" | Z35: =""
A36: ="" | B36: ="" | C36: ="" | D36: ="" | E36: ="" | F36: ="" | G36: ="" | H36: ="" | Z36: =""
A37: ="" | B37: ="" | C37: ="" | D37: ="" | E37: ="" | F37: ="" | G37: ="" | H37: ="" | Z37: =""
A38: ="" | B38: ="" | C38: ="" | D38: ="" | E38: ="" | F38: ="" | G38: ="" | H38: ="" | Z38: =""
A39: ="" | B39: ="" | C39: ="" | D39: ="" | E39: ="" | F39: ="" | G39: ="" | H39: ="" | Z39: =""
A40: ="" | B40: ="" | C40: ="" | D40: ="" | E40: ="" | F40: ="" | G40: ="" | H40: ="" | Z40: =""
A41: ="" | B41: ="" | C41: ="" | D41: ="" | E41: ="" | F41: ="" | G41: ="" | H41: ="" | Z41: =""
A42: ="" | B42: ="" | C42: ="" | D42: ="" | E42: ="" | F42: ="" | G42: ="" | H42: ="" | Z42: =""
A43: ="" | B43: ="" | C43: ="" | D43: ="" | E43: ="" | F43: ="" | G43: ="" | H43: ="" | Z43: =""
A44: ="" | B44: ="" | C44: ="" | D44: ="" | E44: ="" | F44: ="" | G44: ="" | H44: ="" | Z44: =""
...

Sheet Appointments
A1: Pickup and Delivery Appointments
A2: Enter appointment details in yellow cells. Blue cells contain formulas and should not be overwritten. Appointment times must use the Schedule Time Zone shown on the Settings sheet.
A3: Input | C3: Calculated | E3: Exception
A4: Appointment ID | B4: Load / Route ID | C4: Stop Type | D4: Status | E4: Priority | F4: Customer | G4: Facility | H4: City | I4: State | J4: Appointment Date | K4: Window Start | L4: Window End | M4: Schedule Time Zone | N4: Driver | O4: Unit # | P4: Trailer # | Q4: Leg Miles | R4: Reference / PO | S4: Actual Arrival | T4: Actual Departure | U4: Notes | V4: Scheduled Start | W4: Scheduled End | X4: Schedule Alert | Y4: On-Time Result | Z4: Minutes After Window | AA4: Dwell Minutes | AB4: Billable Detention Hours | AC4: Est. Detention Charge | AD4: Data Check | AE4: Dashboard Sort Key
A5: APT-260906-01 | B5: LD-83472 | C5: Delivery | D5: Completed | E5: High | F5: RetailMart | G5: Dallas DC 12 | H5: Dallas | I5: TX | J5: 46271 | K5: 0.33333333 | L5: 0.375 | M5: CT | N5: Jordan Lee | O5: U-214 | P5: TR-5081 | Q5: 185 | R5: PO-771284 | S5: 46271.394 | T5: 46271.46 | U5: Traffic delay reported. | V5: =IF(OR($J5="",$K5=""),"",IFERROR($J5+$K5,"")) | W5: =IF(OR($J5="",$K5="",$L5=""),"",IFERROR($J5+$L5+IF($L5<$K5,1,0),"")) | X5: =IF($A5="","",IF($D5="Canceled","Canceled",IF(OR($D5="Completed",$T5<>""),"Completed",IF($S5<>"","At Stop",IF($V5="","Missing Schedule",IF($V5<'Settings'!$B$3-'Settings'!$B$6/1440,"Late",IF($V5<='Settings'!$B$3+'Settings'!$B$5/24,"Due Soon","Upcoming"))))))) | Y5: =IF($A5="","",IF($D5="Canceled","Canceled",IF($S5="","Pending",IFERROR(IF($S5<$V5-'Settings'!$B$6/1440,"Early",IF($S5<=$W5+'Settings'!$B$6/1440,"On Time","Late")),"Check Schedule")))) | Z5: =IF(OR($A5="",$S5="",$W5=""),"",IFERROR(MAX(0,ROUND(($S5-$W5)*1440,0)),"")) | AA5: =IF($S5="","",IFERROR(MAX(0,ROUND((IF($T5<>"",$T5,'Settings'!$B$3)-$S5)*1440,0)),"")) | AB5: =IF($AA5="","",IFERROR(MAX(0,CEILING(MAX(0,$AA5-'Settings'!$B$7),'Settings'!$B$9)/60),"")) | AC5: =IF($AB5="","",IFERROR($AB5*'Settings'!$B$8,"")) | AD5: =IF($A5="","",IF(COUNTIF($A$5:$A$104,$A5)>1,"Duplicate Appointment ID",IF(OR($B5="",$C5="",$D5="",$F5="",$G5="",$H5="",$I5="",$J5="",$K5="",$L5="",$M5=""),"Missing Required Field",IF($M5<>'Settings'!$B$4,"Time Zone Differs From Settings",IF(AND($T5<>"",$S5=""),"Departure Without Arrival",IF(AND($S5<>"",$T5<>"",$T5<$S5),"Departure Before Arrival",IF(AND($D5="Arrived",$S5=""),"Arrived Status Missing Time",IF(AND($D5="Completed",$T5=""),"Completed Without Departure",IF(AND($T5<>"",$D5<>"Completed",$D5<>"Canceled"),"Update Status to Completed",IF(AND($S5<>"",$T5="",$D5<>"Arrived"),"Update Status to Arrived",IF(AND($Q5<>"",$Q5<0),"Negative Miles",IF(AND($AA5<>"",$AA5>'Settings'!$B$11),"Dwell Exceeds Expected Limit","OK")))))))))))) | AE5: =IF(OR($A5="",$V5="",$D5="Completed",$D5="Canceled"),"",IFERROR(IF($V5<='Settings'!$B$3+'Settings'!$B$10,$V5+ROW()/10000000,""),""))
A6: APT-260906-02 | B6: LD-83479 | C6: Pickup | D6: Completed | E6: Standard | F6: Gulf Packaging | G6: Houston Plant 3 | H6: Houston | I6: TX | J6: 46271 | K6: 0.54166667 | L6: 0.58333333 | M6: CT | N6: Avery Brown | O6: U-118 | P6: TR-4420 | Q6: 238 | R6: PU-45819 | S6: 46271.55 | T6: 46271.658 | U6: Paperwork delay at shipping office. | V6: =IF(OR($J6="",$K6=""),"",IFERROR($J6+$K6,"")) | W6: =IF(OR($J6="",$K6="",$L6=""),"",IFERROR($J6+$L6+IF($L6<$K6,1,0),"")) | X6: =IF($A6="","",IF($D6="Canceled","Canceled",IF(OR($D6="Completed",$T6<>""),"Completed",IF($S6<>"","At Stop",IF($V6="","Missing Schedule",IF($V6<'Settings'!$B$3-'Settings'!$B$6/1440,"Late",IF($V6<='Settings'!$B$3+'Settings'!$B$5/24,"Due Soon","Upcoming"))))))) | Y6: =IF($A6="","",IF($D6="Canceled","Canceled",IF($S6="","Pending",IFERROR(IF($S6<$V6-'Settings'!$B$6/1440,"Early",IF($S6<=$W6+'Settings'!$B$6/1440,"On Time","Late")),"Check Schedule")))) | Z6: =IF(OR($A6="",$S6="",$W6=""),"",IFERROR(MAX(0,ROUND(($S6-$W6)*1440,0)),"")) | AA6: =IF($S6="","",IFERROR(MAX(0,ROUND((IF($T6<>"",$T6,'Settings'!$B$3)-$S6)*1440,0)),"")) | AB6: =IF($AA6="","",IFERROR(MAX(0,CEILING(MAX(0,$AA6-'Settings'!$B$7),'Settings'!$B$9)/60),"")) | AC6: =IF($AB6="","",IFERROR($AB6*'Settings'!$B$8,"")) | AD6: =IF($A6="","",IF(COUNTIF($A$5:$A$104,$A6)>1,"Duplicate Appointment ID",IF(OR($B6="",$C6="",$D6="",$F6="",$G6="",$H6="",$I6="",$J6="",$K6="",$L6="",$M6=""),"Missing Required Field",IF($M6<>'Settings'!$B$4,"Time Zone Differs From Settings",IF(AND($T6<>"",$S6=""),"Departure Without Arrival",IF(AND($S6<>"",$T6<>"",$T6<$S6),"Departure Before Arrival",IF(AND($D6="Arrived",$S6=""),"Arrived Status Missing Time",IF(AND($D6="Completed",$T6=""),"Completed Without Departure",IF(AND($T6<>"",$D6<>"Completed",$D6<>"Canceled"),"Update Status to Completed",IF(AND($S6<>"",$T6="",$D6<>"Arrived"),"Update Status to Arrived",IF(AND($Q6<>"",$Q6<0),"Negative Miles",IF(AND($AA6<>"",$AA6>'Settings'!$B$11),"Dwell Exceeds Expected Limit","OK")))))))))))) | AE6: =IF(OR($A6="",$V6="",$D6="Completed",$D6="Canceled"),"",IFERROR(IF($V6<='Settings'!$B$3+'Settings'!$B$10,$V6+ROW()/10000000,""),""))
A7: APT-260907-01 | B7: LD-83501 | C7: Pickup | D7: Confirmed | E7: High | F7: FreshLine Foods | G7: Fort Worth Cold Storage | H7: Fort Worth | I7: TX | J7: 46272 | K7: 0.35416667 | L7: 0.375 | M7: CT | N7: Miguel Santos | O7: U-214 | P7: TR-5081 | Q7: 34 | R7: PU-45844 | U7: Reefer set to 36°F. | V7: =IF(OR($J7="",$K7=""),"",IFERROR($J7+$K7,"")) | W7: =IF(OR($J7="",$K7="",$L7=""),"",IFERROR($J7+$L7+IF($L7<$K7,1,0),"")) | X7: =IF($A7="","",IF($D7="Canceled","Canceled",IF(OR($D7="Completed",$T7<>""),"Completed",IF($S7<>"","At Stop",IF($V7="","Missing Schedule",IF($V7<'Settings'!$B$3-'Settings'!$B$6/1440,"Late",IF($V7<='Settings'!$B$3+'Settings'!$B$5/24,"Due Soon","Upcoming"))))))) | Y7: =IF($A7="","",IF($D7="Canceled","Canceled",IF($S7="","Pending",IFERROR(IF($S7<$V7-'Settings'!$B$6/1440,"Early",IF($S7<=$W7+'Settings'!$B$6/1440,"On Time","Late")),"Check Schedule")))) | Z7: =IF(OR($A7="",$S7="",$W7=""),"",IFERROR(MAX(0,ROUND(($S7-$W7)*1440,0)),"")) | AA7: =IF($S7="","",IFERROR(MAX(0,ROUND((IF($T7<>"",$T7,'Settings'!$B$3)-$S7)*1440,0)),"")) | AB7: =IF($AA7="","",IFERROR(MAX(0,CEILING(MAX(0,$AA7-'Settings'!$B$7),'Settings'!$B$9)/60),"")) | AC7: =IF($AB7="","",IFERROR($AB7*'Settings'!$B$8,"")) | AD7: =IF($A7="","",IF(COUNTIF($A$5:$A$104,$A7)>1,"Duplicate Appointment ID",IF(OR($B7="",$C7="",$D7="",$F7="",$G7="",$H7="",$I7="",$J7="",$K7="",$L7="",$M7=""),"Missing Required Field",IF($M7<>'Settings'!$B$4,"Time Zone Differs From Settings",IF(AND($T7<>"",$S7=""),"Departure Without Arrival",IF(AND($S7<>"",$T7<>"",$T7<$S7),"Departure Before Arrival",IF(AND($D7="Arrived",$S7=""),"Arrived Status Missing Time",IF(AND($D7="Completed",$T7=""),"Completed Without Departure",IF(AND($T7<>"",$D7<>"Completed",$D7<>"Canceled"),"Update Status to Completed",IF(AND($S7<>"",$T7="",$D7<>"Arrived"),"Update Status to Arrived",IF(AND($Q7<>"",$Q7<0),"Negative Miles",IF(AND($AA7<>"",$AA7>'Settings'!$B$11),"Dwell Exceeds Expected Limit","OK")))))))))))) | AE7: =IF(OR($A7="",$V7="",$D7="Completed",$D7="Canceled"),"",IFERROR(IF($V7<='Settings'!$B$3+'Settings'!$B$10,$V7+ROW()/10000000,""),""))
A8: APT-260907-02 | B8: LD-83505 | C8: Delivery | D8: En Route | E8: Standard | F8: HomeBuild Supply | G8: Irving Crossdock | H8: Irving | I8: TX | J8: 46272 | K8: 0.39583333 | L8: 0.4375 | M8: CT | N8: Dana Kim | O8: U-305 | P8: TR-6193 | Q8: 42 | R8: PO-771310 | U8: Check in at receiving gate. | V8: =IF(OR($J8="",$K8=""),"",IFERROR($J8+$K8,"")) | W8: =IF(OR($J8="",$K8="",$L8=""),"",IFERROR($J8+$L8+IF($L8<$K8,1,0),"")) | X8: =IF($A8="","",IF($D8="Canceled","Canceled",IF(OR($D8="Completed",$T8<>""),"Completed",IF($S8<>"","At Stop",IF($V8="","Missing Schedule",IF($V8<'Settings'!$B$3-'Settings'!$B$6/1440,"Late",IF($V8<='Settings'!$B$3+'Settings'!$B$5/24,"Due Soon","Upcoming"))))))) | Y8: =IF($A8="","",IF($D8="Canceled","Canceled",IF($S8="","Pending",IFERROR(IF($S8<$V8-'Settings'!$B$6/1440,"Early",IF($S8<=$W8+'Settings'!$B$6/1440,"On Time","Late")),"Check Schedule")))) | Z8: =IF(OR($A8="",$S8="",$W8=""),"",IFERROR(MAX(0,ROUND(($S8-$W8)*1440,0)),"")) | AA8: =IF($S8="","",IFERROR(MAX(0,ROUND((IF($T8<>"",$T8,'Settings'!$B$3)-$S8)*1440,0)),"")) | AB8: =IF($AA8="","",IFERROR(MAX(0,CEILING(MAX(0,$AA8-'Settings'!$B$7),'Settings'!$B$9)/60),"")) | AC8: =IF($AB8="","",IFERROR($AB8*'Settings'!$B$8,"")) | AD8: =IF($A8="","",IF(COUNTIF($A$5:$A$104,$A8)>1,"Duplicate Appointment ID",IF(OR($B8="",$C8="",$D8="",$F8="",$G8="",$H8="",$I8="",$J8="",$K8="",$L8="",$M8=""),"Missing Required Field",IF($M8<>'Settings'!$B$4,"Time Zone Differs From Settings",IF(AND($T8<>"",$S8=""),"Departure Without Arrival",IF(AND($S8<>"",$T8<>"",$T8<$S8),"Departure Before Arrival",IF(AND($D8="Arrived",$S8=""),"Arrived Status Missing Time",IF(AND($D8="Completed",$T8=""),"Completed Without Departure",IF(AND($T8<>"",$D8<>"Completed",$D8<>"Canceled"),"Update Status to Completed",IF(AND($S8<>"",$T8="",$D8<>"Arrived"),"Update Status to Arrived",IF(AND($Q8<>"",$Q8<0),"Negative Miles",IF(AND($AA8<>"",$AA8>'Settings'!$B$11),"Dwell Exceeds Expected Limit","OK")))))))))))) | AE8: =IF(OR($A8="",$V8="",$D8="Completed",$D8="Canceled"),"",IFERROR(IF($V8<='Settings'!$B$3+'Settings'!$B$10,$V8+ROW()/10000000,""),""))
A9: APT-260907-03 | B9: LD-83509 | C9: Pickup | D9: Scheduled | E9: Standard | F9: Lone Star Paper | G9: Waco Mill | H9: Waco | I9: TX | J9: 46272 | K9: 0.54166667 | L9: 0.58333333 | M9: CT | N9: Jordan Lee | O9: U-118 | P9: TR-4420 | Q9: 96 | R9: PU-45851 | U9: Driver must carry pickup number. | V9: =IF(OR($J9="",$K9=""),"",IFERROR($J9+$K9,"")) | W9: =IF(OR($J9="",$K9="",$L9=""),"",IFERROR($J9+$L9+IF($L9<$K9,1,0),"")) | X9: =IF($A9="","",IF($D9="Canceled","Canceled",IF(OR($D9="Completed",$T9<>""),"Completed",IF($S9<>"","At Stop",IF($V9="","Missing Schedule",IF($V9<'Settings'!$B$3-'Settings'!$B$6/1440,"Late",IF($V9<='Settings'!$B$3+'Settings'!$B$5/24,"Due Soon","Upcoming"))))))) | Y9: =IF($A9="","",IF($D9="Canceled","Canceled",IF($S9="","Pending",IFERROR(IF($S9<$V9-'Settings'!$B$6/1440,"Early",IF($S9<=$W9+'Settings'!$B$6/1440,"On Time","Late")),"Check Schedule")))) | Z9: =IF(OR($A9="",$S9="",$W9=""),"",IFERROR(MAX(0,ROUND(($S9-$W9)*1440,0)),"")) | AA9: =IF($S9="","",IFERROR(MAX(0,ROUND((IF($T9<>"",$T9,'Settings'!$B$3)-$S9)*1440,0)),"")) | AB9: =IF($AA9="","",IFERROR(MAX(0,CEILING(MAX(0,$AA9-'Settings'!$B$7),'Settings'!$B$9)/60),"")) | AC9: =IF($AB9="","",IFERROR($AB9*'Settings'!$B$8,"")) | AD9: =IF($A9="","",IF(COUNTIF($A$5:$A$104,$A9)>1,"Duplicate Appointment ID",IF(OR($B9="",$C9="",$D9="",$F9="",$G9="",$H9="",$I9="",$J9="",$K9="",$L9="",$M9=""),"Missing Required Field",IF($M9<>'Settings'!$B$4,"Time Zone Differs From Settings",IF(AND($T9<>"",$S9=""),"Departure Without Arrival",IF(AND($S9<>"",$T9<>"",$T9<$S9),"Departure Before Arrival",IF(AND($D9="Arrived",$S9=""),"Arrived Status Missing Time",IF(AND($D9="Completed",$T9=""),"Completed Without Departure",IF(AND($T9<>"",$D9<>"Completed",$D9<>"Canceled"),"Update Status to Completed",IF(AND($S9<>"",$T9="",$D9<>"Arrived"),"Update Status to Arrived",IF(AND($Q9<>"",$Q9<0),"Negative Miles",IF(AND($AA9<>"",$AA9>'Settings'!$B$11),"Dwell Exceeds Expected Limit","OK")))))))))))) | AE9: =IF(OR($A9="",$V9="",$D9="Completed",$D9="Canceled"),"",IFERROR(IF($V9<='Settings'!$B$3+'Settings'!$B$10,$V9+ROW()/10000000,""),""))
A10: APT-260907-04 | B10: LD-83496 | C10: Delivery | D10: Arrived | E10: Critical | F10: Metro Grocery | G10: Arlington DC 4 | H10: Arlington | I10: TX | J10: 46272 | K10: 0.27083333 | L10: 0.3125 | M10: CT | N10: Avery Brown | O10: U-412 | P10: TR-7308 | Q10: 27 | R10: PO-771298 | S10: 46272.295 | U10: Waiting at door 22. | V10: =IF(OR($J10="",$K10=""),"",IFERROR($J10+$K10,"")) | W10: =IF(OR($J10="",$K10="",$L10=""),"",IFERROR($J10+$L10+IF($L10<$K10,1,0),"")) | X10: =IF($A10="","",IF($D10="Canceled","Canceled",IF(OR($D10="Completed",$T10<>""),"Completed",IF($S10<>"","At Stop",IF($V10="","Missing Schedule",IF($V10<'Settings'!$B$3-'Settings'!$B$6/1440,"Late",IF($V10<='Settings'!$B$3+'Settings'!$B$5/24,"Due Soon","Upcoming"))))))) | Y10: =IF($A10="","",IF($D10="Canceled","Canceled",IF($S10="","Pending",IFERROR(IF($S10<$V10-'Settings'!$B$6/1440,"Early",IF($S10<=$W10+'Settings'!$B$6/1440,"On Time","Late")),"Check Schedule")))) | Z10: =IF(OR($A10="",$S10="",$W10=""),"",IFERROR(MAX(0,ROUND(($S10-$W10)*1440,0)),"")) | AA10: =IF($S10="","",IFERROR(MAX(0,ROUND((IF($T10<>"",$T10,'Settings'!$B$3)-$S10)*1440,0)),"")) | AB10: =IF($AA10="","",IFERROR(MAX(0,CEILING(MAX(0,$AA10-'Settings'!$B$7),'Settings'!$B$9)/60),"")) | AC10: =IF($AB10="","",IFERROR($AB10*'Settings'!$B$8,"")) | AD10: =IF($A10="","",IF(COUNTIF($A$5:$A$104,$A10)>1,"Duplicate Appointment ID",IF(OR($B10="",$C10="",$D10="",$F10="",$G10="",$H10="",$I10="",$J10="",$K10="",$L10="",$M10=""),"Missing Required Field",IF($M10<>'Settings'!$B$4,"Time Zone Differs From Settings",IF(AND($T10<>"",$S10=""),"Departure Without Arrival",IF(AND($S10<>"",$T10<>"",$T10<$S10),"Departure Before Arrival",IF(AND($D10="Arrived",$S10=""),"Arrived Status Missing Time",IF(AND($D10="Completed",$T10=""),"Completed Without Departure",IF(AND($T10<>"",$D10<>"Completed",$D10<>"Canceled"),"Update Status to Completed",IF(AND($S10<>"",$T10="",$D10<>"Arrived"),"Update Status to Arrived",IF(AND($Q10<>"",$Q10<0),"Negative Miles",IF(AND($AA10<>"",$AA10>'Settings'!$B$11),"Dwell Exceeds Expected Limit","OK")))))))))))) | AE10: =IF(OR($A10="",$V10="",$D10="Completed",$D10="Canceled"),"",IFERROR(IF($V10<='Settings'!$B$3+'Settings'!$B$10,$V10+ROW()/10000000,""),""))
A11: APT-260907-05 | B11: RT-2147 | C11: Delivery | D11: Confirmed | E11: High | F11: QuickCare Medical | G11: North Dallas Clinic Hub | H11: Dallas | I11: TX | J11: 46272 | K11: 0.25 | L11: 0.29166667 | M11: CT | N11: Miguel Santos | O11: VAN-27 | Q11: 18 | R11: REF-99317 | U11: Call receiver on arrival. | V11: =IF(OR($J11="",$K11=""),"",IFERROR($J11+$K11,"")) | W11: =IF(OR($J11="",$K11="",$L11=""),"",IFERROR($J11+$L11+IF($L11<$K11,1,0),"")) | X11: =IF($A11="","",IF($D11="Canceled","Canceled",IF(OR($D11="Completed",$T11<>""),"Completed",IF($S11<>"","At Stop",IF($V11="","Missing Schedule",IF($V11<'Settings'!$B$3-'Settings'!$B$6/1440,"Late",IF($V11<='Settings'!$B$3+'Settings'!$B$5/24,"Due Soon","Upcoming"))))))) | Y11: =IF($A11="","",IF($D11="Canceled","Canceled",IF($S11="","Pending",IFERROR(IF($S11<$V11-'Settings'!$B$6/1440,"Early",IF($S11<=$W11+'Settings'!$B$6/1440,"On Time","Late")),"Check Schedule")))) | Z11: =IF(OR($A11="",$S11="",$W11=""),"",IFERROR(MAX(0,ROUND(($S11-$W11)*1440,0)),"")) | AA11: =IF($S11="","",IFERROR(MAX(0,ROUND((IF($T11<>"",$T11,'Settings'!$B$3)-$S11)*1440,0)),"")) | AB11: =IF($AA11="","",IFERROR(MAX(0,CEILING(MAX(0,$AA11-'Settings'!$B$7),'Settings'!$B$9)/60),"")) | AC11: =IF($AB11="","",IFERROR($AB11*'Settings'!$B$8,"")) | AD11: =IF($A11="","",IF(COUNTIF($A$5:$A$104,$A11)>1,"Duplicate Appointment ID",IF(OR($B11="",$C11="",$D11="",$F11="",$G11="",$H11="",$I11="",$J11="",$K11="",$L11="",$M11=""),"Missing Required Field",IF($M11<>'Settings'!$B$4,"Time Zone Differs From Settings",IF(AND($T11<>"",$S11=""),"Departure Without Arrival",IF(AND($S11<>"",$T11<>"",$T11<$S11),"Departure Before Arrival",IF(AND($D11="Arrived",$S11=""),"Arrived Status Missing Time",IF(AND($D11="Completed",$T11=""),"Completed Without Departure",IF(AND($T11<>"",$D11<>"Completed",$D11<>"Canceled"),"Update Status to Completed",IF(AND($S11<>"",$T11="",$D11<>"Arrived"),"Update Status to Arrived",IF(AND($Q11<>"",$Q11<0),"Negative Miles",IF(AND($AA11<>"",$AA11>'Settings'!$B$11),"Dwell Exceeds Expected Limit","OK")))))))))))) | AE11: =IF(OR($A11="",$V11="",$D11="Completed",$D11="Canceled"),"",IFERROR(IF($V11<='Settings'!$B$3+'Settings'!$B$10,$V11+ROW()/10000000,""),""))
A12: APT-260908-01 | B12: LD-83522 | C12: Pickup | D12: Scheduled | E12: Standard | F12: Capital Office Supply | G12: Austin Warehouse | H12: Austin | I12: TX | J12: 46273 | K12: 0.29166667 | L12: 0.33333333 | M12: CT | N12: Dana Kim | O12: U-305 | P12: TR-6193 | Q12: 195 | R12: PU-45872 | U12: Pallet count required. | V12: =IF(OR($J12="",$K12=""),"",IFERROR($J12+$K12,"")) | W12: =IF(OR($J12="",$K12="",$L12=""),"",IFERROR($J12+$L12+IF($L12<$K12,1,0),"")) | X12: =IF($A12="","",IF($D12="Canceled","Canceled",IF(OR($D12="Completed",$T12<>""),"Completed",IF($S12<>"","At Stop",IF($V12="","Missing Schedule",IF($V12<'Settings'!$B$3-'Settings'!$B$6/1440,"Late",IF($V12<='Settings'!$B$3+'Settings'!$B$5/24,"Due Soon","Upcoming"))))))) | Y12: =IF($A12="","",IF($D12="Canceled","Canceled",IF($S12="","Pending",IFERROR(IF($S12<$V12-'Settings'!$B$6/1440,"Early",IF($S12<=$W12+'Settings'!$B$6/1440,"On Time","Late")),"Check Schedule")))) | Z12: =IF(OR($A12="",$S12="",$W12=""),"",IFERROR(MAX(0,ROUND(($S12-$W12)*1440,0)),"")) | AA12: =IF($S12="","",IFERROR(MAX(0,ROUND((IF($T12<>"",$T12,'Settings'!$B$3)-$S12)*1440,0)),"")) | AB12: =IF($AA12="","",IFERROR(MAX(0,CEILING(MAX(0,$AA12-'Settings'!$B$7),'Settings'!$B$9)/60),"")) | AC12: =IF($AB12="","",IFERROR($AB12*'Settings'!$B$8,"")) | AD12: =IF($A12="","",IF(COUNTIF($A$5:$A$104,$A12)>1,"Duplicate Appointment ID",IF(OR($B12="",$C12="",$D12="",$F12="",$G12="",$H12="",$I12="",$J12="",$K12="",$L12="",$M12=""),"Missing Required Field",IF($M12<>'Settings'!$B$4,"Time Zone Differs From Settings",IF(AND($T12<>"",$S12=""),"Departure Without Arrival",IF(AND($S12<>"",$T12<>"",$T12<$S12),"Departure Before Arrival",IF(AND($D12="Arrived",$S12=""),"Arrived Status Missing Time",IF(AND($D12="Completed",$T12=""),"Completed Without Departure",IF(AND($T12<>"",$D12<>"Completed",$D12<>"Canceled"),"Update Status to Completed",IF(AND($S12<>"",$T12="",$D12<>"Arrived"),"Update Status to Arrived",IF(AND($Q12<>"",$Q12<0),"Negative Miles",IF(AND($AA12<>"",$AA12>'Settings'!$B$11),"Dwell Exceeds Expected Limit","OK")))))))))))) | AE12: =IF(OR($A12="",$V12="",$D12="Completed",$D12="Canceled"),"",IFERROR(IF($V12<='Settings'!$B$3+'Settings'!$B$10,$V12+ROW()/10000000,""),""))
A13: APT-260908-02 | B13: LD-83526 | C13: Delivery | D13: Canceled | E13: Standard | F13: Alamo Restaurant Supply | G13: San Antonio Hub | H13: San Antonio | I13: TX | J13: 46273 | K13: 0.45833333 | L13: 0.5 | M13: CT | N13: Jordan Lee | O13: U-118 | P13: TR-4420 | Q13: 79 | R13: PO-771342 | U13: Customer canceled appointment. | V13: =IF(OR($J13="",$K13=""),"",IFERROR($J13+$K13,"")) | W13: =IF(OR($J13="",$K13="",$L13=""),"",IFERROR($J13+$L13+IF($L13<$K13,1,0),"")) | X13: =IF($A13="","",IF($D13="Canceled","Canceled",IF(OR($D13="Completed",$T13<>""),"Completed",IF($S13<>"","At Stop",IF($V13="","Missing Schedule",IF($V13<'Settings'!$B$3-'Settings'!$B$6/1440,"Late",IF($V13<='Settings'!$B$3+'Settings'!$B$5/24,"Due Soon","Upcoming"))))))) | Y13: =IF($A13="","",IF($D13="Canceled","Canceled",IF($S13="","Pending",IFERROR(IF($S13<$V13-'Settings'!$B$6/1440,"Early",IF($S13<=$W13+'Settings'!$B$6/1440,"On Time","Late")),"Check Schedule")))) | Z13: =IF(OR($A13="",$S13="",$W13=""),"",IFERROR(MAX(0,ROUND(($S13-$W13)*1440,0)),"")) | AA13: =IF($S13="","",IFERROR(MAX(0,ROUND((IF($T13<>"",$T13,'Settings'!$B$3)-$S13)*1440,0)),"")) | AB13: =IF($AA13="","",IFERROR(MAX(0,CEILING(MAX(0,$AA13-'Settings'!$B$7),'Settings'!$B$9)/60),"")) | AC13: =IF($AB13="","",IFERROR($AB13*'Settings'!$B$8,"")) | AD13: =IF($A13="","",IF(COUNTIF($A$5:$A$104,$A13)>1,"Duplicate Appointment ID",IF(OR($B13="",$C13="",$D13="",$F13="",$G13="",$H13="",$I13="",$J13="",$K13="",$L13="",$M13=""),"Missing Required Field",IF($M13<>'Settings'!$B$4,"Time Zone Differs From Settings",IF(AND($T13<>"",$S13=""),"Departure Without Arrival",IF(AND($S13<>"",$T13<>"",$T13<$S13),"Departure Before Arrival",IF(AND($D13="Arrived",$S13=""),"Arrived Status Missing Time",IF(AND($D13="Completed",$T13=""),"Completed Without Departure",IF(AND($T13<>"",$D13<>"Completed",$D13<>"Canceled"),"Update Status to Completed",IF(AND($S13<>"",$T13="",$D13<>"Arrived"),"Update Status to Arrived",IF(AND($Q13<>"",$Q13<0),"Negative Miles",IF(AND($AA13<>"",$AA13>'Settings'!$B$11),"Dwell Exceeds Expected Limit","OK")))))))))))) | AE13: =IF(OR($A13="",$V13="",$D13="Completed",$D13="Canceled"),"",IFERROR(IF($V13<='Settings'!$B$3+'Settings'!$B$10,$V13+ROW()/10000000,""),""))
A14: APT-260909-01 | B14: LD-83541 | C14: Delivery | D14: Scheduled | E14: High | F14: Plains Hardware | G14: Oklahoma City DC | H14: Oklahoma City | I14: OK | J14: 46274 | K14: 0.95833333 | L14: 0.041666667 | M14: CT | N14: Avery Brown | O14: U-412 | P14: TR-7308 | Q14: 211 | R14: PO-771381 | U14: Overnight appointment window. | V14: =IF(OR($J14="",$K14=""),"",IFERROR($J14+$K14,"")) | W14: =IF(OR($J14="",$K14="",$L14=""),"",IFERROR($J14+$L14+IF($L14<$K14,1,0),"")) | X14: =IF($A14="","",IF($D14="Canceled","Canceled",IF(OR($D14="Completed",$T14<>""),"Completed",IF($S14<>"","At Stop",IF($V14="","Missing Schedule",IF($V14<'Settings'!$B$3-'Settings'!$B$6/1440,"Late",IF($V14<='Settings'!$B$3+'Settings'!$B$5/24,"Due Soon","Upcoming"))))))) | Y14: =IF($A14="","",IF($D14="Canceled","Canceled",IF($S14="","Pending",IFERROR(IF($S14<$V14-'Settings'!$B$6/1440,"Early",IF($S14<=$W14+'Settings'!$B$6/1440,"On Time","Late")),"Check Schedule")))) | Z14: =IF(OR($A14="",$S14="",$W14=""),"",IFERROR(MAX(0,ROUND(($S14-$W14)*1440,0)),"")) | AA14: =IF($S14="","",IFERROR(MAX(0,ROUND((IF($T14<>"",$T14,'Settings'!$B$3)-$S14)*1440,0)),"")) | AB14: =IF($AA14="","",IFERROR(MAX(0,CEILING(MAX(0,$AA14-'Settings'!$B$7),'Settings'!$B$9)/60),"")) | AC14: =IF($AB14="","",IFERROR($AB14*'Settings'!$B$8,"")) | AD14: =IF($A14="","",IF(COUNTIF($A$5:$A$104,$A14)>1,"Duplicate Appointment ID",IF(OR($B14="",$C14="",$D14="",$F14="",$G14="",$H14="",$I14="",$J14="",$K14="",$L14="",$M14=""),"Missing Required Field",IF($M14<>'Settings'!$B$4,"Time Zone Differs From Settings",IF(AND($T14<>"",$S14=""),"Departure Without Arrival",IF(AND($S14<>"",$T14<>"",$T14<$S14),"Departure Before Arrival",IF(AND($D14="Arrived",$S14=""),"Arrived Status Missing Time",IF(AND($D14="Completed",$T14=""),"Completed Without Departure",IF(AND($T14<>"",$D14<>"Completed",$D14<>"Canceled"),"Update Status to Completed",IF(AND($S14<>"",$T14="",$D14<>"Arrived"),"Update Status to Arrived",IF(AND($Q14<>"",$Q14<0),"Negative Miles",IF(AND($AA14<>"",$AA14>'Settings'!$B$11),"Dwell Exceeds Expected Limit","OK")))))))))))) | AE14: =IF(OR($A14="",$V14="",$D14="Completed",$D14="Canceled"),"",IFERROR(IF($V14<='Settings'!$B$3+'Settings'!$B$10,$V14+ROW()/10000000,""),""))
V15: =IF(OR($J15="",$K15=""),"",IFERROR($J15+$K15,"")) | W15: =IF(OR($J15="",$K15="",$L15=""),"",IFERROR($J15+$L15+IF($L15<$K15,1,0),"")) | X15: =IF($A15="","",IF($D15="Canceled","Canceled",IF(OR($D15="Completed",$T15<>""),"Completed",IF($S15<>"","At Stop",IF($V15="","Missing Schedule",IF($V15<'Settings'!$B$3-'Settings'!$B$6/1440,"Late",IF($V15<='Settings'!$B$3+'Settings'!$B$5/24,"Due Soon","Upcoming"))))))) | Y15: =IF($A15="","",IF($D15="Canceled","Canceled",IF($S15="","Pending",IFERROR(IF($S15<$V15-'Settings'!$B$6/1440,"Early",IF($S15<=$W15+'Settings'!$B$6/1440,"On Time","Late")),"Check Schedule")))) | Z15: =IF(OR($A15="",$S15="",$W15=""),"",IFERROR(MAX(0,ROUND(($S15-$W15)*1440,0)),"")) | AA15: =IF($S15="","",IFERROR(MAX(0,ROUND((IF($T15<>"",$T15,'Settings'!$B$3)-$S15)*1440,0)),"")) | AB15: =IF($AA15="","",IFERROR(MAX(0,CEILING(MAX(0,$AA15-'Settings'!$B$7),'Settings'!$B$9)/60),"")) | AC15: =IF($AB15="","",IFERROR($AB15*'Settings'!$B$8,"")) | AD15: =IF($A15="","",IF(COUNTIF($A$5:$A$104,$A15)>1,"Duplicate Appointment ID",IF(OR($B15="",$C15="",$D15="",$F15="",$G15="",$H15="",$I15="",$J15="",$K15="",$L15="",$M15=""),"Missing Required Field",IF($M15<>'Settings'!$B$4,"Time Zone Differs From Settings",IF(AND($T15<>"",$S15=""),"Departure Without Arrival",IF(AND($S15<>"",$T15<>"",$T15<$S15),"Departure Before Arrival",IF(AND($D15="Arrived",$S15=""),"Arrived Status Missing Time",IF(AND($D15="Completed",$T15=""),"Completed Without Departure",IF(AND($T15<>"",$D15<>"Completed",$D15<>"Canceled"),"Update Status to Completed",IF(AND($S15<>"",$T15="",$D15<>"Arrived"),"Update Status to Arrived",IF(AND($Q15<>"",$Q15<0),"Negative Miles",IF(AND($AA15<>"",$AA15>'Settings'!$B$11),"Dwell Exceeds Expected Limit","OK")))))))))))) | AE15: =IF(OR($A15="",$V15="",$D15="Completed",$D15="Canceled"),"",IFERROR(IF($V15<='Settings'!$B$3+'Settings'!$B$10,$V15+ROW()/10000000,""),""))
V16: =IF(OR($J16="",$K16=""),"",IFERROR($J16+$K16,"")) | W16: =IF(OR($J16="",$K16="",$L16=""),"",IFERROR($J16+$L16+IF($L16<$K16,1,0),"")) | X16: =IF($A16="","",IF($D16="Canceled","Canceled",IF(OR($D16="Completed",$T16<>""),"Completed",IF($S16<>"","At Stop",IF($V16="","Missing Schedule",IF($V16<'Settings'!$B$3-'Settings'!$B$6/1440,"Late",IF($V16<='Settings'!$B$3+'Settings'!$B$5/24,"Due Soon","Upcoming"))))))) | Y16: =IF($A16="","",IF($D16="Canceled","Canceled",IF($S16="","Pending",IFERROR(IF($S16<$V16-'Settings'!$B$6/1440,"Early",IF($S16<=$W16+'Settings'!$B$6/1440,"On Time","Late")),"Check Schedule")))) | Z16: =IF(OR($A16="",$S16="",$W16=""),"",IFERROR(MAX(0,ROUND(($S16-$W16)*1440,0)),"")) | AA16: =IF($S16="","",IFERROR(MAX(0,ROUND((IF($T16<>"",$T16,'Settings'!$B$3)-$S16)*1440,0)),"")) | AB16: =IF($AA16="","",IFERROR(MAX(0,CEILING(MAX(0,$AA16-'Settings'!$B$7),'Settings'!$B$9)/60),"")) | AC16: =IF($AB16="","",IFERROR($AB16*'Settings'!$B$8,"")) | AD16: =IF($A16="","",IF(COUNTIF($A$5:$A$104,$A16)>1,"Duplicate Appointment ID",IF(OR($B16="",$C16="",$D16="",$F16="",$G16="",$H16="",$I16="",$J16="",$K16="",$L16="",$M16=""),"Missing Required Field",IF($M16<>'Settings'!$B$4,"Time Zone Differs From Settings",IF(AND($T16<>"",$S16=""),"Departure Without Arrival",IF(AND($S16<>"",$T16<>"",$T16<$S16),"Departure Before Arrival",IF(AND($D16="Arrived",$S16=""),"Arrived Status Missing Time",IF(AND($D16="Completed",$T16=""),"Completed Without Departure",IF(AND($T16<>"",$D16<>"Completed",$D16<>"Canceled"),"Update Status to Completed",IF(AND($S16<>"",$T16="",$D16<>"Arrived"),"Update Status to Arrived",IF(AND($Q16<>"",$Q16<0),"Negative Miles",IF(AND($AA16<>"",$AA16>'Settings'!$B$11),"Dwell Exceeds Expected Limit","OK")))))))))))) | AE16: =IF(OR($A16="",$V16="",$D16="Completed",$D16="Canceled"),"",IFERROR(IF($V16<='Settings'!$B$3+'Settings'!$B$10,$V16+ROW()/10000000,""),""))
V17: =IF(OR($J17="",$K17=""),"",IFERROR($J17+$K17,"")) | W17: =IF(OR($J17="",$K17="",$L17=""),"",IFERROR($J17+$L17+IF($L17<$K17,1,0),"")) | X17: =IF($A17="","",IF($D17="Canceled","Canceled",IF(OR($D17="Completed",$T17<>""),"Completed",IF($S17<>"","At Stop",IF($V17="","Missing Schedule",IF($V17<'Settings'!$B$3-'Settings'!$B$6/1440,"Late",IF($V17<='Settings'!$B$3+'Settings'!$B$5/24,"Due Soon","Upcoming"))))))) | Y17: =IF($A17="","",IF($D17="Canceled","Canceled",IF($S17="","Pending",IFERROR(IF($S17<$V17-'Settings'!$B$6/1440,"Early",IF($S17<=$W17+'Settings'!$B$6/1440,"On Time","Late")),"Check Schedule")))) | Z17: =IF(OR($A17="",$S17="",$W17=""),"",IFERROR(MAX(0,ROUND(($S17-$W17)*1440,0)),"")) | AA17: =IF($S17="","",IFERROR(MAX(0,ROUND((IF($T17<>"",$T17,'Settings'!$B$3)-$S17)*1440,0)),"")) | AB17: =IF($AA17="","",IFERROR(MAX(0,CEILING(MAX(0,$AA17-'Settings'!$B$7),'Settings'!$B$9)/60),"")) | AC17: =IF($AB17="","",IFERROR($AB17*'Settings'!$B$8,"")) | AD17: =IF($A17="","",IF(COUNTIF($A$5:$A$104,$A17)>1,"Duplicate Appointment ID",IF(OR($B17="",$C17="",$D17="",$F17="",$G17="",$H17="",$I17="",$J17="",$K17="",$L17="",$M17=""),"Missing Required Field",IF($M17<>'Settings'!$B$4,"Time Zone Differs From Settings",IF(AND($T17<>"",$S17=""),"Departure Without Arrival",IF(AND($S17<>"",$T17<>"",$T17<$S17),"Departure Before Arrival",IF(AND($D17="Arrived",$S17=""),"Arrived Status Missing Time",IF(AND($D17="Completed",$T17=""),"Completed Without Departure",IF(AND($T17<>"",$D17<>"Completed",$D17<>"Canceled"),"Update Status to Completed",IF(AND($S17<>"",$T17="",$D17<>"Arrived"),"Update Status to Arrived",IF(AND($Q17<>"",$Q17<0),"Negative Miles",IF(AND($AA17<>"",$AA17>'Settings'!$B$11),"Dwell Exceeds Expected Limit","OK")))))))))))) | AE17: =IF(OR($A17="",$V17="",$D17="Completed",$D17="Canceled"),"",IFERROR(IF($V17<='Settings'!$B$3+'Settings'!$B$10,$V17+ROW()/10000000,""),""))
V18: =IF(OR($J18="",$K18=""),"",IFERROR($J18+$K18,"")) | W18: =IF(OR($J18="",$K18="",$L18=""),"",IFERROR($J18+$L18+IF($L18<$K18,1,0),"")) | X18: =IF($A18="","",IF($D18="Canceled","Canceled",IF(OR($D18="Completed",$T18<>""),"Completed",IF($S18<>"","At Stop",IF($V18="","Missing Schedule",IF($V18<'Settings'!$B$3-'Settings'!$B$6/1440,"Late",IF($V18<='Settings'!$B$3+'Settings'!$B$5/24,"Due Soon","Upcoming"))))))) | Y18: =IF($A18="","",IF($D18="Canceled","Canceled",IF($S18="","Pending",IFERROR(IF($S18<$V18-'Settings'!$B$6/1440,"Early",IF($S18<=$W18+'Settings'!$B$6/1440,"On Time","Late")),"Check Schedule")))) | Z18: =IF(OR($A18="",$S18="",$W18=""),"",IFERROR(MAX(0,ROUND(($S18-$W18)*1440,0)),"")) | AA18: =IF($S18="","",IFERROR(MAX(0,ROUND((IF($T18<>"",$T18,'Settings'!$B$3)-$S18)*1440,0)),"")) | AB18: =IF($AA18="","",IFERROR(MAX(0,CEILING(MAX(0,$AA18-'Settings'!$B$7),'Settings'!$B$9)/60),"")) | AC18: =IF($AB18="","",IFERROR($AB18*'Settings'!$B$8,"")) | AD18: =IF($A18="","",IF(COUNTIF($A$5:$A$104,$A18)>1,"Duplicate Appointment ID",IF(OR($B18="",$C18="",$D18="",$F18="",$G18="",$H18="",$I18="",$J18="",$K18="",$L18="",$M18=""),"Missing Required Field",IF($M18<>'Settings'!$B$4,"Time Zone Differs From Settings",IF(AND($T18<>"",$S18=""),"Departure Without Arrival",IF(AND($S18<>"",$T18<>"",$T18<$S18),"Departure Before Arrival",IF(AND($D18="Arrived",$S18=""),"Arrived Status Missing Time",IF(AND($D18="Completed",$T18=""),"Completed Without Departure",IF(AND($T18<>"",$D18<>"Completed",$D18<>"Canceled"),"Update Status to Completed",IF(AND($S18<>"",$T18="",$D18<>"Arrived"),"Update Status to Arrived",IF(AND($Q18<>"",$Q18<0),"Negative Miles",IF(AND($AA18<>"",$AA18>'Settings'!$B$11),"Dwell Exceeds Expected Limit","OK")))))))))))) | AE18: =IF(OR($A18="",$V18="",$D18="Completed",$D18="Canceled"),"",IFERROR(IF($V18<='Settings'!$B$3+'Settings'!$B$10,$V18+ROW()/10000000,""),""))
V19: =IF(OR($J19="",$K19=""),"",IFERROR($J19+$K19,"")) | W19: =IF(OR($J19="",$K19="",$L19=""),"",IFERROR($J19+$L19+IF($L19<$K19,1,0),"")) | X19: =IF($A19="","",IF($D19="Canceled","Canceled",IF(OR($D19="Completed",$T19<>""),"Completed",IF($S19<>"","At Stop",IF($V19="","Missing Schedule",IF($V19<'Settings'!$B$3-'Settings'!$B$6/1440,"Late",IF($V19<='Settings'!$B$3+'Settings'!$B$5/24,"Due Soon","Upcoming"))))))) | Y19: =IF($A19="","",IF($D19="Canceled","Canceled",IF($S19="","Pending",IFERROR(IF($S19<$V19-'Settings'!$B$6/1440,"Early",IF($S19<=$W19+'Settings'!$B$6/1440,"On Time","Late")),"Check Schedule")))) | Z19: =IF(OR($A19="",$S19="",$W19=""),"",IFERROR(MAX(0,ROUND(($S19-$W19)*1440,0)),"")) | AA19: =IF($S19="","",IFERROR(MAX(0,ROUND((IF($T19<>"",$T19,'Settings'!$B$3)-$S19)*1440,0)),"")) | AB19: =IF($AA19="","",IFERROR(MAX(0,CEILING(MAX(0,$AA19-'Settings'!$B$7),'Settings'!$B$9)/60),"")) | AC19: =IF($AB19="","",IFERROR($AB19*'Settings'!$B$8,"")) | AD19: =IF($A19="","",IF(COUNTIF($A$5:$A$104,$A19)>1,"Duplicate Appointment ID",IF(OR($B19="",$C19="",$D19="",$F19="",$G19="",$H19="",$I19="",$J19="",$K19="",$L19="",$M19=""),"Missing Required Field",IF($M19<>'Settings'!$B$4,"Time Zone Differs From Settings",IF(AND($T19<>"",$S19=""),"Departure Without Arrival",IF(AND($S19<>"",$T19<>"",$T19<$S19),"Departure Before Arrival",IF(AND($D19="Arrived",$S19=""),"Arrived Status Missing Time",IF(AND($D19="Completed",$T19=""),"Completed Without Departure",IF(AND($T19<>"",$D19<>"Completed",$D19<>"Canceled"),"Update Status to Completed",IF(AND($S19<>"",$T19="",$D19<>"Arrived"),"Update Status to Arrived",IF(AND($Q19<>"",$Q19<0),"Negative Miles",IF(AND($AA19<>"",$AA19>'Settings'!$B$11),"Dwell Exceeds Expected Limit","OK")))))))))))) | AE19: =IF(OR($A19="",$V19="",$D19="Completed",$D19="Canceled"),"",IFERROR(IF($V19<='Settings'!$B$3+'Settings'!$B$10,$V19+ROW()/10000000,""),""))
V20: =IF(OR($J20="",$K20=""),"",IFERROR($J20+$K20,"")) | W20: =IF(OR($J20="",$K20="",$L20=""),"",IFERROR($J20+$L20+IF($L20<$K20,1,0),"")) | X20: =IF($A20="","",IF($D20="Canceled","Canceled",IF(OR($D20="Completed",$T20<>""),"Completed",IF($S20<>"","At Stop",IF($V20="","Missing Schedule",IF($V20<'Settings'!$B$3-'Settings'!$B$6/1440,"Late",IF($V20<='Settings'!$B$3+'Settings'!$B$5/24,"Due Soon","Upcoming"))))))) | Y20: =IF($A20="","",IF($D20="Canceled","Canceled",IF($S20="","Pending",IFERROR(IF($S20<$V20-'Settings'!$B$6/1440,"Early",IF($S20<=$W20+'Settings'!$B$6/1440,"On Time","Late")),"Check Schedule")))) | Z20: =IF(OR($A20="",$S20="",$W20=""),"",IFERROR(MAX(0,ROUND(($S20-$W20)*1440,0)),"")) | AA20: =IF($S20="","",IFERROR(MAX(0,ROUND((IF($T20<>"",$T20,'Settings'!$B$3)-$S20)*1440,0)),"")) | AB20: =IF($AA20="","",IFERROR(MAX(0,CEILING(MAX(0,$AA20-'Settings'!$B$7),'Settings'!$B$9)/60),"")) | AC20: =IF($AB20="","",IFERROR($AB20*'Settings'!$B$8,"")) | AD20: =IF($A20="","",IF(COUNTIF($A$5:$A$104,$A20)>1,"Duplicate Appointment ID",IF(OR($B20="",$C20="",$D20="",$F20="",$G20="",$H20="",$I20="",$J20="",$K20="",$L20="",$M20=""),"Missing Required Field",IF($M20<>'Settings'!$B$4,"Time Zone Differs From Settings",IF(AND($T20<>"",$S20=""),"Departure Without Arrival",IF(AND($S20<>"",$T20<>"",$T20<$S20),"Departure Before Arrival",IF(AND($D20="Arrived",$S20=""),"Arrived Status Missing Time",IF(AND($D20="Completed",$T20=""),"Completed Without Departure",IF(AND($T20<>"",$D20<>"Completed",$D20<>"Canceled"),"Update Status to Completed",IF(AND($S20<>"",$T20="",$D20<>"Arrived"),"Update Status to Arrived",IF(AND($Q20<>"",$Q20<0),"Negative Miles",IF(AND($AA20<>"",$AA20>'Settings'!$B$11),"Dwell Exceeds Expected Limit","OK")))))))))))) | AE20: =IF(OR($A20="",$V20="",$D20="Completed",$D20="Canceled"),"",IFERROR(IF($V20<='Settings'!$B$3+'Settings'!$B$10,$V20+ROW()/10000000,""),""))
V21: =IF(OR($J21="",$K21=""),"",IFERROR($J21+$K21,"")) | W21: =IF(OR($J21="",$K21="",$L21=""),"",IFERROR($J21+$L21+IF($L21<$K21,1,0),"")) | X21: =IF($A21="","",IF($D21="Canceled","Canceled",IF(OR($D21="Completed",$T21<>""),"Completed",IF($S21<>"","At Stop",IF($V21="","Missing Schedule",IF($V21<'Settings'!$B$3-'Settings'!$B$6/1440,"Late",IF($V21<='Settings'!$B$3+'Settings'!$B$5/24,"Due Soon","Upcoming"))))))) | Y21: =IF($A21="","",IF($D21="Canceled","Canceled",IF($S21="","Pending",IFERROR(IF($S21<$V21-'Settings'!$B$6/1440,"Early",IF($S21<=$W21+'Settings'!$B$6/1440,"On Time","Late")),"Check Schedule")))) | Z21: =IF(OR($A21="",$S21="",$W21=""),"",IFERROR(MAX(0,ROUND(($S21-$W21)*1440,0)),"")) | AA21: =IF($S21="","",IFERROR(MAX(0,ROUND((IF($T21<>"",$T21,'Settings'!$B$3)-$S21)*1440,0)),"")) | AB21: =IF($AA21="","",IFERROR(MAX(0,CEILING(MAX(0,$AA21-'Settings'!$B$7),'Settings'!$B$9)/60),"")) | AC21: =IF($AB21="","",IFERROR($AB21*'Settings'!$B$8,"")) | AD21: =IF($A21="","",IF(COUNTIF($A$5:$A$104,$A21)>1,"Duplicate Appointment ID",IF(OR($B21="",$C21="",$D21="",$F21="",$G21="",$H21="",$I21="",$J21="",$K21="",$L21="",$M21=""),"Missing Required Field",IF($M21<>'Settings'!$B$4,"Time Zone Differs From Settings",IF(AND($T21<>"",$S21=""),"Departure Without Arrival",IF(AND($S21<>"",$T21<>"",$T21<$S21),"Departure Before Arrival",IF(AND($D21="Arrived",$S21=""),"Arrived Status Missing Time",IF(AND($D21="Completed",$T21=""),"Completed Without Departure",IF(AND($T21<>"",$D21<>"Completed",$D21<>"Canceled"),"Update Status to Completed",IF(AND($S21<>"",$T21="",$D21<>"Arrived"),"Update Status to Arrived",IF(AND($Q21<>"",$Q21<0),"Negative Miles",IF(AND($AA21<>"",$AA21>'Settings'!$B$11),"Dwell Exceeds Expected Limit","OK")))))))))))) | AE21: =IF(OR($A21="",$V21="",$D21="Completed",$D21="Canceled"),"",IFERROR(IF($V21<='Settings'!$B$3+'Settings'!$B$10,$V21+ROW()/10000000,""),""))
V22: =IF(OR($J22="",$K22=""),"",IFERROR($J22+$K22,"")) | W22: =IF(OR($J22="",$K22="",$L22=""),"",IFERROR($J22+$L22+IF($L22<$K22,1,0),"")) | X22: =IF($A22="","",IF($D22="Canceled","Canceled",IF(OR($D22="Completed",$T22<>""),"Completed",IF($S22<>"","At Stop",IF($V22="","Missing Schedule",IF($V22<'Settings'!$B$3-'Settings'!$B$6/1440,"Late",IF($V22<='Settings'!$B$3+'Settings'!$B$5/24,"Due Soon","Upcoming"))))))) | Y22: =IF($A22="","",IF($D22="Canceled","Canceled",IF($S22="","Pending",IFERROR(IF($S22<$V22-'Settings'!$B$6/1440,"Early",IF($S22<=$W22+'Settings'!$B$6/1440,"On Time","Late")),"Check Schedule")))) | Z22: =IF(OR($A22="",$S22="",$W22=""),"",IFERROR(MAX(0,ROUND(($S22-$W22)*1440,0)),"")) | AA22: =IF($S22="","",IFERROR(MAX(0,ROUND((IF($T22<>"",$T22,'Settings'!$B$3)-$S22)*1440,0)),"")) | AB22: =IF($AA22="","",IFERROR(MAX(0,CEILING(MAX(0,$AA22-'Settings'!$B$7),'Settings'!$B$9)/60),"")) | AC22: =IF($AB22="","",IFERROR($AB22*'Settings'!$B$8,"")) | AD22: =IF($A22="","",IF(COUNTIF($A$5:$A$104,$A22)>1,"Duplicate Appointment ID",IF(OR($B22="",$C22="",$D22="",$F22="",$G22="",$H22="",$I22="",$J22="",$K22="",$L22="",$M22=""),"Missing Required Field",IF($M22<>'Settings'!$B$4,"Time Zone Differs From Settings",IF(AND($T22<>"",$S22=""),"Departure Without Arrival",IF(AND($S22<>"",$T22<>"",$T22<$S22),"Departure Before Arrival",IF(AND($D22="Arrived",$S22=""),"Arrived Status Missing Time",IF(AND($D22="Completed",$T22=""),"Completed Without Departure",IF(AND($T22<>"",$D22<>"Completed",$D22<>"Canceled"),"Update Status to Completed",IF(AND($S22<>"",$T22="",$D22<>"Arrived"),"Update Status to Arrived",IF(AND($Q22<>"",$Q22<0),"Negative Miles",IF(AND($AA22<>"",$AA22>'Settings'!$B$11),"Dwell Exceeds Expected Limit","OK")))))))))))) | AE22: =IF(OR($A22="",$V22="",$D22="Completed",$D22="Canceled"),"",IFERROR(IF($V22<='Settings'!$B$3+'Settings'!$B$10,$V22+ROW()/10000000,""),""))
V23: =IF(OR($J23="",$K23=""),"",IFERROR($J23+$K23,"")) | W23: =IF(OR($J23="",$K23="",$L23=""),"",IFERROR($J23+$L23+IF($L23<$K23,1,0),"")) | X23: =IF($A23="","",IF($D23="Canceled","Canceled",IF(OR($D23="Completed",$T23<>""),"Completed",IF($S23<>"","At Stop",IF($V23="","Missing Schedule",IF($V23<'Settings'!$B$3-'Settings'!$B$6/1440,"Late",IF($V23<='Settings'!$B$3+'Settings'!$B$5/24,"Due Soon","Upcoming"))))))) | Y23: =IF($A23="","",IF($D23="Canceled","Canceled",IF($S23="","Pending",IFERROR(IF($S23<$V23-'Settings'!$B$6/1440,"Early",IF($S23<=$W23+'Settings'!$B$6/1440,"On Time","Late")),"Check Schedule")))) | Z23: =IF(OR($A23="",$S23="",$W23=""),"",IFERROR(MAX(0,ROUND(($S23-$W23)*1440,0)),"")) | AA23: =IF($S23="","",IFERROR(MAX(0,ROUND((IF($T23<>"",$T23,'Settings'!$B$3)-$S23)*1440,0)),"")) | AB23: =IF($AA23="","",IFERROR(MAX(0,CEILING(MAX(0,$AA23-'Settings'!$B$7),'Settings'!$B$9)/60),"")) | AC23: =IF($AB23="","",IFERROR($AB23*'Settings'!$B$8,"")) | AD23: =IF($A23="","",IF(COUNTIF($A$5:$A$104,$A23)>1,"Duplicate Appointment ID",IF(OR($B23="",$C23="",$D23="",$F23="",$G23="",$H23="",$I23="",$J23="",$K23="",$L23="",$M23=""),"Missing Required Field",IF($M23<>'Settings'!$B$4,"Time Zone Differs From Settings",IF(AND($T23<>"",$S23=""),"Departure Without Arrival",IF(AND($S23<>"",$T23<>"",$T23<$S23),"Departure Before Arrival",IF(AND($D23="Arrived",$S23=""),"Arrived Status Missing Time",IF(AND($D23="Completed",$T23=""),"Completed Without Departure",IF(AND($T23<>"",$D23<>"Completed",$D23<>"Canceled"),"Update Status to Completed",IF(AND($S23<>"",$T23="",$D23<>"Arrived"),"Update Status to Arrived",IF(AND($Q23<>"",$Q23<0),"Negative Miles",IF(AND($AA23<>"",$AA23>'Settings'!$B$11),"Dwell Exceeds Expected Limit","OK")))))))))))) | AE23: =IF(OR($A23="",$V23="",$D23="Completed",$D23="Canceled"),"",IFERROR(IF($V23<='Settings'!$B$3+'Settings'!$B$10,$V23+ROW()/10000000,""),""))
V24: =IF(OR($J24="",$K24=""),"",IFERROR($J24+$K24,"")) | W24: =IF(OR($J24="",$K24="",$L24=""),"",IFERROR($J24+$L24+IF($L24<$K24,1,0),"")) | X24: =IF($A24="","",IF($D24="Canceled","Canceled",IF(OR($D24="Completed",$T24<>""),"Completed",IF($S24<>"","At Stop",IF($V24="","Missing Schedule",IF($V24<'Settings'!$B$3-'Settings'!$B$6/1440,"Late",IF($V24<='Settings'!$B$3+'Settings'!$B$5/24,"Due Soon","Upcoming"))))))) | Y24: =IF($A24="","",IF($D24="Canceled","Canceled",IF($S24="","Pending",IFERROR(IF($S24<$V24-'Settings'!$B$6/1440,"Early",IF($S24<=$W24+'Settings'!$B$6/1440,"On Time","Late")),"Check Schedule")))) | Z24: =IF(OR($A24="",$S24="",$W24=""),"",IFERROR(MAX(0,ROUND(($S24-$W24)*1440,0)),"")) | AA24: =IF($S24="","",IFERROR(MAX(0,ROUND((IF($T24<>"",$T24,'Settings'!$B$3)-$S24)*1440,0)),"")) | AB24: =IF($AA24="","",IFERROR(MAX(0,CEILING(MAX(0,$AA24-'Settings'!$B$7),'Settings'!$B$9)/60),"")) | AC24: =IF($AB24="","",IFERROR($AB24*'Settings'!$B$8,"")) | AD24: =IF($A24="","",IF(COUNTIF($A$5:$A$104,$A24)>1,"Duplicate Appointment ID",IF(OR($B24="",$C24="",$D24="",$F24="",$G24="",$H24="",$I24="",$J24="",$K24="",$L24="",$M24=""),"Missing Required Field",IF($M24<>'Settings'!$B$4,"Time Zone Differs From Settings",IF(AND($T24<>"",$S24=""),"Departure Without Arrival",IF(AND($S24<>"",$T24<>"",$T24<$S24),"Departure Before Arrival",IF(AND($D24="Arrived",$S24=""),"Arrived Status Missing Time",IF(AND($D24="Completed",$T24=""),"Completed Without Departure",IF(AND($T24<>"",$D24<>"Completed",$D24<>"Canceled"),"Update Status to Completed",IF(AND($S24<>"",$T24="",$D24<>"Arrived"),"Update Status to Arrived",IF(AND($Q24<>"",$Q24<0),"Negative Miles",IF(AND($AA24<>"",$AA24>'Settings'!$B$11),"Dwell Exceeds Expected Limit","OK")))))))))))) | AE24: =IF(OR($A24="",$V24="",$D24="Completed",$D24="Canceled"),"",IFERROR(IF($V24<='Settings'!$B$3+'Settings'!$B$10,$V24+ROW()/10000000,""),""))
