Workbook

Sheet Dashboard
A1: On-Call Driver Rotation Dashboard
A2: Review upcoming coverage, assignment issues, workload balance, and estimated on-call cost.
A3: As of Date | B3: =TODAY()
A5: Active Eligible Drivers | B5: =COUNTIFS(tblDrivers[Active?],"Yes",tblDrivers[On-Call Eligible?],"Yes") | C5: Shifts in Look-Ahead Period | D5: =COUNTIFS(tblRotation[Start Date],">="&$B$3,tblRotation[Start Date],"<="&$B$3+'Settings'!$B$7,tblRotation[Status],"<>"&"Canceled") | E5: Unfilled Upcoming Shifts | F5: =COUNTIFS(tblRotation[Start Date],">="&$B$3,tblRotation[Start Date],"<="&$B$3+'Settings'!$B$7,tblRotation[Status],"<>"&"Canceled",tblRotation[Primary Driver],"") | G5: Upcoming Schedule Issues | H5: =IFERROR(SUMPRODUCT(--(tblRotation[Start Date]>=$B$3),--(tblRotation[Start Date]<=$B$3+'Settings'!$B$7),--(tblRotation[Status]<>"Canceled"),--(((tblRotation[Schedule Check]<>"OK")+(tblRotation[Primary Overlap Check]="Overlap"))>0)),0)
A7: Projected On-Call Cost | B7: =IFERROR(SUMIFS(tblRotation[Estimated Pay],tblRotation[Start Date],">="&$B$3,tblRotation[Start Date],"<="&$B$3+'Settings'!$B$7,tblRotation[Status],"<>"&"Canceled"),0) | C7: Call-Outs in Fairness Window | D7: =IFERROR(SUMIFS(tblRotation[Call-Outs],tblRotation[Start Date],">="&$B$3-'Settings'!$B$8,tblRotation[Start Date],"<="&$B$3,tblRotation[Status],"Completed"),0) | E7: Rotation Count Spread | F7: =IFERROR(MAX($C$21:$C$28)-MIN($C$21:$C$28),0) | G7: On-Call Miles in Fairness Window | H7: =IFERROR(SUMIFS(tblRotation[On-Call Miles],tblRotation[Start Date],">="&$B$3-'Settings'!$B$8,tblRotation[Start Date],"<="&$B$3,tblRotation[Status],"Completed"),0)
A10: Shift ID | B10: Start | C10: Primary Driver | D10: Backup Driver | E10: Coverage Area | F10: Status | G10: Check
A11: =IFERROR(INDEX(tblRotation[Shift ID],$H11),"") | B11: =IFERROR(INDEX(tblRotation[Start Date],$H11)+INDEX(tblRotation[Start Time],$H11),"") | C11: =IFERROR(INDEX(tblRotation[Primary Driver],$H11),"") | D11: =IFERROR(INDEX(tblRotation[Backup Driver],$H11),"") | E11: =IFERROR(INDEX(tblRotation[Coverage Area],$H11),"") | F11: =IFERROR(INDEX(tblRotation[Status],$H11),"") | G11: =IFERROR(IF(INDEX(tblRotation[Schedule Check],$H11)<>"OK",INDEX(tblRotation[Schedule Check],$H11),INDEX(tblRotation[Primary Overlap Check],$H11)),"") | H11: =IFERROR(AGGREGATE(15,6,(ROW(tblRotation[Shift ID])-ROW(tblRotation[#Headers]))/((tblRotation[Shift ID]<>"")*(tblRotation[Start Date]+tblRotation[Start Time]>=$B$3)*(tblRotation[Status]<>"Canceled")),ROWS($H$11:H11)),"")
A12: =IFERROR(INDEX(tblRotation[Shift ID],$H12),"") | B12: =IFERROR(INDEX(tblRotation[Start Date],$H12)+INDEX(tblRotation[Start Time],$H12),"") | C12: =IFERROR(INDEX(tblRotation[Primary Driver],$H12),"") | D12: =IFERROR(INDEX(tblRotation[Backup Driver],$H12),"") | E12: =IFERROR(INDEX(tblRotation[Coverage Area],$H12),"") | F12: =IFERROR(INDEX(tblRotation[Status],$H12),"") | G12: =IFERROR(IF(INDEX(tblRotation[Schedule Check],$H12)<>"OK",INDEX(tblRotation[Schedule Check],$H12),INDEX(tblRotation[Primary Overlap Check],$H12)),"") | H12: =IFERROR(AGGREGATE(15,6,(ROW(tblRotation[Shift ID])-ROW(tblRotation[#Headers]))/((tblRotation[Shift ID]<>"")*(tblRotation[Start Date]+tblRotation[Start Time]>=$B$3)*(tblRotation[Status]<>"Canceled")),ROWS($H$11:H12)),"")
A13: =IFERROR(INDEX(tblRotation[Shift ID],$H13),"") | B13: =IFERROR(INDEX(tblRotation[Start Date],$H13)+INDEX(tblRotation[Start Time],$H13),"") | C13: =IFERROR(INDEX(tblRotation[Primary Driver],$H13),"") | D13: =IFERROR(INDEX(tblRotation[Backup Driver],$H13),"") | E13: =IFERROR(INDEX(tblRotation[Coverage Area],$H13),"") | F13: =IFERROR(INDEX(tblRotation[Status],$H13),"") | G13: =IFERROR(IF(INDEX(tblRotation[Schedule Check],$H13)<>"OK",INDEX(tblRotation[Schedule Check],$H13),INDEX(tblRotation[Primary Overlap Check],$H13)),"") | H13: =IFERROR(AGGREGATE(15,6,(ROW(tblRotation[Shift ID])-ROW(tblRotation[#Headers]))/((tblRotation[Shift ID]<>"")*(tblRotation[Start Date]+tblRotation[Start Time]>=$B$3)*(tblRotation[Status]<>"Canceled")),ROWS($H$11:H13)),"")
A14: =IFERROR(INDEX(tblRotation[Shift ID],$H14),"") | B14: =IFERROR(INDEX(tblRotation[Start Date],$H14)+INDEX(tblRotation[Start Time],$H14),"") | C14: =IFERROR(INDEX(tblRotation[Primary Driver],$H14),"") | D14: =IFERROR(INDEX(tblRotation[Backup Driver],$H14),"") | E14: =IFERROR(INDEX(tblRotation[Coverage Area],$H14),"") | F14: =IFERROR(INDEX(tblRotation[Status],$H14),"") | G14: =IFERROR(IF(INDEX(tblRotation[Schedule Check],$H14)<>"OK",INDEX(tblRotation[Schedule Check],$H14),INDEX(tblRotation[Primary Overlap Check],$H14)),"") | H14: =IFERROR(AGGREGATE(15,6,(ROW(tblRotation[Shift ID])-ROW(tblRotation[#Headers]))/((tblRotation[Shift ID]<>"")*(tblRotation[Start Date]+tblRotation[Start Time]>=$B$3)*(tblRotation[Status]<>"Canceled")),ROWS($H$11:H14)),"")
A15: =IFERROR(INDEX(tblRotation[Shift ID],$H15),"") | B15: =IFERROR(INDEX(tblRotation[Start Date],$H15)+INDEX(tblRotation[Start Time],$H15),"") | C15: =IFERROR(INDEX(tblRotation[Primary Driver],$H15),"") | D15: =IFERROR(INDEX(tblRotation[Backup Driver],$H15),"") | E15: =IFERROR(INDEX(tblRotation[Coverage Area],$H15),"") | F15: =IFERROR(INDEX(tblRotation[Status],$H15),"") | G15: =IFERROR(IF(INDEX(tblRotation[Schedule Check],$H15)<>"OK",INDEX(tblRotation[Schedule Check],$H15),INDEX(tblRotation[Primary Overlap Check],$H15)),"") | H15: =IFERROR(AGGREGATE(15,6,(ROW(tblRotation[Shift ID])-ROW(tblRotation[#Headers]))/((tblRotation[Shift ID]<>"")*(tblRotation[Start Date]+tblRotation[Start Time]>=$B$3)*(tblRotation[Status]<>"Canceled")),ROWS($H$11:H15)),"")
A16: =IFERROR(INDEX(tblRotation[Shift ID],$H16),"") | B16: =IFERROR(INDEX(tblRotation[Start Date],$H16)+INDEX(tblRotation[Start Time],$H16),"") | C16: =IFERROR(INDEX(tblRotation[Primary Driver],$H16),"") | D16: =IFERROR(INDEX(tblRotation[Backup Driver],$H16),"") | E16: =IFERROR(INDEX(tblRotation[Coverage Area],$H16),"") | F16: =IFERROR(INDEX(tblRotation[Status],$H16),"") | G16: =IFERROR(IF(INDEX(tblRotation[Schedule Check],$H16)<>"OK",INDEX(tblRotation[Schedule Check],$H16),INDEX(tblRotation[Primary Overlap Check],$H16)),"") | H16: =IFERROR(AGGREGATE(15,6,(ROW(tblRotation[Shift ID])-ROW(tblRotation[#Headers]))/((tblRotation[Shift ID]<>"")*(tblRotation[Start Date]+tblRotation[Start Time]>=$B$3)*(tblRotation[Status]<>"Canceled")),ROWS($H$11:H16)),"")
A17: =IFERROR(INDEX(tblRotation[Shift ID],$H17),"") | B17: =IFERROR(INDEX(tblRotation[Start Date],$H17)+INDEX(tblRotation[Start Time],$H17),"") | C17: =IFERROR(INDEX(tblRotation[Primary Driver],$H17),"") | D17: =IFERROR(INDEX(tblRotation[Backup Driver],$H17),"") | E17: =IFERROR(INDEX(tblRotation[Coverage Area],$H17),"") | F17: =IFERROR(INDEX(tblRotation[Status],$H17),"") | G17: =IFERROR(IF(INDEX(tblRotation[Schedule Check],$H17)<>"OK",INDEX(tblRotation[Schedule Check],$H17),INDEX(tblRotation[Primary Overlap Check],$H17)),"") | H17: =IFERROR(AGGREGATE(15,6,(ROW(tblRotation[Shift ID])-ROW(tblRotation[#Headers]))/((tblRotation[Shift ID]<>"")*(tblRotation[Start Date]+tblRotation[Start Time]>=$B$3)*(tblRotation[Status]<>"Canceled")),ROWS($H$11:H17)),"")
H18: =""
H19: =""
A20: Driver | B20: Rotation Order | C20: Shifts in Window | D20: Call-Outs | E20: Last On-Call Date | F20: Days Since Last Shift | G20: Fairness Status | H20: =""
A21: =IFERROR(INDEX(tblDrivers[Driver Name],ROWS($A$21:A21)),"") | B21: =IFERROR(INDEX(tblDrivers[Rotation Order],ROWS($A$21:A21)),"") | C21: =IF($A21="","",COUNTIFS(tblRotation[Primary Driver],$A21,tblRotation[Start Date],">="&$B$3-'Settings'!$B$8,tblRotation[Start Date],"<="&$B$3,tblRotation[Status],"<>"&"Canceled")) | D21: =IF($A21="","",IFERROR(SUMIFS(tblRotation[Call-Outs],tblRotation[Primary Driver],$A21,tblRotation[Start Date],">="&$B$3-'Settings'!$B$8,tblRotation[Start Date],"<="&$B$3,tblRotation[Status],"Completed"),0)) | E21: =IF($A21="","",IFERROR(IF(COUNTIFS(tblRotation[Primary Driver],$A21,tblRotation[Start Date],"<="&$B$3,tblRotation[Status],"<>"&"Canceled")=0,"",MAXIFS(tblRotation[Start Date],tblRotation[Primary Driver],$A21,tblRotation[Start Date],"<="&$B$3,tblRotation[Status],"<>"&"Canceled")),"")) | F21: =IF(E21="","",IFERROR($B$3-E21,"")) | G21: =IF($A21="","",IFERROR(IF(C21>AVERAGE($C$21:$C$28)+1,"Above share",IF(C21<AVERAGE($C$21:$C$28)-1,"Below share","Balanced")),"Check")) | H21: =""
A22: =IFERROR(INDEX(tblDrivers[Driver Name],ROWS($A$21:A22)),"") | B22: =IFERROR(INDEX(tblDrivers[Rotation Order],ROWS($A$21:A22)),"") | C22: =IF($A22="","",COUNTIFS(tblRotation[Primary Driver],$A22,tblRotation[Start Date],">="&$B$3-'Settings'!$B$8,tblRotation[Start Date],"<="&$B$3,tblRotation[Status],"<>"&"Canceled")) | D22: =IF($A22="","",IFERROR(SUMIFS(tblRotation[Call-Outs],tblRotation[Primary Driver],$A22,tblRotation[Start Date],">="&$B$3-'Settings'!$B$8,tblRotation[Start Date],"<="&$B$3,tblRotation[Status],"Completed"),0)) | E22: =IF($A22="","",IFERROR(IF(COUNTIFS(tblRotation[Primary Driver],$A22,tblRotation[Start Date],"<="&$B$3,tblRotation[Status],"<>"&"Canceled")=0,"",MAXIFS(tblRotation[Start Date],tblRotation[Primary Driver],$A22,tblRotation[Start Date],"<="&$B$3,tblRotation[Status],"<>"&"Canceled")),"")) | F22: =IF(E22="","",IFERROR($B$3-E22,"")) | G22: =IF($A22="","",IFERROR(IF(C22>AVERAGE($C$21:$C$28)+1,"Above share",IF(C22<AVERAGE($C$21:$C$28)-1,"Below share","Balanced")),"Check")) | H22: =""
A23: =IFERROR(INDEX(tblDrivers[Driver Name],ROWS($A$21:A23)),"") | B23: =IFERROR(INDEX(tblDrivers[Rotation Order],ROWS($A$21:A23)),"") | C23: =IF($A23="","",COUNTIFS(tblRotation[Primary Driver],$A23,tblRotation[Start Date],">="&$B$3-'Settings'!$B$8,tblRotation[Start Date],"<="&$B$3,tblRotation[Status],"<>"&"Canceled")) | D23: =IF($A23="","",IFERROR(SUMIFS(tblRotation[Call-Outs],tblRotation[Primary Driver],$A23,tblRotation[Start Date],">="&$B$3-'Settings'!$B$8,tblRotation[Start Date],"<="&$B$3,tblRotation[Status],"Completed"),0)) | E23: =IF($A23="","",IFERROR(IF(COUNTIFS(tblRotation[Primary Driver],$A23,tblRotation[Start Date],"<="&$B$3,tblRotation[Status],"<>"&"Canceled")=0,"",MAXIFS(tblRotation[Start Date],tblRotation[Primary Driver],$A23,tblRotation[Start Date],"<="&$B$3,tblRotation[Status],"<>"&"Canceled")),"")) | F23: =IF(E23="","",IFERROR($B$3-E23,"")) | G23: =IF($A23="","",IFERROR(IF(C23>AVERAGE($C$21:$C$28)+1,"Above share",IF(C23<AVERAGE($C$21:$C$28)-1,"Below share","Balanced")),"Check")) | H23: =""
A24: =IFERROR(INDEX(tblDrivers[Driver Name],ROWS($A$21:A24)),"") | B24: =IFERROR(INDEX(tblDrivers[Rotation Order],ROWS($A$21:A24)),"") | C24: =IF($A24="","",COUNTIFS(tblRotation[Primary Driver],$A24,tblRotation[Start Date],">="&$B$3-'Settings'!$B$8,tblRotation[Start Date],"<="&$B$3,tblRotation[Status],"<>"&"Canceled")) | D24: =IF($A24="","",IFERROR(SUMIFS(tblRotation[Call-Outs],tblRotation[Primary Driver],$A24,tblRotation[Start Date],">="&$B$3-'Settings'!$B$8,tblRotation[Start Date],"<="&$B$3,tblRotation[Status],"Completed"),0)) | E24: =IF($A24="","",IFERROR(IF(COUNTIFS(tblRotation[Primary Driver],$A24,tblRotation[Start Date],"<="&$B$3,tblRotation[Status],"<>"&"Canceled")=0,"",MAXIFS(tblRotation[Start Date],tblRotation[Primary Driver],$A24,tblRotation[Start Date],"<="&$B$3,tblRotation[Status],"<>"&"Canceled")),"")) | F24: =IF(E24="","",IFERROR($B$3-E24,"")) | G24: =IF($A24="","",IFERROR(IF(C24>AVERAGE($C$21:$C$28)+1,"Above share",IF(C24<AVERAGE($C$21:$C$28)-1,"Below share","Balanced")),"Check")) | H24: =""
A25: =IFERROR(INDEX(tblDrivers[Driver Name],ROWS($A$21:A25)),"") | B25: =IFERROR(INDEX(tblDrivers[Rotation Order],ROWS($A$21:A25)),"") | C25: =IF($A25="","",COUNTIFS(tblRotation[Primary Driver],$A25,tblRotation[Start Date],">="&$B$3-'Settings'!$B$8,tblRotation[Start Date],"<="&$B$3,tblRotation[Status],"<>"&"Canceled")) | D25: =IF($A25="","",IFERROR(SUMIFS(tblRotation[Call-Outs],tblRotation[Primary Driver],$A25,tblRotation[Start Date],">="&$B$3-'Settings'!$B$8,tblRotation[Start Date],"<="&$B$3,tblRotation[Status],"Completed"),0)) | E25: =IF($A25="","",IFERROR(IF(COUNTIFS(tblRotation[Primary Driver],$A25,tblRotation[Start Date],"<="&$B$3,tblRotation[Status],"<>"&"Canceled")=0,"",MAXIFS(tblRotation[Start Date],tblRotation[Primary Driver],$A25,tblRotation[Start Date],"<="&$B$3,tblRotation[Status],"<>"&"Canceled")),"")) | F25: =IF(E25="","",IFERROR($B$3-E25,"")) | G25: =IF($A25="","",IFERROR(IF(C25>AVERAGE($C$21:$C$28)+1,"Above share",IF(C25<AVERAGE($C$21:$C$28)-1,"Below share","Balanced")),"Check")) | H25: =""
A26: =IFERROR(INDEX(tblDrivers[Driver Name],ROWS($A$21:A26)),"") | B26: =IFERROR(INDEX(tblDrivers[Rotation Order],ROWS($A$21:A26)),"") | C26: =IF($A26="","",COUNTIFS(tblRotation[Primary Driver],$A26,tblRotation[Start Date],">="&$B$3-'Settings'!$B$8,tblRotation[Start Date],"<="&$B$3,tblRotation[Status],"<>"&"Canceled")) | D26: =IF($A26="","",IFERROR(SUMIFS(tblRotation[Call-Outs],tblRotation[Primary Driver],$A26,tblRotation[Start Date],">="&$B$3-'Settings'!$B$8,tblRotation[Start Date],"<="&$B$3,tblRotation[Status],"Completed"),0)) | E26: =IF($A26="","",IFERROR(IF(COUNTIFS(tblRotation[Primary Driver],$A26,tblRotation[Start Date],"<="&$B$3,tblRotation[Status],"<>"&"Canceled")=0,"",MAXIFS(tblRotation[Start Date],tblRotation[Primary Driver],$A26,tblRotation[Start Date],"<="&$B$3,tblRotation[Status],"<>"&"Canceled")),"")) | F26: =IF(E26="","",IFERROR($B$3-E26,"")) | G26: =IF($A26="","",IFERROR(IF(C26>AVERAGE($C$21:$C$28)+1,"Above share",IF(C26<AVERAGE($C$21:$C$28)-1,"Below share","Balanced")),"Check")) | H26: =""
A27: =IFERROR(INDEX(tblDrivers[Driver Name],ROWS($A$21:A27)),"") | B27: =IFERROR(INDEX(tblDrivers[Rotation Order],ROWS($A$21:A27)),"") | C27: =IF($A27="","",COUNTIFS(tblRotation[Primary Driver],$A27,tblRotation[Start Date],">="&$B$3-'Settings'!$B$8,tblRotation[Start Date],"<="&$B$3,tblRotation[Status],"<>"&"Canceled")) | D27: =IF($A27="","",IFERROR(SUMIFS(tblRotation[Call-Outs],tblRotation[Primary Driver],$A27,tblRotation[Start Date],">="&$B$3-'Settings'!$B$8,tblRotation[Start Date],"<="&$B$3,tblRotation[Status],"Completed"),0)) | E27: =IF($A27="","",IFERROR(IF(COUNTIFS(tblRotation[Primary Driver],$A27,tblRotation[Start Date],"<="&$B$3,tblRotation[Status],"<>"&"Canceled")=0,"",MAXIFS(tblRotation[Start Date],tblRotation[Primary Driver],$A27,tblRotation[Start Date],"<="&$B$3,tblRotation[Status],"<>"&"Canceled")),"")) | F27: =IF(E27="","",IFERROR($B$3-E27,"")) | G27: =IF($A27="","",IFERROR(IF(C27>AVERAGE($C$21:$C$28)+1,"Above share",IF(C27<AVERAGE($C$21:$C$28)-1,"Below share","Balanced")),"Check")) | H27: =""
A28: =IFERROR(INDEX(tblDrivers[Driver Name],ROWS($A$21:A28)),"") | B28: =IFERROR(INDEX(tblDrivers[Rotation Order],ROWS($A$21:A28)),"") | C28: =IF($A28="","",COUNTIFS(tblRotation[Primary Driver],$A28,tblRotation[Start Date],">="&$B$3-'Settings'!$B$8,tblRotation[Start Date],"<="&$B$3,tblRotation[Status],"<>"&"Canceled")) | D28: =IF($A28="","",IFERROR(SUMIFS(tblRotation[Call-Outs],tblRotation[Primary Driver],$A28,tblRotation[Start Date],">="&$B$3-'Settings'!$B$8,tblRotation[Start Date],"<="&$B$3,tblRotation[Status],"Completed"),0)) | E28: =IF($A28="","",IFERROR(IF(COUNTIFS(tblRotation[Primary Driver],$A28,tblRotation[Start Date],"<="&$B$3,tblRotation[Status],"<>"&"Canceled")=0,"",MAXIFS(tblRotation[Start Date],tblRotation[Primary Driver],$A28,tblRotation[Start Date],"<="&$B$3,tblRotation[Status],"<>"&"Canceled")),"")) | F28: =IF(E28="","",IFERROR($B$3-E28,"")) | G28: =IF($A28="","",IFERROR(IF(C28>AVERAGE($C$21:$C$28)+1,"Above share",IF(C28<AVERAGE($C$21:$C$28)-1,"Below share","Balanced")),"Check")) | H28: =""
A29: ="" | B29: ="" | C29: ="" | D29: ="" | E29: ="" | F29: ="" | G29: ="" | H29: =""
A30: ="" | B30: ="" | C30: ="" | D30: ="" | E30: ="" | F30: ="" | G30: ="" | H30: =""
A31: ="" | B31: ="" | C31: ="" | D31: ="" | E31: ="" | F31: ="" | G31: ="" | H31: =""
A32: ="" | B32: ="" | C32: ="" | D32: ="" | E32: ="" | F32: ="" | G32: ="" | H32: =""
A33: ="" | B33: ="" | C33: ="" | D33: ="" | E33: ="" | F33: ="" | G33: ="" | H33: =""
A34: ="" | B34: ="" | C34: ="" | D34: ="" | E34: ="" | F34: ="" | G34: ="" | H34: =""
A35: ="" | B35: ="" | C35: ="" | D35: ="" | E35: ="" | F35: ="" | G35: ="" | H35: =""
A36: ="" | B36: ="" | C36: ="" | D36: ="" | E36: ="" | F36: ="" | G36: ="" | H36: =""
A37: ="" | B37: ="" | C37: ="" | D37: ="" | E37: ="" | F37: ="" | G37: ="" | H37: =""
A38: ="" | B38: ="" | C38: ="" | D38: ="" | E38: ="" | F38: ="" | G38: ="" | H38: =""
A39: ="" | B39: ="" | C39: ="" | D39: ="" | E39: ="" | F39: ="" | G39: ="" | H39: =""
A40: ="" | B40: ="" | C40: ="" | D40: ="" | E40: ="" | F40: ="" | G40: ="" | H40: =""
... A101: ="" | B101: ="" | C101: ="" | D101: ="" | E101: ="" | F101: ="" | G101: ="" | H101: =""

Sheet Rotation Schedule
A1: On-Call Rotation Schedule
A2: Enter assignments and completed call-out activity in yellow cells. Blue cells calculate shift hours, paid hours, estimated pay, and schedule checks.
A4: Shift ID | B4: Start Date | C4: Start Time | D4: End Date | E4: End Time | F4: Primary Driver | G4: Backup Driver | H4: Coverage Area | I4: Status | J4: Call-Outs | K4: Call-Out Hours | L4: On-Call Miles | M4: Notes | N4: Shift Hours | O4: Paid Call-Out Hours | P4: Estimated Pay | Q4: Schedule Check | R4: Primary Overlap Check
A5: OC-001 | B5: 46245 | C5: 0.75 | D5: 46246 | E5: 0.25 | F5: Alex Morgan | G5: Brianna Lee | H5: North | I5: Completed | J5: 2 | K5: 3.5 | L5: 42 | M5: Two roadside assists | N5: =IF(OR([@[Start Date]]="",[@[Start Time]]="",[@[End Date]]="",[@[End Time]]=""),"",IFERROR(ROUND(([@[End Date]]+[@[End Time]]-[@[Start Date]]-[@[Start Time]])*24,2),"")) | O5: =IF([@[Shift ID]]="","",IFERROR(MAX([@[Call-Out Hours]],[@[Call-Outs]]*'Settings'!$B$5),0)) | P5: =IF([@[Shift ID]]="","",IF([@Status]="Canceled",0,IFERROR('Settings'!$B$3+[@[Paid Call-Out Hours]]*'Settings'!$B$4+[@[On-Call Miles]]*'Settings'!$B$6,0))) | Q5: =IF([@[Shift ID]]="","",IFERROR(IF(COUNTIF(tblRotation[Shift ID],[@[Shift ID]])>1,"Duplicate Shift ID",IF(OR([@[Start Date]]="",[@[Start Time]]="",[@[End Date]]="",[@[End Time]]=""),"Missing date/time",IF([@[End Date]]+[@[End Time]]<=[@[Start Date]]+[@[Start Time]],"End must be after start",IF([@Status]="","Status required",IF(AND([@Status]<>"Canceled",[@[Primary Driver]]=""),"Primary driver required",IF(AND([@[Backup Driver]]<>"",[@[Backup Driver]]=[@[Primary Driver]]),"Primary and backup match",IF(AND([@[Primary Driver]]<>"",COUNTIFS(tblDrivers[Driver Name],[@[Primary Driver]],tblDrivers[Active?],"Yes",tblDrivers[On-Call Eligible?],"Yes")=0),"Primary not active/eligible",IF(AND([@[Backup Driver]]<>"",COUNTIFS(tblDrivers[Driver Name],[@[Backup Driver]],tblDrivers[Active?],"Yes",tblDrivers[On-Call Eligible?],"Yes")=0),"Backup not active/eligible","OK")))))))),"Check inputs")) | R5: =IF(OR([@[Shift ID]]="",[@[Primary Driver]]="",[@Status]="Canceled",[@[Start Date]]="",[@[End Date]]=""),"",IFERROR(IF(SUMPRODUCT((tblRotation[Primary Driver]=[@[Primary Driver]])*(tblRotation[Status]<>"Canceled")*((tblRotation[Start Date]+tblRotation[Start Time])<([@[End Date]]+[@[End Time]]))*((tblRotation[End Date]+tblRotation[End Time])>([@[Start Date]]+[@[Start Time]])))>1,"Overlap","OK"),"Check inputs"))
A6: OC-002 | B6: 46252 | C6: 0.75 | D6: 46253 | E6: 0.25 | F6: Brianna Lee | G6: Carlos Rivera | H6: South | I6: Completed | J6: 1 | K6: 2 | L6: 18 | M6: Late delivery recovery | N6: =IF(OR([@[Start Date]]="",[@[Start Time]]="",[@[End Date]]="",[@[End Time]]=""),"",IFERROR(ROUND(([@[End Date]]+[@[End Time]]-[@[Start Date]]-[@[Start Time]])*24,2),"")) | O6: =IF([@[Shift ID]]="","",IFERROR(MAX([@[Call-Out Hours]],[@[Call-Outs]]*'Settings'!$B$5),0)) | P6: =IF([@[Shift ID]]="","",IF([@Status]="Canceled",0,IFERROR('Settings'!$B$3+[@[Paid Call-Out Hours]]*'Settings'!$B$4+[@[On-Call Miles]]*'Settings'!$B$6,0))) | Q6: =IF([@[Shift ID]]="","",IFERROR(IF(COUNTIF(tblRotation[Shift ID],[@[Shift ID]])>1,"Duplicate Shift ID",IF(OR([@[Start Date]]="",[@[Start Time]]="",[@[End Date]]="",[@[End Time]]=""),"Missing date/time",IF([@[End Date]]+[@[End Time]]<=[@[Start Date]]+[@[Start Time]],"End must be after start",IF([@Status]="","Status required",IF(AND([@Status]<>"Canceled",[@[Primary Driver]]=""),"Primary driver required",IF(AND([@[Backup Driver]]<>"",[@[Backup Driver]]=[@[Primary Driver]]),"Primary and backup match",IF(AND([@[Primary Driver]]<>"",COUNTIFS(tblDrivers[Driver Name],[@[Primary Driver]],tblDrivers[Active?],"Yes",tblDrivers[On-Call Eligible?],"Yes")=0),"Primary not active/eligible",IF(AND([@[Backup Driver]]<>"",COUNTIFS(tblDrivers[Driver Name],[@[Backup Driver]],tblDrivers[Active?],"Yes",tblDrivers[On-Call Eligible?],"Yes")=0),"Backup not active/eligible","OK")))))))),"Check inputs")) | R6: =IF(OR([@[Shift ID]]="",[@[Primary Driver]]="",[@Status]="Canceled",[@[Start Date]]="",[@[End Date]]=""),"",IFERROR(IF(SUMPRODUCT((tblRotation[Primary Driver]=[@[Primary Driver]])*(tblRotation[Status]<>"Canceled")*((tblRotation[Start Date]+tblRotation[Start Time])<([@[End Date]]+[@[End Time]]))*((tblRotation[End Date]+tblRotation[End Time])>([@[Start Date]]+[@[Start Time]])))>1,"Overlap","OK"),"Check inputs"))
A7: OC-003 | B7: 46259 | C7: 0.75 | D7: 46260 | E7: 0.25 | F7: Carlos Rivera | G7: Dana Brooks | H7: Central | I7: Completed | J7: 0 | K7: 0 | L7: 0 | M7: No call-outs | N7: =IF(OR([@[Start Date]]="",[@[Start Time]]="",[@[End Date]]="",[@[End Time]]=""),"",IFERROR(ROUND(([@[End Date]]+[@[End Time]]-[@[Start Date]]-[@[Start Time]])*24,2),"")) | O7: =IF([@[Shift ID]]="","",IFERROR(MAX([@[Call-Out Hours]],[@[Call-Outs]]*'Settings'!$B$5),0)) | P7: =IF([@[Shift ID]]="","",IF([@Status]="Canceled",0,IFERROR('Settings'!$B$3+[@[Paid Call-Out Hours]]*'Settings'!$B$4+[@[On-Call Miles]]*'Settings'!$B$6,0))) | Q7: =IF([@[Shift ID]]="","",IFERROR(IF(COUNTIF(tblRotation[Shift ID],[@[Shift ID]])>1,"Duplicate Shift ID",IF(OR([@[Start Date]]="",[@[Start Time]]="",[@[End Date]]="",[@[End Time]]=""),"Missing date/time",IF([@[End Date]]+[@[End Time]]<=[@[Start Date]]+[@[Start Time]],"End must be after start",IF([@Status]="","Status required",IF(AND([@Status]<>"Canceled",[@[Primary Driver]]=""),"Primary driver required",IF(AND([@[Backup Driver]]<>"",[@[Backup Driver]]=[@[Primary Driver]]),"Primary and backup match",IF(AND([@[Primary Driver]]<>"",COUNTIFS(tblDrivers[Driver Name],[@[Primary Driver]],tblDrivers[Active?],"Yes",tblDrivers[On-Call Eligible?],"Yes")=0),"Primary not active/eligible",IF(AND([@[Backup Driver]]<>"",COUNTIFS(tblDrivers[Driver Name],[@[Backup Driver]],tblDrivers[Active?],"Yes",tblDrivers[On-Call Eligible?],"Yes")=0),"Backup not active/eligible","OK")))))))),"Check inputs")) | R7: =IF(OR([@[Shift ID]]="",[@[Primary Driver]]="",[@Status]="Canceled",[@[Start Date]]="",[@[End Date]]=""),"",IFERROR(IF(SUMPRODUCT((tblRotation[Primary Driver]=[@[Primary Driver]])*(tblRotation[Status]<>"Canceled")*((tblRotation[Start Date]+tblRotation[Start Time])<([@[End Date]]+[@[End Time]]))*((tblRotation[End Date]+tblRotation[End Time])>([@[Start Date]]+[@[Start Time]])))>1,"Overlap","OK"),"Check inputs"))
A8: OC-004 | B8: 46266 | C8: 0.75 | D8: 46267 | E8: 0.25 | F8: Dana Brooks | G8: Evan Patel | H8: Airport | I8: Completed | J8: 3 | K8: 5.25 | L8: 68 | M8: Weather-related coverage | N8: =IF(OR([@[Start Date]]="",[@[Start Time]]="",[@[End Date]]="",[@[End Time]]=""),"",IFERROR(ROUND(([@[End Date]]+[@[End Time]]-[@[Start Date]]-[@[Start Time]])*24,2),"")) | O8: =IF([@[Shift ID]]="","",IFERROR(MAX([@[Call-Out Hours]],[@[Call-Outs]]*'Settings'!$B$5),0)) | P8: =IF([@[Shift ID]]="","",IF([@Status]="Canceled",0,IFERROR('Settings'!$B$3+[@[Paid Call-Out Hours]]*'Settings'!$B$4+[@[On-Call Miles]]*'Settings'!$B$6,0))) | Q8: =IF([@[Shift ID]]="","",IFERROR(IF(COUNTIF(tblRotation[Shift ID],[@[Shift ID]])>1,"Duplicate Shift ID",IF(OR([@[Start Date]]="",[@[Start Time]]="",[@[End Date]]="",[@[End Time]]=""),"Missing date/time",IF([@[End Date]]+[@[End Time]]<=[@[Start Date]]+[@[Start Time]],"End must be after start",IF([@Status]="","Status required",IF(AND([@Status]<>"Canceled",[@[Primary Driver]]=""),"Primary driver required",IF(AND([@[Backup Driver]]<>"",[@[Backup Driver]]=[@[Primary Driver]]),"Primary and backup match",IF(AND([@[Primary Driver]]<>"",COUNTIFS(tblDrivers[Driver Name],[@[Primary Driver]],tblDrivers[Active?],"Yes",tblDrivers[On-Call Eligible?],"Yes")=0),"Primary not active/eligible",IF(AND([@[Backup Driver]]<>"",COUNTIFS(tblDrivers[Driver Name],[@[Backup Driver]],tblDrivers[Active?],"Yes",tblDrivers[On-Call Eligible?],"Yes")=0),"Backup not active/eligible","OK")))))))),"Check inputs")) | R8: =IF(OR([@[Shift ID]]="",[@[Primary Driver]]="",[@Status]="Canceled",[@[Start Date]]="",[@[End Date]]=""),"",IFERROR(IF(SUMPRODUCT((tblRotation[Primary Driver]=[@[Primary Driver]])*(tblRotation[Status]<>"Canceled")*((tblRotation[Start Date]+tblRotation[Start Time])<([@[End Date]]+[@[End Time]]))*((tblRotation[End Date]+tblRotation[End Time])>([@[Start Date]]+[@[Start Time]])))>1,"Overlap","OK"),"Check inputs"))
A9: OC-005 | B9: 46274 | C9: 0.75 | D9: 46275 | E9: 0.25 | F9: Evan Patel | G9: Fatima Johnson | H9: East | I9: Confirmed | J9: 0 | K9: 0 | L9: 0 | M9: Evening coverage | N9: =IF(OR([@[Start Date]]="",[@[Start Time]]="",[@[End Date]]="",[@[End Time]]=""),"",IFERROR(ROUND(([@[End Date]]+[@[End Time]]-[@[Start Date]]-[@[Start Time]])*24,2),"")) | O9: =IF([@[Shift ID]]="","",IFERROR(MAX([@[Call-Out Hours]],[@[Call-Outs]]*'Settings'!$B$5),0)) | P9: =IF([@[Shift ID]]="","",IF([@Status]="Canceled",0,IFERROR('Settings'!$B$3+[@[Paid Call-Out Hours]]*'Settings'!$B$4+[@[On-Call Miles]]*'Settings'!$B$6,0))) | Q9: =IF([@[Shift ID]]="","",IFERROR(IF(COUNTIF(tblRotation[Shift ID],[@[Shift ID]])>1,"Duplicate Shift ID",IF(OR([@[Start Date]]="",[@[Start Time]]="",[@[End Date]]="",[@[End Time]]=""),"Missing date/time",IF([@[End Date]]+[@[End Time]]<=[@[Start Date]]+[@[Start Time]],"End must be after start",IF([@Status]="","Status required",IF(AND([@Status]<>"Canceled",[@[Primary Driver]]=""),"Primary driver required",IF(AND([@[Backup Driver]]<>"",[@[Backup Driver]]=[@[Primary Driver]]),"Primary and backup match",IF(AND([@[Primary Driver]]<>"",COUNTIFS(tblDrivers[Driver Name],[@[Primary Driver]],tblDrivers[Active?],"Yes",tblDrivers[On-Call Eligible?],"Yes")=0),"Primary not active/eligible",IF(AND([@[Backup Driver]]<>"",COUNTIFS(tblDrivers[Driver Name],[@[Backup Driver]],tblDrivers[Active?],"Yes",tblDrivers[On-Call Eligible?],"Yes")=0),"Backup not active/eligible","OK")))))))),"Check inputs")) | R9: =IF(OR([@[Shift ID]]="",[@[Primary Driver]]="",[@Status]="Canceled",[@[Start Date]]="",[@[End Date]]=""),"",IFERROR(IF(SUMPRODUCT((tblRotation[Primary Driver]=[@[Primary Driver]])*(tblRotation[Status]<>"Canceled")*((tblRotation[Start Date]+tblRotation[Start Time])<([@[End Date]]+[@[End Time]]))*((tblRotation[End Date]+tblRotation[End Time])>([@[Start Date]]+[@[Start Time]])))>1,"Overlap","OK"),"Check inputs"))
A10: OC-006 | B10: 46277 | C10: 0.75 | D10: 46278 | E10: 0.25 | F10: Fatima Johnson | G10: George Kim | H10: West | I10: Confirmed | J10: 0 | K10: 0 | L10: 0 | M10: Weekend coverage | N10: =IF(OR([@[Start Date]]="",[@[Start Time]]="",[@[End Date]]="",[@[End Time]]=""),"",IFERROR(ROUND(([@[End Date]]+[@[End Time]]-[@[Start Date]]-[@[Start Time]])*24,2),"")) | O10: =IF([@[Shift ID]]="","",IFERROR(MAX([@[Call-Out Hours]],[@[Call-Outs]]*'Settings'!$B$5),0)) | P10: =IF([@[Shift ID]]="","",IF([@Status]="Canceled",0,IFERROR('Settings'!$B$3+[@[Paid Call-Out Hours]]*'Settings'!$B$4+[@[On-Call Miles]]*'Settings'!$B$6,0))) | Q10: =IF([@[Shift ID]]="","",IFERROR(IF(COUNTIF(tblRotation[Shift ID],[@[Shift ID]])>1,"Duplicate Shift ID",IF(OR([@[Start Date]]="",[@[Start Time]]="",[@[End Date]]="",[@[End Time]]=""),"Missing date/time",IF([@[End Date]]+[@[End Time]]<=[@[Start Date]]+[@[Start Time]],"End must be after start",IF([@Status]="","Status required",IF(AND([@Status]<>"Canceled",[@[Primary Driver]]=""),"Primary driver required",IF(AND([@[Backup Driver]]<>"",[@[Backup Driver]]=[@[Primary Driver]]),"Primary and backup match",IF(AND([@[Primary Driver]]<>"",COUNTIFS(tblDrivers[Driver Name],[@[Primary Driver]],tblDrivers[Active?],"Yes",tblDrivers[On-Call Eligible?],"Yes")=0),"Primary not active/eligible",IF(AND([@[Backup Driver]]<>"",COUNTIFS(tblDrivers[Driver Name],[@[Backup Driver]],tblDrivers[Active?],"Yes",tblDrivers[On-Call Eligible?],"Yes")=0),"Backup not active/eligible","OK")))))))),"Check inputs")) | R10: =IF(OR([@[Shift ID]]="",[@[Primary Driver]]="",[@Status]="Canceled",[@[Start Date]]="",[@[End Date]]=""),"",IFERROR(IF(SUMPRODUCT((tblRotation[Primary Driver]=[@[Primary Driver]])*(tblRotation[Status]<>"Canceled")*((tblRotation[Start Date]+tblRotation[Start Time])<([@[End Date]]+[@[End Time]]))*((tblRotation[End Date]+tblRotation[End Time])>([@[Start Date]]+[@[Start Time]])))>1,"Overlap","OK"),"Check inputs"))
A11: OC-007 | B11: 46280 | C11: 0.75 | D11: 46281 | E11: 0.25 | F11: George Kim | G11: Hannah Reed | H11: North | I11: Planned | J11: 0 | K11: 0 | L11: 0 | M11: Standard rotation | N11: =IF(OR([@[Start Date]]="",[@[Start Time]]="",[@[End Date]]="",[@[End Time]]=""),"",IFERROR(ROUND(([@[End Date]]+[@[End Time]]-[@[Start Date]]-[@[Start Time]])*24,2),"")) | O11: =IF([@[Shift ID]]="","",IFERROR(MAX([@[Call-Out Hours]],[@[Call-Outs]]*'Settings'!$B$5),0)) | P11: =IF([@[Shift ID]]="","",IF([@Status]="Canceled",0,IFERROR('Settings'!$B$3+[@[Paid Call-Out Hours]]*'Settings'!$B$4+[@[On-Call Miles]]*'Settings'!$B$6,0))) | Q11: =IF([@[Shift ID]]="","",IFERROR(IF(COUNTIF(tblRotation[Shift ID],[@[Shift ID]])>1,"Duplicate Shift ID",IF(OR([@[Start Date]]="",[@[Start Time]]="",[@[End Date]]="",[@[End Time]]=""),"Missing date/time",IF([@[End Date]]+[@[End Time]]<=[@[Start Date]]+[@[Start Time]],"End must be after start",IF([@Status]="","Status required",IF(AND([@Status]<>"Canceled",[@[Primary Driver]]=""),"Primary driver required",IF(AND([@[Backup Driver]]<>"",[@[Backup Driver]]=[@[Primary Driver]]),"Primary and backup match",IF(AND([@[Primary Driver]]<>"",COUNTIFS(tblDrivers[Driver Name],[@[Primary Driver]],tblDrivers[Active?],"Yes",tblDrivers[On-Call Eligible?],"Yes")=0),"Primary not active/eligible",IF(AND([@[Backup Driver]]<>"",COUNTIFS(tblDrivers[Driver Name],[@[Backup Driver]],tblDrivers[Active?],"Yes",tblDrivers[On-Call Eligible?],"Yes")=0),"Backup not active/eligible","OK")))))))),"Check inputs")) | R11: =IF(OR([@[Shift ID]]="",[@[Primary Driver]]="",[@Status]="Canceled",[@[Start Date]]="",[@[End Date]]=""),"",IFERROR(IF(SUMPRODUCT((tblRotation[Primary Driver]=[@[Primary Driver]])*(tblRotation[Status]<>"Canceled")*((tblRotation[Start Date]+tblRotation[Start Time])<([@[End Date]]+[@[End Time]]))*((tblRotation[End Date]+tblRotation[End Time])>([@[Start Date]]+[@[Start Time]])))>1,"Overlap","OK"),"Check inputs"))
A12: OC-008 | B12: 46283 | C12: 0.75 | D12: 46284 | E12: 0.25 | F12: Hannah Reed | G12: Alex Morgan | H12: South | I12: Planned | J12: 0 | K12: 0 | L12: 0 | M12: Standard rotation | N12: =IF(OR([@[Start Date]]="",[@[Start Time]]="",[@[End Date]]="",[@[End Time]]=""),"",IFERROR(ROUND(([@[End Date]]+[@[End Time]]-[@[Start Date]]-[@[Start Time]])*24,2),"")) | O12: =IF([@[Shift ID]]="","",IFERROR(MAX([@[Call-Out Hours]],[@[Call-Outs]]*'Settings'!$B$5),0)) | P12: =IF([@[Shift ID]]="","",IF([@Status]="Canceled",0,IFERROR('Settings'!$B$3+[@[Paid Call-Out Hours]]*'Settings'!$B$4+[@[On-Call Miles]]*'Settings'!$B$6,0))) | Q12: =IF([@[Shift ID]]="","",IFERROR(IF(COUNTIF(tblRotation[Shift ID],[@[Shift ID]])>1,"Duplicate Shift ID",IF(OR([@[Start Date]]="",[@[Start Time]]="",[@[End Date]]="",[@[End Time]]=""),"Missing date/time",IF([@[End Date]]+[@[End Time]]<=[@[Start Date]]+[@[Start Time]],"End must be after start",IF([@Status]="","Status required",IF(AND([@Status]<>"Canceled",[@[Primary Driver]]=""),"Primary driver required",IF(AND([@[Backup Driver]]<>"",[@[Backup Driver]]=[@[Primary Driver]]),"Primary and backup match",IF(AND([@[Primary Driver]]<>"",COUNTIFS(tblDrivers[Driver Name],[@[Primary Driver]],tblDrivers[Active?],"Yes",tblDrivers[On-Call Eligible?],"Yes")=0),"Primary not active/eligible",IF(AND([@[Backup Driver]]<>"",COUNTIFS(tblDrivers[Driver Name],[@[Backup Driver]],tblDrivers[Active?],"Yes",tblDrivers[On-Call Eligible?],"Yes")=0),"Backup not active/eligible","OK")))))))),"Check inputs")) | R12: =IF(OR([@[Shift ID]]="",[@[Primary Driver]]="",[@Status]="Canceled",[@[Start Date]]="",[@[End Date]]=""),"",IFERROR(IF(SUMPRODUCT((tblRotation[Primary Driver]=[@[Primary Driver]])*(tblRotation[Status]<>"Canceled")*((tblRotation[Start Date]+tblRotation[Start Time])<([@[End Date]]+[@[End Time]]))*((tblRotation[End Date]+tblRotation[End Time])>([@[Start Date]]+[@[Start Time]])))>1,"Overlap","OK"),"Check inputs"))
A13: OC-009 | B13: 46286 | C13: 0.75 | D13: 46287 | E13: 0.25 | F13: Alex Morgan | G13: Brianna Lee | H13: Central | I13: Planned | J13: 0 | K13: 0 | L13: 0 | M13: Standard rotation | N13: =IF(OR([@[Start Date]]="",[@[Start Time]]="",[@[End Date]]="",[@[End Time]]=""),"",IFERROR(ROUND(([@[End Date]]+[@[End Time]]-[@[Start Date]]-[@[Start Time]])*24,2),"")) | O13: =IF([@[Shift ID]]="","",IFERROR(MAX([@[Call-Out Hours]],[@[Call-Outs]]*'Settings'!$B$5),0)) | P13: =IF([@[Shift ID]]="","",IF([@Status]="Canceled",0,IFERROR('Settings'!$B$3+[@[Paid Call-Out Hours]]*'Settings'!$B$4+[@[On-Call Miles]]*'Settings'!$B$6,0))) | Q13: =IF([@[Shift ID]]="","",IFERROR(IF(COUNTIF(tblRotation[Shift ID],[@[Shift ID]])>1,"Duplicate Shift ID",IF(OR([@[Start Date]]="",[@[Start Time]]="",[@[End Date]]="",[@[End Time]]=""),"Missing date/time",IF([@[End Date]]+[@[End Time]]<=[@[Start Date]]+[@[Start Time]],"End must be after start",IF([@Status]="","Status required",IF(AND([@Status]<>"Canceled",[@[Primary Driver]]=""),"Primary driver required",IF(AND([@[Backup Driver]]<>"",[@[Backup Driver]]=[@[Primary Driver]]),"Primary and backup match",IF(AND([@[Primary Driver]]<>"",COUNTIFS(tblDrivers[Driver Name],[@[Primary Driver]],tblDrivers[Active?],"Yes",tblDrivers[On-Call Eligible?],"Yes")=0),"Primary not active/eligible",IF(AND([@[Backup Driver]]<>"",COUNTIFS(tblDrivers[Driver Name],[@[Backup Driver]],tblDrivers[Active?],"Yes",tblDrivers[On-Call Eligible?],"Yes")=0),"Backup not active/eligible","OK")))))))),"Check inputs")) | R13: =IF(OR([@[Shift ID]]="",[@[Primary Driver]]="",[@Status]="Canceled",[@[Start Date]]="",[@[End Date]]=""),"",IFERROR(IF(SUMPRODUCT((tblRotation[Primary Driver]=[@[Primary Driver]])*(tblRotation[Status]<>"Canceled")*((tblRotation[Start Date]+tblRotation[Start Time])<([@[End Date]]+[@[End Time]]))*((tblRotation[End Date]+tblRotation[End Time])>([@[Start Date]]+[@[Start Time]])))>1,"Overlap","OK"),"Check inputs"))
A14: OC-010 | B14: 46289 | C14: 0.75 | D14: 46290 | E14: 0.25 | F14: Brianna Lee | G14: Carlos Rivera | H14: Airport | I14: Planned | J14: 0 | K14: 0 | L14: 0 | M14: Standard rotation | N14: =IF(OR([@[Start Date]]="",[@[Start Time]]="",[@[End Date]]="",[@[End Time]]=""),"",IFERROR(ROUND(([@[End Date]]+[@[End Time]]-[@[Start Date]]-[@[Start Time]])*24,2),"")) | O14: =IF([@[Shift ID]]="","",IFERROR(MAX([@[Call-Out Hours]],[@[Call-Outs]]*'Settings'!$B$5),0)) | P14: =IF([@[Shift ID]]="","",IF([@Status]="Canceled",0,IFERROR('Settings'!$B$3+[@[Paid Call-Out Hours]]*'Settings'!$B$4+[@[On-Call Miles]]*'Settings'!$B$6,0))) | Q14: =IF([@[Shift ID]]="","",IFERROR(IF(COUNTIF(tblRotation[Shift ID],[@[Shift ID]])>1,"Duplicate Shift ID",IF(OR([@[Start Date]]="",[@[Start Time]]="",[@[End Date]]="",[@[End Time]]=""),"Missing date/time",IF([@[End Date]]+[@[End Time]]<=[@[Start Date]]+[@[Start Time]],"End must be after start",IF([@Status]="","Status required",IF(AND([@Status]<>"Canceled",[@[Primary Driver]]=""),"Primary driver required",IF(AND([@[Backup Driver]]<>"",[@[Backup Driver]]=[@[Primary Driver]]),"Primary and backup match",IF(AND([@[Primary Driver]]<>"",COUNTIFS(tblDrivers[Driver Name],[@[Primary Driver]],tblDrivers[Active?],"Yes",tblDrivers[On-Call Eligible?],"Yes")=0),"Primary not active/eligible",IF(AND([@[Backup Driver]]<>"",COUNTIFS(tblDrivers[Driver Name],[@[Backup Driver]],tblDrivers[Active?],"Yes",tblDrivers[On-Call Eligible?],"Yes")=0),"Backup not active/eligible","OK")))))))),"Check inputs")) | R14: =IF(OR([@[Shift ID]]="",[@[Primary Driver]]="",[@Status]="Canceled",[@[Start Date]]="",[@[End Date]]=""),"",IFERROR(IF(SUMPRODUCT((tblRotation[Primary Driver]=[@[Primary Driver]])*(tblRotation[Status]<>"Canceled")*((tblRotation[Start Date]+tblRotation[Start Time])<([@[End Date]]+[@[End Time]]))*((tblRotation[End Date]+tblRotation[End Time])>([@[Start Date]]+[@[Start Time]])))>1,"Overlap","OK"),"Check inputs"))
N15: =IF(OR(B15="",C15="",D15="",E15=""),"",IFERROR(ROUND((D15+E15-B15-C15)*24,2),"")) | O15: =IF(A15="","",IFERROR(MAX(K15,J15*'Settings'!$B$5),0)) | P15: =IF(A15="","",IF(I15="Canceled",0,IFERROR('Settings'!$B$3+O15*'Settings'!$B$4+L15*'Settings'!$B$6,0))) | Q15: =IF(A15="","",IFERROR(IF(COUNTIF($A$5:$A$204,A15)>1,"Duplicate Shift ID",IF(OR(B15="",C15="",D15="",E15=""),"Missing date/time",IF(D15+E15<=B15+C15,"End must be after start",IF(I15="","Status required",IF(AND(I15<>"Canceled",F15=""),"Primary driver required",IF(AND(G15<>"",G15=F15),"Primary and backup match",IF(AND(F15<>"",COUNTIFS('Drivers'!$B$5:$B$104,F15,'Drivers'!$E$5:$E$104,"Yes",'Drivers'!$F$5:$F$104,"Yes")=0),"Primary not active/eligible",IF(AND(G15<>"",COUNTIFS('Drivers'!$B$5:$B$104,G15,'Drivers'!$E$5:$E$104,"Yes",'Drivers'!$F$5:$F$104,"Yes")=0),"Backup not active/eligible","OK")))))))),"Check inputs")) | R15: =IF(OR(A15="",F15="",I15="Canceled",B15="",D15=""),"",IFERROR(IF(SUMPRODUCT(($F$5:$F$204=F15)*($I$5:$I$204<>"Canceled")*(($B$5:$B$204+$C$5:$C$204)<(D15+E15))*(($D$5:$D$204+$E$5:$E$204)>(B15+C15)))>1,"Overlap","OK"),"Check inputs"))
N16: =IF(OR(B16="",C16="",D16="",E16=""),"",IFERROR(ROUND((D16+E16-B16-C16)*24,2),"")) | O16: =IF(A16="","",IFERROR(MAX(K16,J16*'Settings'!$B$5),0)) | P16: =IF(A16="","",IF(I16="Canceled",0,IFERROR('Settings'!$B$3+O16*'Settings'!$B$4+L16*'Settings'!$B$6,0))) | Q16: =IF(A16="","",IFERROR(IF(COUNTIF($A$5:$A$204,A16)>1,"Duplicate Shift ID",IF(OR(B16="",C16="",D16="",E16=""),"Missing date/time",IF(D16+E16<=B16+C16,"End must be after start",IF(I16="","Status required",IF(AND(I16<>"Canceled",F16=""),"Primary driver required",IF(AND(G16<>"",G16=F16),"Primary and backup match",IF(AND(F16<>"",COUNTIFS('Drivers'!$B$5:$B$104,F16,'Drivers'!$E$5:$E$104,"Yes",'Drivers'!$F$5:$F$104,"Yes")=0),"Primary not active/eligible",IF(AND(G16<>"",COUNTIFS('Drivers'!$B$5:$B$104,G16,'Drivers'!$E$5:$E$104,"Yes",'Drivers'!$F$5:$F$104,"Yes")=0),"Backup not active/eligible","OK")))))))),"Check inputs")) | R16: =IF(OR(A16="",F16="",I16="Canceled",B16="",D16=""),"",IFERROR(IF(SUMPRODUCT(($F$5:$F$204=F16)*($I$5:$I$204<>"Canceled")*(($B$5:$B$204+$C$5:$C$204)<(D16+E16))*(($D$5:$D$204+$E$5:$E$204)>(B16+C16)))>1,"Overlap","OK"),"Check inputs"))
N17: =IF(OR(B17="",C17="",D17="",E17=""),"",IFERROR(ROUND((D17+E17-B17-C17)*24,2),"")) | O17: =IF(A17="","",IFERROR(MAX(K17,J17*'Settings'!$B$5),0)) | P17: =IF(A17="","",IF(I17="Canceled",0,IFERROR('Settings'!$B$3+O17*'Settings'!$B$4+L17*'Settings'!$B$6,0))) | Q17: =IF(A17="","",IFERROR(IF(COUNTIF($A$5:$A$204,A17)>1,"Duplicate Shift ID",IF(OR(B17="",C17="",D17="",E17=""),"Missing date/time",IF(D17+E17<=B17+C17,"End must be after start",IF(I17="","Status required",IF(AND(I17<>"Canceled",F17=""),"Primary driver required",IF(AND(G17<>"",G17=F17),"Primary and backup match",IF(AND(F17<>"",COUNTIFS('Drivers'!$B$5:$B$104,F17,'Drivers'!$E$5:$E$104,"Yes",'Drivers'!$F$5:$F$104,"Yes")=0),"Primary not active/eligible",IF(AND(G17<>"",COUNTIFS('Drivers'!$B$5:$B$104,G17,'Drivers'!$E$5:$E$104,"Yes",'Drivers'!$F$5:$F$104,"Yes")=0),"Backup not active/eligible","OK")))))))),"Check inputs")) | R17: =IF(OR(A17="",F17="",I17="Canceled",B17="",D17=""),"",IFERROR(IF(SUMPRODUCT(($F$5:$F$204=F17)*($I$5:$I$204<>"Canceled")*(($B$5:$B$204+$C$5:$C$204)<(D17+E17))*(($D$5:$D$204+$E$5:$E$204)>(B17+C17)))>1,"Overlap","OK"),"Check inputs"))
N18: =IF(OR(B18="",C18="",D18="",E18=""),"",IFERROR(ROUND((D18+E18-B18-C18)*24,2),"")) | O18: =IF(A18="","",IFERROR(MAX(K18,J18*'Settings'!$B$5),0)) | P18: =IF(A18="","",IF(I18="Canceled",0,IFERROR('Settings'!$B$3+O18*'Settings'!$B$4+L18*'Settings'!$B$6,0))) | Q18: =IF(A18="","",IFERROR(IF(COUNTIF($A$5:$A$204,A18)>1,"Duplicate Shift ID",IF(OR(B18="",C18="",D18="",E18=""),"Missing date/time",IF(D18+E18<=B18+C18,"End must be after start",IF(I18="","Status required",IF(AND(I18<>"Canceled",F18=""),"Primary driver required",IF(AND(G18<>"",G18=F18),"Primary and backup match",IF(AND(F18<>"",COUNTIFS('Drivers'!$B$5:$B$104,F18,'Drivers'!$E$5:$E$104,"Yes",'Drivers'!$F$5:$F$104,"Yes")=0),"Primary not active/eligible",IF(AND(G18<>"",COUNTIFS('Drivers'!$B$5:$B$104,G18,'Drivers'!$E$5:$E$104,"Yes",'Drivers'!$F$5:$F$104,"Yes")=0),"Backup not active/eligible","OK")))))))),"Check inputs")) | R18: =IF(OR(A18="",F18="",I18="Canceled",B18="",D18=""),"",IFERROR(IF(SUMPRODUCT(($F$5:$F$204=F18)*($I$5:$I$204<>"Canceled")*(($B$5:$B$204+$C$5:$C$204)<(D18+E18))*(($D$5:$D$204+$E$5:$E$204)>(B18+C18)))>1,"Overlap","OK"),"Check inputs"))
N19: =IF(OR(B19="",C19="",D19="",E19=""),"",IFERROR(ROUND((D19+E19-B19-C19)*24,2),"")) | O19: =IF(A19="","",IFERROR(MAX(K19,J19*'Settings'!$B$5),0)) | P19: =IF(A19="","",IF(I19="Canceled",0,IFERROR('Settings'!$B$3+O19*'Settings'!$B$4+L19*'Settings'!$B$6,0))) | Q19: =IF(A19="","",IFERROR(IF(COUNTIF($A$5:$A$204,A19)>1,"Duplicate Shift ID",IF(OR(B19="",C19="",D19="",E19=""),"Missing date/time",IF(D19+E19<=B19+C19,"End must be after start",IF(I19="","Status required",IF(AND(I19<>"Canceled",F19=""),"Primary driver required",IF(AND(G19<>"",G19=F19),"Primary and backup match",IF(AND(F19<>"",COUNTIFS('Drivers'!$B$5:$B$104,F19,'Drivers'!$E$5:$E$104,"Yes",'Drivers'!$F$5:$F$104,"Yes")=0),"Primary not active/eligible",IF(AND(G19<>"",COUNTIFS('Drivers'!$B$5:$B$104,G19,'Drivers'!$E$5:$E$104,"Yes",'Drivers'!$F$5:$F$104,"Yes")=0),"Backup not active/eligible","OK")))))))),"Check inputs")) | R19: =IF(OR(A19="",F19="",I19="Canceled",B19="",D19=""),"",IFERROR(IF(SUMPRODUCT(($F$5:$F$204=F19)*($I$5:$I$204<>"Canceled")*(($B$5:$B$204+$C$5:$C$204)<(D19+E19))*(($D$5:$D$204+$E$5:$E$204)>(B19+C19)))>1,"Overlap","OK"),"Check inputs"))
N20: =IF(OR(B20="",C20="",D20="",E20=""),"",IFERROR(ROUND((D20+E20-B20-C20)*24,2),"")) | O20: =IF(A20="","",IFERROR(MAX(K20,J20*'Settings'!$B$5),0)) | P20: =IF(A20="","",IF(I20="Canceled",0,IFERROR('Settings'!$B$3+O20*'Settings'!$B$4+L20*'Settings'!$B$6,0))) | Q20: =IF(A20="","",IFERROR(IF(COUNTIF($A$5:$A$204,A20)>1,"Duplicate Shift ID",IF(OR(B20="",C20="",D20="",E20=""),"Missing date/time",IF(D20+E20<=B20+C20,"End must be after start",IF(I20="","Status required",IF(AND(I20<>"Canceled",F20=""),"Primary driver required",IF(AND(G20<>"",G20=F20),"Primary and backup match",IF(AND(F20<>"",COUNTIFS('Drivers'!$B$5:$B$104,F20,'Drivers'!$E$5:$E$104,"Yes",'Drivers'!$F$5:$F$104,"Yes")=0),"Primary not active/eligible",IF(AND(G20<>"",COUNTIFS('Drivers'!$B$5:$B$104,G20,'Drivers'!$E$5:$E$104,"Yes",'Drivers'!$F$5:$F$104,"Yes")=0),"Backup not active/eligible","OK")))))))),"Check inputs")) | R20: =IF(OR(A20="",F20="",I20="Canceled",B20="",D20=""),"",IFERROR(IF(SUMPRODUCT(($F$5:$F$204=F20)*($I$5:$I$204<>"Canceled")*(($B$5:$B$204+$C$5:$C$204)<(D20+E20))*(($D$5:$D$204+$E$5:$E$204)>(B20+C20)))>1,"Overlap","OK"),"Check inputs"))
N21: =IF(OR(B21="",C21="",D21="",E21=""),"",IFERROR(ROUND((D21+E21-B21-C21)*24,2),"")) | O21: =IF(A21="","",IFERROR(MAX(K21,J21*'Settings'!$B$5),0)) | P21: =IF(A21="","",IF(I21="Canceled",0,IFERROR('Settings'!$B$3+O21*'Settings'!$B$4+L21*'Settings'!$B$6,0))) | Q21: =IF(A21="","",IFERROR(IF(COUNTIF($A$5:$A$204,A21)>1,"Duplicate Shift ID",IF(OR(B21="",C21="",D21="",E21=""),"Missing date/time",IF(D21+E21<=B21+C21,"End must be after start",IF(I21="","Status required",IF(AND(I21<>"Canceled",F21=""),"Primary driver required",IF(AND(G21<>"",G21=F21),"Primary and backup match",IF(AND(F21<>"",COUNTIFS('Drivers'!$B$5:$B$104,F21,'Drivers'!$E$5:$E$104,"Yes",'Drivers'!$F$5:$F$104,"Yes")=0),"Primary not active/eligible",IF(AND(G21<>"",COUNTIFS('Drivers'!$B$5:$B$104,G21,'Drivers'!$E$5:$E$104,"Yes",'Drivers'!$F$5:$F$104,"Yes")=0),"Backup not active/eligible","OK")))))))),"Check inputs")) | R21: =IF(OR(A21="",F21="",I21="Canceled",B21="",D21=""),"",IFERROR(IF(SUMPRODUCT(($F$5:$F$204=F21)*($I$5:$I$204<>"Canceled")*(($B$5:$B$204+$C$5:$C$204)<(D21+E21))*(($D$5:$D$204+$E$5:$E$204)>(B21+C21)))>1,"Overlap","OK"),"Check inputs"))
N22: =IF(OR(B22="",C22="",D22="",E22=""),"",IFERROR(ROUND((D22+E22-B22-C22)*24,2),"")) | O22: =IF(A22="","",IFERROR(MAX(K22,J22*'Settings'!$B$5),0)) | P22: =IF(A22="","",IF(I22="Canceled",0,IFERROR('Settings'!$B$3+O22*'Settings'!$B$4+L22*'Settings'!$B$6,0))) | Q22: =IF(A22="","",IFERROR(IF(COUNTIF($A$5:$A$204,A22)>1,"Duplicate Shift ID",IF(OR(B22="",C22="",D22="",E22=""),"Missing date/time",IF(D22+E22<=B22+C22,"End must be after start",IF(I22="","Status required",IF(AND(I22<>"Canceled",F22=""),"Primary driver required",IF(AND(G22<>"",G22=F22),"Primary and backup match",IF(AND(F22<>"",COUNTIFS('Drivers'!$B$5:$B$104,F22,'Drivers'!$E$5:$E$104,"Yes",'Drivers'!$F$5:$F$104,"Yes")=0),"Primary not active/eligible",IF(AND(G22<>"",COUNTIFS('Drivers'!$B$5:$B$104,G22,'Drivers'!$E$5:$E$104,"Yes",'Drivers'!$F$5:$F$104,"Yes")=0),"Backup not active/eligible","OK")))))))),"Check inputs")) | R22: =IF(OR(A22="",F22="",I22="Canceled",B22="",D22=""),"",IFERROR(IF(SUMPRODUCT(($F$5:$F$204=F22)*($I$5:$I$204<>"Canceled")*(($B$5:$B$204+$C$5:$C$204)<(D22+E22))*(($D$5:$D$204+$E$5:$E$204)>(B22+C22)))>1,"Overlap","OK"),"Check inputs"))
N23: =IF(OR(B23="",C23="",D23="",E23=""),"",IFERROR(ROUND((D23+E23-B23-C23)*24,2),"")) | O23: =IF(A23="","",IFERROR(MAX(K23,J23*'Settings'!$B$5),0)) | P23: =IF(A23="","",IF(I23="Canceled",0,IFERROR('Settings'!$B$3+O23*'Settings'!$B$4+L23*'Settings'!$B$6,0))) | Q23: =IF(A23="","",IFERROR(IF(COUNTIF($A$5:$A$204,A23)>1,"Duplicate Shift ID",IF(OR(B23="",C23="",D23="",E23=""),"Missing date/time",IF(D23+E23<=B23+C23,"End must be after start",IF(I23="","Status required",IF(AND(I23<>"Canceled",F23=""),"Primary driver required",IF(AND(G23<>"",G23=F23),"Primary and backup match",IF(AND(F23<>"",COUNTIFS('Drivers'!$B$5:$B$104,F23,'Drivers'!$E$5:$E$104,"Yes",'Drivers'!$F$5:$F$104,"Yes")=0),"Primary not active/eligible",IF(AND(G23<>"",COUNTIFS('Drivers'!$B$5:$B$104,G23,'Drivers'!$E$5:$E$104,"Yes",'Drivers'!$F$5:$F$104,"Yes")=0),"Backup not active/eligible","OK")))))))),"Check inputs")) | R23: =IF(OR(A23="",F23="",I23="Canceled",B23="",D23=""),"",IFERROR(IF(SUMPRODUCT(($F$5:$F$204=F23)*($I$5:$I$204<>"Canceled")*(($B$5:$B$204+$C$5:$C$204)<(D23+E23))*(($D$5:$D$204+$E$5:$E$204)>(B23+C23)))>1,"Overlap","OK"),"Check inputs"))
N24: =IF(OR(B24="",C24="",D24="",E24=""),"",IFERROR(ROUND((D24+E24-B24-C24)*24,2),"")) | O24: =IF(A24="","",IFERROR(MAX(K24,J24*'Settings'!$B$5),0)) | P24: =IF(A24="","",IF(I24="Canceled",0,IFERROR('Settings'!$B$3+O24*'Settings'!$B$4+L24*'Settings'!$B$6,0))) | Q24: =IF(A24="","",IFERROR(IF(COUNTIF($A$5:$A$204,A24)>1,"Duplicate Shift ID",IF(OR(B24="",C24="",D24="",E24=""),"Missing date/time",IF(D24+E24<=B24+C24,"End must be after start",IF(I24="","Status required",IF(AND(I24<>"Canceled",F24=""),"Primary driver required",IF(AND(G24<>"",G24=F24),"Primary and backup match",IF(AND(F24<>"",COUNTIFS('Drivers'!$B$5:$B$104,F24,'Drivers'!$E$5:$E$104,"Yes",'Drivers'!$F$5:$F$104,"Yes")=0),"Primary not active/eligible",IF(AND(G24<>"",COUNTIFS('Drivers'!$B$5:$B$104,G24,'Drivers'!$E$5:$E$104,"Yes",'Drivers'!$F$5:$F$104,"Yes")=0),"Backup not active/eligible","OK")))))))),"Check inputs")) | R24: =IF(OR(A24="",F24="",I24="Canceled",B24="",D24=""),"",IFERROR(IF(SUMPRODUCT(($F$5:$F$204=F24)*($I$5:$I$204<>"Canceled")*(($B$5:$B$204+$C$5:$C$204)<(D24+E24))*(($D$5:$D$204+$E$5:$E$204)>(B24+C24)))>1,"Overlap","OK"),"Check inputs"))
N25: =IF(OR(B25="",C25="",D25="",E25=""),"",IFERROR(ROUND((D25+E25-B25-C25)*24,2),"")) | O25: =IF(A25="","",IFERROR(MAX(K25,J25*'Settings'!$B$5),0)) | P25: =IF(A25="","",IF(I25="Canceled",0,IFERROR('Settings'!$B$3+O25*'Settings'!$B$4+L25*'Settings'!$B$6,0))) | Q25: =IF(A25="","",IFERROR(IF(COUNTIF($A$5:$A$204,A25)>1,"Duplicate Shift ID",IF(OR(B25="",C25="",D25="",E25=""),"Missing date/time",IF(D25+E25<=B25+C25,"End must be after start",IF(I25="","Status required",IF(AND(I25<>"Canceled",F25=""),"Primary driver required",IF(AND(G25<>"",G25=F25),"Primary and backup match",IF(AND(F25<>"",COUNTIFS('Drivers'!$B$5:$B$104,F25,'Drivers'!$E$5:$E$104,"Yes",'Drivers'!$F$5:$F$104,"Yes")=0),"Primary not active/eligible",IF(AND(G25<>"",COUNTIFS('Drivers'!$B$5:$B$104,G25,'Drivers'!$E$5:$E$104,"Yes",'Drivers'!$F$5:$F$104,"Yes")=0),"Backup not active/eligible","OK")))))))),"Check inputs")) | R25: =IF(OR(A25="",F25="",I25="Canceled",B25="",D25=""),"",IFERROR(IF(SUMPRODUCT(($F$5:$F$204=F25)*($I$5:$I$204<>"Canceled")*(($B$5:$B$204+$C$5:$C$204)<(D25+E25))*(($D$5:$D$204+$E$5:$E$204)>(B25+C25)))>1,"Overlap","OK"),"Check inputs"))
N26: =IF(OR(B26="",C26="",D26="",E26=""),"",IFERROR(ROUND((D26+E26-B26-C26)*24,2),"")) | O26: =IF(A26="","",IFERROR(MAX(K26,J26*'Settings'!$B$5),0)) | P26: =IF(A26="","",IF(I26="Canceled",0,IFERROR('Settings'!$B$3+O26*'Settings'!$B$4+L26*'Settings'!$B$6,0))) | Q26: =IF(A26="","",IFERROR(IF(COUNTIF($A$5:$A$204,A26)>1,"Duplicate Shift ID",IF(OR(B26="",C26="",D26="",E26=""),"Missing date/time",IF(D26+E26<=B26+C26,"End must be after start",IF(I26="","Status required",IF(AND(I26<>"Canceled",F26=""),"Primary driver required",IF(AND(G26<>"",G26=F26),"Primary and backup match",IF(AND(F26<>"",COUNTIFS('Drivers'!$B$5:$B$104,F26,'Drivers'!$E$5:$E$104,"Yes",'Drivers'!$F$5:$F$104,"Yes")=0),"Primary not active/eligible",IF(AND(G26<>"",COUNTIFS('Drivers'!$B$5:$B$104,G26,'Drivers'!$E$5:$E$104,"Yes",'Drivers'!$F$5:$F$104,"Yes")=0),"Backup not active/eligible","OK")))))))),"Check inputs")) | R26: =IF(OR(A26="",F26="",I26="Canceled",B26="",D26=""),"",IFERROR(IF(SUMPRODUCT(($F$5:$F$204=F26)*($I$5:$I$204<>"Canceled")*(($B$5:$B$204+$C$5:$C$204)<(D26+E26))*(($D$5:$D$204+$E$5:$E$204)>(B26+C26)))>1,"Overlap","OK"),"Check inputs"))
... N204: =IF(OR(B204="",C204="",D204="",E204=""),"",IFERROR(ROUND((D204+E204-B204-C204)*24,2),"")) | O204: =IF(A204="","",IFERROR(MAX(K204,J204*'Settings'!$B$5),0)) | P204: =IF(A204="","",IF(I204="Canceled",0,IFERROR('Settings'!$B$3+O204*'Settings'!$B$4+L204*'Settings'!$B$6,0))) | Q204: =IF(A204="","",IFERROR(IF(COUNTIF($A$5:$A$204,A204)>1,"Duplicate Shift ID",IF(OR(B204="",C204="",D204="",E204=""),"Missing date/time",IF(D204+E204<=B204+C204,"End must be after start",IF(I204="","Status required",IF(AND(I204<>"Canceled",F204=""),"Primary driver required",IF(AND(G204<>"",G204=F204),"Primary and backup match",IF(AND(F204<>"",COUNTIFS('Drivers'!$B$5:$B$104,F204,'Drivers'!$E$5:$E$104,"Yes",'Drivers'!$F$5:$F$104,"Yes")=0),"Primary not active/eligible",IF(AND(G204<>"",COUNTIFS('Drivers'!$B$5:$B$104,G204,'Drivers'!$E$5:$E$104,"Yes",'Drivers'!$F$5:$F$104,"Yes")=0),"Backup not active/eligible","OK")))))))),"Check inputs")) | R204: =IF(OR(A204="",F204="",I204="Canceled",B204="",D204=""),"",IFERROR(IF(SUMPRODUCT(($F$5:$F$204=F204)*($I$5:$I$204<>"Canceled")*(($B$5:$B$204+$C$5:$C$204)<(D204+E204))*(($D$5:$D$204+$E$5:$E$204)>(B204+C204)))>1,"Overlap","OK"),"Check inputs"))

Sheet Drivers
A1: On-Call Driver Roster
A2: Maintain driver contact and rotation information in yellow cells. Blue cells summarize assignment history and identify roster issues.
A3: Amber workload highlighting is a review cue because the roster limit and fairness-window periods may differ.
A4: Driver ID | B4: Driver Name | C4: Mobile Phone | D4: Home Base | E4: Active? | F4: On-Call Eligible? | G4: Rotation Order | H4: Preferred Coverage Area | I4: Max On-Call Shifts/30 Days | J4: Notes | K4: Shifts in Fairness Window | L4: Last On-Call Date | M4: Days Since Last On-Call | N4: Driver Check
A5: D-001 | B5: Alex Morgan | C5: 202-555-0101 | D5: North Depot | E5: Yes | F5: Yes | G5: 1 | H5: North | I5: 4 | J5: Prefers weekday evenings | K5: =IF([@[Driver Name]]="","",COUNTIFS(tblRotation[Primary Driver],[@[Driver Name]],tblRotation[Start Date],">="&'Dashboard'!$B$3-'Settings'!$B$8,tblRotation[Start Date],"<="&'Dashboard'!$B$3,tblRotation[Status],"<>"&"Canceled")) | L5: =IF([@[Driver Name]]="","",IFERROR(IF(COUNTIFS(tblRotation[Primary Driver],[@[Driver Name]],tblRotation[Start Date],"<="&'Dashboard'!$B$3,tblRotation[Status],"<>"&"Canceled")=0,"",MAXIFS(tblRotation[Start Date],tblRotation[Primary Driver],[@[Driver Name]],tblRotation[Start Date],"<="&'Dashboard'!$B$3,tblRotation[Status],"<>"&"Canceled")),"")) | M5: =IF([@[Last On-Call Date]]="","",IFERROR('Dashboard'!$B$3-[@[Last On-Call Date]],"")) | N5: =IF([@[Driver ID]]="","",IFERROR(IF(COUNTIF(tblDrivers[Driver ID],[@[Driver ID]])>1,"Duplicate Driver ID",IF(COUNTIF(tblDrivers[Driver Name],[@[Driver Name]])>1,"Duplicate Driver Name",IF(AND([@[On-Call Eligible?]]="Yes",[@[Active?]]<>"Yes"),"Eligible driver is inactive",IF(AND([@[Active?]]="Yes",[@[On-Call Eligible?]]="Yes",OR([@[Rotation Order]]="",COUNTIFS(tblDrivers[Rotation Order],[@[Rotation Order]],tblDrivers[Active?],"Yes",tblDrivers[On-Call Eligible?],"Yes")>1)),"Check rotation order",IF([@[Mobile Phone]]="","Missing phone","OK"))))),"Check inputs"))
A6: D-002 | B6: Brianna Lee | C6: 202-555-0102 | D6: South Depot | E6: Yes | F6: Yes | G6: 2 | H6: South | I6: 4 | J6: Available most weekends | K6: =IF([@[Driver Name]]="","",COUNTIFS(tblRotation[Primary Driver],[@[Driver Name]],tblRotation[Start Date],">="&'Dashboard'!$B$3-'Settings'!$B$8,tblRotation[Start Date],"<="&'Dashboard'!$B$3,tblRotation[Status],"<>"&"Canceled")) | L6: =IF([@[Driver Name]]="","",IFERROR(IF(COUNTIFS(tblRotation[Primary Driver],[@[Driver Name]],tblRotation[Start Date],"<="&'Dashboard'!$B$3,tblRotation[Status],"<>"&"Canceled")=0,"",MAXIFS(tblRotation[Start Date],tblRotation[Primary Driver],[@[Driver Name]],tblRotation[Start Date],"<="&'Dashboard'!$B$3,tblRotation[Status],"<>"&"Canceled")),"")) | M6: =IF([@[Last On-Call Date]]="","",IFERROR('Dashboard'!$B$3-[@[Last On-Call Date]],"")) | N6: =IF([@[Driver ID]]="","",IFERROR(IF(COUNTIF(tblDrivers[Driver ID],[@[Driver ID]])>1,"Duplicate Driver ID",IF(COUNTIF(tblDrivers[Driver Name],[@[Driver Name]])>1,"Duplicate Driver Name",IF(AND([@[On-Call Eligible?]]="Yes",[@[Active?]]<>"Yes"),"Eligible driver is inactive",IF(AND([@[Active?]]="Yes",[@[On-Call Eligible?]]="Yes",OR([@[Rotation Order]]="",COUNTIFS(tblDrivers[Rotation Order],[@[Rotation Order]],tblDrivers[Active?],"Yes",tblDrivers[On-Call Eligible?],"Yes")>1)),"Check rotation order",IF([@[Mobile Phone]]="","Missing phone","OK"))))),"Check inputs"))
A7: D-003 | B7: Carlos Rivera | C7: 202-555-0103 | D7: Central Hub | E7: Yes | F7: Yes | G7: 3 | H7: Central | I7: 4 | J7: Central-area preference | K7: =IF([@[Driver Name]]="","",COUNTIFS(tblRotation[Primary Driver],[@[Driver Name]],tblRotation[Start Date],">="&'Dashboard'!$B$3-'Settings'!$B$8,tblRotation[Start Date],"<="&'Dashboard'!$B$3,tblRotation[Status],"<>"&"Canceled")) | L7: =IF([@[Driver Name]]="","",IFERROR(IF(COUNTIFS(tblRotation[Primary Driver],[@[Driver Name]],tblRotation[Start Date],"<="&'Dashboard'!$B$3,tblRotation[Status],"<>"&"Canceled")=0,"",MAXIFS(tblRotation[Start Date],tblRotation[Primary Driver],[@[Driver Name]],tblRotation[Start Date],"<="&'Dashboard'!$B$3,tblRotation[Status],"<>"&"Canceled")),"")) | M7: =IF([@[Last On-Call Date]]="","",IFERROR('Dashboard'!$B$3-[@[Last On-Call Date]],"")) | N7: =IF([@[Driver ID]]="","",IFERROR(IF(COUNTIF(tblDrivers[Driver ID],[@[Driver ID]])>1,"Duplicate Driver ID",IF(COUNTIF(tblDrivers[Driver Name],[@[Driver Name]])>1,"Duplicate Driver Name",IF(AND([@[On-Call Eligible?]]="Yes",[@[Active?]]<>"Yes"),"Eligible driver is inactive",IF(AND([@[Active?]]="Yes",[@[On-Call Eligible?]]="Yes",OR([@[Rotation Order]]="",COUNTIFS(tblDrivers[Rotation Order],[@[Rotation Order]],tblDrivers[Active?],"Yes",tblDrivers[On-Call Eligible?],"Yes")>1)),"Check rotation order",IF([@[Mobile Phone]]="","Missing phone","OK"))))),"Check inputs"))
A8: D-004 | B8: Dana Brooks | C8: 202-555-0104 | D8: Airport Hub | E8: Yes | F8: Yes | G8: 4 | H8: Airport | I8: 4 | J8: Airport route experience | K8: =IF([@[Driver Name]]="","",COUNTIFS(tblRotation[Primary Driver],[@[Driver Name]],tblRotation[Start Date],">="&'Dashboard'!$B$3-'Settings'!$B$8,tblRotation[Start Date],"<="&'Dashboard'!$B$3,tblRotation[Status],"<>"&"Canceled")) | L8: =IF([@[Driver Name]]="","",IFERROR(IF(COUNTIFS(tblRotation[Primary Driver],[@[Driver Name]],tblRotation[Start Date],"<="&'Dashboard'!$B$3,tblRotation[Status],"<>"&"Canceled")=0,"",MAXIFS(tblRotation[Start Date],tblRotation[Primary Driver],[@[Driver Name]],tblRotation[Start Date],"<="&'Dashboard'!$B$3,tblRotation[Status],"<>"&"Canceled")),"")) | M8: =IF([@[Last On-Call Date]]="","",IFERROR('Dashboard'!$B$3-[@[Last On-Call Date]],"")) | N8: =IF([@[Driver ID]]="","",IFERROR(IF(COUNTIF(tblDrivers[Driver ID],[@[Driver ID]])>1,"Duplicate Driver ID",IF(COUNTIF(tblDrivers[Driver Name],[@[Driver Name]])>1,"Duplicate Driver Name",IF(AND([@[On-Call Eligible?]]="Yes",[@[Active?]]<>"Yes"),"Eligible driver is inactive",IF(AND([@[Active?]]="Yes",[@[On-Call Eligible?]]="Yes",OR([@[Rotation Order]]="",COUNTIFS(tblDrivers[Rotation Order],[@[Rotation Order]],tblDrivers[Active?],"Yes",tblDrivers[On-Call Eligible?],"Yes")>1)),"Check rotation order",IF([@[Mobile Phone]]="","Missing phone","OK"))))),"Check inputs"))
A9: D-005 | B9: Evan Patel | C9: 202-555-0105 | D9: East Depot | E9: Yes | F9: Yes | G9: 5 | H9: East | I9: 4 | J9: Evening availability | K9: =IF([@[Driver Name]]="","",COUNTIFS(tblRotation[Primary Driver],[@[Driver Name]],tblRotation[Start Date],">="&'Dashboard'!$B$3-'Settings'!$B$8,tblRotation[Start Date],"<="&'Dashboard'!$B$3,tblRotation[Status],"<>"&"Canceled")) | L9: =IF([@[Driver Name]]="","",IFERROR(IF(COUNTIFS(tblRotation[Primary Driver],[@[Driver Name]],tblRotation[Start Date],"<="&'Dashboard'!$B$3,tblRotation[Status],"<>"&"Canceled")=0,"",MAXIFS(tblRotation[Start Date],tblRotation[Primary Driver],[@[Driver Name]],tblRotation[Start Date],"<="&'Dashboard'!$B$3,tblRotation[Status],"<>"&"Canceled")),"")) | M9: =IF([@[Last On-Call Date]]="","",IFERROR('Dashboard'!$B$3-[@[Last On-Call Date]],"")) | N9: =IF([@[Driver ID]]="","",IFERROR(IF(COUNTIF(tblDrivers[Driver ID],[@[Driver ID]])>1,"Duplicate Driver ID",IF(COUNTIF(tblDrivers[Driver Name],[@[Driver Name]])>1,"Duplicate Driver Name",IF(AND([@[On-Call Eligible?]]="Yes",[@[Active?]]<>"Yes"),"Eligible driver is inactive",IF(AND([@[Active?]]="Yes",[@[On-Call Eligible?]]="Yes",OR([@[Rotation Order]]="",COUNTIFS(tblDrivers[Rotation Order],[@[Rotation Order]],tblDrivers[Active?],"Yes",tblDrivers[On-Call Eligible?],"Yes")>1)),"Check rotation order",IF([@[Mobile Phone]]="","Missing phone","OK"))))),"Check inputs"))
