Workbook

Sheet Dashboard
A1: Fleet Tire Inventory Dashboard
A2: Inventory position, replenishment needs, and stock review | K2: Dashboard | L2: Tire Inventory | M2: Transactions | N2: Settings
A3: Report As of Date | B3: ='Settings'!$B$3
A5: Active Inventory Items | C5: On Hand | E5: Available | G5: Inventory Value | I5: Reorder-Required Items | K5: Suggested Order Units
A6: =COUNTIF(tblTires[Active],"Yes") | C6: =SUMIFS(tblTires[On Hand Qty],tblTires[Active],"Yes") | E6: =SUMIFS(tblTires[Available Qty],tblTires[Active],"Yes") | G6: =SUMIFS(tblTires[Inventory Value],tblTires[Active],"Yes") | I6: =COUNTIF(tblTires[Stock Status],"Below Reorder")+COUNTIF(tblTires[Stock Status],"Out of Stock") | K6: =SUMIFS(tblTires[Suggested Order Qty],tblTires[Active],"Yes")
A8: Units In During Period | C8: Units Out During Period | E8: Qty on Order | G8: Suggested Tire Cost | I8: Estimated Reorder Total Including Freight | K8: Age Review Items
A9: =SUMIFS(tblTires[Qty In],tblTires[Active],"Yes") | C9: =SUMIFS(tblTires[Qty Out],tblTires[Active],"Yes") | E9: =SUMIFS(tblTires[Qty on Order],tblTires[Active],"Yes") | G9: =SUMIFS(tblTires[Suggested Order Cost],tblTires[Active],"Yes") | I9: =SUMIFS(tblTires[Suggested Order Cost],tblTires[Active],"Yes")+SUMIFS(tblTires[Suggested Order Qty],tblTires[Active],"Yes")*'Settings'!$B$7 | K9: =COUNTIF(tblTires[Age Status],"Age Review")
A11: Inventory by Location | J11: Stock Status
A12: Location | B12: Active Items | C12: On Hand | D12: Available | E12: Inventory Value | F12: Reorder-Required Items | G12: Suggested Units | H12: Suggested Tire Cost | J12: Status | K12: Item Count
A13: Dallas Main | B13: =COUNTIFS(tblTires[Location],$A13,tblTires[Active],"Yes") | C13: =SUMIFS(tblTires[On Hand Qty],tblTires[Location],$A13,tblTires[Active],"Yes") | D13: =SUMIFS(tblTires[Available Qty],tblTires[Location],$A13,tblTires[Active],"Yes") | E13: =SUMIFS(tblTires[Inventory Value],tblTires[Location],$A13,tblTires[Active],"Yes") | F13: =COUNTIFS(tblTires[Location],$A13,tblTires[Stock Status],"Below Reorder")+COUNTIFS(tblTires[Location],$A13,tblTires[Stock Status],"Out of Stock") | G13: =SUMIFS(tblTires[Suggested Order Qty],tblTires[Location],$A13,tblTires[Active],"Yes") | H13: =SUMIFS(tblTires[Suggested Order Cost],tblTires[Location],$A13,tblTires[Active],"Yes") | J13: Out of Stock | K13: =COUNTIF(tblTires[Stock Status],J13)
A14: Houston Yard | B14: =COUNTIFS(tblTires[Location],$A14,tblTires[Active],"Yes") | C14: =SUMIFS(tblTires[On Hand Qty],tblTires[Location],$A14,tblTires[Active],"Yes") | D14: =SUMIFS(tblTires[Available Qty],tblTires[Location],$A14,tblTires[Active],"Yes") | E14: =SUMIFS(tblTires[Inventory Value],tblTires[Location],$A14,tblTires[Active],"Yes") | F14: =COUNTIFS(tblTires[Location],$A14,tblTires[Stock Status],"Below Reorder")+COUNTIFS(tblTires[Location],$A14,tblTires[Stock Status],"Out of Stock") | G14: =SUMIFS(tblTires[Suggested Order Qty],tblTires[Location],$A14,tblTires[Active],"Yes") | H14: =SUMIFS(tblTires[Suggested Order Cost],tblTires[Location],$A14,tblTires[Active],"Yes") | J14: Below Reorder | K14: =COUNTIF(tblTires[Stock Status],J14)
A15: Mobile Service | B15: =COUNTIFS(tblTires[Location],$A15,tblTires[Active],"Yes") | C15: =SUMIFS(tblTires[On Hand Qty],tblTires[Location],$A15,tblTires[Active],"Yes") | D15: =SUMIFS(tblTires[Available Qty],tblTires[Location],$A15,tblTires[Active],"Yes") | E15: =SUMIFS(tblTires[Inventory Value],tblTires[Location],$A15,tblTires[Active],"Yes") | F15: =COUNTIFS(tblTires[Location],$A15,tblTires[Stock Status],"Below Reorder")+COUNTIFS(tblTires[Location],$A15,tblTires[Stock Status],"Out of Stock") | G15: =SUMIFS(tblTires[Suggested Order Qty],tblTires[Location],$A15,tblTires[Active],"Yes") | H15: =SUMIFS(tblTires[Suggested Order Cost],tblTires[Location],$A15,tblTires[Active],"Yes") | J15: Reorder Soon | K15: =COUNTIF(tblTires[Stock Status],J15)
A16: Total | B16: =SUM(B13:B15) | C16: =SUM(C13:C15) | D16: =SUM(D13:D15) | E16: =SUM(E13:E15) | F16: =SUM(F13:F15) | G16: =SUM(G13:G15) | H16: =SUM(H13:H15) | J16: OK | K16: =COUNTIF(tblTires[Stock Status],J16)
D17: ="" | E17: ="" | G17: ="" | H17: ="" | J17: Negative Stock | K17: =COUNTIF(tblTires[Stock Status],J17)
D18: ="" | E18: ="" | G18: ="" | H18: ="" | J18: Total | K18: =SUM(K13:K17)
D19: ="" | E19: ="" | G19: ="" | H19: ="" | K19: =""
D20: ="" | E20: ="" | G20: ="" | H20: ="" | K20: =""
D21: ="" | E21: ="" | G21: ="" | H21: ="" | K21: =""
D22: ="" | E22: ="" | G22: ="" | H22: ="" | K22: =""
D23: ="" | E23: ="" | G23: ="" | H23: ="" | K23: =""
D24: ="" | E24: ="" | G24: ="" | H24: ="" | K24: =""
D25: ="" | E25: ="" | G25: ="" | H25: ="" | K25: =""
D26: ="" | E26: ="" | G26: ="" | H26: ="" | K26: =""
D27: ="" | E27: ="" | G27: ="" | H27: ="" | K27: =""
D28: ="" | E28: ="" | G28: ="" | H28: ="" | K28: =""
D29: ="" | E29: ="" | G29: ="" | H29: ="" | K29: =""
D30: ="" | E30: ="" | G30: ="" | H30: ="" | K30: =""
... D32: ="" | E32: ="" | G32: ="" | H32: ="" | K32: =""
A33: Inventory and Transaction Checks | D33: ="" | E33: Supporting Totals | G33: ="" | H33: ="" | K33: =""
A34: Check | B34: Count / Result | C34: Status | D34: ="" | E34: Opening Quantity Total | F34: =SUMIFS(tblTires[Opening Qty],tblTires[Active],"Yes") | G34: ="" | H34: ="" | K34: =""
A35: Negative Stock | B35: =COUNTIF(tblTires[Stock Status],"Negative Stock") | C35: =IF(B35=0,"OK","Review") | D35: ="" | E35: Reserved Quantity | F35: =SUMIFS(tblTires[Reserved Qty],tblTires[Active],"Yes") | G35: ="" | H35: ="" | K35: =""
A36: Missing DOT Date for Stocked Items | B36: =COUNTIF(tblTires[Age Status],"Missing DOT Date") | C36: =IF(B36=0,"OK","Review") | D36: ="" | E36: Reorder Soon Items | F36: =COUNTIF(tblTires[Stock Status],"Reorder Soon") | G36: ="" | H36: ="" | K36: =""
A37: Active Items with Zero or Blank Unit Cost | B37: =COUNTIFS(tblTires[Active],"Yes",tblTires[Unit Cost],"<=0") | C37: =IF(B37=0,"OK","Review") | D37: ="" | E37: ="" | F37: ="" | G37: ="" | H37: ="" | K37: =""
A38: Transactions with Invalid Item ID | B38: =COUNTIF(tblTransactions[Tire Size],"Item ID not found") | C38: =IF(B38=0,"OK","Review") | D38: ="" | E38: ="" | F38: ="" | G38: ="" | H38: ="" | K38: =""
A39: Transactions Outside Report Window | B39: =COUNTIF(tblTransactions[Date Status],"<>OK") | C39: =IF(B39=0,"OK","Review") | D39: ="" | E39: ="" | F39: ="" | G39: ="" | H39: ="" | K39: =""
A40: Duplicate Inventory Item ID Rows | B40: =IFERROR(SUMPRODUCT(--(tblTires[Inventory Item ID]<>""),--(COUNTIF(tblTires[Inventory Item ID],tblTires[Inventory Item ID])>1)),0) | C40: =IF(B40=0,"OK","Review") | D40: ="" | E40: ="" | F40: ="" | G40: ="" | H40: ="" | K40: =""
A41: Date Setup | B41: =IF('Settings'!$B$3>'Settings'!$B$4,"OK","Check Dates") | C41: =B41 | D41: ="" | E41: ="" | F41: ="" | G41: ="" | H41: ="" | K41: =""
B42: ="" | C42: ="" | D42: ="" | E42: ="" | F42: ="" | G42: ="" | H42: ="" | K42: =""
B43: ="" | C43: ="" | D43: ="" | E43: ="" | F43: ="" | G43: ="" | H43: ="" | K43: =""
A44: Opening quantities represent stock at the close of the Opening Balance Date. Only transactions after that date and through the Report As of Date are included. Replenishment totals use current item costs and the freight assumption from Settings; taxes are not included. | B44: ="" | C44: ="" | D44: ="" | E44: ="" | F44: ="" | G44: ="" | H44: ="" | K44: =""
...

Sheet Tire Inventory
A1: Tire Inventory
A2: Enter item details and opening balances in blue cells. Gray cells calculate from Transactions and Settings. | Z2: Dashboard | AA2: Tire Inventory | AB2: Transactions | AC2: Settings
A3: Blue cells = user input | D3: Gray cells = calculated | G3: Red or amber cells = review required
A5: Active | B5: Inventory Item ID | C5: Part No. | D5: Brand | E5: Model | F5: Tire Size | G5: Application | H5: Load Range | I5: Location | J5: Bin | K5: Unit Cost | L5: Opening Qty | M5: Reorder Point | N5: Target Stock | O5: Order Pack Qty | P5: Reserved Qty | Q5: Qty on Order | R5: Oldest DOT Week Start | S5: Qty In | T5: Qty Out | U5: On Hand Qty | V5: Available Qty | W5: Inventory Value | X5: Suggested Order Qty | Y5: Suggested Order Cost | Z5: Stock Status | AA5: Age Months | AB5: Age Status | AC5: Last Movement Date
A6: Yes | B6: DAL-295ST-01 | C6: MIC-XLEZ-29575 | D6: Michelin | E6: X Line Energy Z | F6: 295/75R22.5 | G6: Steer | H6: G | I6: Dallas Main | J6: A-01 | K6: 525 | L6: 8 | M6: 4 | N6: 12 | O6: 2 | P6: 1 | Q6: 0 | R6: 45180 | S6: =IF([@[Inventory Item ID]]="","",IFERROR(SUMIFS(tblTransactions[Inventory Effect],tblTransactions[Inventory Item ID],[@[Inventory Item ID]],tblTransactions[Inventory Effect],">0",tblTransactions[Date],">"&'Settings'!$B$4,tblTransactions[Date],"<="&'Settings'!$B$3),0)) | T6: =IF([@[Inventory Item ID]]="","",IFERROR(-SUMIFS(tblTransactions[Inventory Effect],tblTransactions[Inventory Item ID],[@[Inventory Item ID]],tblTransactions[Inventory Effect],"<0",tblTransactions[Date],">"&'Settings'!$B$4,tblTransactions[Date],"<="&'Settings'!$B$3),0)) | U6: =IF([@[Inventory Item ID]]="","",IFERROR([@[Opening Qty]]+[@[Qty In]]-[@[Qty Out]],0)) | V6: =IF([@[Inventory Item ID]]="","",IFERROR([@[On Hand Qty]]-[@[Reserved Qty]],0)) | W6: =IF([@[Inventory Item ID]]="","",IFERROR([@[On Hand Qty]]*[@[Unit Cost]],0)) | X6: =IF([@[Inventory Item ID]]="","",IFERROR(IF(AND([@Active]="Yes",[@[Available Qty]]<=[@[Reorder Point]],[@[Target Stock]]-[@[Available Qty]]-[@[Qty on Order]]>0),CEILING([@[Target Stock]]-[@[Available Qty]]-[@[Qty on Order]],[@[Order Pack Qty]]),0),0)) | Y6: =IF([@[Inventory Item ID]]="","",IFERROR([@[Suggested Order Qty]]*[@[Unit Cost]],0)) | Z6: =IF([@[Inventory Item ID]]="","",IFERROR(IF([@Active]="No","Inactive",IF([@[On Hand Qty]]<0,"Negative Stock",IF([@[Available Qty]]<=0,"Out of Stock",IF([@[Available Qty]]<=[@[Reorder Point]],"Below Reorder",IF([@[Available Qty]]<=[@[Reorder Point]]*(1+'Settings'!$B$5),"Reorder Soon","OK"))))),"Check Inputs")) | AA6: =IF([@[Inventory Item ID]]="","",IFERROR(IF(OR([@[On Hand Qty]]<=0,[@[Oldest DOT Week Start]]=""),"",DATEDIF([@[Oldest DOT Week Start]],'Settings'!$B$3,"m")),"")) | AB6: =IF([@[Inventory Item ID]]="","",IF([@Active]="No","Inactive",IF([@[On Hand Qty]]<=0,"No Stock",IF([@[Oldest DOT Week Start]]="","Missing DOT Date",IF([@[Age Months]]>='Settings'!$B$6,"Age Review","Current"))))) | AC6: =IF([@[Inventory Item ID]]="","",IFERROR(IF(COUNTIFS(tblTransactions[Inventory Item ID],[@[Inventory Item ID]],tblTransactions[Date],">"&'Settings'!$B$4,tblTransactions[Date],"<="&'Settings'!$B$3)=0,"",MAXIFS(tblTransactions[Date],tblTransactions[Inventory Item ID],[@[Inventory Item ID]],tblTransactions[Date],">"&'Settings'!$B$4,tblTransactions[Date],"<="&'Settings'!$B$3)),""))
A7: Yes | B7: DAL-295DR-01 | C7: BRI-M726-29575 | D7: Bridgestone | E7: M726 ELA | F7: 295/75R22.5 | G7: Drive | H7: G | I7: Dallas Main | J7: A-02 | K7: 495 | L7: 10 | M7: 6 | N7: 14 | O7: 2 | P7: 1 | Q7: 0 | R7: 45075 | S7: =IF([@[Inventory Item ID]]="","",IFERROR(SUMIFS(tblTransactions[Inventory Effect],tblTransactions[Inventory Item ID],[@[Inventory Item ID]],tblTransactions[Inventory Effect],">0",tblTransactions[Date],">"&'Settings'!$B$4,tblTransactions[Date],"<="&'Settings'!$B$3),0)) | T7: =IF([@[Inventory Item ID]]="","",IFERROR(-SUMIFS(tblTransactions[Inventory Effect],tblTransactions[Inventory Item ID],[@[Inventory Item ID]],tblTransactions[Inventory Effect],"<0",tblTransactions[Date],">"&'Settings'!$B$4,tblTransactions[Date],"<="&'Settings'!$B$3),0)) | U7: =IF([@[Inventory Item ID]]="","",IFERROR([@[Opening Qty]]+[@[Qty In]]-[@[Qty Out]],0)) | V7: =IF([@[Inventory Item ID]]="","",IFERROR([@[On Hand Qty]]-[@[Reserved Qty]],0)) | W7: =IF([@[Inventory Item ID]]="","",IFERROR([@[On Hand Qty]]*[@[Unit Cost]],0)) | X7: =IF([@[Inventory Item ID]]="","",IFERROR(IF(AND([@Active]="Yes",[@[Available Qty]]<=[@[Reorder Point]],[@[Target Stock]]-[@[Available Qty]]-[@[Qty on Order]]>0),CEILING([@[Target Stock]]-[@[Available Qty]]-[@[Qty on Order]],[@[Order Pack Qty]]),0),0)) | Y7: =IF([@[Inventory Item ID]]="","",IFERROR([@[Suggested Order Qty]]*[@[Unit Cost]],0)) | Z7: =IF([@[Inventory Item ID]]="","",IFERROR(IF([@Active]="No","Inactive",IF([@[On Hand Qty]]<0,"Negative Stock",IF([@[Available Qty]]<=0,"Out of Stock",IF([@[Available Qty]]<=[@[Reorder Point]],"Below Reorder",IF([@[Available Qty]]<=[@[Reorder Point]]*(1+'Settings'!$B$5),"Reorder Soon","OK"))))),"Check Inputs")) | AA7: =IF([@[Inventory Item ID]]="","",IFERROR(IF(OR([@[On Hand Qty]]<=0,[@[Oldest DOT Week Start]]=""),"",DATEDIF([@[Oldest DOT Week Start]],'Settings'!$B$3,"m")),"")) | AB7: =IF([@[Inventory Item ID]]="","",IF([@Active]="No","Inactive",IF([@[On Hand Qty]]<=0,"No Stock",IF([@[Oldest DOT Week Start]]="","Missing DOT Date",IF([@[Age Months]]>='Settings'!$B$6,"Age Review","Current"))))) | AC7: =IF([@[Inventory Item ID]]="","",IFERROR(IF(COUNTIFS(tblTransactions[Inventory Item ID],[@[Inventory Item ID]],tblTransactions[Date],">"&'Settings'!$B$4,tblTransactions[Date],"<="&'Settings'!$B$3)=0,"",MAXIFS(tblTransactions[Date],tblTransactions[Inventory Item ID],[@[Inventory Item ID]],tblTransactions[Date],">"&'Settings'!$B$4,tblTransactions[Date],"<="&'Settings'!$B$3)),""))
A8: Yes | B8: HOU-295TR-01 | C8: GDY-FMLHT-29575 | D8: Goodyear | E8: Fuel Max LHT | F8: 295/75R22.5 | G8: Trailer | H8: G | I8: Houston Yard | J8: B-01 | K8: 445 | L8: 7 | M8: 4 | N8: 10 | O8: 2 | P8: 0 | Q8: 4 | R8: 45145 | S8: =IF([@[Inventory Item ID]]="","",IFERROR(SUMIFS(tblTransactions[Inventory Effect],tblTransactions[Inventory Item ID],[@[Inventory Item ID]],tblTransactions[Inventory Effect],">0",tblTransactions[Date],">"&'Settings'!$B$4,tblTransactions[Date],"<="&'Settings'!$B$3),0)) | T8: =IF([@[Inventory Item ID]]="","",IFERROR(-SUMIFS(tblTransactions[Inventory Effect],tblTransactions[Inventory Item ID],[@[Inventory Item ID]],tblTransactions[Inventory Effect],"<0",tblTransactions[Date],">"&'Settings'!$B$4,tblTransactions[Date],"<="&'Settings'!$B$3),0)) | U8: =IF([@[Inventory Item ID]]="","",IFERROR([@[Opening Qty]]+[@[Qty In]]-[@[Qty Out]],0)) | V8: =IF([@[Inventory Item ID]]="","",IFERROR([@[On Hand Qty]]-[@[Reserved Qty]],0)) | W8: =IF([@[Inventory Item ID]]="","",IFERROR([@[On Hand Qty]]*[@[Unit Cost]],0)) | X8: =IF([@[Inventory Item ID]]="","",IFERROR(IF(AND([@Active]="Yes",[@[Available Qty]]<=[@[Reorder Point]],[@[Target Stock]]-[@[Available Qty]]-[@[Qty on Order]]>0),CEILING([@[Target Stock]]-[@[Available Qty]]-[@[Qty on Order]],[@[Order Pack Qty]]),0),0)) | Y8: =IF([@[Inventory Item ID]]="","",IFERROR([@[Suggested Order Qty]]*[@[Unit Cost]],0)) | Z8: =IF([@[Inventory Item ID]]="","",IFERROR(IF([@Active]="No","Inactive",IF([@[On Hand Qty]]<0,"Negative Stock",IF([@[Available Qty]]<=0,"Out of Stock",IF([@[Available Qty]]<=[@[Reorder Point]],"Below Reorder",IF([@[Available Qty]]<=[@[Reorder Point]]*(1+'Settings'!$B$5),"Reorder Soon","OK"))))),"Check Inputs")) | AA8: =IF([@[Inventory Item ID]]="","",IFERROR(IF(OR([@[On Hand Qty]]<=0,[@[Oldest DOT Week Start]]=""),"",DATEDIF([@[Oldest DOT Week Start]],'Settings'!$B$3,"m")),"")) | AB8: =IF([@[Inventory Item ID]]="","",IF([@Active]="No","Inactive",IF([@[On Hand Qty]]<=0,"No Stock",IF([@[Oldest DOT Week Start]]="","Missing DOT Date",IF([@[Age Months]]>='Settings'!$B$6,"Age Review","Current"))))) | AC8: =IF([@[Inventory Item ID]]="","",IFERROR(IF(COUNTIFS(tblTransactions[Inventory Item ID],[@[Inventory Item ID]],tblTransactions[Date],">"&'Settings'!$B$4,tblTransactions[Date],"<="&'Settings'!$B$3)=0,"",MAXIFS(tblTransactions[Date],tblTransactions[Inventory Item ID],[@[Inventory Item ID]],tblTransactions[Date],">"&'Settings'!$B$4,tblTransactions[Date],"<="&'Settings'!$B$3)),""))
A9: Yes | B9: HOU-11RST-01 | C9: CON-HSR2-11R | D9: Continental | E9: HSR2 SA | F9: 11R22.5 | G9: Steer | H9: H | I9: Houston Yard | J9: B-02 | K9: 510 | L9: 4 | M9: 3 | N9: 8 | O9: 2 | P9: 0 | Q9: 0 | R9: 45222 | S9: =IF([@[Inventory Item ID]]="","",IFERROR(SUMIFS(tblTransactions[Inventory Effect],tblTransactions[Inventory Item ID],[@[Inventory Item ID]],tblTransactions[Inventory Effect],">0",tblTransactions[Date],">"&'Settings'!$B$4,tblTransactions[Date],"<="&'Settings'!$B$3),0)) | T9: =IF([@[Inventory Item ID]]="","",IFERROR(-SUMIFS(tblTransactions[Inventory Effect],tblTransactions[Inventory Item ID],[@[Inventory Item ID]],tblTransactions[Inventory Effect],"<0",tblTransactions[Date],">"&'Settings'!$B$4,tblTransactions[Date],"<="&'Settings'!$B$3),0)) | U9: =IF([@[Inventory Item ID]]="","",IFERROR([@[Opening Qty]]+[@[Qty In]]-[@[Qty Out]],0)) | V9: =IF([@[Inventory Item ID]]="","",IFERROR([@[On Hand Qty]]-[@[Reserved Qty]],0)) | W9: =IF([@[Inventory Item ID]]="","",IFERROR([@[On Hand Qty]]*[@[Unit Cost]],0)) | X9: =IF([@[Inventory Item ID]]="","",IFERROR(IF(AND([@Active]="Yes",[@[Available Qty]]<=[@[Reorder Point]],[@[Target Stock]]-[@[Available Qty]]-[@[Qty on Order]]>0),CEILING([@[Target Stock]]-[@[Available Qty]]-[@[Qty on Order]],[@[Order Pack Qty]]),0),0)) | Y9: =IF([@[Inventory Item ID]]="","",IFERROR([@[Suggested Order Qty]]*[@[Unit Cost]],0)) | Z9: =IF([@[Inventory Item ID]]="","",IFERROR(IF([@Active]="No","Inactive",IF([@[On Hand Qty]]<0,"Negative Stock",IF([@[Available Qty]]<=0,"Out of Stock",IF([@[Available Qty]]<=[@[Reorder Point]],"Below Reorder",IF([@[Available Qty]]<=[@[Reorder Point]]*(1+'Settings'!$B$5),"Reorder Soon","OK"))))),"Check Inputs")) | AA9: =IF([@[Inventory Item ID]]="","",IFERROR(IF(OR([@[On Hand Qty]]<=0,[@[Oldest DOT Week Start]]=""),"",DATEDIF([@[Oldest DOT Week Start]],'Settings'!$B$3,"m")),"")) | AB9: =IF([@[Inventory Item ID]]="","",IF([@Active]="No","Inactive",IF([@[On Hand Qty]]<=0,"No Stock",IF([@[Oldest DOT Week Start]]="","Missing DOT Date",IF([@[Age Months]]>='Settings'!$B$6,"Age Review","Current"))))) | AC9: =IF([@[Inventory Item ID]]="","",IFERROR(IF(COUNTIFS(tblTransactions[Inventory Item ID],[@[Inventory Item ID]],tblTransactions[Date],">"&'Settings'!$B$4,tblTransactions[Date],"<="&'Settings'!$B$3)=0,"",MAXIFS(tblTransactions[Date],tblTransactions[Inventory Item ID],[@[Inventory Item ID]],tblTransactions[Date],">"&'Settings'!$B$4,tblTransactions[Date],"<="&'Settings'!$B$3)),""))
A10: Yes | B10: MOB-11RDR-01 | C10: FIR-FD663-11R | D10: Firestone | E10: FD663 | F10: 11R22.5 | G10: Drive | H10: H | I10: Mobile Service | J10: C-01 | K10: 475 | L10: 6 | M10: 4 | N10: 10 | O10: 2 | P10: 1 | Q10: 0 | R10: 45005 | S10: =IF([@[Inventory Item ID]]="","",IFERROR(SUMIFS(tblTransactions[Inventory Effect],tblTransactions[Inventory Item ID],[@[Inventory Item ID]],tblTransactions[Inventory Effect],">0",tblTransactions[Date],">"&'Settings'!$B$4,tblTransactions[Date],"<="&'Settings'!$B$3),0)) | T10: =IF([@[Inventory Item ID]]="","",IFERROR(-SUMIFS(tblTransactions[Inventory Effect],tblTransactions[Inventory Item ID],[@[Inventory Item ID]],tblTransactions[Inventory Effect],"<0",tblTransactions[Date],">"&'Settings'!$B$4,tblTransactions[Date],"<="&'Settings'!$B$3),0)) | U10: =IF([@[Inventory Item ID]]="","",IFERROR([@[Opening Qty]]+[@[Qty In]]-[@[Qty Out]],0)) | V10: =IF([@[Inventory Item ID]]="","",IFERROR([@[On Hand Qty]]-[@[Reserved Qty]],0)) | W10: =IF([@[Inventory Item ID]]="","",IFERROR([@[On Hand Qty]]*[@[Unit Cost]],0)) | X10: =IF([@[Inventory Item ID]]="","",IFERROR(IF(AND([@Active]="Yes",[@[Available Qty]]<=[@[Reorder Point]],[@[Target Stock]]-[@[Available Qty]]-[@[Qty on Order]]>0),CEILING([@[Target Stock]]-[@[Available Qty]]-[@[Qty on Order]],[@[Order Pack Qty]]),0),0)) | Y10: =IF([@[Inventory Item ID]]="","",IFERROR([@[Suggested Order Qty]]*[@[Unit Cost]],0)) | Z10: =IF([@[Inventory Item ID]]="","",IFERROR(IF([@Active]="No","Inactive",IF([@[On Hand Qty]]<0,"Negative Stock",IF([@[Available Qty]]<=0,"Out of Stock",IF([@[Available Qty]]<=[@[Reorder Point]],"Below Reorder",IF([@[Available Qty]]<=[@[Reorder Point]]*(1+'Settings'!$B$5),"Reorder Soon","OK"))))),"Check Inputs")) | AA10: =IF([@[Inventory Item ID]]="","",IFERROR(IF(OR([@[On Hand Qty]]<=0,[@[Oldest DOT Week Start]]=""),"",DATEDIF([@[Oldest DOT Week Start]],'Settings'!$B$3,"m")),"")) | AB10: =IF([@[Inventory Item ID]]="","",IF([@Active]="No","Inactive",IF([@[On Hand Qty]]<=0,"No Stock",IF([@[Oldest DOT Week Start]]="","Missing DOT Date",IF([@[Age Months]]>='Settings'!$B$6,"Age Review","Current"))))) | AC10: =IF([@[Inventory Item ID]]="","",IFERROR(IF(COUNTIFS(tblTransactions[Inventory Item ID],[@[Inventory Item ID]],tblTransactions[Date],">"&'Settings'!$B$4,tblTransactions[Date],"<="&'Settings'!$B$3)=0,"",MAXIFS(tblTransactions[Date],tblTransactions[Inventory Item ID],[@[Inventory Item ID]],tblTransactions[Date],">"&'Settings'!$B$4,tblTransactions[Date],"<="&'Settings'!$B$3)),""))
A11: Yes | B11: MOB-225MD-01 | C11: YOK-104ZR-225 | D11: Yokohama | E11: 104ZR | F11: 225/70R19.5 | G11: Medium-Duty Truck | H11: G | I11: Mobile Service | J11: C-02 | K11: 315 | L11: 5 | M11: 3 | N11: 8 | O11: 2 | P11: 0 | Q11: 2 | R11: 43864 | S11: =IF([@[Inventory Item ID]]="","",IFERROR(SUMIFS(tblTransactions[Inventory Effect],tblTransactions[Inventory Item ID],[@[Inventory Item ID]],tblTransactions[Inventory Effect],">0",tblTransactions[Date],">"&'Settings'!$B$4,tblTransactions[Date],"<="&'Settings'!$B$3),0)) | T11: =IF([@[Inventory Item ID]]="","",IFERROR(-SUMIFS(tblTransactions[Inventory Effect],tblTransactions[Inventory Item ID],[@[Inventory Item ID]],tblTransactions[Inventory Effect],"<0",tblTransactions[Date],">"&'Settings'!$B$4,tblTransactions[Date],"<="&'Settings'!$B$3),0)) | U11: =IF([@[Inventory Item ID]]="","",IFERROR([@[Opening Qty]]+[@[Qty In]]-[@[Qty Out]],0)) | V11: =IF([@[Inventory Item ID]]="","",IFERROR([@[On Hand Qty]]-[@[Reserved Qty]],0)) | W11: =IF([@[Inventory Item ID]]="","",IFERROR([@[On Hand Qty]]*[@[Unit Cost]],0)) | X11: =IF([@[Inventory Item ID]]="","",IFERROR(IF(AND([@Active]="Yes",[@[Available Qty]]<=[@[Reorder Point]],[@[Target Stock]]-[@[Available Qty]]-[@[Qty on Order]]>0),CEILING([@[Target Stock]]-[@[Available Qty]]-[@[Qty on Order]],[@[Order Pack Qty]]),0),0)) | Y11: =IF([@[Inventory Item ID]]="","",IFERROR([@[Suggested Order Qty]]*[@[Unit Cost]],0)) | Z11: =IF([@[Inventory Item ID]]="","",IFERROR(IF([@Active]="No","Inactive",IF([@[On Hand Qty]]<0,"Negative Stock",IF([@[Available Qty]]<=0,"Out of Stock",IF([@[Available Qty]]<=[@[Reorder Point]],"Below Reorder",IF([@[Available Qty]]<=[@[Reorder Point]]*(1+'Settings'!$B$5),"Reorder Soon","OK"))))),"Check Inputs")) | AA11: =IF([@[Inventory Item ID]]="","",IFERROR(IF(OR([@[On Hand Qty]]<=0,[@[Oldest DOT Week Start]]=""),"",DATEDIF([@[Oldest DOT Week Start]],'Settings'!$B$3,"m")),"")) | AB11: =IF([@[Inventory Item ID]]="","",IF([@Active]="No","Inactive",IF([@[On Hand Qty]]<=0,"No Stock",IF([@[Oldest DOT Week Start]]="","Missing DOT Date",IF([@[Age Months]]>='Settings'!$B$6,"Age Review","Current"))))) | AC11: =IF([@[Inventory Item ID]]="","",IFERROR(IF(COUNTIFS(tblTransactions[Inventory Item ID],[@[Inventory Item ID]],tblTransactions[Date],">"&'Settings'!$B$4,tblTransactions[Date],"<="&'Settings'!$B$3)=0,"",MAXIFS(tblTransactions[Date],tblTransactions[Inventory Item ID],[@[Inventory Item ID]],tblTransactions[Date],">"&'Settings'!$B$4,tblTransactions[Date],"<="&'Settings'!$B$3)),""))
A12: Yes | B12: DAL-265LT-01 | C12: MIC-DLTX-265 | D12: Michelin | E12: Defender LTX M/S | F12: 265/70R17 | G12: Light Truck | H12: E | I12: Dallas Main | J12: A-03 | K12: 235 | L12: 6 | M12: 2 | N12: 8 | O12: 1 | P12: 1 | Q12: 0 | R12: 45173 | S12: =IF([@[Inventory Item ID]]="","",IFERROR(SUMIFS(tblTransactions[Inventory Effect],tblTransactions[Inventory Item ID],[@[Inventory Item ID]],tblTransactions[Inventory Effect],">0",tblTransactions[Date],">"&'Settings'!$B$4,tblTransactions[Date],"<="&'Settings'!$B$3),0)) | T12: =IF([@[Inventory Item ID]]="","",IFERROR(-SUMIFS(tblTransactions[Inventory Effect],tblTransactions[Inventory Item ID],[@[Inventory Item ID]],tblTransactions[Inventory Effect],"<0",tblTransactions[Date],">"&'Settings'!$B$4,tblTransactions[Date],"<="&'Settings'!$B$3),0)) | U12: =IF([@[Inventory Item ID]]="","",IFERROR([@[Opening Qty]]+[@[Qty In]]-[@[Qty Out]],0)) | V12: =IF([@[Inventory Item ID]]="","",IFERROR([@[On Hand Qty]]-[@[Reserved Qty]],0)) | W12: =IF([@[Inventory Item ID]]="","",IFERROR([@[On Hand Qty]]*[@[Unit Cost]],0)) | X12: =IF([@[Inventory Item ID]]="","",IFERROR(IF(AND([@Active]="Yes",[@[Available Qty]]<=[@[Reorder Point]],[@[Target Stock]]-[@[Available Qty]]-[@[Qty on Order]]>0),CEILING([@[Target Stock]]-[@[Available Qty]]-[@[Qty on Order]],[@[Order Pack Qty]]),0),0)) | Y12: =IF([@[Inventory Item ID]]="","",IFERROR([@[Suggested Order Qty]]*[@[Unit Cost]],0)) | Z12: =IF([@[Inventory Item ID]]="","",IFERROR(IF([@Active]="No","Inactive",IF([@[On Hand Qty]]<0,"Negative Stock",IF([@[Available Qty]]<=0,"Out of Stock",IF([@[Available Qty]]<=[@[Reorder Point]],"Below Reorder",IF([@[Available Qty]]<=[@[Reorder Point]]*(1+'Settings'!$B$5),"Reorder Soon","OK"))))),"Check Inputs")) | AA12: =IF([@[Inventory Item ID]]="","",IFERROR(IF(OR([@[On Hand Qty]]<=0,[@[Oldest DOT Week Start]]=""),"",DATEDIF([@[Oldest DOT Week Start]],'Settings'!$B$3,"m")),"")) | AB12: =IF([@[Inventory Item ID]]="","",IF([@Active]="No","Inactive",IF([@[On Hand Qty]]<=0,"No Stock",IF([@[Oldest DOT Week Start]]="","Missing DOT Date",IF([@[Age Months]]>='Settings'!$B$6,"Age Review","Current"))))) | AC12: =IF([@[Inventory Item ID]]="","",IFERROR(IF(COUNTIFS(tblTransactions[Inventory Item ID],[@[Inventory Item ID]],tblTransactions[Date],">"&'Settings'!$B$4,tblTransactions[Date],"<="&'Settings'!$B$3)=0,"",MAXIFS(tblTransactions[Date],tblTransactions[Inventory Item ID],[@[Inventory Item ID]],tblTransactions[Date],">"&'Settings'!$B$4,tblTransactions[Date],"<="&'Settings'!$B$3)),""))
A13: Yes | B13: HOU-245LT-01 | C13: GDY-WWHT-245 | D13: Goodyear | E13: Wrangler Workhorse HT | F13: 245/75R16 | G13: Light Truck | H13: E | I13: Houston Yard | J13: B-03 | K13: 198 | L13: 9 | M13: 7 | N13: 12 | O13: 1 | P13: 0 | Q13: 0 | R13: 45243 | S13: =IF([@[Inventory Item ID]]="","",IFERROR(SUMIFS(tblTransactions[Inventory Effect],tblTransactions[Inventory Item ID],[@[Inventory Item ID]],tblTransactions[Inventory Effect],">0",tblTransactions[Date],">"&'Settings'!$B$4,tblTransactions[Date],"<="&'Settings'!$B$3),0)) | T13: =IF([@[Inventory Item ID]]="","",IFERROR(-SUMIFS(tblTransactions[Inventory Effect],tblTransactions[Inventory Item ID],[@[Inventory Item ID]],tblTransactions[Inventory Effect],"<0",tblTransactions[Date],">"&'Settings'!$B$4,tblTransactions[Date],"<="&'Settings'!$B$3),0)) | U13: =IF([@[Inventory Item ID]]="","",IFERROR([@[Opening Qty]]+[@[Qty In]]-[@[Qty Out]],0)) | V13: =IF([@[Inventory Item ID]]="","",IFERROR([@[On Hand Qty]]-[@[Reserved Qty]],0)) | W13: =IF([@[Inventory Item ID]]="","",IFERROR([@[On Hand Qty]]*[@[Unit Cost]],0)) | X13: =IF([@[Inventory Item ID]]="","",IFERROR(IF(AND([@Active]="Yes",[@[Available Qty]]<=[@[Reorder Point]],[@[Target Stock]]-[@[Available Qty]]-[@[Qty on Order]]>0),CEILING([@[Target Stock]]-[@[Available Qty]]-[@[Qty on Order]],[@[Order Pack Qty]]),0),0)) | Y13: =IF([@[Inventory Item ID]]="","",IFERROR([@[Suggested Order Qty]]*[@[Unit Cost]],0)) | Z13: =IF([@[Inventory Item ID]]="","",IFERROR(IF([@Active]="No","Inactive",IF([@[On Hand Qty]]<0,"Negative Stock",IF([@[Available Qty]]<=0,"Out of Stock",IF([@[Available Qty]]<=[@[Reorder Point]],"Below Reorder",IF([@[Available Qty]]<=[@[Reorder Point]]*(1+'Settings'!$B$5),"Reorder Soon","OK"))))),"Check Inputs")) | AA13: =IF([@[Inventory Item ID]]="","",IFERROR(IF(OR([@[On Hand Qty]]<=0,[@[Oldest DOT Week Start]]=""),"",DATEDIF([@[Oldest DOT Week Start]],'Settings'!$B$3,"m")),"")) | AB13: =IF([@[Inventory Item ID]]="","",IF([@Active]="No","Inactive",IF([@[On Hand Qty]]<=0,"No Stock",IF([@[Oldest DOT Week Start]]="","Missing DOT Date",IF([@[Age Months]]>='Settings'!$B$6,"Age Review","Current"))))) | AC13: =IF([@[Inventory Item ID]]="","",IFERROR(IF(COUNTIFS(tblTransactions[Inventory Item ID],[@[Inventory Item ID]],tblTransactions[Date],">"&'Settings'!$B$4,tblTransactions[Date],"<="&'Settings'!$B$3)=0,"",MAXIFS(tblTransactions[Date],tblTransactions[Inventory Item ID],[@[Inventory Item ID]],tblTransactions[Date],">"&'Settings'!$B$4,tblTransactions[Date],"<="&'Settings'!$B$3)),""))
A14: Yes | B14: MOB-235SV-01 | C14: HAN-VANTRA-235 | D14: Hankook | E14: Vantra LT RA18 | F14: 235/65R16C | G14: Service Van | H14: E | I14: Mobile Service | J14: C-03 | K14: 182 | L14: 3 | M14: 4 | N14: 10 | O14: 2 | P14: 2 | Q14: 0 | R14: 45341 | S14: =IF([@[Inventory Item ID]]="","",IFERROR(SUMIFS(tblTransactions[Inventory Effect],tblTransactions[Inventory Item ID],[@[Inventory Item ID]],tblTransactions[Inventory Effect],">0",tblTransactions[Date],">"&'Settings'!$B$4,tblTransactions[Date],"<="&'Settings'!$B$3),0)) | T14: =IF([@[Inventory Item ID]]="","",IFERROR(-SUMIFS(tblTransactions[Inventory Effect],tblTransactions[Inventory Item ID],[@[Inventory Item ID]],tblTransactions[Inventory Effect],"<0",tblTransactions[Date],">"&'Settings'!$B$4,tblTransactions[Date],"<="&'Settings'!$B$3),0)) | U14: =IF([@[Inventory Item ID]]="","",IFERROR([@[Opening Qty]]+[@[Qty In]]-[@[Qty Out]],0)) | V14: =IF([@[Inventory Item ID]]="","",IFERROR([@[On Hand Qty]]-[@[Reserved Qty]],0)) | W14: =IF([@[Inventory Item ID]]="","",IFERROR([@[On Hand Qty]]*[@[Unit Cost]],0)) | X14: =IF([@[Inventory Item ID]]="","",IFERROR(IF(AND([@Active]="Yes",[@[Available Qty]]<=[@[Reorder Point]],[@[Target Stock]]-[@[Available Qty]]-[@[Qty on Order]]>0),CEILING([@[Target Stock]]-[@[Available Qty]]-[@[Qty on Order]],[@[Order Pack Qty]]),0),0)) | Y14: =IF([@[Inventory Item ID]]="","",IFERROR([@[Suggested Order Qty]]*[@[Unit Cost]],0)) | Z14: =IF([@[Inventory Item ID]]="","",IFERROR(IF([@Active]="No","Inactive",IF([@[On Hand Qty]]<0,"Negative Stock",IF([@[Available Qty]]<=0,"Out of Stock",IF([@[Available Qty]]<=[@[Reorder Point]],"Below Reorder",IF([@[Available Qty]]<=[@[Reorder Point]]*(1+'Settings'!$B$5),"Reorder Soon","OK"))))),"Check Inputs")) | AA14: =IF([@[Inventory Item ID]]="","",IFERROR(IF(OR([@[On Hand Qty]]<=0,[@[Oldest DOT Week Start]]=""),"",DATEDIF([@[Oldest DOT Week Start]],'Settings'!$B$3,"m")),"")) | AB14: =IF([@[Inventory Item ID]]="","",IF([@Active]="No","Inactive",IF([@[On Hand Qty]]<=0,"No Stock",IF([@[Oldest DOT Week Start]]="","Missing DOT Date",IF([@[Age Months]]>='Settings'!$B$6,"Age Review","Current"))))) | AC14: =IF([@[Inventory Item ID]]="","",IFERROR(IF(COUNTIFS(tblTransactions[Inventory Item ID],[@[Inventory Item ID]],tblTransactions[Date],">"&'Settings'!$B$4,tblTransactions[Date],"<="&'Settings'!$B$3)=0,"",MAXIFS(tblTransactions[Date],tblTransactions[Inventory Item ID],[@[Inventory Item ID]],tblTransactions[Date],">"&'Settings'!$B$4,tblTransactions[Date],"<="&'Settings'!$B$3)),""))
S15: =IF([@[Inventory Item ID]]="","",IFERROR(SUMIFS(tblTransactions[Inventory Effect],tblTransactions[Inventory Item ID],[@[Inventory Item ID]],tblTransactions[Inventory Effect],">0",tblTransactions[Date],">"&'Settings'!$B$4,tblTransactions[Date],"<="&'Settings'!$B$3),0)) | T15: =IF([@[Inventory Item ID]]="","",IFERROR(-SUMIFS(tblTransactions[Inventory Effect],tblTransactions[Inventory Item ID],[@[Inventory Item ID]],tblTransactions[Inventory Effect],"<0",tblTransactions[Date],">"&'Settings'!$B$4,tblTransactions[Date],"<="&'Settings'!$B$3),0)) | U15: =IF([@[Inventory Item ID]]="","",IFERROR([@[Opening Qty]]+[@[Qty In]]-[@[Qty Out]],0)) | V15: =IF([@[Inventory Item ID]]="","",IFERROR([@[On Hand Qty]]-[@[Reserved Qty]],0)) | W15: =IF([@[Inventory Item ID]]="","",IFERROR([@[On Hand Qty]]*[@[Unit Cost]],0)) | X15: =IF([@[Inventory Item ID]]="","",IFERROR(IF(AND([@Active]="Yes",[@[Available Qty]]<=[@[Reorder Point]],[@[Target Stock]]-[@[Available Qty]]-[@[Qty on Order]]>0),CEILING([@[Target Stock]]-[@[Available Qty]]-[@[Qty on Order]],[@[Order Pack Qty]]),0),0)) | Y15: =IF([@[Inventory Item ID]]="","",IFERROR([@[Suggested Order Qty]]*[@[Unit Cost]],0)) | Z15: =IF([@[Inventory Item ID]]="","",IFERROR(IF([@Active]="No","Inactive",IF([@[On Hand Qty]]<0,"Negative Stock",IF([@[Available Qty]]<=0,"Out of Stock",IF([@[Available Qty]]<=[@[Reorder Point]],"Below Reorder",IF([@[Available Qty]]<=[@[Reorder Point]]*(1+'Settings'!$B$5),"Reorder Soon","OK"))))),"Check Inputs")) | AA15: =IF([@[Inventory Item ID]]="","",IFERROR(IF(OR([@[On Hand Qty]]<=0,[@[Oldest DOT Week Start]]=""),"",DATEDIF([@[Oldest DOT Week Start]],'Settings'!$B$3,"m")),"")) | AB15: =IF([@[Inventory Item ID]]="","",IF([@Active]="No","Inactive",IF([@[On Hand Qty]]<=0,"No Stock",IF([@[Oldest DOT Week Start]]="","Missing DOT Date",IF([@[Age Months]]>='Settings'!$B$6,"Age Review","Current"))))) | AC15: =IF([@[Inventory Item ID]]="","",IFERROR(IF(COUNTIFS(tblTransactions[Inventory Item ID],[@[Inventory Item ID]],tblTransactions[Date],">"&'Settings'!$B$4,tblTransactions[Date],"<="&'Settings'!$B$3)=0,"",MAXIFS(tblTransactions[Date],tblTransactions[Inventory Item ID],[@[Inventory Item ID]],tblTransactions[Date],">"&'Settings'!$B$4,tblTransactions[Date],"<="&'Settings'!$B$3)),""))
S16: =IF([@[Inventory Item ID]]="","",IFERROR(SUMIFS(tblTransactions[Inventory Effect],tblTransactions[Inventory Item ID],[@[Inventory Item ID]],tblTransactions[Inventory Effect],">0",tblTransactions[Date],">"&'Settings'!$B$4,tblTransactions[Date],"<="&'Settings'!$B$3),0)) | T16: =IF([@[Inventory Item ID]]="","",IFERROR(-SUMIFS(tblTransactions[Inventory Effect],tblTransactions[Inventory Item ID],[@[Inventory Item ID]],tblTransactions[Inventory Effect],"<0",tblTransactions[Date],">"&'Settings'!$B$4,tblTransactions[Date],"<="&'Settings'!$B$3),0)) | U16: =IF([@[Inventory Item ID]]="","",IFERROR([@[Opening Qty]]+[@[Qty In]]-[@[Qty Out]],0)) | V16: =IF([@[Inventory Item ID]]="","",IFERROR([@[On Hand Qty]]-[@[Reserved Qty]],0)) | W16: =IF([@[Inventory Item ID]]="","",IFERROR([@[On Hand Qty]]*[@[Unit Cost]],0)) | X16: =IF([@[Inventory Item ID]]="","",IFERROR(IF(AND([@Active]="Yes",[@[Available Qty]]<=[@[Reorder Point]],[@[Target Stock]]-[@[Available Qty]]-[@[Qty on Order]]>0),CEILING([@[Target Stock]]-[@[Available Qty]]-[@[Qty on Order]],[@[Order Pack Qty]]),0),0)) | Y16: =IF([@[Inventory Item ID]]="","",IFERROR([@[Suggested Order Qty]]*[@[Unit Cost]],0)) | Z16: =IF([@[Inventory Item ID]]="","",IFERROR(IF([@Active]="No","Inactive",IF([@[On Hand Qty]]<0,"Negative Stock",IF([@[Available Qty]]<=0,"Out of Stock",IF([@[Available Qty]]<=[@[Reorder Point]],"Below Reorder",IF([@[Available Qty]]<=[@[Reorder Point]]*(1+'Settings'!$B$5),"Reorder Soon","OK"))))),"Check Inputs")) | AA16: =IF([@[Inventory Item ID]]="","",IFERROR(IF(OR([@[On Hand Qty]]<=0,[@[Oldest DOT Week Start]]=""),"",DATEDIF([@[Oldest DOT Week Start]],'Settings'!$B$3,"m")),"")) | AB16: =IF([@[Inventory Item ID]]="","",IF([@Active]="No","Inactive",IF([@[On Hand Qty]]<=0,"No Stock",IF([@[Oldest DOT Week Start]]="","Missing DOT Date",IF([@[Age Months]]>='Settings'!$B$6,"Age Review","Current"))))) | AC16: =IF([@[Inventory Item ID]]="","",IFERROR(IF(COUNTIFS(tblTransactions[Inventory Item ID],[@[Inventory Item ID]],tblTransactions[Date],">"&'Settings'!$B$4,tblTransactions[Date],"<="&'Settings'!$B$3)=0,"",MAXIFS(tblTransactions[Date],tblTransactions[Inventory Item ID],[@[Inventory Item ID]],tblTransactions[Date],">"&'Settings'!$B$4,tblTransactions[Date],"<="&'Settings'!$B$3)),""))
S17: =IF([@[Inventory Item ID]]="","",IFERROR(SUMIFS(tblTransactions[Inventory Effect],tblTransactions[Inventory Item ID],[@[Inventory Item ID]],tblTransactions[Inventory Effect],">0",tblTransactions[Date],">"&'Settings'!$B$4,tblTransactions[Date],"<="&'Settings'!$B$3),0)) | T17: =IF([@[Inventory Item ID]]="","",IFERROR(-SUMIFS(tblTransactions[Inventory Effect],tblTransactions[Inventory Item ID],[@[Inventory Item ID]],tblTransactions[Inventory Effect],"<0",tblTransactions[Date],">"&'Settings'!$B$4,tblTransactions[Date],"<="&'Settings'!$B$3),0)) | U17: =IF([@[Inventory Item ID]]="","",IFERROR([@[Opening Qty]]+[@[Qty In]]-[@[Qty Out]],0)) | V17: =IF([@[Inventory Item ID]]="","",IFERROR([@[On Hand Qty]]-[@[Reserved Qty]],0)) | W17: =IF([@[Inventory Item ID]]="","",IFERROR([@[On Hand Qty]]*[@[Unit Cost]],0)) | X17: =IF([@[Inventory Item ID]]="","",IFERROR(IF(AND([@Active]="Yes",[@[Available Qty]]<=[@[Reorder Point]],[@[Target Stock]]-[@[Available Qty]]-[@[Qty on Order]]>0),CEILING([@[Target Stock]]-[@[Available Qty]]-[@[Qty on Order]],[@[Order Pack Qty]]),0),0)) | Y17: =IF([@[Inventory Item ID]]="","",IFERROR([@[Suggested Order Qty]]*[@[Unit Cost]],0)) | Z17: =IF([@[Inventory Item ID]]="","",IFERROR(IF([@Active]="No","Inactive",IF([@[On Hand Qty]]<0,"Negative Stock",IF([@[Available Qty]]<=0,"Out of Stock",IF([@[Available Qty]]<=[@[Reorder Point]],"Below Reorder",IF([@[Available Qty]]<=[@[Reorder Point]]*(1+'Settings'!$B$5),"Reorder Soon","OK"))))),"Check Inputs")) | AA17: =IF([@[Inventory Item ID]]="","",IFERROR(IF(OR([@[On Hand Qty]]<=0,[@[Oldest DOT Week Start]]=""),"",DATEDIF([@[Oldest DOT Week Start]],'Settings'!$B$3,"m")),"")) | AB17: =IF([@[Inventory Item ID]]="","",IF([@Active]="No","Inactive",IF([@[On Hand Qty]]<=0,"No Stock",IF([@[Oldest DOT Week Start]]="","Missing DOT Date",IF([@[Age Months]]>='Settings'!$B$6,"Age Review","Current"))))) | AC17: =IF([@[Inventory Item ID]]="","",IFERROR(IF(COUNTIFS(tblTransactions[Inventory Item ID],[@[Inventory Item ID]],tblTransactions[Date],">"&'Settings'!$B$4,tblTransactions[Date],"<="&'Settings'!$B$3)=0,"",MAXIFS(tblTransactions[Date],tblTransactions[Inventory Item ID],[@[Inventory Item ID]],tblTransactions[Date],">"&'Settings'!$B$4,tblTransactions[Date],"<="&'Settings'!$B$3)),""))
S18: =IF([@[Inventory Item ID]]="","",IFERROR(SUMIFS(tblTransactions[Inventory Effect],tblTransactions[Inventory Item ID],[@[Inventory Item ID]],tblTransactions[Inventory Effect],">0",tblTransactions[Date],">"&'Settings'!$B$4,tblTransactions[Date],"<="&'Settings'!$B$3),0)) | T18: =IF([@[Inventory Item ID]]="","",IFERROR(-SUMIFS(tblTransactions[Inventory Effect],tblTransactions[Inventory Item ID],[@[Inventory Item ID]],tblTransactions[Inventory Effect],"<0",tblTransactions[Date],">"&'Settings'!$B$4,tblTransactions[Date],"<="&'Settings'!$B$3),0)) | U18: =IF([@[Inventory Item ID]]="","",IFERROR([@[Opening Qty]]+[@[Qty In]]-[@[Qty Out]],0)) | V18: =IF([@[Inventory Item ID]]="","",IFERROR([@[On Hand Qty]]-[@[Reserved Qty]],0)) | W18: =IF([@[Inventory Item ID]]="","",IFERROR([@[On Hand Qty]]*[@[Unit Cost]],0)) | X18: =IF([@[Inventory Item ID]]="","",IFERROR(IF(AND([@Active]="Yes",[@[Available Qty]]<=[@[Reorder Point]],[@[Target Stock]]-[@[Available Qty]]-[@[Qty on Order]]>0),CEILING([@[Target Stock]]-[@[Available Qty]]-[@[Qty on Order]],[@[Order Pack Qty]]),0),0)) | Y18: =IF([@[Inventory Item ID]]="","",IFERROR([@[Suggested Order Qty]]*[@[Unit Cost]],0)) | Z18: =IF([@[Inventory Item ID]]="","",IFERROR(IF([@Active]="No","Inactive",IF([@[On Hand Qty]]<0,"Negative Stock",IF([@[Available Qty]]<=0,"Out of Stock",IF([@[Available Qty]]<=[@[Reorder Point]],"Below Reorder",IF([@[Available Qty]]<=[@[Reorder Point]]*(1+'Settings'!$B$5),"Reorder Soon","OK"))))),"Check Inputs")) | AA18: =IF([@[Inventory Item ID]]="","",IFERROR(IF(OR([@[On Hand Qty]]<=0,[@[Oldest DOT Week Start]]=""),"",DATEDIF([@[Oldest DOT Week Start]],'Settings'!$B$3,"m")),"")) | AB18: =IF([@[Inventory Item ID]]="","",IF([@Active]="No","Inactive",IF([@[On Hand Qty]]<=0,"No Stock",IF([@[Oldest DOT Week Start]]="","Missing DOT Date",IF([@[Age Months]]>='Settings'!$B$6,"Age Review","Current"))))) | AC18: =IF([@[Inventory Item ID]]="","",IFERROR(IF(COUNTIFS(tblTransactions[Inventory Item ID],[@[Inventory Item ID]],tblTransactions[Date],">"&'Settings'!$B$4,tblTransactions[Date],"<="&'Settings'!$B$3)=0,"",MAXIFS(tblTransactions[Date],tblTransactions[Inventory Item ID],[@[Inventory Item ID]],tblTransactions[Date],">"&'Settings'!$B$4,tblTransactions[Date],"<="&'Settings'!$B$3)),""))
S19: =IF([@[Inventory Item ID]]="","",IFERROR(SUMIFS(tblTransactions[Inventory Effect],tblTransactions[Inventory Item ID],[@[Inventory Item ID]],tblTransactions[Inventory Effect],">0",tblTransactions[Date],">"&'Settings'!$B$4,tblTransactions[Date],"<="&'Settings'!$B$3),0)) | T19: =IF([@[Inventory Item ID]]="","",IFERROR(-SUMIFS(tblTransactions[Inventory Effect],tblTransactions[Inventory Item ID],[@[Inventory Item ID]],tblTransactions[Inventory Effect],"<0",tblTransactions[Date],">"&'Settings'!$B$4,tblTransactions[Date],"<="&'Settings'!$B$3),0)) | U19: =IF([@[Inventory Item ID]]="","",IFERROR([@[Opening Qty]]+[@[Qty In]]-[@[Qty Out]],0)) | V19: =IF([@[Inventory Item ID]]="","",IFERROR([@[On Hand Qty]]-[@[Reserved Qty]],0)) | W19: =IF([@[Inventory Item ID]]="","",IFERROR([@[On Hand Qty]]*[@[Unit Cost]],0)) | X19: =IF([@[Inventory Item ID]]="","",IFERROR(IF(AND([@Active]="Yes",[@[Available Qty]]<=[@[Reorder Point]],[@[Target Stock]]-[@[Available Qty]]-[@[Qty on Order]]>0),CEILING([@[Target Stock]]-[@[Available Qty]]-[@[Qty on Order]],[@[Order Pack Qty]]),0),0)) | Y19: =IF([@[Inventory Item ID]]="","",IFERROR([@[Suggested Order Qty]]*[@[Unit Cost]],0)) | Z19: =IF([@[Inventory Item ID]]="","",IFERROR(IF([@Active]="No","Inactive",IF([@[On Hand Qty]]<0,"Negative Stock",IF([@[Available Qty]]<=0,"Out of Stock",IF([@[Available Qty]]<=[@[Reorder Point]],"Below Reorder",IF([@[Available Qty]]<=[@[Reorder Point]]*(1+'Settings'!$B$5),"Reorder Soon","OK"))))),"Check Inputs")) | AA19: =IF([@[Inventory Item ID]]="","",IFERROR(IF(OR([@[On Hand Qty]]<=0,[@[Oldest DOT Week Start]]=""),"",DATEDIF([@[Oldest DOT Week Start]],'Settings'!$B$3,"m")),"")) | AB19: =IF([@[Inventory Item ID]]="","",IF([@Active]="No","Inactive",IF([@[On Hand Qty]]<=0,"No Stock",IF([@[Oldest DOT Week Start]]="","Missing DOT Date",IF([@[Age Months]]>='Settings'!$B$6,"Age Review","Current"))))) | AC19: =IF([@[Inventory Item ID]]="","",IFERROR(IF(COUNTIFS(tblTransactions[Inventory Item ID],[@[Inventory Item ID]],tblTransactions[Date],">"&'Settings'!$B$4,tblTransactions[Date],"<="&'Settings'!$B$3)=0,"",MAXIFS(tblTransactions[Date],tblTransactions[Inventory Item ID],[@[Inventory Item ID]],tblTransactions[Date],">"&'Settings'!$B$4,tblTransactions[Date],"<="&'Settings'!$B$3)),""))
S20: =IF([@[Inventory Item ID]]="","",IFERROR(SUMIFS(tblTransactions[Inventory Effect],tblTransactions[Inventory Item ID],[@[Inventory Item ID]],tblTransactions[Inventory Effect],">0",tblTransactions[Date],">"&'Settings'!$B$4,tblTransactions[Date],"<="&'Settings'!$B$3),0)) | T20: =IF([@[Inventory Item ID]]="","",IFERROR(-SUMIFS(tblTransactions[Inventory Effect],tblTransactions[Inventory Item ID],[@[Inventory Item ID]],tblTransactions[Inventory Effect],"<0",tblTransactions[Date],">"&'Settings'!$B$4,tblTransactions[Date],"<="&'Settings'!$B$3),0)) | U20: =IF([@[Inventory Item ID]]="","",IFERROR([@[Opening Qty]]+[@[Qty In]]-[@[Qty Out]],0)) | V20: =IF([@[Inventory Item ID]]="","",IFERROR([@[On Hand Qty]]-[@[Reserved Qty]],0)) | W20: =IF([@[Inventory Item ID]]="","",IFERROR([@[On Hand Qty]]*[@[Unit Cost]],0)) | X20: =IF([@[Inventory Item ID]]="","",IFERROR(IF(AND([@Active]="Yes",[@[Available Qty]]<=[@[Reorder Point]],[@[Target Stock]]-[@[Available Qty]]-[@[Qty on Order]]>0),CEILING([@[Target Stock]]-[@[Available Qty]]-[@[Qty on Order]],[@[Order Pack Qty]]),0),0)) | Y20: =IF([@[Inventory Item ID]]="","",IFERROR([@[Suggested Order Qty]]*[@[Unit Cost]],0)) | Z20: =IF([@[Inventory Item ID]]="","",IFERROR(IF([@Active]="No","Inactive",IF([@[On Hand Qty]]<0,"Negative Stock",IF([@[Available Qty]]<=0,"Out of Stock",IF([@[Available Qty]]<=[@[Reorder Point]],"Below Reorder",IF([@[Available Qty]]<=[@[Reorder Point]]*(1+'Settings'!$B$5),"Reorder Soon","OK"))))),"Check Inputs")) | AA20: =IF([@[Inventory Item ID]]="","",IFERROR(IF(OR([@[On Hand Qty]]<=0,[@[Oldest DOT Week Start]]=""),"",DATEDIF([@[Oldest DOT Week Start]],'Settings'!$B$3,"m")),"")) | AB20: =IF([@[Inventory Item ID]]="","",IF([@Active]="No","Inactive",IF([@[On Hand Qty]]<=0,"No Stock",IF([@[Oldest DOT Week Start]]="","Missing DOT Date",IF([@[Age Months]]>='Settings'!$B$6,"Age Review","Current"))))) | AC20: =IF([@[Inventory Item ID]]="","",IFERROR(IF(COUNTIFS(tblTransactions[Inventory Item ID],[@[Inventory Item ID]],tblTransactions[Date],">"&'Settings'!$B$4,tblTransactions[Date],"<="&'Settings'!$B$3)=0,"",MAXIFS(tblTransactions[Date],tblTransactions[Inventory Item ID],[@[Inventory Item ID]],tblTransactions[Date],">"&'Settings'!$B$4,tblTransactions[Date],"<="&'Settings'!$B$3)),""))
S21: =IF([@[Inventory Item ID]]="","",IFERROR(SUMIFS(tblTransactions[Inventory Effect],tblTransactions[Inventory Item ID],[@[Inventory Item ID]],tblTransactions[Inventory Effect],">0",tblTransactions[Date],">"&'Settings'!$B$4,tblTransactions[Date],"<="&'Settings'!$B$3),0)) | T21: =IF([@[Inventory Item ID]]="","",IFERROR(-SUMIFS(tblTransactions[Inventory Effect],tblTransactions[Inventory Item ID],[@[Inventory Item ID]],tblTransactions[Inventory Effect],"<0",tblTransactions[Date],">"&'Settings'!$B$4,tblTransactions[Date],"<="&'Settings'!$B$3),0)) | U21: =IF([@[Inventory Item ID]]="","",IFERROR([@[Opening Qty]]+[@[Qty In]]-[@[Qty Out]],0)) | V21: =IF([@[Inventory Item ID]]="","",IFERROR([@[On Hand Qty]]-[@[Reserved Qty]],0)) | W21: =IF([@[Inventory Item ID]]="","",IFERROR([@[On Hand Qty]]*[@[Unit Cost]],0)) | X21: =IF([@[Inventory Item ID]]="","",IFERROR(IF(AND([@Active]="Yes",[@[Available Qty]]<=[@[Reorder Point]],[@[Target Stock]]-[@[Available Qty]]-[@[Qty on Order]]>0),CEILING([@[Target Stock]]-[@[Available Qty]]-[@[Qty on Order]],[@[Order Pack Qty]]),0),0)) | Y21: =IF([@[Inventory Item ID]]="","",IFERROR([@[Suggested Order Qty]]*[@[Unit Cost]],0)) | Z21: =IF([@[Inventory Item ID]]="","",IFERROR(IF([@Active]="No","Inactive",IF([@[On Hand Qty]]<0,"Negative Stock",IF([@[Available Qty]]<=0,"Out of Stock",IF([@[Available Qty]]<=[@[Reorder Point]],"Below Reorder",IF([@[Available Qty]]<=[@[Reorder Point]]*(1+'Settings'!$B$5),"Reorder Soon","OK"))))),"Check Inputs")) | AA21: =IF([@[Inventory Item ID]]="","",IFERROR(IF(OR([@[On Hand Qty]]<=0,[@[Oldest DOT Week Start]]=""),"",DATEDIF([@[Oldest DOT Week Start]],'Settings'!$B$3,"m")),"")) | AB21: =IF([@[Inventory Item ID]]="","",IF([@Active]="No","Inactive",IF([@[On Hand Qty]]<=0,"No Stock",IF([@[Oldest DOT Week Start]]="","Missing DOT Date",IF([@[Age Months]]>='Settings'!$B$6,"Age Review","Current"))))) | AC21: =IF([@[Inventory Item ID]]="","",IFERROR(IF(COUNTIFS(tblTransactions[Inventory Item ID],[@[Inventory Item ID]],tblTransactions[Date],">"&'Settings'!$B$4,tblTransactions[Date],"<="&'Settings'!$B$3)=0,"",MAXIFS(tblTransactions[Date],tblTransactions[Inventory Item ID],[@[Inventory Item ID]],tblTransactions[Date],">"&'Settings'!$B$4,tblTransactions[Date],"<="&'Settings'!$B$3)),""))
S22: =IF([@[Inventory Item ID]]="","",IFERROR(SUMIFS(tblTransactions[Inventory Effect],tblTransactions[Inventory Item ID],[@[Inventory Item ID]],tblTransactions[Inventory Effect],">0",tblTransactions[Date],">"&'Settings'!$B$4,tblTransactions[Date],"<="&'Settings'!$B$3),0)) | T22: =IF([@[Inventory Item ID]]="","",IFERROR(-SUMIFS(tblTransactions[Inventory Effect],tblTransactions[Inventory Item ID],[@[Inventory Item ID]],tblTransactions[Inventory Effect],"<0",tblTransactions[Date],">"&'Settings'!$B$4,tblTransactions[Date],"<="&'Settings'!$B$3),0)) | U22: =IF([@[Inventory Item ID]]="","",IFERROR([@[Opening Qty]]+[@[Qty In]]-[@[Qty Out]],0)) | V22: =IF([@[Inventory Item ID]]="","",IFERROR([@[On Hand Qty]]-[@[Reserved Qty]],0)) | W22: =IF([@[Inventory Item ID]]="","",IFERROR([@[On Hand Qty]]*[@[Unit Cost]],0)) | X22: =IF([@[Inventory Item ID]]="","",IFERROR(IF(AND([@Active]="Yes",[@[Available Qty]]<=[@[Reorder Point]],[@[Target Stock]]-[@[Available Qty]]-[@[Qty on Order]]>0),CEILING([@[Target Stock]]-[@[Available Qty]]-[@[Qty on Order]],[@[Order Pack Qty]]),0),0)) | Y22: =IF([@[Inventory Item ID]]="","",IFERROR([@[Suggested Order Qty]]*[@[Unit Cost]],0)) | Z22: =IF([@[Inventory Item ID]]="","",IFERROR(IF([@Active]="No","Inactive",IF([@[On Hand Qty]]<0,"Negative Stock",IF([@[Available Qty]]<=0,"Out of Stock",IF([@[Available Qty]]<=[@[Reorder Point]],"Below Reorder",IF([@[Available Qty]]<=[@[Reorder Point]]*(1+'Settings'!$B$5),"Reorder Soon","OK"))))),"Check Inputs")) | AA22: =IF([@[Inventory Item ID]]="","",IFERROR(IF(OR([@[On Hand Qty]]<=0,[@[Oldest DOT Week Start]]=""),"",DATEDIF([@[Oldest DOT Week Start]],'Settings'!$B$3,"m")),"")) | AB22: =IF([@[Inventory Item ID]]="","",IF([@Active]="No","Inactive",IF([@[On Hand Qty]]<=0,"No Stock",IF([@[Oldest DOT Week Start]]="","Missing DOT Date",IF([@[Age Months]]>='Settings'!$B$6,"Age Review","Current"))))) | AC22: =IF([@[Inventory Item ID]]="","",IFERROR(IF(COUNTIFS(tblTransactions[Inventory Item ID],[@[Inventory Item ID]],tblTransactions[Date],">"&'Settings'!$B$4,tblTransactions[Date],"<="&'Settings'!$B$3)=0,"",MAXIFS(tblTransactions[Date],tblTransactions[Inventory Item ID],[@[Inventory Item ID]],tblTransactions[Date],">"&'Settings'!$B$4,tblTransactions[Date],"<="&'Settings'!$B$3)),""))
S23: =IF([@[Inventory Item ID]]="","",IFERROR(SUMIFS(tblTransactions[Inventory Effect],tblTransactions[Inventory Item ID],[@[Inventory Item ID]],tblTransactions[Inventory Effect],">0",tblTransactions[Date],">"&'Settings'!$B$4,tblTransactions[Date],"<="&'Settings'!$B$3),0)) | T23: =IF([@[Inventory Item ID]]="","",IFERROR(-SUMIFS(tblTransactions[Inventory Effect],tblTransactions[Inventory Item ID],[@[Inventory Item ID]],tblTransactions[Inventory Effect],"<0",tblTransactions[Date],">"&'Settings'!$B$4,tblTransactions[Date],"<="&'Settings'!$B$3),0)) | U23: =IF([@[Inventory Item ID]]="","",IFERROR([@[Opening Qty]]+[@[Qty In]]-[@[Qty Out]],0)) | V23: =IF([@[Inventory Item ID]]="","",IFERROR([@[On Hand Qty]]-[@[Reserved Qty]],0)) | W23: =IF([@[Inventory Item ID]]="","",IFERROR([@[On Hand Qty]]*[@[Unit Cost]],0)) | X23: =IF([@[Inventory Item ID]]="","",IFERROR(IF(AND([@Active]="Yes",[@[Available Qty]]<=[@[Reorder Point]],[@[Target Stock]]-[@[Available Qty]]-[@[Qty on Order]]>0),CEILING([@[Target Stock]]-[@[Available Qty]]-[@[Qty on Order]],[@[Order Pack Qty]]),0),0)) | Y23: =IF([@[Inventory Item ID]]="","",IFERROR([@[Suggested Order Qty]]*[@[Unit Cost]],0)) | Z23: =IF([@[Inventory Item ID]]="","",IFERROR(IF([@Active]="No","Inactive",IF([@[On Hand Qty]]<0,"Negative Stock",IF([@[Available Qty]]<=0,"Out of Stock",IF([@[Available Qty]]<=[@[Reorder Point]],"Below Reorder",IF([@[Available Qty]]<=[@[Reorder Point]]*(1+'Settings'!$B$5),"Reorder Soon","OK"))))),"Check Inputs")) | AA23: =IF([@[Inventory Item ID]]="","",IFERROR(IF(OR([@[On Hand Qty]]<=0,[@[Oldest DOT Week Start]]=""),"",DATEDIF([@[Oldest DOT Week Start]],'Settings'!$B$3,"m")),"")) | AB23: =IF([@[Inventory Item ID]]="","",IF([@Active]="No","Inactive",IF([@[On Hand Qty]]<=0,"No Stock",IF([@[Oldest DOT Week Start]]="","Missing DOT Date",IF([@[Age Months]]>='Settings'!$B$6,"Age Review","Current"))))) | AC23: =IF([@[Inventory Item ID]]="","",IFERROR(IF(COUNTIFS(tblTransactions[Inventory Item ID],[@[Inventory Item ID]],tblTransactions[Date],">"&'Settings'!$B$4,tblTransactions[Date],"<="&'Settings'!$B$3)=0,"",MAXIFS(tblTransactions[Date],tblTransactions[Inventory Item ID],[@[Inventory Item ID]],tblTransactions[Date],">"&'Settings'!$B$4,tblTransactions[Date],"<="&'Settings'!$B$3)),""))
S24: =IF([@[Inventory Item ID]]="","",IFERROR(SUMIFS(tblTransactions[Inventory Effect],tblTransactions[Inventory Item ID],[@[Inventory Item ID]],tblTransactions[Inventory Effect],">0",tblTransactions[Date],">"&'Settings'!$B$4,tblTransactions[Date],"<="&'Settings'!$B$3),0)) | T24: =IF([@[Inventory Item ID]]="","",IFERROR(-SUMIFS(tblTransactions[Inventory Effect],tblTransactions[Inventory Item ID],[@[Inventory Item ID]],tblTransactions[Inventory Effect],"<0",tblTransactions[Date],">"&'Settings'!$B$4,tblTransactions[Date],"<="&'Settings'!$B$3),0)) | U24: =IF([@[Inventory Item ID]]="","",IFERROR([@[Opening Qty]]+[@[Qty In]]-[@[Qty Out]],0)) | V24: =IF([@[Inventory Item ID]]="","",IFERROR([@[On Hand Qty]]-[@[Reserved Qty]],0)) | W24: =IF([@[Inventory Item ID]]="","",IFERROR([@[On Hand Qty]]*[@[Unit Cost]],0)) | X24: =IF([@[Inventory Item ID]]="","",IFERROR(IF(AND([@Active]="Yes",[@[Available Qty]]<=[@[Reorder Point]],[@[Target Stock]]-[@[Available Qty]]-[@[Qty on Order]]>0),CEILING([@[Target Stock]]-[@[Available Qty]]-[@[Qty on Order]],[@[Order Pack Qty]]),0),0)) | Y24: =IF([@[Inventory Item ID]]="","",IFERROR([@[Suggested Order Qty]]*[@[Unit Cost]],0)) | Z24: =IF([@[Inventory Item ID]]="","",IFERROR(IF([@Active]="No","Inactive",IF([@[On Hand Qty]]<0,"Negative Stock",IF([@[Available Qty]]<=0,"Out of Stock",IF([@[Available Qty]]<=[@[Reorder Point]],"Below Reorder",IF([@[Available Qty]]<=[@[Reorder Point]]*(1+'Settings'!$B$5),"Reorder Soon","OK"))))),"Check Inputs")) | AA24: =IF([@[Inventory Item ID]]="","",IFERROR(IF(OR([@[On Hand Qty]]<=0,[@[Oldest DOT Week Start]]=""),"",DATEDIF([@[Oldest DOT Week Start]],'Settings'!$B$3,"m")),"")) | AB24: =IF([@[Inventory Item ID]]="","",IF([@Active]="No","Inactive",IF([@[On Hand Qty]]<=0,"No Stock",IF([@[Oldest DOT Week Start]]="","Missing DOT Date",IF([@[Age Months]]>='Settings'!$B$6,"Age Review","Current"))))) | AC24: =IF([@[Inventory Item ID]]="","",IFERROR(IF(COUNTIFS(tblTransactions[Inventory Item ID],[@[Inventory Item ID]],tblTransactions[Date],">"&'Settings'!$B$4,tblTransactions[Date],"<="&'Settings'!$B$3)=0,"",MAXIFS(tblTransactions[Date],tblTransactions[Inventory Item ID],[@[Inventory Item ID]],tblTransactions[Date],">"&'Settings'!$B$4,tblTransactions[Date],"<="&'Settings'!$B$3)),""))
S25: =IF([@[Inventory Item ID]]="","",IFERROR(SUMIFS(tblTransactions[Inventory Effect],tblTransactions[Inventory Item ID],[@[Inventory Item ID]],tblTransactions[Inventory Effect],">0",tblTransactions[Date],">"&'Settings'!$B$4,tblTransactions[Date],"<="&'Settings'!$B$3),0)) | T25: =IF([@[Inventory Item ID]]="","",IFERROR(-SUMIFS(tblTransactions[Inventory Effect],tblTransactions[Inventory Item ID],[@[Inventory Item ID]],tblTransactions[Inventory Effect],"<0",tblTransactions[Date],">"&'Settings'!$B$4,tblTransactions[Date],"<="&'Settings'!$B$3),0)) | U25: =IF([@[Inventory Item ID]]="","",IFERROR([@[Opening Qty]]+[@[Qty In]]-[@[Qty Out]],0)) | V25: =IF([@[Inventory Item ID]]="","",IFERROR([@[On Hand Qty]]-[@[Reserved Qty]],0)) | W25: =IF([@[Inventory Item ID]]="","",IFERROR([@[On Hand Qty]]*[@[Unit Cost]],0)) | X25: =IF([@[Inventory Item ID]]="","",IFERROR(IF(AND([@Active]="Yes",[@[Available Qty]]<=[@[Reorder Point]],[@[Target Stock]]-[@[Available Qty]]-[@[Qty on Order]]>0),CEILING([@[Target Stock]]-[@[Available Qty]]-[@[Qty on Order]],[@[Order Pack Qty]]),0),0)) | Y25: =IF([@[Inventory Item ID]]="","",IFERROR([@[Suggested Order Qty]]*[@[Unit Cost]],0)) | Z25: =IF([@[Inventory Item ID]]="","",IFERROR(IF([@Active]="No","Inactive",IF([@[On Hand Qty]]<0,"Negative Stock",IF([@[Available Qty]]<=0,"Out of Stock",IF([@[Available Qty]]<=[@[Reorder Point]],"Below Reorder",IF([@[Available Qty]]<=[@[Reorder Point]]*(1+'Settings'!$B$5),"Reorder Soon","OK"))))),"Check Inputs")) | AA25: =IF([@[Inventory Item ID]]="","",IFERROR(IF(OR([@[On Hand Qty]]<=0,[@[Oldest DOT Week Start]]=""),"",DATEDIF([@[Oldest DOT Week Start]],'Settings'!$B$3,"m")),"")) | AB25: =IF([@[Inventory Item ID]]="","",IF([@Active]="No","Inactive",IF([@[On Hand Qty]]<=0,"No Stock",IF([@[Oldest DOT Week Start]]="","Missing DOT Date",IF([@[Age Months]]>='Settings'!$B$6,"Age Review","Current"))))) | AC25: =IF([@[Inventory Item ID]]="","",IFERROR(IF(COUNTIFS(tblTransactions[Inventory Item ID],[@[Inventory Item ID]],tblTransactions[Date],">"&'Settings'!$B$4,tblTransactions[Date],"<="&'Settings'!$B$3)=0,"",MAXIFS(tblTransactions[Date],tblTransactions[Inventory Item ID],[@[Inventory Item ID]],tblTransactions[Date],">"&'Settings'!$B$4,tblTransactions[Date],"<="&'Settings'!$B$3)),""))
S26: =IF([@[Inventory Item ID]]="","",IFERROR(SUMIFS(tblTransactions[Inventory Effect],tblTransactions[Inventory Item ID],[@[Inventory Item ID]],tblTransactions[Inventory Effect],">0",tblTransactions[Date],">"&'Settings'!$B$4,tblTransactions[Date],"<="&'Settings'!$B$3),0)) | T26: =IF([@[Inventory Item ID]]="","",IFERROR(-SUMIFS(tblTransactions[Inventory Effect],tblTransactions[Inventory Item ID],[@[Inventory Item ID]],tblTransactions[Inventory Effect],"<0",tblTransactions[Date],">"&'Settings'!$B$4,tblTransactions[Date],"<="&'Settings'!$B$3),0)) | U26: =IF([@[Inventory Item ID]]="","",IFERROR([@[Opening Qty]]+[@[Qty In]]-[@[Qty Out]],0)) | V26: =IF([@[Inventory Item ID]]="","",IFERROR([@[On Hand Qty]]-[@[Reserved Qty]],0)) | W26: =IF([@[Inventory Item ID]]="","",IFERROR([@[On Hand Qty]]*[@[Unit Cost]],0)) | X26: =IF([@[Inventory Item ID]]="","",IFERROR(IF(AND([@Active]="Yes",[@[Available Qty]]<=[@[Reorder Point]],[@[Target Stock]]-[@[Available Qty]]-[@[Qty on Order]]>0),CEILING([@[Target Stock]]-[@[Available Qty]]-[@[Qty on Order]],[@[Order Pack Qty]]),0),0)) | Y26: =IF([@[Inventory Item ID]]="","",IFERROR([@[Suggested Order Qty]]*[@[Unit Cost]],0)) | Z26: =IF([@[Inventory Item ID]]="","",IFERROR(IF([@Active]="No","Inactive",IF([@[On Hand Qty]]<0,"Negative Stock",IF([@[Available Qty]]<=0,"Out of Stock",IF([@[Available Qty]]<=[@[Reorder Point]],"Below Reorder",IF([@[Available Qty]]<=[@[Reorder Point]]*(1+'Settings'!$B$5),"Reorder Soon","OK"))))),"Check Inputs")) | AA26: =IF([@[Inventory Item ID]]="","",IFERROR(IF(OR([@[On Hand Qty]]<=0,[@[Oldest DOT Week Start]]=""),"",DATEDIF([@[Oldest DOT Week Start]],'Settings'!$B$3,"m")),"")) | AB26: =IF([@[Inventory Item ID]]="","",IF([@Active]="No","Inactive",IF([@[On Hand Qty]]<=0,"No Stock",IF([@[Oldest DOT Week Start]]="","Missing DOT Date",IF([@[Age Months]]>='Settings'!$B$6,"Age Review","Current"))))) | AC26: =IF([@[Inventory Item ID]]="","",IFERROR(IF(COUNTIFS(tblTransactions[Inventory Item ID],[@[Inventory Item ID]],tblTransactions[Date],">"&'Settings'!$B$4,tblTransactions[Date],"<="&'Settings'!$B$3)=0,"",MAXIFS(tblTransactions[Date],tblTransactions[Inventory Item ID],[@[Inventory Item ID]],tblTransactions[Date],">"&'Settings'!$B$4,tblTransactions[Date],"<="&'Settings'!$B$3)),""))
