Workbook

Sheet Dashboard
A1: Fleet Parts Inventory Dashboard
A2: Current inventory position based on the Parts Inventory and Transactions sheets
A4: Active Part SKUs | B4: =IFERROR(COUNTIF('Parts Inventory'!$B$6:$B$505,"Active"),0) | C4: Total Quantity On Hand | D4: =IFERROR(SUMIFS('Parts Inventory'!$P$6:$P$505,'Parts Inventory'!$B$6:$B$505,"Active"),0) | E4: Inventory Value | F4: =IFERROR(SUMIFS('Parts Inventory'!$Q$6:$Q$505,'Parts Inventory'!$B$6:$B$505,"Active"),0) | G4: Items to Reorder | H4: =IFERROR(COUNTIFS('Parts Inventory'!$B$6:$B$505,"Active",'Parts Inventory'!$R$6:$R$505,"Reorder")+COUNTIFS('Parts Inventory'!$B$6:$B$505,"Active",'Parts Inventory'!$R$6:$R$505,"Out of Stock"),0) | I4: Out of Stock | J4: =IFERROR(COUNTIFS('Parts Inventory'!$B$6:$B$505,"Active",'Parts Inventory'!$R$6:$R$505,"Out of Stock"),0) | K4: Transaction Errors | L4: =IFERROR(COUNTIF('Transactions'!$N$6:$N$505,"?*")-COUNTIF('Transactions'!$N$6:$N$505,"OK"),0)
A7: Suggested Reorder Spend | B7: =IFERROR(SUMIFS('Parts Inventory'!$T$6:$T$505,'Parts Inventory'!$B$6:$B$505,"Active"),0) | C7: Reorder Budget With Buffer | D7: =IFERROR(B7*(1+'Settings'!$B$5),0) | E7: Parts Data Errors | F7: =IFERROR(COUNTIF('Parts Inventory'!$W$6:$W$505,"?*")-COUNTIF('Parts Inventory'!$W$6:$W$505,"OK"),0) | G7: Latest Activity Date | H7: =IFERROR(IF(COUNT('Transactions'!$A$6:$A$505)=0,"",MAX('Transactions'!$A$6:$A$505)),"") | I7: Reorder Cost Buffer | J7: =IFERROR('Settings'!$B$5,0)
A9: =IF(F7+L4=0,"Data checks passed","Review "&TEXT(F7+L4,"0")&" data issue(s) before relying on totals")
A11: Category | B11: Active SKUs | C11: Quantity On Hand | D11: Inventory Value | E11: Reorder Items | G11: Line | H11: Part ID | I11: Part Name | J11: Status | K11: Location | L11: Qty On Hand | M11: Order Qty | N11: Est. Cost
A12: =IFERROR('Settings'!G4,"") | B12: =IFERROR(COUNTIFS('Parts Inventory'!$D$6:$D$505,$A12,'Parts Inventory'!$B$6:$B$505,"Active"),0) | C12: =IFERROR(SUMIFS('Parts Inventory'!$P$6:$P$505,'Parts Inventory'!$D$6:$D$505,$A12,'Parts Inventory'!$B$6:$B$505,"Active"),0) | D12: =IFERROR(SUMIFS('Parts Inventory'!$Q$6:$Q$505,'Parts Inventory'!$D$6:$D$505,$A12,'Parts Inventory'!$B$6:$B$505,"Active"),0) | E12: =IFERROR(COUNTIFS('Parts Inventory'!$D$6:$D$505,$A12,'Parts Inventory'!$B$6:$B$505,"Active",'Parts Inventory'!$R$6:$R$505,"Reorder")+COUNTIFS('Parts Inventory'!$D$6:$D$505,$A12,'Parts Inventory'!$B$6:$B$505,"Active",'Parts Inventory'!$R$6:$R$505,"Out of Stock"),0) | G12: =IF(H12="","",ROWS($G$12:G12)) | H12: =IFERROR(INDEX('Parts Inventory'!$A$6:$A$505,MATCH(ROWS($H$12:H12),'Parts Inventory'!$V$6:$V$505,0)),"") | I12: =IFERROR(INDEX('Parts Inventory'!$C$6:$C$505,MATCH(ROWS($H$12:H12),'Parts Inventory'!$V$6:$V$505,0)),"") | J12: =IFERROR(INDEX('Parts Inventory'!$R$6:$R$505,MATCH(ROWS($H$12:H12),'Parts Inventory'!$V$6:$V$505,0)),"") | K12: =IFERROR(INDEX('Parts Inventory'!$I$6:$I$505,MATCH(ROWS($H$12:H12),'Parts Inventory'!$V$6:$V$505,0)),"") | L12: =IFERROR(INDEX('Parts Inventory'!$P$6:$P$505,MATCH(ROWS($H$12:H12),'Parts Inventory'!$V$6:$V$505,0)),"") | M12: =IFERROR(INDEX('Parts Inventory'!$S$6:$S$505,MATCH(ROWS($H$12:H12),'Parts Inventory'!$V$6:$V$505,0)),"") | N12: =IFERROR(INDEX('Parts Inventory'!$T$6:$T$505,MATCH(ROWS($H$12:H12),'Parts Inventory'!$V$6:$V$505,0)),"")
A13: =IFERROR('Settings'!G5,"") | B13: =IFERROR(COUNTIFS('Parts Inventory'!$D$6:$D$505,$A13,'Parts Inventory'!$B$6:$B$505,"Active"),0) | C13: =IFERROR(SUMIFS('Parts Inventory'!$P$6:$P$505,'Parts Inventory'!$D$6:$D$505,$A13,'Parts Inventory'!$B$6:$B$505,"Active"),0) | D13: =IFERROR(SUMIFS('Parts Inventory'!$Q$6:$Q$505,'Parts Inventory'!$D$6:$D$505,$A13,'Parts Inventory'!$B$6:$B$505,"Active"),0) | E13: =IFERROR(COUNTIFS('Parts Inventory'!$D$6:$D$505,$A13,'Parts Inventory'!$B$6:$B$505,"Active",'Parts Inventory'!$R$6:$R$505,"Reorder")+COUNTIFS('Parts Inventory'!$D$6:$D$505,$A13,'Parts Inventory'!$B$6:$B$505,"Active",'Parts Inventory'!$R$6:$R$505,"Out of Stock"),0) | G13: =IF(H13="","",ROWS($G$12:G13)) | H13: =IFERROR(INDEX('Parts Inventory'!$A$6:$A$505,MATCH(ROWS($H$12:H13),'Parts Inventory'!$V$6:$V$505,0)),"") | I13: =IFERROR(INDEX('Parts Inventory'!$C$6:$C$505,MATCH(ROWS($H$12:H13),'Parts Inventory'!$V$6:$V$505,0)),"") | J13: =IFERROR(INDEX('Parts Inventory'!$R$6:$R$505,MATCH(ROWS($H$12:H13),'Parts Inventory'!$V$6:$V$505,0)),"") | K13: =IFERROR(INDEX('Parts Inventory'!$I$6:$I$505,MATCH(ROWS($H$12:H13),'Parts Inventory'!$V$6:$V$505,0)),"") | L13: =IFERROR(INDEX('Parts Inventory'!$P$6:$P$505,MATCH(ROWS($H$12:H13),'Parts Inventory'!$V$6:$V$505,0)),"") | M13: =IFERROR(INDEX('Parts Inventory'!$S$6:$S$505,MATCH(ROWS($H$12:H13),'Parts Inventory'!$V$6:$V$505,0)),"") | N13: =IFERROR(INDEX('Parts Inventory'!$T$6:$T$505,MATCH(ROWS($H$12:H13),'Parts Inventory'!$V$6:$V$505,0)),"")
A14: =IFERROR('Settings'!G6,"") | B14: =IFERROR(COUNTIFS('Parts Inventory'!$D$6:$D$505,$A14,'Parts Inventory'!$B$6:$B$505,"Active"),0) | C14: =IFERROR(SUMIFS('Parts Inventory'!$P$6:$P$505,'Parts Inventory'!$D$6:$D$505,$A14,'Parts Inventory'!$B$6:$B$505,"Active"),0) | D14: =IFERROR(SUMIFS('Parts Inventory'!$Q$6:$Q$505,'Parts Inventory'!$D$6:$D$505,$A14,'Parts Inventory'!$B$6:$B$505,"Active"),0) | E14: =IFERROR(COUNTIFS('Parts Inventory'!$D$6:$D$505,$A14,'Parts Inventory'!$B$6:$B$505,"Active",'Parts Inventory'!$R$6:$R$505,"Reorder")+COUNTIFS('Parts Inventory'!$D$6:$D$505,$A14,'Parts Inventory'!$B$6:$B$505,"Active",'Parts Inventory'!$R$6:$R$505,"Out of Stock"),0) | G14: =IF(H14="","",ROWS($G$12:G14)) | H14: =IFERROR(INDEX('Parts Inventory'!$A$6:$A$505,MATCH(ROWS($H$12:H14),'Parts Inventory'!$V$6:$V$505,0)),"") | I14: =IFERROR(INDEX('Parts Inventory'!$C$6:$C$505,MATCH(ROWS($H$12:H14),'Parts Inventory'!$V$6:$V$505,0)),"") | J14: =IFERROR(INDEX('Parts Inventory'!$R$6:$R$505,MATCH(ROWS($H$12:H14),'Parts Inventory'!$V$6:$V$505,0)),"") | K14: =IFERROR(INDEX('Parts Inventory'!$I$6:$I$505,MATCH(ROWS($H$12:H14),'Parts Inventory'!$V$6:$V$505,0)),"") | L14: =IFERROR(INDEX('Parts Inventory'!$P$6:$P$505,MATCH(ROWS($H$12:H14),'Parts Inventory'!$V$6:$V$505,0)),"") | M14: =IFERROR(INDEX('Parts Inventory'!$S$6:$S$505,MATCH(ROWS($H$12:H14),'Parts Inventory'!$V$6:$V$505,0)),"") | N14: =IFERROR(INDEX('Parts Inventory'!$T$6:$T$505,MATCH(ROWS($H$12:H14),'Parts Inventory'!$V$6:$V$505,0)),"")
A15: =IFERROR('Settings'!G7,"") | B15: =IFERROR(COUNTIFS('Parts Inventory'!$D$6:$D$505,$A15,'Parts Inventory'!$B$6:$B$505,"Active"),0) | C15: =IFERROR(SUMIFS('Parts Inventory'!$P$6:$P$505,'Parts Inventory'!$D$6:$D$505,$A15,'Parts Inventory'!$B$6:$B$505,"Active"),0) | D15: =IFERROR(SUMIFS('Parts Inventory'!$Q$6:$Q$505,'Parts Inventory'!$D$6:$D$505,$A15,'Parts Inventory'!$B$6:$B$505,"Active"),0) | E15: =IFERROR(COUNTIFS('Parts Inventory'!$D$6:$D$505,$A15,'Parts Inventory'!$B$6:$B$505,"Active",'Parts Inventory'!$R$6:$R$505,"Reorder")+COUNTIFS('Parts Inventory'!$D$6:$D$505,$A15,'Parts Inventory'!$B$6:$B$505,"Active",'Parts Inventory'!$R$6:$R$505,"Out of Stock"),0) | G15: =IF(H15="","",ROWS($G$12:G15)) | H15: =IFERROR(INDEX('Parts Inventory'!$A$6:$A$505,MATCH(ROWS($H$12:H15),'Parts Inventory'!$V$6:$V$505,0)),"") | I15: =IFERROR(INDEX('Parts Inventory'!$C$6:$C$505,MATCH(ROWS($H$12:H15),'Parts Inventory'!$V$6:$V$505,0)),"") | J15: =IFERROR(INDEX('Parts Inventory'!$R$6:$R$505,MATCH(ROWS($H$12:H15),'Parts Inventory'!$V$6:$V$505,0)),"") | K15: =IFERROR(INDEX('Parts Inventory'!$I$6:$I$505,MATCH(ROWS($H$12:H15),'Parts Inventory'!$V$6:$V$505,0)),"") | L15: =IFERROR(INDEX('Parts Inventory'!$P$6:$P$505,MATCH(ROWS($H$12:H15),'Parts Inventory'!$V$6:$V$505,0)),"") | M15: =IFERROR(INDEX('Parts Inventory'!$S$6:$S$505,MATCH(ROWS($H$12:H15),'Parts Inventory'!$V$6:$V$505,0)),"") | N15: =IFERROR(INDEX('Parts Inventory'!$T$6:$T$505,MATCH(ROWS($H$12:H15),'Parts Inventory'!$V$6:$V$505,0)),"")
A16: =IFERROR('Settings'!G8,"") | B16: =IFERROR(COUNTIFS('Parts Inventory'!$D$6:$D$505,$A16,'Parts Inventory'!$B$6:$B$505,"Active"),0) | C16: =IFERROR(SUMIFS('Parts Inventory'!$P$6:$P$505,'Parts Inventory'!$D$6:$D$505,$A16,'Parts Inventory'!$B$6:$B$505,"Active"),0) | D16: =IFERROR(SUMIFS('Parts Inventory'!$Q$6:$Q$505,'Parts Inventory'!$D$6:$D$505,$A16,'Parts Inventory'!$B$6:$B$505,"Active"),0) | E16: =IFERROR(COUNTIFS('Parts Inventory'!$D$6:$D$505,$A16,'Parts Inventory'!$B$6:$B$505,"Active",'Parts Inventory'!$R$6:$R$505,"Reorder")+COUNTIFS('Parts Inventory'!$D$6:$D$505,$A16,'Parts Inventory'!$B$6:$B$505,"Active",'Parts Inventory'!$R$6:$R$505,"Out of Stock"),0) | G16: =IF(H16="","",ROWS($G$12:G16)) | H16: =IFERROR(INDEX('Parts Inventory'!$A$6:$A$505,MATCH(ROWS($H$12:H16),'Parts Inventory'!$V$6:$V$505,0)),"") | I16: =IFERROR(INDEX('Parts Inventory'!$C$6:$C$505,MATCH(ROWS($H$12:H16),'Parts Inventory'!$V$6:$V$505,0)),"") | J16: =IFERROR(INDEX('Parts Inventory'!$R$6:$R$505,MATCH(ROWS($H$12:H16),'Parts Inventory'!$V$6:$V$505,0)),"") | K16: =IFERROR(INDEX('Parts Inventory'!$I$6:$I$505,MATCH(ROWS($H$12:H16),'Parts Inventory'!$V$6:$V$505,0)),"") | L16: =IFERROR(INDEX('Parts Inventory'!$P$6:$P$505,MATCH(ROWS($H$12:H16),'Parts Inventory'!$V$6:$V$505,0)),"") | M16: =IFERROR(INDEX('Parts Inventory'!$S$6:$S$505,MATCH(ROWS($H$12:H16),'Parts Inventory'!$V$6:$V$505,0)),"") | N16: =IFERROR(INDEX('Parts Inventory'!$T$6:$T$505,MATCH(ROWS($H$12:H16),'Parts Inventory'!$V$6:$V$505,0)),"")
A17: =IFERROR('Settings'!G9,"") | B17: =IFERROR(COUNTIFS('Parts Inventory'!$D$6:$D$505,$A17,'Parts Inventory'!$B$6:$B$505,"Active"),0) | C17: =IFERROR(SUMIFS('Parts Inventory'!$P$6:$P$505,'Parts Inventory'!$D$6:$D$505,$A17,'Parts Inventory'!$B$6:$B$505,"Active"),0) | D17: =IFERROR(SUMIFS('Parts Inventory'!$Q$6:$Q$505,'Parts Inventory'!$D$6:$D$505,$A17,'Parts Inventory'!$B$6:$B$505,"Active"),0) | E17: =IFERROR(COUNTIFS('Parts Inventory'!$D$6:$D$505,$A17,'Parts Inventory'!$B$6:$B$505,"Active",'Parts Inventory'!$R$6:$R$505,"Reorder")+COUNTIFS('Parts Inventory'!$D$6:$D$505,$A17,'Parts Inventory'!$B$6:$B$505,"Active",'Parts Inventory'!$R$6:$R$505,"Out of Stock"),0) | G17: =IF(H17="","",ROWS($G$12:G17)) | H17: =IFERROR(INDEX('Parts Inventory'!$A$6:$A$505,MATCH(ROWS($H$12:H17),'Parts Inventory'!$V$6:$V$505,0)),"") | I17: =IFERROR(INDEX('Parts Inventory'!$C$6:$C$505,MATCH(ROWS($H$12:H17),'Parts Inventory'!$V$6:$V$505,0)),"") | J17: =IFERROR(INDEX('Parts Inventory'!$R$6:$R$505,MATCH(ROWS($H$12:H17),'Parts Inventory'!$V$6:$V$505,0)),"") | K17: =IFERROR(INDEX('Parts Inventory'!$I$6:$I$505,MATCH(ROWS($H$12:H17),'Parts Inventory'!$V$6:$V$505,0)),"") | L17: =IFERROR(INDEX('Parts Inventory'!$P$6:$P$505,MATCH(ROWS($H$12:H17),'Parts Inventory'!$V$6:$V$505,0)),"") | M17: =IFERROR(INDEX('Parts Inventory'!$S$6:$S$505,MATCH(ROWS($H$12:H17),'Parts Inventory'!$V$6:$V$505,0)),"") | N17: =IFERROR(INDEX('Parts Inventory'!$T$6:$T$505,MATCH(ROWS($H$12:H17),'Parts Inventory'!$V$6:$V$505,0)),"")
A18: =IFERROR('Settings'!G10,"") | B18: =IFERROR(COUNTIFS('Parts Inventory'!$D$6:$D$505,$A18,'Parts Inventory'!$B$6:$B$505,"Active"),0) | C18: =IFERROR(SUMIFS('Parts Inventory'!$P$6:$P$505,'Parts Inventory'!$D$6:$D$505,$A18,'Parts Inventory'!$B$6:$B$505,"Active"),0) | D18: =IFERROR(SUMIFS('Parts Inventory'!$Q$6:$Q$505,'Parts Inventory'!$D$6:$D$505,$A18,'Parts Inventory'!$B$6:$B$505,"Active"),0) | E18: =IFERROR(COUNTIFS('Parts Inventory'!$D$6:$D$505,$A18,'Parts Inventory'!$B$6:$B$505,"Active",'Parts Inventory'!$R$6:$R$505,"Reorder")+COUNTIFS('Parts Inventory'!$D$6:$D$505,$A18,'Parts Inventory'!$B$6:$B$505,"Active",'Parts Inventory'!$R$6:$R$505,"Out of Stock"),0) | G18: =IF(H18="","",ROWS($G$12:G18)) | H18: =IFERROR(INDEX('Parts Inventory'!$A$6:$A$505,MATCH(ROWS($H$12:H18),'Parts Inventory'!$V$6:$V$505,0)),"") | I18: =IFERROR(INDEX('Parts Inventory'!$C$6:$C$505,MATCH(ROWS($H$12:H18),'Parts Inventory'!$V$6:$V$505,0)),"") | J18: =IFERROR(INDEX('Parts Inventory'!$R$6:$R$505,MATCH(ROWS($H$12:H18),'Parts Inventory'!$V$6:$V$505,0)),"") | K18: =IFERROR(INDEX('Parts Inventory'!$I$6:$I$505,MATCH(ROWS($H$12:H18),'Parts Inventory'!$V$6:$V$505,0)),"") | L18: =IFERROR(INDEX('Parts Inventory'!$P$6:$P$505,MATCH(ROWS($H$12:H18),'Parts Inventory'!$V$6:$V$505,0)),"") | M18: =IFERROR(INDEX('Parts Inventory'!$S$6:$S$505,MATCH(ROWS($H$12:H18),'Parts Inventory'!$V$6:$V$505,0)),"") | N18: =IFERROR(INDEX('Parts Inventory'!$T$6:$T$505,MATCH(ROWS($H$12:H18),'Parts Inventory'!$V$6:$V$505,0)),"")
A19: =IFERROR('Settings'!G11,"") | B19: =IFERROR(COUNTIFS('Parts Inventory'!$D$6:$D$505,$A19,'Parts Inventory'!$B$6:$B$505,"Active"),0) | C19: =IFERROR(SUMIFS('Parts Inventory'!$P$6:$P$505,'Parts Inventory'!$D$6:$D$505,$A19,'Parts Inventory'!$B$6:$B$505,"Active"),0) | D19: =IFERROR(SUMIFS('Parts Inventory'!$Q$6:$Q$505,'Parts Inventory'!$D$6:$D$505,$A19,'Parts Inventory'!$B$6:$B$505,"Active"),0) | E19: =IFERROR(COUNTIFS('Parts Inventory'!$D$6:$D$505,$A19,'Parts Inventory'!$B$6:$B$505,"Active",'Parts Inventory'!$R$6:$R$505,"Reorder")+COUNTIFS('Parts Inventory'!$D$6:$D$505,$A19,'Parts Inventory'!$B$6:$B$505,"Active",'Parts Inventory'!$R$6:$R$505,"Out of Stock"),0) | G19: =IF(H19="","",ROWS($G$12:G19)) | H19: =IFERROR(INDEX('Parts Inventory'!$A$6:$A$505,MATCH(ROWS($H$12:H19),'Parts Inventory'!$V$6:$V$505,0)),"") | I19: =IFERROR(INDEX('Parts Inventory'!$C$6:$C$505,MATCH(ROWS($H$12:H19),'Parts Inventory'!$V$6:$V$505,0)),"") | J19: =IFERROR(INDEX('Parts Inventory'!$R$6:$R$505,MATCH(ROWS($H$12:H19),'Parts Inventory'!$V$6:$V$505,0)),"") | K19: =IFERROR(INDEX('Parts Inventory'!$I$6:$I$505,MATCH(ROWS($H$12:H19),'Parts Inventory'!$V$6:$V$505,0)),"") | L19: =IFERROR(INDEX('Parts Inventory'!$P$6:$P$505,MATCH(ROWS($H$12:H19),'Parts Inventory'!$V$6:$V$505,0)),"") | M19: =IFERROR(INDEX('Parts Inventory'!$S$6:$S$505,MATCH(ROWS($H$12:H19),'Parts Inventory'!$V$6:$V$505,0)),"") | N19: =IFERROR(INDEX('Parts Inventory'!$T$6:$T$505,MATCH(ROWS($H$12:H19),'Parts Inventory'!$V$6:$V$505,0)),"")
A20: =IFERROR('Settings'!G12,"") | B20: =IFERROR(COUNTIFS('Parts Inventory'!$D$6:$D$505,$A20,'Parts Inventory'!$B$6:$B$505,"Active"),0) | C20: =IFERROR(SUMIFS('Parts Inventory'!$P$6:$P$505,'Parts Inventory'!$D$6:$D$505,$A20,'Parts Inventory'!$B$6:$B$505,"Active"),0) | D20: =IFERROR(SUMIFS('Parts Inventory'!$Q$6:$Q$505,'Parts Inventory'!$D$6:$D$505,$A20,'Parts Inventory'!$B$6:$B$505,"Active"),0) | E20: =IFERROR(COUNTIFS('Parts Inventory'!$D$6:$D$505,$A20,'Parts Inventory'!$B$6:$B$505,"Active",'Parts Inventory'!$R$6:$R$505,"Reorder")+COUNTIFS('Parts Inventory'!$D$6:$D$505,$A20,'Parts Inventory'!$B$6:$B$505,"Active",'Parts Inventory'!$R$6:$R$505,"Out of Stock"),0) | G20: =IF(H20="","",ROWS($G$12:G20)) | H20: =IFERROR(INDEX('Parts Inventory'!$A$6:$A$505,MATCH(ROWS($H$12:H20),'Parts Inventory'!$V$6:$V$505,0)),"") | I20: =IFERROR(INDEX('Parts Inventory'!$C$6:$C$505,MATCH(ROWS($H$12:H20),'Parts Inventory'!$V$6:$V$505,0)),"") | J20: =IFERROR(INDEX('Parts Inventory'!$R$6:$R$505,MATCH(ROWS($H$12:H20),'Parts Inventory'!$V$6:$V$505,0)),"") | K20: =IFERROR(INDEX('Parts Inventory'!$I$6:$I$505,MATCH(ROWS($H$12:H20),'Parts Inventory'!$V$6:$V$505,0)),"") | L20: =IFERROR(INDEX('Parts Inventory'!$P$6:$P$505,MATCH(ROWS($H$12:H20),'Parts Inventory'!$V$6:$V$505,0)),"") | M20: =IFERROR(INDEX('Parts Inventory'!$S$6:$S$505,MATCH(ROWS($H$12:H20),'Parts Inventory'!$V$6:$V$505,0)),"") | N20: =IFERROR(INDEX('Parts Inventory'!$T$6:$T$505,MATCH(ROWS($H$12:H20),'Parts Inventory'!$V$6:$V$505,0)),"")
A21: =IFERROR('Settings'!G13,"") | B21: =IFERROR(COUNTIFS('Parts Inventory'!$D$6:$D$505,$A21,'Parts Inventory'!$B$6:$B$505,"Active"),0) | C21: =IFERROR(SUMIFS('Parts Inventory'!$P$6:$P$505,'Parts Inventory'!$D$6:$D$505,$A21,'Parts Inventory'!$B$6:$B$505,"Active"),0) | D21: =IFERROR(SUMIFS('Parts Inventory'!$Q$6:$Q$505,'Parts Inventory'!$D$6:$D$505,$A21,'Parts Inventory'!$B$6:$B$505,"Active"),0) | E21: =IFERROR(COUNTIFS('Parts Inventory'!$D$6:$D$505,$A21,'Parts Inventory'!$B$6:$B$505,"Active",'Parts Inventory'!$R$6:$R$505,"Reorder")+COUNTIFS('Parts Inventory'!$D$6:$D$505,$A21,'Parts Inventory'!$B$6:$B$505,"Active",'Parts Inventory'!$R$6:$R$505,"Out of Stock"),0) | G21: =IF(H21="","",ROWS($G$12:G21)) | H21: =IFERROR(INDEX('Parts Inventory'!$A$6:$A$505,MATCH(ROWS($H$12:H21),'Parts Inventory'!$V$6:$V$505,0)),"") | I21: =IFERROR(INDEX('Parts Inventory'!$C$6:$C$505,MATCH(ROWS($H$12:H21),'Parts Inventory'!$V$6:$V$505,0)),"") | J21: =IFERROR(INDEX('Parts Inventory'!$R$6:$R$505,MATCH(ROWS($H$12:H21),'Parts Inventory'!$V$6:$V$505,0)),"") | K21: =IFERROR(INDEX('Parts Inventory'!$I$6:$I$505,MATCH(ROWS($H$12:H21),'Parts Inventory'!$V$6:$V$505,0)),"") | L21: =IFERROR(INDEX('Parts Inventory'!$P$6:$P$505,MATCH(ROWS($H$12:H21),'Parts Inventory'!$V$6:$V$505,0)),"") | M21: =IFERROR(INDEX('Parts Inventory'!$S$6:$S$505,MATCH(ROWS($H$12:H21),'Parts Inventory'!$V$6:$V$505,0)),"") | N21: =IFERROR(INDEX('Parts Inventory'!$T$6:$T$505,MATCH(ROWS($H$12:H21),'Parts Inventory'!$V$6:$V$505,0)),"")
A22: ="" | B22: ="" | C22: ="" | D22: ="" | E22: ="" | G22: ="" | H22: ="" | I22: ="" | J22: ="" | K22: ="" | L22: ="" | M22: ="" | N22: =""
A23: ="" | B23: ="" | C23: ="" | D23: ="" | E23: ="" | G23: ="" | H23: ="" | I23: ="" | J23: ="" | K23: ="" | L23: ="" | M23: ="" | N23: =""
A24: ="" | B24: ="" | C24: ="" | D24: ="" | E24: ="" | G24: ="" | H24: ="" | I24: ="" | J24: ="" | K24: ="" | L24: ="" | M24: ="" | N24: =""
A25: ="" | B25: ="" | C25: ="" | D25: ="" | E25: ="" | G25: ="" | H25: ="" | I25: ="" | J25: ="" | K25: ="" | L25: ="" | M25: ="" | N25: =""
A26: ="" | B26: ="" | C26: ="" | D26: ="" | E26: ="" | G26: ="" | H26: ="" | I26: ="" | J26: ="" | K26: ="" | L26: ="" | M26: ="" | N26: =""
A27: ="" | B27: ="" | C27: ="" | D27: ="" | E27: ="" | G27: ="" | H27: ="" | I27: ="" | J27: ="" | K27: ="" | L27: ="" | M27: ="" | N27: =""
A28: ="" | B28: ="" | C28: ="" | D28: ="" | E28: ="" | G28: ="" | H28: ="" | I28: ="" | J28: ="" | K28: ="" | L28: ="" | M28: ="" | N28: =""
A29: ="" | B29: ="" | C29: ="" | D29: ="" | E29: ="" | G29: ="" | H29: ="" | I29: ="" | J29: ="" | K29: ="" | L29: ="" | M29: ="" | N29: =""
A30: ="" | B30: ="" | C30: ="" | D30: ="" | E30: ="" | G30: ="" | H30: ="" | I30: ="" | J30: ="" | K30: ="" | L30: ="" | M30: ="" | N30: =""
A31: ="" | B31: ="" | C31: ="" | D31: ="" | E31: ="" | G31: ="" | H31: ="" | I31: ="" | J31: ="" | K31: ="" | L31: ="" | M31: ="" | N31: =""
A32: ="" | B32: ="" | C32: ="" | D32: ="" | E32: ="" | G32: ="" | H32: ="" | I32: ="" | J32: ="" | K32: ="" | L32: ="" | M32: ="" | N32: =""
A33: ="" | B33: ="" | C33: ="" | D33: ="" | E33: ="" | G33: ="" | H33: ="" | I33: ="" | J33: ="" | K33: ="" | L33: ="" | M33: ="" | N33: =""
... A101: ="" | B101: ="" | C101: ="" | D101: ="" | E101: ="" | G101: ="" | H101: ="" | I101: ="" | J101: ="" | K101: ="" | L101: ="" | M101: ="" | N101: =""

Sheet Parts Inventory
A1: Parts Inventory
A3: Yellow cells are inputs. Blue-gray cells are calculated. Add or edit records only in the prepared input cells.
A5: Part ID | B5: Status | C5: Part Name | D5: Category | E5: Unit of Measure | F5: Manufacturer | G5: Part Number | H5: Compatible Vehicles | I5: Storage Location | J5: Preferred Vendor | K5: Lead Time (Days) | L5: Unit Cost | M5: Opening Quantity | N5: Reorder Point | O5: Target Stock | P5: Qty On Hand | Q5: Inventory Value | R5: Reorder Status | S5: Suggested Order Qty | T5: Suggested Order Cost | U5: Last Activity Date | V5: Alert Rank | W5: Data Check
A6: P-1001 | B6: Active | C6: Engine Oil Filter | D6: Filters | E6: Each | F6: Fleetguard | G6: LF14000NN | H6: Freightliner Cascadia | I6: A-01-01 | J6: NAPA Fleet | K6: 5 | L6: 18.75 | M6: 18 | N6: 8 | O6: 24 | P6: =IF(A6="","",IFERROR(M6+SUMIFS('Transactions'!$L$6:$L$505,'Transactions'!$C$6:$C$505,A6),"")) | Q6: =IF(A6="","",IFERROR(P6*L6,0)) | R6: =IF(A6="","",IF(B6<>"Active","Inactive",IF(P6<=0,"Out of Stock",IF(P6<=N6,"Reorder","OK")))) | S6: =IF(A6="","",IF(B6<>"Active",0,IF(P6<=N6,MAX(O6-P6,0),0))) | T6: =IF(A6="","",IFERROR(S6*L6,0)) | U6: =IF(A6="","",IF(COUNTIFS('Transactions'!$C$6:$C$505,A6,'Transactions'!$A$6:$A$505,">0")=0,"",IFERROR(MAXIFS('Transactions'!$A$6:$A$505,'Transactions'!$C$6:$C$505,A6),""))) | V6: =IF(A6="","",IF(AND(B6="Active",OR(R6="Reorder",R6="Out of Stock")),COUNTIFS($B$6:B6,"Active",$R$6:R6,"Reorder")+COUNTIFS($B$6:B6,"Active",$R$6:R6,"Out of Stock"),"")) | W6: =IF(COUNTA(A6:O6)=0,"",IF(A6="","Missing Part ID",IF(COUNTIF($A$6:$A$505,A6)>1,"Duplicate Part ID",IF(COUNTIF('Settings'!$F$4:$F$5,B6)=0,"Invalid Status",IF(C6="","Missing Part Name",IF(COUNTIF('Settings'!$G$4:$G$13,D6)=0,"Invalid Category",IF(COUNTIF('Settings'!$H$4:$H$9,E6)=0,"Invalid Unit",IF(L6="","Missing Unit Cost",IF(M6="","Missing Opening Quantity",IF(N6="","Missing Reorder Point",IF(O6="","Missing Target Stock",IF(O6<N6,"Target Below Reorder Point",IF(P6<0,"Negative On-Hand Quantity","OK")))))))))))))
A7: P-1002 | B7: Active | C7: Fuel Filter | D7: Filters | E7: Each | F7: Racor | G7: PFF50216 | H7: Ford Transit 250 | I7: A-01-02 | J7: FleetPride | K7: 7 | L7: 32.4 | M7: 12 | N7: 5 | O7: 15 | P7: =IF(A7="","",IFERROR(M7+SUMIFS('Transactions'!$L$6:$L$505,'Transactions'!$C$6:$C$505,A7),"")) | Q7: =IF(A7="","",IFERROR(P7*L7,0)) | R7: =IF(A7="","",IF(B7<>"Active","Inactive",IF(P7<=0,"Out of Stock",IF(P7<=N7,"Reorder","OK")))) | S7: =IF(A7="","",IF(B7<>"Active",0,IF(P7<=N7,MAX(O7-P7,0),0))) | T7: =IF(A7="","",IFERROR(S7*L7,0)) | U7: =IF(A7="","",IF(COUNTIFS('Transactions'!$C$6:$C$505,A7,'Transactions'!$A$6:$A$505,">0")=0,"",IFERROR(MAXIFS('Transactions'!$A$6:$A$505,'Transactions'!$C$6:$C$505,A7),""))) | V7: =IF(A7="","",IF(AND(B7="Active",OR(R7="Reorder",R7="Out of Stock")),COUNTIFS($B$6:B7,"Active",$R$6:R7,"Reorder")+COUNTIFS($B$6:B7,"Active",$R$6:R7,"Out of Stock"),"")) | W7: =IF(COUNTA(A7:O7)=0,"",IF(A7="","Missing Part ID",IF(COUNTIF($A$6:$A$505,A7)>1,"Duplicate Part ID",IF(COUNTIF('Settings'!$F$4:$F$5,B7)=0,"Invalid Status",IF(C7="","Missing Part Name",IF(COUNTIF('Settings'!$G$4:$G$13,D7)=0,"Invalid Category",IF(COUNTIF('Settings'!$H$4:$H$9,E7)=0,"Invalid Unit",IF(L7="","Missing Unit Cost",IF(M7="","Missing Opening Quantity",IF(N7="","Missing Reorder Point",IF(O7="","Missing Target Stock",IF(O7<N7,"Target Below Reorder Point",IF(P7<0,"Negative On-Hand Quantity","OK")))))))))))))
A8: P-1003 | B8: Active | C8: Front Brake Pad Set | D8: Brakes | E8: Set | F8: Wagner | G8: QC1791 | H8: Ford Transit 250 | I8: B-02-01 | J8: NAPA Fleet | K8: 3 | L8: 89.95 | M8: 8 | N8: 3 | O8: 10 | P8: =IF(A8="","",IFERROR(M8+SUMIFS('Transactions'!$L$6:$L$505,'Transactions'!$C$6:$C$505,A8),"")) | Q8: =IF(A8="","",IFERROR(P8*L8,0)) | R8: =IF(A8="","",IF(B8<>"Active","Inactive",IF(P8<=0,"Out of Stock",IF(P8<=N8,"Reorder","OK")))) | S8: =IF(A8="","",IF(B8<>"Active",0,IF(P8<=N8,MAX(O8-P8,0),0))) | T8: =IF(A8="","",IFERROR(S8*L8,0)) | U8: =IF(A8="","",IF(COUNTIFS('Transactions'!$C$6:$C$505,A8,'Transactions'!$A$6:$A$505,">0")=0,"",IFERROR(MAXIFS('Transactions'!$A$6:$A$505,'Transactions'!$C$6:$C$505,A8),""))) | V8: =IF(A8="","",IF(AND(B8="Active",OR(R8="Reorder",R8="Out of Stock")),COUNTIFS($B$6:B8,"Active",$R$6:R8,"Reorder")+COUNTIFS($B$6:B8,"Active",$R$6:R8,"Out of Stock"),"")) | W8: =IF(COUNTA(A8:O8)=0,"",IF(A8="","Missing Part ID",IF(COUNTIF($A$6:$A$505,A8)>1,"Duplicate Part ID",IF(COUNTIF('Settings'!$F$4:$F$5,B8)=0,"Invalid Status",IF(C8="","Missing Part Name",IF(COUNTIF('Settings'!$G$4:$G$13,D8)=0,"Invalid Category",IF(COUNTIF('Settings'!$H$4:$H$9,E8)=0,"Invalid Unit",IF(L8="","Missing Unit Cost",IF(M8="","Missing Opening Quantity",IF(N8="","Missing Reorder Point",IF(O8="","Missing Target Stock",IF(O8<N8,"Target Below Reorder Point",IF(P8<0,"Negative On-Hand Quantity","OK")))))))))))))
A9: P-1004 | B9: Active | C9: 12V AGM Battery | D9: Electrical | E9: Each | F9: Interstate | G9: MTX-49/H8 | H9: Ram ProMaster | I9: C-01-01 | J9: Interstate Batteries | K9: 2 | L9: 214 | M9: 4 | N9: 2 | O9: 6 | P9: =IF(A9="","",IFERROR(M9+SUMIFS('Transactions'!$L$6:$L$505,'Transactions'!$C$6:$C$505,A9),"")) | Q9: =IF(A9="","",IFERROR(P9*L9,0)) | R9: =IF(A9="","",IF(B9<>"Active","Inactive",IF(P9<=0,"Out of Stock",IF(P9<=N9,"Reorder","OK")))) | S9: =IF(A9="","",IF(B9<>"Active",0,IF(P9<=N9,MAX(O9-P9,0),0))) | T9: =IF(A9="","",IFERROR(S9*L9,0)) | U9: =IF(A9="","",IF(COUNTIFS('Transactions'!$C$6:$C$505,A9,'Transactions'!$A$6:$A$505,">0")=0,"",IFERROR(MAXIFS('Transactions'!$A$6:$A$505,'Transactions'!$C$6:$C$505,A9),""))) | V9: =IF(A9="","",IF(AND(B9="Active",OR(R9="Reorder",R9="Out of Stock")),COUNTIFS($B$6:B9,"Active",$R$6:R9,"Reorder")+COUNTIFS($B$6:B9,"Active",$R$6:R9,"Out of Stock"),"")) | W9: =IF(COUNTA(A9:O9)=0,"",IF(A9="","Missing Part ID",IF(COUNTIF($A$6:$A$505,A9)>1,"Duplicate Part ID",IF(COUNTIF('Settings'!$F$4:$F$5,B9)=0,"Invalid Status",IF(C9="","Missing Part Name",IF(COUNTIF('Settings'!$G$4:$G$13,D9)=0,"Invalid Category",IF(COUNTIF('Settings'!$H$4:$H$9,E9)=0,"Invalid Unit",IF(L9="","Missing Unit Cost",IF(M9="","Missing Opening Quantity",IF(N9="","Missing Reorder Point",IF(O9="","Missing Target Stock",IF(O9<N9,"Target Below Reorder Point",IF(P9<0,"Negative On-Hand Quantity","OK")))))))))))))
A10: P-1005 | B10: Active | C10: DEF Fluid | D10: Fluids | E10: Gallon | F10: BlueDEF | G10: DEF001 | H10: Diesel Fleet | I10: D-01-01 | J10: Local Fuel Supplier | K10: 4 | L10: 3.25 | M10: 80 | N10: 30 | O10: 100 | P10: =IF(A10="","",IFERROR(M10+SUMIFS('Transactions'!$L$6:$L$505,'Transactions'!$C$6:$C$505,A10),"")) | Q10: =IF(A10="","",IFERROR(P10*L10,0)) | R10: =IF(A10="","",IF(B10<>"Active","Inactive",IF(P10<=0,"Out of Stock",IF(P10<=N10,"Reorder","OK")))) | S10: =IF(A10="","",IF(B10<>"Active",0,IF(P10<=N10,MAX(O10-P10,0),0))) | T10: =IF(A10="","",IFERROR(S10*L10,0)) | U10: =IF(A10="","",IF(COUNTIFS('Transactions'!$C$6:$C$505,A10,'Transactions'!$A$6:$A$505,">0")=0,"",IFERROR(MAXIFS('Transactions'!$A$6:$A$505,'Transactions'!$C$6:$C$505,A10),""))) | V10: =IF(A10="","",IF(AND(B10="Active",OR(R10="Reorder",R10="Out of Stock")),COUNTIFS($B$6:B10,"Active",$R$6:R10,"Reorder")+COUNTIFS($B$6:B10,"Active",$R$6:R10,"Out of Stock"),"")) | W10: =IF(COUNTA(A10:O10)=0,"",IF(A10="","Missing Part ID",IF(COUNTIF($A$6:$A$505,A10)>1,"Duplicate Part ID",IF(COUNTIF('Settings'!$F$4:$F$5,B10)=0,"Invalid Status",IF(C10="","Missing Part Name",IF(COUNTIF('Settings'!$G$4:$G$13,D10)=0,"Invalid Category",IF(COUNTIF('Settings'!$H$4:$H$9,E10)=0,"Invalid Unit",IF(L10="","Missing Unit Cost",IF(M10="","Missing Opening Quantity",IF(N10="","Missing Reorder Point",IF(O10="","Missing Target Stock",IF(O10<N10,"Target Below Reorder Point",IF(P10<0,"Negative On-Hand Quantity","OK")))))))))))))
A11: P-1006 | B11: Active | C11: Wiper Blade 24 in | D11: Safety | E11: Each | F11: Bosch | G11: ICON24A | H11: Mixed Fleet | I11: A-03-02 | J11: AutoZone Commercial | K11: 2 | L11: 22.5 | M11: 10 | N11: 4 | O11: 12 | P11: =IF(A11="","",IFERROR(M11+SUMIFS('Transactions'!$L$6:$L$505,'Transactions'!$C$6:$C$505,A11),"")) | Q11: =IF(A11="","",IFERROR(P11*L11,0)) | R11: =IF(A11="","",IF(B11<>"Active","Inactive",IF(P11<=0,"Out of Stock",IF(P11<=N11,"Reorder","OK")))) | S11: =IF(A11="","",IF(B11<>"Active",0,IF(P11<=N11,MAX(O11-P11,0),0))) | T11: =IF(A11="","",IFERROR(S11*L11,0)) | U11: =IF(A11="","",IF(COUNTIFS('Transactions'!$C$6:$C$505,A11,'Transactions'!$A$6:$A$505,">0")=0,"",IFERROR(MAXIFS('Transactions'!$A$6:$A$505,'Transactions'!$C$6:$C$505,A11),""))) | V11: =IF(A11="","",IF(AND(B11="Active",OR(R11="Reorder",R11="Out of Stock")),COUNTIFS($B$6:B11,"Active",$R$6:R11,"Reorder")+COUNTIFS($B$6:B11,"Active",$R$6:R11,"Out of Stock"),"")) | W11: =IF(COUNTA(A11:O11)=0,"",IF(A11="","Missing Part ID",IF(COUNTIF($A$6:$A$505,A11)>1,"Duplicate Part ID",IF(COUNTIF('Settings'!$F$4:$F$5,B11)=0,"Invalid Status",IF(C11="","Missing Part Name",IF(COUNTIF('Settings'!$G$4:$G$13,D11)=0,"Invalid Category",IF(COUNTIF('Settings'!$H$4:$H$9,E11)=0,"Invalid Unit",IF(L11="","Missing Unit Cost",IF(M11="","Missing Opening Quantity",IF(N11="","Missing Reorder Point",IF(O11="","Missing Target Stock",IF(O11<N11,"Target Below Reorder Point",IF(P11<0,"Negative On-Hand Quantity","OK")))))))))))))
A12: P-1007 | B12: Active | C12: Serpentine Belt | D12: Engine | E12: Each | F12: Gates | G12: K060923 | H12: Chevrolet Express 3500 | I12: B-01-03 | J12: FleetPride | K12: 6 | L12: 46.8 | M12: 5 | N12: 2 | O12: 7 | P12: =IF(A12="","",IFERROR(M12+SUMIFS('Transactions'!$L$6:$L$505,'Transactions'!$C$6:$C$505,A12),"")) | Q12: =IF(A12="","",IFERROR(P12*L12,0)) | R12: =IF(A12="","",IF(B12<>"Active","Inactive",IF(P12<=0,"Out of Stock",IF(P12<=N12,"Reorder","OK")))) | S12: =IF(A12="","",IF(B12<>"Active",0,IF(P12<=N12,MAX(O12-P12,0),0))) | T12: =IF(A12="","",IFERROR(S12*L12,0)) | U12: =IF(A12="","",IF(COUNTIFS('Transactions'!$C$6:$C$505,A12,'Transactions'!$A$6:$A$505,">0")=0,"",IFERROR(MAXIFS('Transactions'!$A$6:$A$505,'Transactions'!$C$6:$C$505,A12),""))) | V12: =IF(A12="","",IF(AND(B12="Active",OR(R12="Reorder",R12="Out of Stock")),COUNTIFS($B$6:B12,"Active",$R$6:R12,"Reorder")+COUNTIFS($B$6:B12,"Active",$R$6:R12,"Out of Stock"),"")) | W12: =IF(COUNTA(A12:O12)=0,"",IF(A12="","Missing Part ID",IF(COUNTIF($A$6:$A$505,A12)>1,"Duplicate Part ID",IF(COUNTIF('Settings'!$F$4:$F$5,B12)=0,"Invalid Status",IF(C12="","Missing Part Name",IF(COUNTIF('Settings'!$G$4:$G$13,D12)=0,"Invalid Category",IF(COUNTIF('Settings'!$H$4:$H$9,E12)=0,"Invalid Unit",IF(L12="","Missing Unit Cost",IF(M12="","Missing Opening Quantity",IF(N12="","Missing Reorder Point",IF(O12="","Missing Target Stock",IF(O12<N12,"Target Below Reorder Point",IF(P12<0,"Negative On-Hand Quantity","OK")))))))))))))
A13: P-1008 | B13: Active | C13: Headlamp Bulb H11 | D13: Electrical | E13: Each | F13: Sylvania | G13: H11XV/2 | H13: Mixed Fleet | I13: C-02-04 | J13: O'Reilly First Call | K13: 2 | L13: 17.99 | M13: 6 | N13: 3 | O13: 10 | P13: =IF(A13="","",IFERROR(M13+SUMIFS('Transactions'!$L$6:$L$505,'Transactions'!$C$6:$C$505,A13),"")) | Q13: =IF(A13="","",IFERROR(P13*L13,0)) | R13: =IF(A13="","",IF(B13<>"Active","Inactive",IF(P13<=0,"Out of Stock",IF(P13<=N13,"Reorder","OK")))) | S13: =IF(A13="","",IF(B13<>"Active",0,IF(P13<=N13,MAX(O13-P13,0),0))) | T13: =IF(A13="","",IFERROR(S13*L13,0)) | U13: =IF(A13="","",IF(COUNTIFS('Transactions'!$C$6:$C$505,A13,'Transactions'!$A$6:$A$505,">0")=0,"",IFERROR(MAXIFS('Transactions'!$A$6:$A$505,'Transactions'!$C$6:$C$505,A13),""))) | V13: =IF(A13="","",IF(AND(B13="Active",OR(R13="Reorder",R13="Out of Stock")),COUNTIFS($B$6:B13,"Active",$R$6:R13,"Reorder")+COUNTIFS($B$6:B13,"Active",$R$6:R13,"Out of Stock"),"")) | W13: =IF(COUNTA(A13:O13)=0,"",IF(A13="","Missing Part ID",IF(COUNTIF($A$6:$A$505,A13)>1,"Duplicate Part ID",IF(COUNTIF('Settings'!$F$4:$F$5,B13)=0,"Invalid Status",IF(C13="","Missing Part Name",IF(COUNTIF('Settings'!$G$4:$G$13,D13)=0,"Invalid Category",IF(COUNTIF('Settings'!$H$4:$H$9,E13)=0,"Invalid Unit",IF(L13="","Missing Unit Cost",IF(M13="","Missing Opening Quantity",IF(N13="","Missing Reorder Point",IF(O13="","Missing Target Stock",IF(O13<N13,"Target Below Reorder Point",IF(P13<0,"Negative On-Hand Quantity","OK")))))))))))))
A14: P-1009 | B14: Active | C14: LT225/75R16 Tire | D14: Tires | E14: Each | F14: Michelin | G14: AGILIS-CROSSCLIMATE | H14: Ford Transit 350 | I14: Tire Rack 1 | J14: Michelin Commercial | K14: 10 | L14: 238.5 | M14: 6 | N14: 4 | O14: 12 | P14: =IF(A14="","",IFERROR(M14+SUMIFS('Transactions'!$L$6:$L$505,'Transactions'!$C$6:$C$505,A14),"")) | Q14: =IF(A14="","",IFERROR(P14*L14,0)) | R14: =IF(A14="","",IF(B14<>"Active","Inactive",IF(P14<=0,"Out of Stock",IF(P14<=N14,"Reorder","OK")))) | S14: =IF(A14="","",IF(B14<>"Active",0,IF(P14<=N14,MAX(O14-P14,0),0))) | T14: =IF(A14="","",IFERROR(S14*L14,0)) | U14: =IF(A14="","",IF(COUNTIFS('Transactions'!$C$6:$C$505,A14,'Transactions'!$A$6:$A$505,">0")=0,"",IFERROR(MAXIFS('Transactions'!$A$6:$A$505,'Transactions'!$C$6:$C$505,A14),""))) | V14: =IF(A14="","",IF(AND(B14="Active",OR(R14="Reorder",R14="Out of Stock")),COUNTIFS($B$6:B14,"Active",$R$6:R14,"Reorder")+COUNTIFS($B$6:B14,"Active",$R$6:R14,"Out of Stock"),"")) | W14: =IF(COUNTA(A14:O14)=0,"",IF(A14="","Missing Part ID",IF(COUNTIF($A$6:$A$505,A14)>1,"Duplicate Part ID",IF(COUNTIF('Settings'!$F$4:$F$5,B14)=0,"Invalid Status",IF(C14="","Missing Part Name",IF(COUNTIF('Settings'!$G$4:$G$13,D14)=0,"Invalid Category",IF(COUNTIF('Settings'!$H$4:$H$9,E14)=0,"Invalid Unit",IF(L14="","Missing Unit Cost",IF(M14="","Missing Opening Quantity",IF(N14="","Missing Reorder Point",IF(O14="","Missing Target Stock",IF(O14<N14,"Target Below Reorder Point",IF(P14<0,"Negative On-Hand Quantity","OK")))))))))))))
A15: P-1010 | B15: Active | C15: Coolant 50/50 | D15: Fluids | E15: Gallon | F15: Peak | G15: PKPB53 | H15: Mixed Fleet | I15: D-01-02 | J15: NAPA Fleet | K15: 3 | L15: 14.75 | M15: 20 | N15: 8 | O15: 24 | P15: =IF(A15="","",IFERROR(M15+SUMIFS('Transactions'!$L$6:$L$505,'Transactions'!$C$6:$C$505,A15),"")) | Q15: =IF(A15="","",IFERROR(P15*L15,0)) | R15: =IF(A15="","",IF(B15<>"Active","Inactive",IF(P15<=0,"Out of Stock",IF(P15<=N15,"Reorder","OK")))) | S15: =IF(A15="","",IF(B15<>"Active",0,IF(P15<=N15,MAX(O15-P15,0),0))) | T15: =IF(A15="","",IFERROR(S15*L15,0)) | U15: =IF(A15="","",IF(COUNTIFS('Transactions'!$C$6:$C$505,A15,'Transactions'!$A$6:$A$505,">0")=0,"",IFERROR(MAXIFS('Transactions'!$A$6:$A$505,'Transactions'!$C$6:$C$505,A15),""))) | V15: =IF(A15="","",IF(AND(B15="Active",OR(R15="Reorder",R15="Out of Stock")),COUNTIFS($B$6:B15,"Active",$R$6:R15,"Reorder")+COUNTIFS($B$6:B15,"Active",$R$6:R15,"Out of Stock"),"")) | W15: =IF(COUNTA(A15:O15)=0,"",IF(A15="","Missing Part ID",IF(COUNTIF($A$6:$A$505,A15)>1,"Duplicate Part ID",IF(COUNTIF('Settings'!$F$4:$F$5,B15)=0,"Invalid Status",IF(C15="","Missing Part Name",IF(COUNTIF('Settings'!$G$4:$G$13,D15)=0,"Invalid Category",IF(COUNTIF('Settings'!$H$4:$H$9,E15)=0,"Invalid Unit",IF(L15="","Missing Unit Cost",IF(M15="","Missing Opening Quantity",IF(N15="","Missing Reorder Point",IF(O15="","Missing Target Stock",IF(O15<N15,"Target Below Reorder Point",IF(P15<0,"Negative On-Hand Quantity","OK")))))))))))))
P16: =IF(A16="","",IFERROR(M16+SUMIFS('Transactions'!$L$6:$L$505,'Transactions'!$C$6:$C$505,A16),"")) | Q16: =IF(A16="","",IFERROR(P16*L16,0)) | R16: =IF(A16="","",IF(B16<>"Active","Inactive",IF(P16<=0,"Out of Stock",IF(P16<=N16,"Reorder","OK")))) | S16: =IF(A16="","",IF(B16<>"Active",0,IF(P16<=N16,MAX(O16-P16,0),0))) | T16: =IF(A16="","",IFERROR(S16*L16,0)) | U16: =IF(A16="","",IF(COUNTIFS('Transactions'!$C$6:$C$505,A16,'Transactions'!$A$6:$A$505,">0")=0,"",IFERROR(MAXIFS('Transactions'!$A$6:$A$505,'Transactions'!$C$6:$C$505,A16),""))) | V16: =IF(A16="","",IF(AND(B16="Active",OR(R16="Reorder",R16="Out of Stock")),COUNTIFS($B$6:B16,"Active",$R$6:R16,"Reorder")+COUNTIFS($B$6:B16,"Active",$R$6:R16,"Out of Stock"),"")) | W16: =IF(COUNTA(A16:O16)=0,"",IF(A16="","Missing Part ID",IF(COUNTIF($A$6:$A$505,A16)>1,"Duplicate Part ID",IF(COUNTIF('Settings'!$F$4:$F$5,B16)=0,"Invalid Status",IF(C16="","Missing Part Name",IF(COUNTIF('Settings'!$G$4:$G$13,D16)=0,"Invalid Category",IF(COUNTIF('Settings'!$H$4:$H$9,E16)=0,"Invalid Unit",IF(L16="","Missing Unit Cost",IF(M16="","Missing Opening Quantity",IF(N16="","Missing Reorder Point",IF(O16="","Missing Target Stock",IF(O16<N16,"Target Below Reorder Point",IF(P16<0,"Negative On-Hand Quantity","OK")))))))))))))
P17: =IF(A17="","",IFERROR(M17+SUMIFS('Transactions'!$L$6:$L$505,'Transactions'!$C$6:$C$505,A17),"")) | Q17: =IF(A17="","",IFERROR(P17*L17,0)) | R17: =IF(A17="","",IF(B17<>"Active","Inactive",IF(P17<=0,"Out of Stock",IF(P17<=N17,"Reorder","OK")))) | S17: =IF(A17="","",IF(B17<>"Active",0,IF(P17<=N17,MAX(O17-P17,0),0))) | T17: =IF(A17="","",IFERROR(S17*L17,0)) | U17: =IF(A17="","",IF(COUNTIFS('Transactions'!$C$6:$C$505,A17,'Transactions'!$A$6:$A$505,">0")=0,"",IFERROR(MAXIFS('Transactions'!$A$6:$A$505,'Transactions'!$C$6:$C$505,A17),""))) | V17: =IF(A17="","",IF(AND(B17="Active",OR(R17="Reorder",R17="Out of Stock")),COUNTIFS($B$6:B17,"Active",$R$6:R17,"Reorder")+COUNTIFS($B$6:B17,"Active",$R$6:R17,"Out of Stock"),"")) | W17: =IF(COUNTA(A17:O17)=0,"",IF(A17="","Missing Part ID",IF(COUNTIF($A$6:$A$505,A17)>1,"Duplicate Part ID",IF(COUNTIF('Settings'!$F$4:$F$5,B17)=0,"Invalid Status",IF(C17="","Missing Part Name",IF(COUNTIF('Settings'!$G$4:$G$13,D17)=0,"Invalid Category",IF(COUNTIF('Settings'!$H$4:$H$9,E17)=0,"Invalid Unit",IF(L17="","Missing Unit Cost",IF(M17="","Missing Opening Quantity",IF(N17="","Missing Reorder Point",IF(O17="","Missing Target Stock",IF(O17<N17,"Target Below Reorder Point",IF(P17<0,"Negative On-Hand Quantity","OK")))))))))))))
P18: =IF(A18="","",IFERROR(M18+SUMIFS('Transactions'!$L$6:$L$505,'Transactions'!$C$6:$C$505,A18),"")) | Q18: =IF(A18="","",IFERROR(P18*L18,0)) | R18: =IF(A18="","",IF(B18<>"Active","Inactive",IF(P18<=0,"Out of Stock",IF(P18<=N18,"Reorder","OK")))) | S18: =IF(A18="","",IF(B18<>"Active",0,IF(P18<=N18,MAX(O18-P18,0),0))) | T18: =IF(A18="","",IFERROR(S18*L18,0)) | U18: =IF(A18="","",IF(COUNTIFS('Transactions'!$C$6:$C$505,A18,'Transactions'!$A$6:$A$505,">0")=0,"",IFERROR(MAXIFS('Transactions'!$A$6:$A$505,'Transactions'!$C$6:$C$505,A18),""))) | V18: =IF(A18="","",IF(AND(B18="Active",OR(R18="Reorder",R18="Out of Stock")),COUNTIFS($B$6:B18,"Active",$R$6:R18,"Reorder")+COUNTIFS($B$6:B18,"Active",$R$6:R18,"Out of Stock"),"")) | W18: =IF(COUNTA(A18:O18)=0,"",IF(A18="","Missing Part ID",IF(COUNTIF($A$6:$A$505,A18)>1,"Duplicate Part ID",IF(COUNTIF('Settings'!$F$4:$F$5,B18)=0,"Invalid Status",IF(C18="","Missing Part Name",IF(COUNTIF('Settings'!$G$4:$G$13,D18)=0,"Invalid Category",IF(COUNTIF('Settings'!$H$4:$H$9,E18)=0,"Invalid Unit",IF(L18="","Missing Unit Cost",IF(M18="","Missing Opening Quantity",IF(N18="","Missing Reorder Point",IF(O18="","Missing Target Stock",IF(O18<N18,"Target Below Reorder Point",IF(P18<0,"Negative On-Hand Quantity","OK")))))))))))))
P19: =IF(A19="","",IFERROR(M19+SUMIFS('Transactions'!$L$6:$L$505,'Transactions'!$C$6:$C$505,A19),"")) | Q19: =IF(A19="","",IFERROR(P19*L19,0)) | R19: =IF(A19="","",IF(B19<>"Active","Inactive",IF(P19<=0,"Out of Stock",IF(P19<=N19,"Reorder","OK")))) | S19: =IF(A19="","",IF(B19<>"Active",0,IF(P19<=N19,MAX(O19-P19,0),0))) | T19: =IF(A19="","",IFERROR(S19*L19,0)) | U19: =IF(A19="","",IF(COUNTIFS('Transactions'!$C$6:$C$505,A19,'Transactions'!$A$6:$A$505,">0")=0,"",IFERROR(MAXIFS('Transactions'!$A$6:$A$505,'Transactions'!$C$6:$C$505,A19),""))) | V19: =IF(A19="","",IF(AND(B19="Active",OR(R19="Reorder",R19="Out of Stock")),COUNTIFS($B$6:B19,"Active",$R$6:R19,"Reorder")+COUNTIFS($B$6:B19,"Active",$R$6:R19,"Out of Stock"),"")) | W19: =IF(COUNTA(A19:O19)=0,"",IF(A19="","Missing Part ID",IF(COUNTIF($A$6:$A$505,A19)>1,"Duplicate Part ID",IF(COUNTIF('Settings'!$F$4:$F$5,B19)=0,"Invalid Status",IF(C19="","Missing Part Name",IF(COUNTIF('Settings'!$G$4:$G$13,D19)=0,"Invalid Category",IF(COUNTIF('Settings'!$H$4:$H$9,E19)=0,"Invalid Unit",IF(L19="","Missing Unit Cost",IF(M19="","Missing Opening Quantity",IF(N19="","Missing Reorder Point",IF(O19="","Missing Target Stock",IF(O19<N19,"Target Below Reorder Point",IF(P19<0,"Negative On-Hand Quantity","OK")))))))))))))
P20: =IF(A20="","",IFERROR(M20+SUMIFS('Transactions'!$L$6:$L$505,'Transactions'!$C$6:$C$505,A20),"")) | Q20: =IF(A20="","",IFERROR(P20*L20,0)) | R20: =IF(A20="","",IF(B20<>"Active","Inactive",IF(P20<=0,"Out of Stock",IF(P20<=N20,"Reorder","OK")))) | S20: =IF(A20="","",IF(B20<>"Active",0,IF(P20<=N20,MAX(O20-P20,0),0))) | T20: =IF(A20="","",IFERROR(S20*L20,0)) | U20: =IF(A20="","",IF(COUNTIFS('Transactions'!$C$6:$C$505,A20,'Transactions'!$A$6:$A$505,">0")=0,"",IFERROR(MAXIFS('Transactions'!$A$6:$A$505,'Transactions'!$C$6:$C$505,A20),""))) | V20: =IF(A20="","",IF(AND(B20="Active",OR(R20="Reorder",R20="Out of Stock")),COUNTIFS($B$6:B20,"Active",$R$6:R20,"Reorder")+COUNTIFS($B$6:B20,"Active",$R$6:R20,"Out of Stock"),"")) | W20: =IF(COUNTA(A20:O20)=0,"",IF(A20="","Missing Part ID",IF(COUNTIF($A$6:$A$505,A20)>1,"Duplicate Part ID",IF(COUNTIF('Settings'!$F$4:$F$5,B20)=0,"Invalid Status",IF(C20="","Missing Part Name",IF(COUNTIF('Settings'!$G$4:$G$13,D20)=0,"Invalid Category",IF(COUNTIF('Settings'!$H$4:$H$9,E20)=0,"Invalid Unit",IF(L20="","Missing Unit Cost",IF(M20="","Missing Opening Quantity",IF(N20="","Missing Reorder Point",IF(O20="","Missing Target Stock",IF(O20<N20,"Target Below Reorder Point",IF(P20<0,"Negative On-Hand Quantity","OK")))))))))))))
P21: =IF(A21="","",IFERROR(M21+SUMIFS('Transactions'!$L$6:$L$505,'Transactions'!$C$6:$C$505,A21),"")) | Q21: =IF(A21="","",IFERROR(P21*L21,0)) | R21: =IF(A21="","",IF(B21<>"Active","Inactive",IF(P21<=0,"Out of Stock",IF(P21<=N21,"Reorder","OK")))) | S21: =IF(A21="","",IF(B21<>"Active",0,IF(P21<=N21,MAX(O21-P21,0),0))) | T21: =IF(A21="","",IFERROR(S21*L21,0)) | U21: =IF(A21="","",IF(COUNTIFS('Transactions'!$C$6:$C$505,A21,'Transactions'!$A$6:$A$505,">0")=0,"",IFERROR(MAXIFS('Transactions'!$A$6:$A$505,'Transactions'!$C$6:$C$505,A21),""))) | V21: =IF(A21="","",IF(AND(B21="Active",OR(R21="Reorder",R21="Out of Stock")),COUNTIFS($B$6:B21,"Active",$R$6:R21,"Reorder")+COUNTIFS($B$6:B21,"Active",$R$6:R21,"Out of Stock"),"")) | W21: =IF(COUNTA(A21:O21)=0,"",IF(A21="","Missing Part ID",IF(COUNTIF($A$6:$A$505,A21)>1,"Duplicate Part ID",IF(COUNTIF('Settings'!$F$4:$F$5,B21)=0,"Invalid Status",IF(C21="","Missing Part Name",IF(COUNTIF('Settings'!$G$4:$G$13,D21)=0,"Invalid Category",IF(COUNTIF('Settings'!$H$4:$H$9,E21)=0,"Invalid Unit",IF(L21="","Missing Unit Cost",IF(M21="","Missing Opening Quantity",IF(N21="","Missing Reorder Point",IF(O21="","Missing Target Stock",IF(O21<N21,"Target Below Reorder Point",IF(P21<0,"Negative On-Hand Quantity","OK")))))))))))))
P22: =IF(A22="","",IFERROR(M22+SUMIFS('Transactions'!$L$6:$L$505,'Transactions'!$C$6:$C$505,A22),"")) | Q22: =IF(A22="","",IFERROR(P22*L22,0)) | R22: =IF(A22="","",IF(B22<>"Active","Inactive",IF(P22<=0,"Out of Stock",IF(P22<=N22,"Reorder","OK")))) | S22: =IF(A22="","",IF(B22<>"Active",0,IF(P22<=N22,MAX(O22-P22,0),0))) | T22: =IF(A22="","",IFERROR(S22*L22,0)) | U22: =IF(A22="","",IF(COUNTIFS('Transactions'!$C$6:$C$505,A22,'Transactions'!$A$6:$A$505,">0")=0,"",IFERROR(MAXIFS('Transactions'!$A$6:$A$505,'Transactions'!$C$6:$C$505,A22),""))) | V22: =IF(A22="","",IF(AND(B22="Active",OR(R22="Reorder",R22="Out of Stock")),COUNTIFS($B$6:B22,"Active",$R$6:R22,"Reorder")+COUNTIFS($B$6:B22,"Active",$R$6:R22,"Out of Stock"),"")) | W22: =IF(COUNTA(A22:O22)=0,"",IF(A22="","Missing Part ID",IF(COUNTIF($A$6:$A$505,A22)>1,"Duplicate Part ID",IF(COUNTIF('Settings'!$F$4:$F$5,B22)=0,"Invalid Status",IF(C22="","Missing Part Name",IF(COUNTIF('Settings'!$G$4:$G$13,D22)=0,"Invalid Category",IF(COUNTIF('Settings'!$H$4:$H$9,E22)=0,"Invalid Unit",IF(L22="","Missing Unit Cost",IF(M22="","Missing Opening Quantity",IF(N22="","Missing Reorder Point",IF(O22="","Missing Target Stock",IF(O22<N22,"Target Below Reorder Point",IF(P22<0,"Negative On-Hand Quantity","OK")))))))))))))
P23: =IF(A23="","",IFERROR(M23+SUMIFS('Transactions'!$L$6:$L$505,'Transactions'!$C$6:$C$505,A23),"")) | Q23: =IF(A23="","",IFERROR(P23*L23,0)) | R23: =IF(A23="","",IF(B23<>"Active","Inactive",IF(P23<=0,"Out of Stock",IF(P23<=N23,"Reorder","OK")))) | S23: =IF(A23="","",IF(B23<>"Active",0,IF(P23<=N23,MAX(O23-P23,0),0))) | T23: =IF(A23="","",IFERROR(S23*L23,0)) | U23: =IF(A23="","",IF(COUNTIFS('Transactions'!$C$6:$C$505,A23,'Transactions'!$A$6:$A$505,">0")=0,"",IFERROR(MAXIFS('Transactions'!$A$6:$A$505,'Transactions'!$C$6:$C$505,A23),""))) | V23: =IF(A23="","",IF(AND(B23="Active",OR(R23="Reorder",R23="Out of Stock")),COUNTIFS($B$6:B23,"Active",$R$6:R23,"Reorder")+COUNTIFS($B$6:B23,"Active",$R$6:R23,"Out of Stock"),"")) | W23: =IF(COUNTA(A23:O23)=0,"",IF(A23="","Missing Part ID",IF(COUNTIF($A$6:$A$505,A23)>1,"Duplicate Part ID",IF(COUNTIF('Settings'!$F$4:$F$5,B23)=0,"Invalid Status",IF(C23="","Missing Part Name",IF(COUNTIF('Settings'!$G$4:$G$13,D23)=0,"Invalid Category",IF(COUNTIF('Settings'!$H$4:$H$9,E23)=0,"Invalid Unit",IF(L23="","Missing Unit Cost",IF(M23="","Missing Opening Quantity",IF(N23="","Missing Reorder Point",IF(O23="","Missing Target Stock",IF(O23<N23,"Target Below Reorder Point",IF(P23<0,"Negative On-Hand Quantity","OK")))))))))))))
P24: =IF(A24="","",IFERROR(M24+SUMIFS('Transactions'!$L$6:$L$505,'Transactions'!$C$6:$C$505,A24),"")) | Q24: =IF(A24="","",IFERROR(P24*L24,0)) | R24: =IF(A24="","",IF(B24<>"Active","Inactive",IF(P24<=0,"Out of Stock",IF(P24<=N24,"Reorder","OK")))) | S24: =IF(A24="","",IF(B24<>"Active",0,IF(P24<=N24,MAX(O24-P24,0),0))) | T24: =IF(A24="","",IFERROR(S24*L24,0)) | U24: =IF(A24="","",IF(COUNTIFS('Transactions'!$C$6:$C$505,A24,'Transactions'!$A$6:$A$505,">0")=0,"",IFERROR(MAXIFS('Transactions'!$A$6:$A$505,'Transactions'!$C$6:$C$505,A24),""))) | V24: =IF(A24="","",IF(AND(B24="Active",OR(R24="Reorder",R24="Out of Stock")),COUNTIFS($B$6:B24,"Active",$R$6:R24,"Reorder")+COUNTIFS($B$6:B24,"Active",$R$6:R24,"Out of Stock"),"")) | W24: =IF(COUNTA(A24:O24)=0,"",IF(A24="","Missing Part ID",IF(COUNTIF($A$6:$A$505,A24)>1,"Duplicate Part ID",IF(COUNTIF('Settings'!$F$4:$F$5,B24)=0,"Invalid Status",IF(C24="","Missing Part Name",IF(COUNTIF('Settings'!$G$4:$G$13,D24)=0,"Invalid Category",IF(COUNTIF('Settings'!$H$4:$H$9,E24)=0,"Invalid Unit",IF(L24="","Missing Unit Cost",IF(M24="","Missing Opening Quantity",IF(N24="","Missing Reorder Point",IF(O24="","Missing Target Stock",IF(O24<N24,"Target Below Reorder Point",IF(P24<0,"Negative On-Hand Quantity","OK")))))))))))))
P25: =IF(A25="","",IFERROR(M25+SUMIFS('Transactions'!$L$6:$L$505,'Transactions'!$C$6:$C$505,A25),"")) | Q25: =IF(A25="","",IFERROR(P25*L25,0)) | R25: =IF(A25="","",IF(B25<>"Active","Inactive",IF(P25<=0,"Out of Stock",IF(P25<=N25,"Reorder","OK")))) | S25: =IF(A25="","",IF(B25<>"Active",0,IF(P25<=N25,MAX(O25-P25,0),0))) | T25: =IF(A25="","",IFERROR(S25*L25,0)) | U25: =IF(A25="","",IF(COUNTIFS('Transactions'!$C$6:$C$505,A25,'Transactions'!$A$6:$A$505,">0")=0,"",IFERROR(MAXIFS('Transactions'!$A$6:$A$505,'Transactions'!$C$6:$C$505,A25),""))) | V25: =IF(A25="","",IF(AND(B25="Active",OR(R25="Reorder",R25="Out of Stock")),COUNTIFS($B$6:B25,"Active",$R$6:R25,"Reorder")+COUNTIFS($B$6:B25,"Active",$R$6:R25,"Out of Stock"),"")) | W25: =IF(COUNTA(A25:O25)=0,"",IF(A25="","Missing Part ID",IF(COUNTIF($A$6:$A$505,A25)>1,"Duplicate Part ID",IF(COUNTIF('Settings'!$F$4:$F$5,B25)=0,"Invalid Status",IF(C25="","Missing Part Name",IF(COUNTIF('Settings'!$G$4:$G$13,D25)=0,"Invalid Category",IF(COUNTIF('Settings'!$H$4:$H$9,E25)=0,"Invalid Unit",IF(L25="","Missing Unit Cost",IF(M25="","Missing Opening Quantity",IF(N25="","Missing Reorder Point",IF(O25="","Missing Target Stock",IF(O25<N25,"Target Below Reorder Point",IF(P25<0,"Negative On-Hand Quantity","OK")))))))))))))
P26: =IF(A26="","",IFERROR(M26+SUMIFS('Transactions'!$L$6:$L$505,'Transactions'!$C$6:$C$505,A26),"")) | Q26: =IF(A26="","",IFERROR(P26*L26,0)) | R26: =IF(A26="","",IF(B26<>"Active","Inactive",IF(P26<=0,"Out of Stock",IF(P26<=N26,"Reorder","OK")))) | S26: =IF(A26="","",IF(B26<>"Active",0,IF(P26<=N26,MAX(O26-P26,0),0))) | T26: =IF(A26="","",IFERROR(S26*L26,0)) | U26: =IF(A26="","",IF(COUNTIFS('Transactions'!$C$6:$C$505,A26,'Transactions'!$A$6:$A$505,">0")=0,"",IFERROR(MAXIFS('Transactions'!$A$6:$A$505,'Transactions'!$C$6:$C$505,A26),""))) | V26: =IF(A26="","",IF(AND(B26="Active",OR(R26="Reorder",R26="Out of Stock")),COUNTIFS($B$6:B26,"Active",$R$6:R26,"Reorder")+COUNTIFS($B$6:B26,"Active",$R$6:R26,"Out of Stock"),"")) | W26: =IF(COUNTA(A26:O26)=0,"",IF(A26="","Missing Part ID",IF(COUNTIF($A$6:$A$505,A26)>1,"Duplicate Part ID",IF(COUNTIF('Settings'!$F$4:$F$5,B26)=0,"Invalid Status",IF(C26="","Missing Part Name",IF(COUNTIF('Settings'!$G$4:$G$13,D26)=0,"Invalid Category",IF(COUNTIF('Settings'!$H$4:$H$9,E26)=0,"Invalid Unit",IF(L26="","Missing Unit Cost",IF(M26="","Missing Opening Quantity",IF(N26="","Missing Reorder Point",IF(O26="","Missing Target Stock",IF(O26<N26,"Target Below Reorder Point",IF(P26<0,"Negative On-Hand Quantity","OK")))))))))))))
P27: =IF(A27="","",IFERROR(M27+SUMIFS('Transactions'!$L$6:$L$505,'Transactions'!$C$6:$C$505,A27),"")) | Q27: =IF(A27="","",IFERROR(P27*L27,0)) | R27: =IF(A27="","",IF(B27<>"Active","Inactive",IF(P27<=0,"Out of Stock",IF(P27<=N27,"Reorder","OK")))) | S27: =IF(A27="","",IF(B27<>"Active",0,IF(P27<=N27,MAX(O27-P27,0),0))) | T27: =IF(A27="","",IFERROR(S27*L27,0)) | U27: =IF(A27="","",IF(COUNTIFS('Transactions'!$C$6:$C$505,A27,'Transactions'!$A$6:$A$505,">0")=0,"",IFERROR(MAXIFS('Transactions'!$A$6:$A$505,'Transactions'!$C$6:$C$505,A27),""))) | V27: =IF(A27="","",IF(AND(B27="Active",OR(R27="Reorder",R27="Out of Stock")),COUNTIFS($B$6:B27,"Active",$R$6:R27,"Reorder")+COUNTIFS($B$6:B27,"Active",$R$6:R27,"Out of Stock"),"")) | W27: =IF(COUNTA(A27:O27)=0,"",IF(A27="","Missing Part ID",IF(COUNTIF($A$6:$A$505,A27)>1,"Duplicate Part ID",IF(COUNTIF('Settings'!$F$4:$F$5,B27)=0,"Invalid Status",IF(C27="","Missing Part Name",IF(COUNTIF('Settings'!$G$4:$G$13,D27)=0,"Invalid Category",IF(COUNTIF('Settings'!$H$4:$H$9,E27)=0,"Invalid Unit",IF(L27="","Missing Unit Cost",IF(M27="","Missing Opening Quantity",IF(N27="","Missing Reorder Point",IF(O27="","Missing Target Stock",IF(O27<N27,"Target Below Reorder Point",IF(P27<0,"Negative On-Hand Quantity","OK")))))))))))))
... P505: =IF(A505="","",IFERROR(M505+SUMIFS('Transactions'!$L$6:$L$505,'Transactions'!$C$6:$C$505,A505),"")) | Q505: =IF(A505="","",IFERROR(P505*L505,0)) | R505: =IF(A505="","",IF(B505<>"Active","Inactive",IF(P505<=0,"Out of Stock",IF(P505<=N505,"Reorder","OK")))) | S505: =IF(A505="","",IF(B505<>"Active",0,IF(P505<=N505,MAX(O505-P505,0),0))) | T505: =IF(A505="","",IFERROR(S505*L505,0)) | U505: =IF(A505="","",IF(COUNTIFS('Transactions'!$C$6:$C$505,A505,'Transactions'!$A$6:$A$505,">0")=0,"",IFERROR(MAXIFS('Transactions'!$A$6:$A$505,'Transactions'!$C$6:$C$505,A505),""))) | V505: =IF(A505="","",IF(AND(B505="Active",OR(R505="Reorder",R505="Out of Stock")),COUNTIFS($B$6:B505,"Active",$R$6:R505,"Reorder")+COUNTIFS($B$6:B505,"Active",$R$6:R505,"Out of Stock"),"")) | W505: =IF(COUNTA(A505:O505)=0,"",IF(A505="","Missing Part ID",IF(COUNTIF($A$6:$A$505,A505)>1,"Duplicate Part ID",IF(COUNTIF('Settings'!$F$4:$F$5,B505)=0,"Invalid Status",IF(C505="","Missing Part Name",IF(COUNTIF('Settings'!$G$4:$G$13,D505)=0,"Invalid Category",IF(COUNTIF('Settings'!$H$4:$H$9,E505)=0,"Invalid Unit",IF(L505="","Missing Unit Cost",IF(M505="","Missing Opening Quantity",IF(N505="","Missing Reorder Point",IF(O505="","Missing Target Stock",IF(O505<N505,"Target Below Reorder Point",IF(P505<0,"Negative On-Hand Quantity","OK")))))))))))))

Sheet Transactions
A1: Inventory Transactions
A3: Enter transaction quantities as positive numbers. The transaction type determines whether inventory increases or decreases.
A5: Date | B5: Transaction ID | C5: Part ID | D5: Transaction Type | E5: Quantity | F5: Entered Unit Cost | G5: Applied Unit Cost | H5: Vehicle / Work Order / PO | I5: Odometer (Miles) | J5: Vendor / Source | K5: Notes | L5: Signed Quantity | M5: Inventory Value Change | N5: Data Check
A6: 46210 | B6: TXN-260001 | C6: P-1001 | D6: Issue | E6: 11 | G6: =IF(C6="","",IFERROR(IF(F6<>"",F6,VLOOKUP(C6,'Parts Inventory'!$A$6:$L$505,12,FALSE)),"")) | H6: Unit 214 / WO-26031 | I6: 482150 | J6: Service Bay | K6: Preventive maintenance | L6: =IF(OR(C6="",D6="",E6=""),"",IFERROR(IF(OR(D6="Receipt",D6="Return to Stock",D6="Adjustment Increase"),E6,-E6),"")) | M6: =IF(L6="","",IFERROR(L6*G6,0)) | N6: =IF(COUNTA(A6:F6)+COUNTA(H6:K6)=0,"",IF(A6="","Missing Date",IF(B6="","Missing Transaction ID",IF(COUNTIF($B$6:$B$505,B6)>1,"Duplicate Transaction ID",IF(C6="","Missing Part ID",IF(COUNTIF('Parts Inventory'!$A$6:$A$505,C6)=0,"Unknown Part ID",IF(COUNTIF('Settings'!$I$4:$I$8,D6)=0,"Invalid Transaction Type",IF(E6="","Missing Quantity",IF(E6<=0,"Quantity Must Be Positive",IF(G6="","Missing Unit Cost","OK"))))))))))
A7: 46216 | B7: TXN-260002 | C7: P-1002 | D7: Issue | E7: 3 | G7: =IF(C7="","",IFERROR(IF(F7<>"",F7,VLOOKUP(C7,'Parts Inventory'!$A$6:$L$505,12,FALSE)),"")) | H7: Unit 307 / WO-26044 | I7: 126880 | J7: Service Bay | K7: Fuel system service | L7: =IF(OR(C7="",D7="",E7=""),"",IFERROR(IF(OR(D7="Receipt",D7="Return to Stock",D7="Adjustment Increase"),E7,-E7),"")) | M7: =IF(L7="","",IFERROR(L7*G7,0)) | N7: =IF(COUNTA(A7:F7)+COUNTA(H7:K7)=0,"",IF(A7="","Missing Date",IF(B7="","Missing Transaction ID",IF(COUNTIF($B$6:$B$505,B7)>1,"Duplicate Transaction ID",IF(C7="","Missing Part ID",IF(COUNTIF('Parts Inventory'!$A$6:$A$505,C7)=0,"Unknown Part ID",IF(COUNTIF('Settings'!$I$4:$I$8,D7)=0,"Invalid Transaction Type",IF(E7="","Missing Quantity",IF(E7<=0,"Quantity Must Be Positive",IF(G7="","Missing Unit Cost","OK"))))))))))
A8: 46223 | B8: TXN-260003 | C8: P-1003 | D8: Issue | E8: 6 | G8: =IF(C8="","",IFERROR(IF(F8<>"",F8,VLOOKUP(C8,'Parts Inventory'!$A$6:$L$505,12,FALSE)),"")) | H8: Units 118, 121, 126 | I8: 74220 | J8: Brake Shop | K8: Three brake jobs | L8: =IF(OR(C8="",D8="",E8=""),"",IFERROR(IF(OR(D8="Receipt",D8="Return to Stock",D8="Adjustment Increase"),E8,-E8),"")) | M8: =IF(L8="","",IFERROR(L8*G8,0)) | N8: =IF(COUNTA(A8:F8)+COUNTA(H8:K8)=0,"",IF(A8="","Missing Date",IF(B8="","Missing Transaction ID",IF(COUNTIF($B$6:$B$505,B8)>1,"Duplicate Transaction ID",IF(C8="","Missing Part ID",IF(COUNTIF('Parts Inventory'!$A$6:$A$505,C8)=0,"Unknown Part ID",IF(COUNTIF('Settings'!$I$4:$I$8,D8)=0,"Invalid Transaction Type",IF(E8="","Missing Quantity",IF(E8<=0,"Quantity Must Be Positive",IF(G8="","Missing Unit Cost","OK"))))))))))
A9: 46230 | B9: TXN-260004 | C9: P-1004 | D9: Issue | E9: 4 | G9: =IF(C9="","",IFERROR(IF(F9<>"",F9,VLOOKUP(C9,'Parts Inventory'!$A$6:$L$505,12,FALSE)),"")) | H9: Units 204, 209, 311, 318 | I9: 98640 | J9: Service Bay | K9: Battery replacements | L9: =IF(OR(C9="",D9="",E9=""),"",IFERROR(IF(OR(D9="Receipt",D9="Return to Stock",D9="Adjustment Increase"),E9,-E9),"")) | M9: =IF(L9="","",IFERROR(L9*G9,0)) | N9: =IF(COUNTA(A9:F9)+COUNTA(H9:K9)=0,"",IF(A9="","Missing Date",IF(B9="","Missing Transaction ID",IF(COUNTIF($B$6:$B$505,B9)>1,"Duplicate Transaction ID",IF(C9="","Missing Part ID",IF(COUNTIF('Parts Inventory'!$A$6:$A$505,C9)=0,"Unknown Part ID",IF(COUNTIF('Settings'!$I$4:$I$8,D9)=0,"Invalid Transaction Type",IF(E9="","Missing Quantity",IF(E9<=0,"Quantity Must Be Positive",IF(G9="","Missing Unit Cost","OK"))))))))))
A10: 46237 | B10: TXN-260005 | C10: P-1005 | D10: Issue | E10: 55 | G10: =IF(C10="","",IFERROR(IF(F10<>"",F10,VLOOKUP(C10,'Parts Inventory'!$A$6:$L$505,12,FALSE)),"")) | H10: Yard DEF Tank | J10: Fuel Island | K10: Weekly DEF usage | L10: =IF(OR(C10="",D10="",E10=""),"",IFERROR(IF(OR(D10="Receipt",D10="Return to Stock",D10="Adjustment Increase"),E10,-E10),"")) | M10: =IF(L10="","",IFERROR(L10*G10,0)) | N10: =IF(COUNTA(A10:F10)+COUNTA(H10:K10)=0,"",IF(A10="","Missing Date",IF(B10="","Missing Transaction ID",IF(COUNTIF($B$6:$B$505,B10)>1,"Duplicate Transaction ID",IF(C10="","Missing Part ID",IF(COUNTIF('Parts Inventory'!$A$6:$A$505,C10)=0,"Unknown Part ID",IF(COUNTIF('Settings'!$I$4:$I$8,D10)=0,"Invalid Transaction Type",IF(E10="","Missing Quantity",IF(E10<=0,"Quantity Must Be Positive",IF(G10="","Missing Unit Cost","OK"))))))))))
A11: 46243 | B11: TXN-260006 | C11: P-1006 | D11: Receipt | E11: 6 | F11: 21.9 | G11: =IF(C11="","",IFERROR(IF(F11<>"",F11,VLOOKUP(C11,'Parts Inventory'!$A$6:$L$505,12,FALSE)),"")) | H11: PO-8612 | J11: AutoZone Commercial | K11: Restock shipment | L11: =IF(OR(C11="",D11="",E11=""),"",IFERROR(IF(OR(D11="Receipt",D11="Return to Stock",D11="Adjustment Increase"),E11,-E11),"")) | M11: =IF(L11="","",IFERROR(L11*G11,0)) | N11: =IF(COUNTA(A11:F11)+COUNTA(H11:K11)=0,"",IF(A11="","Missing Date",IF(B11="","Missing Transaction ID",IF(COUNTIF($B$6:$B$505,B11)>1,"Duplicate Transaction ID",IF(C11="","Missing Part ID",IF(COUNTIF('Parts Inventory'!$A$6:$A$505,C11)=0,"Unknown Part ID",IF(COUNTIF('Settings'!$I$4:$I$8,D11)=0,"Invalid Transaction Type",IF(E11="","Missing Quantity",IF(E11<=0,"Quantity Must Be Positive",IF(G11="","Missing Unit Cost","OK"))))))))))
A12: 46249 | B12: TXN-260007 | C12: P-1007 | D12: Issue | E12: 2 | G12: =IF(C12="","",IFERROR(IF(F12<>"",F12,VLOOKUP(C12,'Parts Inventory'!$A$6:$L$505,12,FALSE)),"")) | H12: Unit 411 / WO-26103 | I12: 167430 | J12: Service Bay | K12: Belt replacement | L12: =IF(OR(C12="",D12="",E12=""),"",IFERROR(IF(OR(D12="Receipt",D12="Return to Stock",D12="Adjustment Increase"),E12,-E12),"")) | M12: =IF(L12="","",IFERROR(L12*G12,0)) | N12: =IF(COUNTA(A12:F12)+COUNTA(H12:K12)=0,"",IF(A12="","Missing Date",IF(B12="","Missing Transaction ID",IF(COUNTIF($B$6:$B$505,B12)>1,"Duplicate Transaction ID",IF(C12="","Missing Part ID",IF(COUNTIF('Parts Inventory'!$A$6:$A$505,C12)=0,"Unknown Part ID",IF(COUNTIF('Settings'!$I$4:$I$8,D12)=0,"Invalid Transaction Type",IF(E12="","Missing Quantity",IF(E12<=0,"Quantity Must Be Positive",IF(G12="","Missing Unit Cost","OK"))))))))))
A13: 46255 | B13: TXN-260008 | C13: P-1008 | D13: Issue | E13: 4 | G13: =IF(C13="","",IFERROR(IF(F13<>"",F13,VLOOKUP(C13,'Parts Inventory'!$A$6:$L$505,12,FALSE)),"")) | H13: Units 105 and 219 | I13: 86775 | J13: Service Bay | K13: Headlamp repairs | L13: =IF(OR(C13="",D13="",E13=""),"",IFERROR(IF(OR(D13="Receipt",D13="Return to Stock",D13="Adjustment Increase"),E13,-E13),"")) | M13: =IF(L13="","",IFERROR(L13*G13,0)) | N13: =IF(COUNTA(A13:F13)+COUNTA(H13:K13)=0,"",IF(A13="","Missing Date",IF(B13="","Missing Transaction ID",IF(COUNTIF($B$6:$B$505,B13)>1,"Duplicate Transaction ID",IF(C13="","Missing Part ID",IF(COUNTIF('Parts Inventory'!$A$6:$A$505,C13)=0,"Unknown Part ID",IF(COUNTIF('Settings'!$I$4:$I$8,D13)=0,"Invalid Transaction Type",IF(E13="","Missing Quantity",IF(E13<=0,"Quantity Must Be Positive",IF(G13="","Missing Unit Cost","OK"))))))))))
A14: 46261 | B14: TXN-260009 | C14: P-1009 | D14: Issue | E14: 3 | G14: =IF(C14="","",IFERROR(IF(F14<>"",F14,VLOOKUP(C14,'Parts Inventory'!$A$6:$L$505,12,FALSE)),"")) | H14: Unit 512 / WO-26140 | I14: 54610 | J14: Tire Shop | K14: Tire replacements | L14: =IF(OR(C14="",D14="",E14=""),"",IFERROR(IF(OR(D14="Receipt",D14="Return to Stock",D14="Adjustment Increase"),E14,-E14),"")) | M14: =IF(L14="","",IFERROR(L14*G14,0)) | N14: =IF(COUNTA(A14:F14)+COUNTA(H14:K14)=0,"",IF(A14="","Missing Date",IF(B14="","Missing Transaction ID",IF(COUNTIF($B$6:$B$505,B14)>1,"Duplicate Transaction ID",IF(C14="","Missing Part ID",IF(COUNTIF('Parts Inventory'!$A$6:$A$505,C14)=0,"Unknown Part ID",IF(COUNTIF('Settings'!$I$4:$I$8,D14)=0,"Invalid Transaction Type",IF(E14="","Missing Quantity",IF(E14<=0,"Quantity Must Be Positive",IF(G14="","Missing Unit Cost","OK"))))))))))
A15: 46267 | B15: TXN-260010 | C15: P-1010 | D15: Adjustment Decrease | E15: 13 | G15: =IF(C15="","",IFERROR(IF(F15<>"",F15,VLOOKUP(C15,'Parts Inventory'!$A$6:$L$505,12,FALSE)),"")) | H15: Cycle Count | J15: Parts Room | K15: Corrected physical count | L15: =IF(OR(C15="",D15="",E15=""),"",IFERROR(IF(OR(D15="Receipt",D15="Return to Stock",D15="Adjustment Increase"),E15,-E15),"")) | M15: =IF(L15="","",IFERROR(L15*G15,0)) | N15: =IF(COUNTA(A15:F15)+COUNTA(H15:K15)=0,"",IF(A15="","Missing Date",IF(B15="","Missing Transaction ID",IF(COUNTIF($B$6:$B$505,B15)>1,"Duplicate Transaction ID",IF(C15="","Missing Part ID",IF(COUNTIF('Parts Inventory'!$A$6:$A$505,C15)=0,"Unknown Part ID",IF(COUNTIF('Settings'!$I$4:$I$8,D15)=0,"Invalid Transaction Type",IF(E15="","Missing Quantity",IF(E15<=0,"Quantity Must Be Positive",IF(G15="","Missing Unit Cost","OK"))))))))))
G16: =IF(C16="","",IFERROR(IF(F16<>"",F16,VLOOKUP(C16,'Parts Inventory'!$A$6:$L$505,12,FALSE)),"")) | L16: =IF(OR(C16="",D16="",E16=""),"",IFERROR(IF(OR(D16="Receipt",D16="Return to Stock",D16="Adjustment Increase"),E16,-E16),"")) | M16: =IF(L16="","",IFERROR(L16*G16,0)) | N16: =IF(COUNTA(A16:F16)+COUNTA(H16:K16)=0,"",IF(A16="","Missing Date",IF(B16="","Missing Transaction ID",IF(COUNTIF($B$6:$B$505,B16)>1,"Duplicate Transaction ID",IF(C16="","Missing Part ID",IF(COUNTIF('Parts Inventory'!$A$6:$A$505,C16)=0,"Unknown Part ID",IF(COUNTIF('Settings'!$I$4:$I$8,D16)=0,"Invalid Transaction Type",IF(E16="","Missing Quantity",IF(E16<=0,"Quantity Must Be Positive",IF(G16="","Missing Unit Cost","OK"))))))))))
