Workbook

Sheet Dashboard
A1: Driver Performance Scorecard
A2: Monthly fleet and driver performance overview
J3: Settings Check | N3: Data Issues
A4: Reporting Period | B4: 46266 | D4: Selected Driver ID | E4: D101 | F4: =IFERROR(VLOOKUP($E$4,'Settings'!$D$4:$E$103,2,FALSE),"Select a valid driver") | J4: =IF(AND('Settings'!$B$25="OK",'Settings'!$B$26="OK",'Settings'!$B$27="OK"),"OK","Review Settings") | N4: =COUNTIFS('Driver Scorecard'!$A$5:$A$1000,$B$4,'Driver Scorecard'!$AB$5:$AB$1000,"<>OK")
A6: Fleet Snapshot
A7: Drivers Reported | C7: Average Overall Score | E7: Fleet On-Time Rate | G7: Fleet MPG
A8: =COUNTIFS('Driver Scorecard'!$A$5:$A$1000,$B$4,'Driver Scorecard'!$AB$5:$AB$1000,"OK") | C8: =IFERROR(AVERAGEIFS('Driver Scorecard'!$Y$5:$Y$1000,'Driver Scorecard'!$A$5:$A$1000,$B$4,'Driver Scorecard'!$AB$5:$AB$1000,"OK"),0) | E8: =IFERROR(SUMIFS('Driver Scorecard'!$H$5:$H$1000,'Driver Scorecard'!$A$5:$A$1000,$B$4,'Driver Scorecard'!$AB$5:$AB$1000,"OK")/SUMIFS('Driver Scorecard'!$G$5:$G$1000,'Driver Scorecard'!$A$5:$A$1000,$B$4,'Driver Scorecard'!$AB$5:$AB$1000,"OK"),0) | G8: =IFERROR(SUMIFS('Driver Scorecard'!$E$5:$E$1000,'Driver Scorecard'!$A$5:$A$1000,$B$4,'Driver Scorecard'!$AB$5:$AB$1000,"OK")/SUMIFS('Driver Scorecard'!$F$5:$F$1000,'Driver Scorecard'!$A$5:$A$1000,$B$4,'Driver Scorecard'!$AB$5:$AB$1000,"OK"),0)
A11: Total Miles | C11: Safety Events per 1,000 Miles | E11: Preventable Accidents | G11: Suggested Bonus Total
A12: =SUMIFS('Driver Scorecard'!$E$5:$E$1000,'Driver Scorecard'!$A$5:$A$1000,$B$4,'Driver Scorecard'!$AB$5:$AB$1000,"OK") | C12: =IFERROR((SUMIFS('Driver Scorecard'!$K$5:$K$1000,'Driver Scorecard'!$A$5:$A$1000,$B$4,'Driver Scorecard'!$AB$5:$AB$1000,"OK")+SUMIFS('Driver Scorecard'!$L$5:$L$1000,'Driver Scorecard'!$A$5:$A$1000,$B$4,'Driver Scorecard'!$AB$5:$AB$1000,"OK"))/SUMIFS('Driver Scorecard'!$E$5:$E$1000,'Driver Scorecard'!$A$5:$A$1000,$B$4,'Driver Scorecard'!$AB$5:$AB$1000,"OK")*1000,0) | E12: =SUMIFS('Driver Scorecard'!$M$5:$M$1000,'Driver Scorecard'!$A$5:$A$1000,$B$4,'Driver Scorecard'!$AB$5:$AB$1000,"OK") | G12: =SUMIFS('Driver Scorecard'!$AA$5:$AA$1000,'Driver Scorecard'!$A$5:$A$1000,$B$4,'Driver Scorecard'!$AB$5:$AB$1000,"OK")
A15: Selected Driver Snapshot
A16: Overall Score | C16: Rating | E16: On-Time Rate | G16: MPG
A17: =IF(COUNTIFS('Driver Scorecard'!$A$5:$A$1000,$B$4,'Driver Scorecard'!$B$5:$B$1000,$E$4,'Driver Scorecard'!$AB$5:$AB$1000,"OK")=0,"",IFERROR(AVERAGEIFS('Driver Scorecard'!$Y$5:$Y$1000,'Driver Scorecard'!$A$5:$A$1000,$B$4,'Driver Scorecard'!$B$5:$B$1000,$E$4,'Driver Scorecard'!$AB$5:$AB$1000,"OK"),0)) | C17: =IF($A$17="","No record",IF($A$17>='Settings'!$B$17,"Excellent",IF($A$17>='Settings'!$B$18,"Good",IF($A$17>='Settings'!$B$19,"Needs Improvement","Poor")))) | E17: =IFERROR(SUMIFS('Driver Scorecard'!$H$5:$H$1000,'Driver Scorecard'!$A$5:$A$1000,$B$4,'Driver Scorecard'!$B$5:$B$1000,$E$4,'Driver Scorecard'!$AB$5:$AB$1000,"OK")/SUMIFS('Driver Scorecard'!$G$5:$G$1000,'Driver Scorecard'!$A$5:$A$1000,$B$4,'Driver Scorecard'!$B$5:$B$1000,$E$4,'Driver Scorecard'!$AB$5:$AB$1000,"OK"),"") | G17: =IFERROR(SUMIFS('Driver Scorecard'!$E$5:$E$1000,'Driver Scorecard'!$A$5:$A$1000,$B$4,'Driver Scorecard'!$B$5:$B$1000,$E$4,'Driver Scorecard'!$AB$5:$AB$1000,"OK")/SUMIFS('Driver Scorecard'!$F$5:$F$1000,'Driver Scorecard'!$A$5:$A$1000,$B$4,'Driver Scorecard'!$B$5:$B$1000,$E$4,'Driver Scorecard'!$AB$5:$AB$1000,"OK"),"")
A20: Inspection Rate | C20: Safety Score | E20: Customer Complaints | G20: Review Status
A21: =IFERROR(SUMIFS('Driver Scorecard'!$J$5:$J$1000,'Driver Scorecard'!$A$5:$A$1000,$B$4,'Driver Scorecard'!$B$5:$B$1000,$E$4,'Driver Scorecard'!$AB$5:$AB$1000,"OK")/SUMIFS('Driver Scorecard'!$I$5:$I$1000,'Driver Scorecard'!$A$5:$A$1000,$B$4,'Driver Scorecard'!$B$5:$B$1000,$E$4,'Driver Scorecard'!$AB$5:$AB$1000,"OK"),"") | C21: =IFERROR(AVERAGEIFS('Driver Scorecard'!$T$5:$T$1000,'Driver Scorecard'!$A$5:$A$1000,$B$4,'Driver Scorecard'!$B$5:$B$1000,$E$4,'Driver Scorecard'!$AB$5:$AB$1000,"OK"),"") | E21: =IF(COUNTIFS('Driver Scorecard'!$A$5:$A$1000,$B$4,'Driver Scorecard'!$B$5:$B$1000,$E$4)=0,"",SUMIFS('Driver Scorecard'!$N$5:$N$1000,'Driver Scorecard'!$A$5:$A$1000,$B$4,'Driver Scorecard'!$B$5:$B$1000,$E$4)) | G21: =IFERROR(LOOKUP(2,1/(('Driver Scorecard'!$A$5:$A$1000=$B$4)*('Driver Scorecard'!$B$5:$B$1000=$E$4)),'Driver Scorecard'!$AC$5:$AC$1000),"No record")
J23: Suggested bonuses are planning estimates based on the editable Settings sheet and are not payroll instructions.
A24: Driver Comparison
A25: Driver ID | B25: Driver Name | C25: Overall Score | D25: Rating | E25: On-Time Rate | F25: MPG | G25: Safety Score | H25: Data Status
A26: ='Settings'!$D$4 | B26: ='Settings'!$E$4 | C26: =IF(COUNTIFS('Driver Scorecard'!$A$5:$A$1000,$B$4,'Driver Scorecard'!$B$5:$B$1000,$A26,'Driver Scorecard'!$AB$5:$AB$1000,"OK")=0,"",IFERROR(AVERAGEIFS('Driver Scorecard'!$Y$5:$Y$1000,'Driver Scorecard'!$A$5:$A$1000,$B$4,'Driver Scorecard'!$B$5:$B$1000,$A26,'Driver Scorecard'!$AB$5:$AB$1000,"OK"),0)) | D26: =IF($C26="","No record",IF($C26>='Settings'!$B$17,"Excellent",IF($C26>='Settings'!$B$18,"Good",IF($C26>='Settings'!$B$19,"Needs Improvement","Poor")))) | E26: =IFERROR(SUMIFS('Driver Scorecard'!$H$5:$H$1000,'Driver Scorecard'!$A$5:$A$1000,$B$4,'Driver Scorecard'!$B$5:$B$1000,$A26,'Driver Scorecard'!$AB$5:$AB$1000,"OK")/SUMIFS('Driver Scorecard'!$G$5:$G$1000,'Driver Scorecard'!$A$5:$A$1000,$B$4,'Driver Scorecard'!$B$5:$B$1000,$A26,'Driver Scorecard'!$AB$5:$AB$1000,"OK"),"") | F26: =IFERROR(SUMIFS('Driver Scorecard'!$E$5:$E$1000,'Driver Scorecard'!$A$5:$A$1000,$B$4,'Driver Scorecard'!$B$5:$B$1000,$A26,'Driver Scorecard'!$AB$5:$AB$1000,"OK")/SUMIFS('Driver Scorecard'!$F$5:$F$1000,'Driver Scorecard'!$A$5:$A$1000,$B$4,'Driver Scorecard'!$B$5:$B$1000,$A26,'Driver Scorecard'!$AB$5:$AB$1000,"OK"),"") | G26: =IFERROR(AVERAGEIFS('Driver Scorecard'!$T$5:$T$1000,'Driver Scorecard'!$A$5:$A$1000,$B$4,'Driver Scorecard'!$B$5:$B$1000,$A26,'Driver Scorecard'!$AB$5:$AB$1000,"OK"),"") | H26: =IF(COUNTIFS('Driver Scorecard'!$A$5:$A$1000,$B$4,'Driver Scorecard'!$B$5:$B$1000,$A26)=0,"No record",IF(COUNTIFS('Driver Scorecard'!$A$5:$A$1000,$B$4,'Driver Scorecard'!$B$5:$B$1000,$A26,'Driver Scorecard'!$AB$5:$AB$1000,"<>OK")>0,"Check data","OK"))
A27: ='Settings'!$D$5 | B27: ='Settings'!$E$5 | C27: =IF(COUNTIFS('Driver Scorecard'!$A$5:$A$1000,$B$4,'Driver Scorecard'!$B$5:$B$1000,$A27,'Driver Scorecard'!$AB$5:$AB$1000,"OK")=0,"",IFERROR(AVERAGEIFS('Driver Scorecard'!$Y$5:$Y$1000,'Driver Scorecard'!$A$5:$A$1000,$B$4,'Driver Scorecard'!$B$5:$B$1000,$A27,'Driver Scorecard'!$AB$5:$AB$1000,"OK"),0)) | D27: =IF($C27="","No record",IF($C27>='Settings'!$B$17,"Excellent",IF($C27>='Settings'!$B$18,"Good",IF($C27>='Settings'!$B$19,"Needs Improvement","Poor")))) | E27: =IFERROR(SUMIFS('Driver Scorecard'!$H$5:$H$1000,'Driver Scorecard'!$A$5:$A$1000,$B$4,'Driver Scorecard'!$B$5:$B$1000,$A27,'Driver Scorecard'!$AB$5:$AB$1000,"OK")/SUMIFS('Driver Scorecard'!$G$5:$G$1000,'Driver Scorecard'!$A$5:$A$1000,$B$4,'Driver Scorecard'!$B$5:$B$1000,$A27,'Driver Scorecard'!$AB$5:$AB$1000,"OK"),"") | F27: =IFERROR(SUMIFS('Driver Scorecard'!$E$5:$E$1000,'Driver Scorecard'!$A$5:$A$1000,$B$4,'Driver Scorecard'!$B$5:$B$1000,$A27,'Driver Scorecard'!$AB$5:$AB$1000,"OK")/SUMIFS('Driver Scorecard'!$F$5:$F$1000,'Driver Scorecard'!$A$5:$A$1000,$B$4,'Driver Scorecard'!$B$5:$B$1000,$A27,'Driver Scorecard'!$AB$5:$AB$1000,"OK"),"") | G27: =IFERROR(AVERAGEIFS('Driver Scorecard'!$T$5:$T$1000,'Driver Scorecard'!$A$5:$A$1000,$B$4,'Driver Scorecard'!$B$5:$B$1000,$A27,'Driver Scorecard'!$AB$5:$AB$1000,"OK"),"") | H27: =IF(COUNTIFS('Driver Scorecard'!$A$5:$A$1000,$B$4,'Driver Scorecard'!$B$5:$B$1000,$A27)=0,"No record",IF(COUNTIFS('Driver Scorecard'!$A$5:$A$1000,$B$4,'Driver Scorecard'!$B$5:$B$1000,$A27,'Driver Scorecard'!$AB$5:$AB$1000,"<>OK")>0,"Check data","OK"))
A28: ='Settings'!$D$6 | B28: ='Settings'!$E$6 | C28: =IF(COUNTIFS('Driver Scorecard'!$A$5:$A$1000,$B$4,'Driver Scorecard'!$B$5:$B$1000,$A28,'Driver Scorecard'!$AB$5:$AB$1000,"OK")=0,"",IFERROR(AVERAGEIFS('Driver Scorecard'!$Y$5:$Y$1000,'Driver Scorecard'!$A$5:$A$1000,$B$4,'Driver Scorecard'!$B$5:$B$1000,$A28,'Driver Scorecard'!$AB$5:$AB$1000,"OK"),0)) | D28: =IF($C28="","No record",IF($C28>='Settings'!$B$17,"Excellent",IF($C28>='Settings'!$B$18,"Good",IF($C28>='Settings'!$B$19,"Needs Improvement","Poor")))) | E28: =IFERROR(SUMIFS('Driver Scorecard'!$H$5:$H$1000,'Driver Scorecard'!$A$5:$A$1000,$B$4,'Driver Scorecard'!$B$5:$B$1000,$A28,'Driver Scorecard'!$AB$5:$AB$1000,"OK")/SUMIFS('Driver Scorecard'!$G$5:$G$1000,'Driver Scorecard'!$A$5:$A$1000,$B$4,'Driver Scorecard'!$B$5:$B$1000,$A28,'Driver Scorecard'!$AB$5:$AB$1000,"OK"),"") | F28: =IFERROR(SUMIFS('Driver Scorecard'!$E$5:$E$1000,'Driver Scorecard'!$A$5:$A$1000,$B$4,'Driver Scorecard'!$B$5:$B$1000,$A28,'Driver Scorecard'!$AB$5:$AB$1000,"OK")/SUMIFS('Driver Scorecard'!$F$5:$F$1000,'Driver Scorecard'!$A$5:$A$1000,$B$4,'Driver Scorecard'!$B$5:$B$1000,$A28,'Driver Scorecard'!$AB$5:$AB$1000,"OK"),"") | G28: =IFERROR(AVERAGEIFS('Driver Scorecard'!$T$5:$T$1000,'Driver Scorecard'!$A$5:$A$1000,$B$4,'Driver Scorecard'!$B$5:$B$1000,$A28,'Driver Scorecard'!$AB$5:$AB$1000,"OK"),"") | H28: =IF(COUNTIFS('Driver Scorecard'!$A$5:$A$1000,$B$4,'Driver Scorecard'!$B$5:$B$1000,$A28)=0,"No record",IF(COUNTIFS('Driver Scorecard'!$A$5:$A$1000,$B$4,'Driver Scorecard'!$B$5:$B$1000,$A28,'Driver Scorecard'!$AB$5:$AB$1000,"<>OK")>0,"Check data","OK")) | J28: Dashboard controls
A29: ='Settings'!$D$7 | B29: ='Settings'!$E$7 | C29: =IF(COUNTIFS('Driver Scorecard'!$A$5:$A$1000,$B$4,'Driver Scorecard'!$B$5:$B$1000,$A29,'Driver Scorecard'!$AB$5:$AB$1000,"OK")=0,"",IFERROR(AVERAGEIFS('Driver Scorecard'!$Y$5:$Y$1000,'Driver Scorecard'!$A$5:$A$1000,$B$4,'Driver Scorecard'!$B$5:$B$1000,$A29,'Driver Scorecard'!$AB$5:$AB$1000,"OK"),0)) | D29: =IF($C29="","No record",IF($C29>='Settings'!$B$17,"Excellent",IF($C29>='Settings'!$B$18,"Good",IF($C29>='Settings'!$B$19,"Needs Improvement","Poor")))) | E29: =IFERROR(SUMIFS('Driver Scorecard'!$H$5:$H$1000,'Driver Scorecard'!$A$5:$A$1000,$B$4,'Driver Scorecard'!$B$5:$B$1000,$A29,'Driver Scorecard'!$AB$5:$AB$1000,"OK")/SUMIFS('Driver Scorecard'!$G$5:$G$1000,'Driver Scorecard'!$A$5:$A$1000,$B$4,'Driver Scorecard'!$B$5:$B$1000,$A29,'Driver Scorecard'!$AB$5:$AB$1000,"OK"),"") | F29: =IFERROR(SUMIFS('Driver Scorecard'!$E$5:$E$1000,'Driver Scorecard'!$A$5:$A$1000,$B$4,'Driver Scorecard'!$B$5:$B$1000,$A29,'Driver Scorecard'!$AB$5:$AB$1000,"OK")/SUMIFS('Driver Scorecard'!$F$5:$F$1000,'Driver Scorecard'!$A$5:$A$1000,$B$4,'Driver Scorecard'!$B$5:$B$1000,$A29,'Driver Scorecard'!$AB$5:$AB$1000,"OK"),"") | G29: =IFERROR(AVERAGEIFS('Driver Scorecard'!$T$5:$T$1000,'Driver Scorecard'!$A$5:$A$1000,$B$4,'Driver Scorecard'!$B$5:$B$1000,$A29,'Driver Scorecard'!$AB$5:$AB$1000,"OK"),"") | H29: =IF(COUNTIFS('Driver Scorecard'!$A$5:$A$1000,$B$4,'Driver Scorecard'!$B$5:$B$1000,$A29)=0,"No record",IF(COUNTIFS('Driver Scorecard'!$A$5:$A$1000,$B$4,'Driver Scorecard'!$B$5:$B$1000,$A29,'Driver Scorecard'!$AB$5:$AB$1000,"<>OK")>0,"Check data","OK")) | J29: Yellow cells are selections. Blue cells show calculated results.
A30: ='Settings'!$D$8 | B30: ='Settings'!$E$8 | C30: =IF(COUNTIFS('Driver Scorecard'!$A$5:$A$1000,$B$4,'Driver Scorecard'!$B$5:$B$1000,$A30,'Driver Scorecard'!$AB$5:$AB$1000,"OK")=0,"",IFERROR(AVERAGEIFS('Driver Scorecard'!$Y$5:$Y$1000,'Driver Scorecard'!$A$5:$A$1000,$B$4,'Driver Scorecard'!$B$5:$B$1000,$A30,'Driver Scorecard'!$AB$5:$AB$1000,"OK"),0)) | D30: =IF($C30="","No record",IF($C30>='Settings'!$B$17,"Excellent",IF($C30>='Settings'!$B$18,"Good",IF($C30>='Settings'!$B$19,"Needs Improvement","Poor")))) | E30: =IFERROR(SUMIFS('Driver Scorecard'!$H$5:$H$1000,'Driver Scorecard'!$A$5:$A$1000,$B$4,'Driver Scorecard'!$B$5:$B$1000,$A30,'Driver Scorecard'!$AB$5:$AB$1000,"OK")/SUMIFS('Driver Scorecard'!$G$5:$G$1000,'Driver Scorecard'!$A$5:$A$1000,$B$4,'Driver Scorecard'!$B$5:$B$1000,$A30,'Driver Scorecard'!$AB$5:$AB$1000,"OK"),"") | F30: =IFERROR(SUMIFS('Driver Scorecard'!$E$5:$E$1000,'Driver Scorecard'!$A$5:$A$1000,$B$4,'Driver Scorecard'!$B$5:$B$1000,$A30,'Driver Scorecard'!$AB$5:$AB$1000,"OK")/SUMIFS('Driver Scorecard'!$F$5:$F$1000,'Driver Scorecard'!$A$5:$A$1000,$B$4,'Driver Scorecard'!$B$5:$B$1000,$A30,'Driver Scorecard'!$AB$5:$AB$1000,"OK"),"") | G30: =IFERROR(AVERAGEIFS('Driver Scorecard'!$T$5:$T$1000,'Driver Scorecard'!$A$5:$A$1000,$B$4,'Driver Scorecard'!$B$5:$B$1000,$A30,'Driver Scorecard'!$AB$5:$AB$1000,"OK"),"") | H30: =IF(COUNTIFS('Driver Scorecard'!$A$5:$A$1000,$B$4,'Driver Scorecard'!$B$5:$B$1000,$A30)=0,"No record",IF(COUNTIFS('Driver Scorecard'!$A$5:$A$1000,$B$4,'Driver Scorecard'!$B$5:$B$1000,$A30,'Driver Scorecard'!$AB$5:$AB$1000,"<>OK")>0,"Check data","OK"))
A31: ='Settings'!$D$9 | B31: ='Settings'!$E$9 | C31: =IF(COUNTIFS('Driver Scorecard'!$A$5:$A$1000,$B$4,'Driver Scorecard'!$B$5:$B$1000,$A31,'Driver Scorecard'!$AB$5:$AB$1000,"OK")=0,"",IFERROR(AVERAGEIFS('Driver Scorecard'!$Y$5:$Y$1000,'Driver Scorecard'!$A$5:$A$1000,$B$4,'Driver Scorecard'!$B$5:$B$1000,$A31,'Driver Scorecard'!$AB$5:$AB$1000,"OK"),0)) | D31: =IF($C31="","No record",IF($C31>='Settings'!$B$17,"Excellent",IF($C31>='Settings'!$B$18,"Good",IF($C31>='Settings'!$B$19,"Needs Improvement","Poor")))) | E31: =IFERROR(SUMIFS('Driver Scorecard'!$H$5:$H$1000,'Driver Scorecard'!$A$5:$A$1000,$B$4,'Driver Scorecard'!$B$5:$B$1000,$A31,'Driver Scorecard'!$AB$5:$AB$1000,"OK")/SUMIFS('Driver Scorecard'!$G$5:$G$1000,'Driver Scorecard'!$A$5:$A$1000,$B$4,'Driver Scorecard'!$B$5:$B$1000,$A31,'Driver Scorecard'!$AB$5:$AB$1000,"OK"),"") | F31: =IFERROR(SUMIFS('Driver Scorecard'!$E$5:$E$1000,'Driver Scorecard'!$A$5:$A$1000,$B$4,'Driver Scorecard'!$B$5:$B$1000,$A31,'Driver Scorecard'!$AB$5:$AB$1000,"OK")/SUMIFS('Driver Scorecard'!$F$5:$F$1000,'Driver Scorecard'!$A$5:$A$1000,$B$4,'Driver Scorecard'!$B$5:$B$1000,$A31,'Driver Scorecard'!$AB$5:$AB$1000,"OK"),"") | G31: =IFERROR(AVERAGEIFS('Driver Scorecard'!$T$5:$T$1000,'Driver Scorecard'!$A$5:$A$1000,$B$4,'Driver Scorecard'!$B$5:$B$1000,$A31,'Driver Scorecard'!$AB$5:$AB$1000,"OK"),"") | H31: =IF(COUNTIFS('Driver Scorecard'!$A$5:$A$1000,$B$4,'Driver Scorecard'!$B$5:$B$1000,$A31)=0,"No record",IF(COUNTIFS('Driver Scorecard'!$A$5:$A$1000,$B$4,'Driver Scorecard'!$B$5:$B$1000,$A31,'Driver Scorecard'!$AB$5:$AB$1000,"<>OK")>0,"Check data","OK"))
A32: ='Settings'!$D$10 | B32: ='Settings'!$E$10 | C32: =IF(COUNTIFS('Driver Scorecard'!$A$5:$A$1000,$B$4,'Driver Scorecard'!$B$5:$B$1000,$A32,'Driver Scorecard'!$AB$5:$AB$1000,"OK")=0,"",IFERROR(AVERAGEIFS('Driver Scorecard'!$Y$5:$Y$1000,'Driver Scorecard'!$A$5:$A$1000,$B$4,'Driver Scorecard'!$B$5:$B$1000,$A32,'Driver Scorecard'!$AB$5:$AB$1000,"OK"),0)) | D32: =IF($C32="","No record",IF($C32>='Settings'!$B$17,"Excellent",IF($C32>='Settings'!$B$18,"Good",IF($C32>='Settings'!$B$19,"Needs Improvement","Poor")))) | E32: =IFERROR(SUMIFS('Driver Scorecard'!$H$5:$H$1000,'Driver Scorecard'!$A$5:$A$1000,$B$4,'Driver Scorecard'!$B$5:$B$1000,$A32,'Driver Scorecard'!$AB$5:$AB$1000,"OK")/SUMIFS('Driver Scorecard'!$G$5:$G$1000,'Driver Scorecard'!$A$5:$A$1000,$B$4,'Driver Scorecard'!$B$5:$B$1000,$A32,'Driver Scorecard'!$AB$5:$AB$1000,"OK"),"") | F32: =IFERROR(SUMIFS('Driver Scorecard'!$E$5:$E$1000,'Driver Scorecard'!$A$5:$A$1000,$B$4,'Driver Scorecard'!$B$5:$B$1000,$A32,'Driver Scorecard'!$AB$5:$AB$1000,"OK")/SUMIFS('Driver Scorecard'!$F$5:$F$1000,'Driver Scorecard'!$A$5:$A$1000,$B$4,'Driver Scorecard'!$B$5:$B$1000,$A32,'Driver Scorecard'!$AB$5:$AB$1000,"OK"),"") | G32: =IFERROR(AVERAGEIFS('Driver Scorecard'!$T$5:$T$1000,'Driver Scorecard'!$A$5:$A$1000,$B$4,'Driver Scorecard'!$B$5:$B$1000,$A32,'Driver Scorecard'!$AB$5:$AB$1000,"OK"),"") | H32: =IF(COUNTIFS('Driver Scorecard'!$A$5:$A$1000,$B$4,'Driver Scorecard'!$B$5:$B$1000,$A32)=0,"No record",IF(COUNTIFS('Driver Scorecard'!$A$5:$A$1000,$B$4,'Driver Scorecard'!$B$5:$B$1000,$A32,'Driver Scorecard'!$AB$5:$AB$1000,"<>OK")>0,"Check data","OK"))
A33: ='Settings'!$D$11 | B33: ='Settings'!$E$11 | C33: =IF(COUNTIFS('Driver Scorecard'!$A$5:$A$1000,$B$4,'Driver Scorecard'!$B$5:$B$1000,$A33,'Driver Scorecard'!$AB$5:$AB$1000,"OK")=0,"",IFERROR(AVERAGEIFS('Driver Scorecard'!$Y$5:$Y$1000,'Driver Scorecard'!$A$5:$A$1000,$B$4,'Driver Scorecard'!$B$5:$B$1000,$A33,'Driver Scorecard'!$AB$5:$AB$1000,"OK"),0)) | D33: =IF($C33="","No record",IF($C33>='Settings'!$B$17,"Excellent",IF($C33>='Settings'!$B$18,"Good",IF($C33>='Settings'!$B$19,"Needs Improvement","Poor")))) | E33: =IFERROR(SUMIFS('Driver Scorecard'!$H$5:$H$1000,'Driver Scorecard'!$A$5:$A$1000,$B$4,'Driver Scorecard'!$B$5:$B$1000,$A33,'Driver Scorecard'!$AB$5:$AB$1000,"OK")/SUMIFS('Driver Scorecard'!$G$5:$G$1000,'Driver Scorecard'!$A$5:$A$1000,$B$4,'Driver Scorecard'!$B$5:$B$1000,$A33,'Driver Scorecard'!$AB$5:$AB$1000,"OK"),"") | F33: =IFERROR(SUMIFS('Driver Scorecard'!$E$5:$E$1000,'Driver Scorecard'!$A$5:$A$1000,$B$4,'Driver Scorecard'!$B$5:$B$1000,$A33,'Driver Scorecard'!$AB$5:$AB$1000,"OK")/SUMIFS('Driver Scorecard'!$F$5:$F$1000,'Driver Scorecard'!$A$5:$A$1000,$B$4,'Driver Scorecard'!$B$5:$B$1000,$A33,'Driver Scorecard'!$AB$5:$AB$1000,"OK"),"") | G33: =IFERROR(AVERAGEIFS('Driver Scorecard'!$T$5:$T$1000,'Driver Scorecard'!$A$5:$A$1000,$B$4,'Driver Scorecard'!$B$5:$B$1000,$A33,'Driver Scorecard'!$AB$5:$AB$1000,"OK"),"") | H33: =IF(COUNTIFS('Driver Scorecard'!$A$5:$A$1000,$B$4,'Driver Scorecard'!$B$5:$B$1000,$A33)=0,"No record",IF(COUNTIFS('Driver Scorecard'!$A$5:$A$1000,$B$4,'Driver Scorecard'!$B$5:$B$1000,$A33,'Driver Scorecard'!$AB$5:$AB$1000,"<>OK")>0,"Check data","OK"))
A34: ="" | B34: ="" | C34: ="" | D34: ="" | E34: ="" | F34: ="" | G34: ="" | H34: =""
A35: ="" | B35: ="" | C35: ="" | D35: ="" | E35: ="" | F35: ="" | G35: ="" | H35: =""
A36: ="" | B36: ="" | C36: ="" | D36: ="" | E36: ="" | F36: ="" | G36: ="" | H36: =""
A37: ="" | B37: ="" | C37: ="" | D37: ="" | E37: ="" | F37: ="" | G37: ="" | H37: =""
A38: ="" | B38: ="" | C38: ="" | D38: ="" | E38: ="" | F38: ="" | G38: ="" | H38: =""
A39: ="" | B39: ="" | C39: ="" | D39: ="" | E39: ="" | F39: ="" | G39: ="" | H39: =""
A40: ="" | B40: ="" | C40: ="" | D40: ="" | E40: ="" | F40: ="" | G40: ="" | H40: =""
A41: ="" | B41: ="" | C41: ="" | D41: ="" | E41: ="" | F41: ="" | G41: ="" | H41: =""
A42: ="" | B42: ="" | C42: ="" | D42: ="" | E42: ="" | F42: ="" | G42: ="" | H42: =""
A43: ="" | B43: ="" | C43: ="" | D43: ="" | E43: ="" | F43: ="" | G43: ="" | H43: =""
A44: ="" | B44: ="" | C44: ="" | D44: ="" | E44: ="" | F44: ="" | G44: ="" | H44: =""
A45: ="" | B45: ="" | C45: ="" | D45: ="" | E45: ="" | F45: ="" | G45: ="" | H45: =""
... A101: ="" | B101: ="" | C101: ="" | D101: ="" | E101: ="" | F101: ="" | G101: ="" | H101: =""

Sheet Driver Scorecard
A1: Driver Performance Detail
A2: Yellow cells are inputs. Blue cells are calculated. Enter one row per driver per reporting month. Use Tab from the final table cell to add a new Excel table row.
A4: Reporting Period | B4: Driver ID | C4: Driver Name | D4: Region | E4: Miles Driven | F4: Fuel Used (gal) | G4: Total Stops | H4: On-Time Stops | I4: Required Inspections | J4: Completed Inspections | K4: Speeding Events | L4: Harsh Braking Events | M4: Preventable Accidents | N4: Customer Complaints | O4: Supervisor Notes | P4: MPG | Q4: On-Time Rate | R4: Inspection Rate | S4: Safety Events per 1,000 Miles | T4: Safety Score | U4: On-Time Score | V4: Fuel Efficiency Score | W4: Inspection Score | X4: Customer Service Score | Y4: Overall Score | Z4: Rating | AA4: Suggested Bonus | AB4: Data Check | AC4: Review Status | AD4: Follow-Up Date
A5: 46235 | B5: D101 | C5: =IF(OR($A5="",$B5=""),"",IFERROR(VLOOKUP($B5,'Settings'!$D$4:$E$103,2,FALSE),"Driver ID not found")) | D5: Midwest | E5: 5610 | F5: 690 | G5: 405 | H5: 390 | I5: 21 | J5: 21 | K5: 3 | L5: 4 | M5: 0 | N5: 1 | O5: Reviewed seasonal route timing. | P5: =IF(OR($A5="",$B5=""),"",IFERROR($E5/$F5,0)) | Q5: =IF(OR($A5="",$B5=""),"",IFERROR($H5/$G5,0)) | R5: =IF(OR($A5="",$B5=""),"",IFERROR($J5/$I5,0)) | S5: =IF(OR($A5="",$B5=""),"",IFERROR(($K5+$L5)/$E5*1000,0)) | T5: =IF(OR($A5="",$B5=""),"",MAX(0,MIN(100,100-($S5*'Settings'!$B$13)-($M5*'Settings'!$B$14)))) | U5: =IF(OR($A5="",$B5=""),"",MAX(0,MIN(100,IFERROR($Q5/'Settings'!$B$10*100,0)))) | V5: =IF(OR($A5="",$B5=""),"",MAX(0,MIN(100,IFERROR($P5/'Settings'!$B$11*100,0)))) | W5: =IF(OR($A5="",$B5=""),"",MAX(0,MIN(100,IFERROR($R5/'Settings'!$B$12*100,0)))) | X5: =IF(OR($A5="",$B5=""),"",MAX(0,MIN(100,100-($N5*'Settings'!$B$15)))) | Y5: =IF(OR($A5="",$B5=""),"",($T5*'Settings'!$B$4)+($U5*'Settings'!$B$5)+($V5*'Settings'!$B$6)+($W5*'Settings'!$B$7)+($X5*'Settings'!$B$8)) | Z5: =IF($Y5="","",IF($Y5>='Settings'!$B$17,"Excellent",IF($Y5>='Settings'!$B$18,"Good",IF($Y5>='Settings'!$B$19,"Needs Improvement","Poor")))) | AA5: =IF($Z5="","",IF($Z5="Excellent",'Settings'!$B$21,IF($Z5="Good",'Settings'!$B$22,0))) | AB5: =IF(COUNTA($A5:$B5,$D5:$O5,$AC5:$AD5)=0,"",IF(OR($A5="",$B5=""),"Missing period/driver",IF($C5="Driver ID not found","Invalid driver ID",IF(COUNTIFS($A$5:$A$1000,$A5,$B$5:$B$1000,$B5)>1,"Duplicate driver/period",IF(OR($E5<=0,$F5<=0,$G5<=0,$I5<=0),"Check required activity",IF($H5>$G5,"On-time stops exceed total",IF($J5>$I5,"Completed inspections exceed required",IF(OR($H5<0,$J5<0,$K5<0,$L5<0,$M5<0,$N5<0),"Negative count",IF($AC5="","Select review status",IF(AND($AC5="Coaching Scheduled",$AD5=""),"Add follow-up date","OK")))))))))) | AC5: Reviewed
A6: 46235 | B6: D102 | C6: =IF(OR($A6="",$B6=""),"",IFERROR(VLOOKUP($B6,'Settings'!$D$4:$E$103,2,FALSE),"Driver ID not found")) | D6: Southeast | E6: 5940 | F6: 785 | G6: 392 | H6: 354 | I6: 22 | J6: 20 | K6: 7 | L6: 9 | M6: 1 | N6: 2 | O6: Coaching focused on following distance and pre-trip checks. | P6: =IF(OR($A6="",$B6=""),"",IFERROR($E6/$F6,0)) | Q6: =IF(OR($A6="",$B6=""),"",IFERROR($H6/$G6,0)) | R6: =IF(OR($A6="",$B6=""),"",IFERROR($J6/$I6,0)) | S6: =IF(OR($A6="",$B6=""),"",IFERROR(($K6+$L6)/$E6*1000,0)) | T6: =IF(OR($A6="",$B6=""),"",MAX(0,MIN(100,100-($S6*'Settings'!$B$13)-($M6*'Settings'!$B$14)))) | U6: =IF(OR($A6="",$B6=""),"",MAX(0,MIN(100,IFERROR($Q6/'Settings'!$B$10*100,0)))) | V6: =IF(OR($A6="",$B6=""),"",MAX(0,MIN(100,IFERROR($P6/'Settings'!$B$11*100,0)))) | W6: =IF(OR($A6="",$B6=""),"",MAX(0,MIN(100,IFERROR($R6/'Settings'!$B$12*100,0)))) | X6: =IF(OR($A6="",$B6=""),"",MAX(0,MIN(100,100-($N6*'Settings'!$B$15)))) | Y6: =IF(OR($A6="",$B6=""),"",($T6*'Settings'!$B$4)+($U6*'Settings'!$B$5)+($V6*'Settings'!$B$6)+($W6*'Settings'!$B$7)+($X6*'Settings'!$B$8)) | Z6: =IF($Y6="","",IF($Y6>='Settings'!$B$17,"Excellent",IF($Y6>='Settings'!$B$18,"Good",IF($Y6>='Settings'!$B$19,"Needs Improvement","Poor")))) | AA6: =IF($Z6="","",IF($Z6="Excellent",'Settings'!$B$21,IF($Z6="Good",'Settings'!$B$22,0))) | AB6: =IF(COUNTA($A6:$B6,$D6:$O6,$AC6:$AD6)=0,"",IF(OR($A6="",$B6=""),"Missing period/driver",IF($C6="Driver ID not found","Invalid driver ID",IF(COUNTIFS($A$5:$A$1000,$A6,$B$5:$B$1000,$B6)>1,"Duplicate driver/period",IF(OR($E6<=0,$F6<=0,$G6<=0,$I6<=0),"Check required activity",IF($H6>$G6,"On-time stops exceed total",IF($J6>$I6,"Completed inspections exceed required",IF(OR($H6<0,$J6<0,$K6<0,$L6<0,$M6<0,$N6<0),"Negative count",IF($AC6="","Select review status",IF(AND($AC6="Coaching Scheduled",$AD6=""),"Add follow-up date","OK")))))))))) | AC6: Coaching Scheduled | AD6: 46275
A7: 46266 | B7: D101 | C7: =IF(OR($A7="",$B7=""),"",IFERROR(VLOOKUP($B7,'Settings'!$D$4:$E$103,2,FALSE),"Driver ID not found")) | D7: Midwest | E7: 5820 | F7: 710 | G7: 420 | H7: 407 | I7: 22 | J7: 22 | K7: 2 | L7: 3 | M7: 0 | N7: 0 | O7: Strong month; no corrective action. | P7: =IF(OR($A7="",$B7=""),"",IFERROR($E7/$F7,0)) | Q7: =IF(OR($A7="",$B7=""),"",IFERROR($H7/$G7,0)) | R7: =IF(OR($A7="",$B7=""),"",IFERROR($J7/$I7,0)) | S7: =IF(OR($A7="",$B7=""),"",IFERROR(($K7+$L7)/$E7*1000,0)) | T7: =IF(OR($A7="",$B7=""),"",MAX(0,MIN(100,100-($S7*'Settings'!$B$13)-($M7*'Settings'!$B$14)))) | U7: =IF(OR($A7="",$B7=""),"",MAX(0,MIN(100,IFERROR($Q7/'Settings'!$B$10*100,0)))) | V7: =IF(OR($A7="",$B7=""),"",MAX(0,MIN(100,IFERROR($P7/'Settings'!$B$11*100,0)))) | W7: =IF(OR($A7="",$B7=""),"",MAX(0,MIN(100,IFERROR($R7/'Settings'!$B$12*100,0)))) | X7: =IF(OR($A7="",$B7=""),"",MAX(0,MIN(100,100-($N7*'Settings'!$B$15)))) | Y7: =IF(OR($A7="",$B7=""),"",($T7*'Settings'!$B$4)+($U7*'Settings'!$B$5)+($V7*'Settings'!$B$6)+($W7*'Settings'!$B$7)+($X7*'Settings'!$B$8)) | Z7: =IF($Y7="","",IF($Y7>='Settings'!$B$17,"Excellent",IF($Y7>='Settings'!$B$18,"Good",IF($Y7>='Settings'!$B$19,"Needs Improvement","Poor")))) | AA7: =IF($Z7="","",IF($Z7="Excellent",'Settings'!$B$21,IF($Z7="Good",'Settings'!$B$22,0))) | AB7: =IF(COUNTA($A7:$B7,$D7:$O7,$AC7:$AD7)=0,"",IF(OR($A7="",$B7=""),"Missing period/driver",IF($C7="Driver ID not found","Invalid driver ID",IF(COUNTIFS($A$5:$A$1000,$A7,$B$5:$B$1000,$B7)>1,"Duplicate driver/period",IF(OR($E7<=0,$F7<=0,$G7<=0,$I7<=0),"Check required activity",IF($H7>$G7,"On-time stops exceed total",IF($J7>$I7,"Completed inspections exceed required",IF(OR($H7<0,$J7<0,$K7<0,$L7<0,$M7<0,$N7<0),"Negative count",IF($AC7="","Select review status",IF(AND($AC7="Coaching Scheduled",$AD7=""),"Add follow-up date","OK")))))))))) | AC7: Reviewed
A8: 46266 | B8: D102 | C8: =IF(OR($A8="",$B8=""),"",IFERROR(VLOOKUP($B8,'Settings'!$D$4:$E$103,2,FALSE),"Driver ID not found")) | D8: Southeast | E8: 6140 | F8: 790 | G8: 398 | H8: 350 | I8: 22 | J8: 21 | K8: 9 | L8: 11 | M8: 0 | N8: 2 | O8: Monitor on-time recovery and braking events. | P8: =IF(OR($A8="",$B8=""),"",IFERROR($E8/$F8,0)) | Q8: =IF(OR($A8="",$B8=""),"",IFERROR($H8/$G8,0)) | R8: =IF(OR($A8="",$B8=""),"",IFERROR($J8/$I8,0)) | S8: =IF(OR($A8="",$B8=""),"",IFERROR(($K8+$L8)/$E8*1000,0)) | T8: =IF(OR($A8="",$B8=""),"",MAX(0,MIN(100,100-($S8*'Settings'!$B$13)-($M8*'Settings'!$B$14)))) | U8: =IF(OR($A8="",$B8=""),"",MAX(0,MIN(100,IFERROR($Q8/'Settings'!$B$10*100,0)))) | V8: =IF(OR($A8="",$B8=""),"",MAX(0,MIN(100,IFERROR($P8/'Settings'!$B$11*100,0)))) | W8: =IF(OR($A8="",$B8=""),"",MAX(0,MIN(100,IFERROR($R8/'Settings'!$B$12*100,0)))) | X8: =IF(OR($A8="",$B8=""),"",MAX(0,MIN(100,100-($N8*'Settings'!$B$15)))) | Y8: =IF(OR($A8="",$B8=""),"",($T8*'Settings'!$B$4)+($U8*'Settings'!$B$5)+($V8*'Settings'!$B$6)+($W8*'Settings'!$B$7)+($X8*'Settings'!$B$8)) | Z8: =IF($Y8="","",IF($Y8>='Settings'!$B$17,"Excellent",IF($Y8>='Settings'!$B$18,"Good",IF($Y8>='Settings'!$B$19,"Needs Improvement","Poor")))) | AA8: =IF($Z8="","",IF($Z8="Excellent",'Settings'!$B$21,IF($Z8="Good",'Settings'!$B$22,0))) | AB8: =IF(COUNTA($A8:$B8,$D8:$O8,$AC8:$AD8)=0,"",IF(OR($A8="",$B8=""),"Missing period/driver",IF($C8="Driver ID not found","Invalid driver ID",IF(COUNTIFS($A$5:$A$1000,$A8,$B$5:$B$1000,$B8)>1,"Duplicate driver/period",IF(OR($E8<=0,$F8<=0,$G8<=0,$I8<=0),"Check required activity",IF($H8>$G8,"On-time stops exceed total",IF($J8>$I8,"Completed inspections exceed required",IF(OR($H8<0,$J8<0,$K8<0,$L8<0,$M8<0,$N8<0),"Negative count",IF($AC8="","Select review status",IF(AND($AC8="Coaching Scheduled",$AD8=""),"Add follow-up date","OK")))))))))) | AC8: Coaching Scheduled | AD8: 46309
A9: 46266 | B9: D103 | C9: =IF(OR($A9="",$B9=""),"",IFERROR(VLOOKUP($B9,'Settings'!$D$4:$E$103,2,FALSE),"Driver ID not found")) | D9: Northeast | E9: 5460 | F9: 660 | G9: 445 | H9: 432 | I9: 23 | J9: 23 | K9: 1 | L9: 2 | M9: 0 | N9: 0 | O9: Consistent delivery and inspection performance. | P9: =IF(OR($A9="",$B9=""),"",IFERROR($E9/$F9,0)) | Q9: =IF(OR($A9="",$B9=""),"",IFERROR($H9/$G9,0)) | R9: =IF(OR($A9="",$B9=""),"",IFERROR($J9/$I9,0)) | S9: =IF(OR($A9="",$B9=""),"",IFERROR(($K9+$L9)/$E9*1000,0)) | T9: =IF(OR($A9="",$B9=""),"",MAX(0,MIN(100,100-($S9*'Settings'!$B$13)-($M9*'Settings'!$B$14)))) | U9: =IF(OR($A9="",$B9=""),"",MAX(0,MIN(100,IFERROR($Q9/'Settings'!$B$10*100,0)))) | V9: =IF(OR($A9="",$B9=""),"",MAX(0,MIN(100,IFERROR($P9/'Settings'!$B$11*100,0)))) | W9: =IF(OR($A9="",$B9=""),"",MAX(0,MIN(100,IFERROR($R9/'Settings'!$B$12*100,0)))) | X9: =IF(OR($A9="",$B9=""),"",MAX(0,MIN(100,100-($N9*'Settings'!$B$15)))) | Y9: =IF(OR($A9="",$B9=""),"",($T9*'Settings'!$B$4)+($U9*'Settings'!$B$5)+($V9*'Settings'!$B$6)+($W9*'Settings'!$B$7)+($X9*'Settings'!$B$8)) | Z9: =IF($Y9="","",IF($Y9>='Settings'!$B$17,"Excellent",IF($Y9>='Settings'!$B$18,"Good",IF($Y9>='Settings'!$B$19,"Needs Improvement","Poor")))) | AA9: =IF($Z9="","",IF($Z9="Excellent",'Settings'!$B$21,IF($Z9="Good",'Settings'!$B$22,0))) | AB9: =IF(COUNTA($A9:$B9,$D9:$O9,$AC9:$AD9)=0,"",IF(OR($A9="",$B9=""),"Missing period/driver",IF($C9="Driver ID not found","Invalid driver ID",IF(COUNTIFS($A$5:$A$1000,$A9,$B$5:$B$1000,$B9)>1,"Duplicate driver/period",IF(OR($E9<=0,$F9<=0,$G9<=0,$I9<=0),"Check required activity",IF($H9>$G9,"On-time stops exceed total",IF($J9>$I9,"Completed inspections exceed required",IF(OR($H9<0,$J9<0,$K9<0,$L9<0,$M9<0,$N9<0),"Negative count",IF($AC9="","Select review status",IF(AND($AC9="Coaching Scheduled",$AD9=""),"Add follow-up date","OK")))))))))) | AC9: Reviewed
A10: 46266 | B10: D104 | C10: =IF(OR($A10="",$B10=""),"",IFERROR(VLOOKUP($B10,'Settings'!$D$4:$E$103,2,FALSE),"Driver ID not found")) | D10: West | E10: 6020 | F10: 735 | G10: 376 | H10: 361 | I10: 22 | J10: 22 | K10: 0 | L10: 1 | M10: 0 | N10: 0 | O10: Top safety result for the period. | P10: =IF(OR($A10="",$B10=""),"",IFERROR($E10/$F10,0)) | Q10: =IF(OR($A10="",$B10=""),"",IFERROR($H10/$G10,0)) | R10: =IF(OR($A10="",$B10=""),"",IFERROR($J10/$I10,0)) | S10: =IF(OR($A10="",$B10=""),"",IFERROR(($K10+$L10)/$E10*1000,0)) | T10: =IF(OR($A10="",$B10=""),"",MAX(0,MIN(100,100-($S10*'Settings'!$B$13)-($M10*'Settings'!$B$14)))) | U10: =IF(OR($A10="",$B10=""),"",MAX(0,MIN(100,IFERROR($Q10/'Settings'!$B$10*100,0)))) | V10: =IF(OR($A10="",$B10=""),"",MAX(0,MIN(100,IFERROR($P10/'Settings'!$B$11*100,0)))) | W10: =IF(OR($A10="",$B10=""),"",MAX(0,MIN(100,IFERROR($R10/'Settings'!$B$12*100,0)))) | X10: =IF(OR($A10="",$B10=""),"",MAX(0,MIN(100,100-($N10*'Settings'!$B$15)))) | Y10: =IF(OR($A10="",$B10=""),"",($T10*'Settings'!$B$4)+($U10*'Settings'!$B$5)+($V10*'Settings'!$B$6)+($W10*'Settings'!$B$7)+($X10*'Settings'!$B$8)) | Z10: =IF($Y10="","",IF($Y10>='Settings'!$B$17,"Excellent",IF($Y10>='Settings'!$B$18,"Good",IF($Y10>='Settings'!$B$19,"Needs Improvement","Poor")))) | AA10: =IF($Z10="","",IF($Z10="Excellent",'Settings'!$B$21,IF($Z10="Good",'Settings'!$B$22,0))) | AB10: =IF(COUNTA($A10:$B10,$D10:$O10,$AC10:$AD10)=0,"",IF(OR($A10="",$B10=""),"Missing period/driver",IF($C10="Driver ID not found","Invalid driver ID",IF(COUNTIFS($A$5:$A$1000,$A10,$B$5:$B$1000,$B10)>1,"Duplicate driver/period",IF(OR($E10<=0,$F10<=0,$G10<=0,$I10<=0),"Check required activity",IF($H10>$G10,"On-time stops exceed total",IF($J10>$I10,"Completed inspections exceed required",IF(OR($H10<0,$J10<0,$K10<0,$L10<0,$M10<0,$N10<0),"Negative count",IF($AC10="","Select review status",IF(AND($AC10="Coaching Scheduled",$AD10=""),"Add follow-up date","OK")))))))))) | AC10: Reviewed
A11: 46266 | B11: D105 | C11: =IF(OR($A11="",$B11=""),"",IFERROR(VLOOKUP($B11,'Settings'!$D$4:$E$103,2,FALSE),"Driver ID not found")) | D11: Midwest | E11: 5780 | F11: 835 | G11: 402 | H11: 342 | I11: 23 | J11: 18 | K11: 10 | L11: 12 | M11: 1 | N11: 3 | O11: Immediate coaching required on safety and inspections. | P11: =IF(OR($A11="",$B11=""),"",IFERROR($E11/$F11,0)) | Q11: =IF(OR($A11="",$B11=""),"",IFERROR($H11/$G11,0)) | R11: =IF(OR($A11="",$B11=""),"",IFERROR($J11/$I11,0)) | S11: =IF(OR($A11="",$B11=""),"",IFERROR(($K11+$L11)/$E11*1000,0)) | T11: =IF(OR($A11="",$B11=""),"",MAX(0,MIN(100,100-($S11*'Settings'!$B$13)-($M11*'Settings'!$B$14)))) | U11: =IF(OR($A11="",$B11=""),"",MAX(0,MIN(100,IFERROR($Q11/'Settings'!$B$10*100,0)))) | V11: =IF(OR($A11="",$B11=""),"",MAX(0,MIN(100,IFERROR($P11/'Settings'!$B$11*100,0)))) | W11: =IF(OR($A11="",$B11=""),"",MAX(0,MIN(100,IFERROR($R11/'Settings'!$B$12*100,0)))) | X11: =IF(OR($A11="",$B11=""),"",MAX(0,MIN(100,100-($N11*'Settings'!$B$15)))) | Y11: =IF(OR($A11="",$B11=""),"",($T11*'Settings'!$B$4)+($U11*'Settings'!$B$5)+($V11*'Settings'!$B$6)+($W11*'Settings'!$B$7)+($X11*'Settings'!$B$8)) | Z11: =IF($Y11="","",IF($Y11>='Settings'!$B$17,"Excellent",IF($Y11>='Settings'!$B$18,"Good",IF($Y11>='Settings'!$B$19,"Needs Improvement","Poor")))) | AA11: =IF($Z11="","",IF($Z11="Excellent",'Settings'!$B$21,IF($Z11="Good",'Settings'!$B$22,0))) | AB11: =IF(COUNTA($A11:$B11,$D11:$O11,$AC11:$AD11)=0,"",IF(OR($A11="",$B11=""),"Missing period/driver",IF($C11="Driver ID not found","Invalid driver ID",IF(COUNTIFS($A$5:$A$1000,$A11,$B$5:$B$1000,$B11)>1,"Duplicate driver/period",IF(OR($E11<=0,$F11<=0,$G11<=0,$I11<=0),"Check required activity",IF($H11>$G11,"On-time stops exceed total",IF($J11>$I11,"Completed inspections exceed required",IF(OR($H11<0,$J11<0,$K11<0,$L11<0,$M11<0,$N11<0),"Negative count",IF($AC11="","Select review status",IF(AND($AC11="Coaching Scheduled",$AD11=""),"Add follow-up date","OK")))))))))) | AC11: Coaching Scheduled | AD11: 46302
A12: 46266 | B12: D106 | C12: =IF(OR($A12="",$B12=""),"",IFERROR(VLOOKUP($B12,'Settings'!$D$4:$E$103,2,FALSE),"Driver ID not found")) | D12: Southeast | E12: 4980 | F12: 620 | G12: 438 | H12: 425 | I12: 20 | J12: 20 | K12: 2 | L12: 2 | M12: 0 | N12: 1 | O12: Good service; discuss complaint details. | P12: =IF(OR($A12="",$B12=""),"",IFERROR($E12/$F12,0)) | Q12: =IF(OR($A12="",$B12=""),"",IFERROR($H12/$G12,0)) | R12: =IF(OR($A12="",$B12=""),"",IFERROR($J12/$I12,0)) | S12: =IF(OR($A12="",$B12=""),"",IFERROR(($K12+$L12)/$E12*1000,0)) | T12: =IF(OR($A12="",$B12=""),"",MAX(0,MIN(100,100-($S12*'Settings'!$B$13)-($M12*'Settings'!$B$14)))) | U12: =IF(OR($A12="",$B12=""),"",MAX(0,MIN(100,IFERROR($Q12/'Settings'!$B$10*100,0)))) | V12: =IF(OR($A12="",$B12=""),"",MAX(0,MIN(100,IFERROR($P12/'Settings'!$B$11*100,0)))) | W12: =IF(OR($A12="",$B12=""),"",MAX(0,MIN(100,IFERROR($R12/'Settings'!$B$12*100,0)))) | X12: =IF(OR($A12="",$B12=""),"",MAX(0,MIN(100,100-($N12*'Settings'!$B$15)))) | Y12: =IF(OR($A12="",$B12=""),"",($T12*'Settings'!$B$4)+($U12*'Settings'!$B$5)+($V12*'Settings'!$B$6)+($W12*'Settings'!$B$7)+($X12*'Settings'!$B$8)) | Z12: =IF($Y12="","",IF($Y12>='Settings'!$B$17,"Excellent",IF($Y12>='Settings'!$B$18,"Good",IF($Y12>='Settings'!$B$19,"Needs Improvement","Poor")))) | AA12: =IF($Z12="","",IF($Z12="Excellent",'Settings'!$B$21,IF($Z12="Good",'Settings'!$B$22,0))) | AB12: =IF(COUNTA($A12:$B12,$D12:$O12,$AC12:$AD12)=0,"",IF(OR($A12="",$B12=""),"Missing period/driver",IF($C12="Driver ID not found","Invalid driver ID",IF(COUNTIFS($A$5:$A$1000,$A12,$B$5:$B$1000,$B12)>1,"Duplicate driver/period",IF(OR($E12<=0,$F12<=0,$G12<=0,$I12<=0),"Check required activity",IF($H12>$G12,"On-time stops exceed total",IF($J12>$I12,"Completed inspections exceed required",IF(OR($H12<0,$J12<0,$K12<0,$L12<0,$M12<0,$N12<0),"Negative count",IF($AC12="","Select review status",IF(AND($AC12="Coaching Scheduled",$AD12=""),"Add follow-up date","OK")))))))))) | AC12: Reviewed
A13: 46266 | B13: D107 | C13: =IF(OR($A13="",$B13=""),"",IFERROR(VLOOKUP($B13,'Settings'!$D$4:$E$103,2,FALSE),"Driver ID not found")) | D13: West | E13: 6330 | F13: 850 | G13: 389 | H13: 374 | I13: 22 | J13: 22 | K13: 4 | L13: 5 | M13: 0 | N13: 0 | O13: Fuel efficiency below target; review idle habits. | P13: =IF(OR($A13="",$B13=""),"",IFERROR($E13/$F13,0)) | Q13: =IF(OR($A13="",$B13=""),"",IFERROR($H13/$G13,0)) | R13: =IF(OR($A13="",$B13=""),"",IFERROR($J13/$I13,0)) | S13: =IF(OR($A13="",$B13=""),"",IFERROR(($K13+$L13)/$E13*1000,0)) | T13: =IF(OR($A13="",$B13=""),"",MAX(0,MIN(100,100-($S13*'Settings'!$B$13)-($M13*'Settings'!$B$14)))) | U13: =IF(OR($A13="",$B13=""),"",MAX(0,MIN(100,IFERROR($Q13/'Settings'!$B$10*100,0)))) | V13: =IF(OR($A13="",$B13=""),"",MAX(0,MIN(100,IFERROR($P13/'Settings'!$B$11*100,0)))) | W13: =IF(OR($A13="",$B13=""),"",MAX(0,MIN(100,IFERROR($R13/'Settings'!$B$12*100,0)))) | X13: =IF(OR($A13="",$B13=""),"",MAX(0,MIN(100,100-($N13*'Settings'!$B$15)))) | Y13: =IF(OR($A13="",$B13=""),"",($T13*'Settings'!$B$4)+($U13*'Settings'!$B$5)+($V13*'Settings'!$B$6)+($W13*'Settings'!$B$7)+($X13*'Settings'!$B$8)) | Z13: =IF($Y13="","",IF($Y13>='Settings'!$B$17,"Excellent",IF($Y13>='Settings'!$B$18,"Good",IF($Y13>='Settings'!$B$19,"Needs Improvement","Poor")))) | AA13: =IF($Z13="","",IF($Z13="Excellent",'Settings'!$B$21,IF($Z13="Good",'Settings'!$B$22,0))) | AB13: =IF(COUNTA($A13:$B13,$D13:$O13,$AC13:$AD13)=0,"",IF(OR($A13="",$B13=""),"Missing period/driver",IF($C13="Driver ID not found","Invalid driver ID",IF(COUNTIFS($A$5:$A$1000,$A13,$B$5:$B$1000,$B13)>1,"Duplicate driver/period",IF(OR($E13<=0,$F13<=0,$G13<=0,$I13<=0),"Check required activity",IF($H13>$G13,"On-time stops exceed total",IF($J13>$I13,"Completed inspections exceed required",IF(OR($H13<0,$J13<0,$K13<0,$L13<0,$M13<0,$N13<0),"Negative count",IF($AC13="","Select review status",IF(AND($AC13="Coaching Scheduled",$AD13=""),"Add follow-up date","OK")))))))))) | AC13: Not Reviewed
A14: 46266 | B14: D108 | C14: =IF(OR($A14="",$B14=""),"",IFERROR(VLOOKUP($B14,'Settings'!$D$4:$E$103,2,FALSE),"Driver ID not found")) | D14: Northeast | E14: 5210 | F14: 625 | G14: 456 | H14: 450 | I14: 24 | J14: 24 | K14: 0 | L14: 1 | M14: 0 | N14: 0 | O14: Excellent on-time and inspection results. | P14: =IF(OR($A14="",$B14=""),"",IFERROR($E14/$F14,0)) | Q14: =IF(OR($A14="",$B14=""),"",IFERROR($H14/$G14,0)) | R14: =IF(OR($A14="",$B14=""),"",IFERROR($J14/$I14,0)) | S14: =IF(OR($A14="",$B14=""),"",IFERROR(($K14+$L14)/$E14*1000,0)) | T14: =IF(OR($A14="",$B14=""),"",MAX(0,MIN(100,100-($S14*'Settings'!$B$13)-($M14*'Settings'!$B$14)))) | U14: =IF(OR($A14="",$B14=""),"",MAX(0,MIN(100,IFERROR($Q14/'Settings'!$B$10*100,0)))) | V14: =IF(OR($A14="",$B14=""),"",MAX(0,MIN(100,IFERROR($P14/'Settings'!$B$11*100,0)))) | W14: =IF(OR($A14="",$B14=""),"",MAX(0,MIN(100,IFERROR($R14/'Settings'!$B$12*100,0)))) | X14: =IF(OR($A14="",$B14=""),"",MAX(0,MIN(100,100-($N14*'Settings'!$B$15)))) | Y14: =IF(OR($A14="",$B14=""),"",($T14*'Settings'!$B$4)+($U14*'Settings'!$B$5)+($V14*'Settings'!$B$6)+($W14*'Settings'!$B$7)+($X14*'Settings'!$B$8)) | Z14: =IF($Y14="","",IF($Y14>='Settings'!$B$17,"Excellent",IF($Y14>='Settings'!$B$18,"Good",IF($Y14>='Settings'!$B$19,"Needs Improvement","Poor")))) | AA14: =IF($Z14="","",IF($Z14="Excellent",'Settings'!$B$21,IF($Z14="Good",'Settings'!$B$22,0))) | AB14: =IF(COUNTA($A14:$B14,$D14:$O14,$AC14:$AD14)=0,"",IF(OR($A14="",$B14=""),"Missing period/driver",IF($C14="Driver ID not found","Invalid driver ID",IF(COUNTIFS($A$5:$A$1000,$A14,$B$5:$B$1000,$B14)>1,"Duplicate driver/period",IF(OR($E14<=0,$F14<=0,$G14<=0,$I14<=0),"Check required activity",IF($H14>$G14,"On-time stops exceed total",IF($J14>$I14,"Completed inspections exceed required",IF(OR($H14<0,$J14<0,$K14<0,$L14<0,$M14<0,$N14<0),"Negative count",IF($AC14="","Select review status",IF(AND($AC14="Coaching Scheduled",$AD14=""),"Add follow-up date","OK")))))))))) | AC14: Reviewed
C15: =IF(OR($A15="",$B15=""),"",IFERROR(VLOOKUP($B15,'Settings'!$D$4:$E$103,2,FALSE),"Driver ID not found")) | P15: =IF(OR($A15="",$B15=""),"",IFERROR($E15/$F15,0)) | Q15: =IF(OR($A15="",$B15=""),"",IFERROR($H15/$G15,0)) | R15: =IF(OR($A15="",$B15=""),"",IFERROR($J15/$I15,0)) | S15: =IF(OR($A15="",$B15=""),"",IFERROR(($K15+$L15)/$E15*1000,0)) | T15: =IF(OR($A15="",$B15=""),"",MAX(0,MIN(100,100-($S15*'Settings'!$B$13)-($M15*'Settings'!$B$14)))) | U15: =IF(OR($A15="",$B15=""),"",MAX(0,MIN(100,IFERROR($Q15/'Settings'!$B$10*100,0)))) | V15: =IF(OR($A15="",$B15=""),"",MAX(0,MIN(100,IFERROR($P15/'Settings'!$B$11*100,0)))) | W15: =IF(OR($A15="",$B15=""),"",MAX(0,MIN(100,IFERROR($R15/'Settings'!$B$12*100,0)))) | X15: =IF(OR($A15="",$B15=""),"",MAX(0,MIN(100,100-($N15*'Settings'!$B$15)))) | Y15: =IF(OR($A15="",$B15=""),"",($T15*'Settings'!$B$4)+($U15*'Settings'!$B$5)+($V15*'Settings'!$B$6)+($W15*'Settings'!$B$7)+($X15*'Settings'!$B$8)) | Z15: =IF($Y15="","",IF($Y15>='Settings'!$B$17,"Excellent",IF($Y15>='Settings'!$B$18,"Good",IF($Y15>='Settings'!$B$19,"Needs Improvement","Poor")))) | AA15: =IF($Z15="","",IF($Z15="Excellent",'Settings'!$B$21,IF($Z15="Good",'Settings'!$B$22,0))) | AB15: =IF(COUNTA($A15:$B15,$D15:$O15,$AC15:$AD15)=0,"",IF(OR($A15="",$B15=""),"Missing period/driver",IF($C15="Driver ID not found","Invalid driver ID",IF(COUNTIFS($A$5:$A$1000,$A15,$B$5:$B$1000,$B15)>1,"Duplicate driver/period",IF(OR($E15<=0,$F15<=0,$G15<=0,$I15<=0),"Check required activity",IF($H15>$G15,"On-time stops exceed total",IF($J15>$I15,"Completed inspections exceed required",IF(OR($H15<0,$J15<0,$K15<0,$L15<0,$M15<0,$N15<0),"Negative count",IF($AC15="","Select review status",IF(AND($AC15="Coaching Scheduled",$AD15=""),"Add follow-up date","OK"))))))))))
C16: =IF(OR($A16="",$B16=""),"",IFERROR(VLOOKUP($B16,'Settings'!$D$4:$E$103,2,FALSE),"Driver ID not found")) | P16: =IF(OR($A16="",$B16=""),"",IFERROR($E16/$F16,0)) | Q16: =IF(OR($A16="",$B16=""),"",IFERROR($H16/$G16,0)) | R16: =IF(OR($A16="",$B16=""),"",IFERROR($J16/$I16,0)) | S16: =IF(OR($A16="",$B16=""),"",IFERROR(($K16+$L16)/$E16*1000,0)) | T16: =IF(OR($A16="",$B16=""),"",MAX(0,MIN(100,100-($S16*'Settings'!$B$13)-($M16*'Settings'!$B$14)))) | U16: =IF(OR($A16="",$B16=""),"",MAX(0,MIN(100,IFERROR($Q16/'Settings'!$B$10*100,0)))) | V16: =IF(OR($A16="",$B16=""),"",MAX(0,MIN(100,IFERROR($P16/'Settings'!$B$11*100,0)))) | W16: =IF(OR($A16="",$B16=""),"",MAX(0,MIN(100,IFERROR($R16/'Settings'!$B$12*100,0)))) | X16: =IF(OR($A16="",$B16=""),"",MAX(0,MIN(100,100-($N16*'Settings'!$B$15)))) | Y16: =IF(OR($A16="",$B16=""),"",($T16*'Settings'!$B$4)+($U16*'Settings'!$B$5)+($V16*'Settings'!$B$6)+($W16*'Settings'!$B$7)+($X16*'Settings'!$B$8)) | Z16: =IF($Y16="","",IF($Y16>='Settings'!$B$17,"Excellent",IF($Y16>='Settings'!$B$18,"Good",IF($Y16>='Settings'!$B$19,"Needs Improvement","Poor")))) | AA16: =IF($Z16="","",IF($Z16="Excellent",'Settings'!$B$21,IF($Z16="Good",'Settings'!$B$22,0))) | AB16: =IF(COUNTA($A16:$B16,$D16:$O16,$AC16:$AD16)=0,"",IF(OR($A16="",$B16=""),"Missing period/driver",IF($C16="Driver ID not found","Invalid driver ID",IF(COUNTIFS($A$5:$A$1000,$A16,$B$5:$B$1000,$B16)>1,"Duplicate driver/period",IF(OR($E16<=0,$F16<=0,$G16<=0,$I16<=0),"Check required activity",IF($H16>$G16,"On-time stops exceed total",IF($J16>$I16,"Completed inspections exceed required",IF(OR($H16<0,$J16<0,$K16<0,$L16<0,$M16<0,$N16<0),"Negative count",IF($AC16="","Select review status",IF(AND($AC16="Coaching Scheduled",$AD16=""),"Add follow-up date","OK"))))))))))
C17: =IF(OR($A17="",$B17=""),"",IFERROR(VLOOKUP($B17,'Settings'!$D$4:$E$103,2,FALSE),"Driver ID not found")) | P17: =IF(OR($A17="",$B17=""),"",IFERROR($E17/$F17,0)) | Q17: =IF(OR($A17="",$B17=""),"",IFERROR($H17/$G17,0)) | R17: =IF(OR($A17="",$B17=""),"",IFERROR($J17/$I17,0)) | S17: =IF(OR($A17="",$B17=""),"",IFERROR(($K17+$L17)/$E17*1000,0)) | T17: =IF(OR($A17="",$B17=""),"",MAX(0,MIN(100,100-($S17*'Settings'!$B$13)-($M17*'Settings'!$B$14)))) | U17: =IF(OR($A17="",$B17=""),"",MAX(0,MIN(100,IFERROR($Q17/'Settings'!$B$10*100,0)))) | V17: =IF(OR($A17="",$B17=""),"",MAX(0,MIN(100,IFERROR($P17/'Settings'!$B$11*100,0)))) | W17: =IF(OR($A17="",$B17=""),"",MAX(0,MIN(100,IFERROR($R17/'Settings'!$B$12*100,0)))) | X17: =IF(OR($A17="",$B17=""),"",MAX(0,MIN(100,100-($N17*'Settings'!$B$15)))) | Y17: =IF(OR($A17="",$B17=""),"",($T17*'Settings'!$B$4)+($U17*'Settings'!$B$5)+($V17*'Settings'!$B$6)+($W17*'Settings'!$B$7)+($X17*'Settings'!$B$8)) | Z17: =IF($Y17="","",IF($Y17>='Settings'!$B$17,"Excellent",IF($Y17>='Settings'!$B$18,"Good",IF($Y17>='Settings'!$B$19,"Needs Improvement","Poor")))) | AA17: =IF($Z17="","",IF($Z17="Excellent",'Settings'!$B$21,IF($Z17="Good",'Settings'!$B$22,0))) | AB17: =IF(COUNTA($A17:$B17,$D17:$O17,$AC17:$AD17)=0,"",IF(OR($A17="",$B17=""),"Missing period/driver",IF($C17="Driver ID not found","Invalid driver ID",IF(COUNTIFS($A$5:$A$1000,$A17,$B$5:$B$1000,$B17)>1,"Duplicate driver/period",IF(OR($E17<=0,$F17<=0,$G17<=0,$I17<=0),"Check required activity",IF($H17>$G17,"On-time stops exceed total",IF($J17>$I17,"Completed inspections exceed required",IF(OR($H17<0,$J17<0,$K17<0,$L17<0,$M17<0,$N17<0),"Negative count",IF($AC17="","Select review status",IF(AND($AC17="Coaching Scheduled",$AD17=""),"Add follow-up date","OK"))))))))))
C18: =IF(OR($A18="",$B18=""),"",IFERROR(VLOOKUP($B18,'Settings'!$D$4:$E$103,2,FALSE),"Driver ID not found")) | P18: =IF(OR($A18="",$B18=""),"",IFERROR($E18/$F18,0)) | Q18: =IF(OR($A18="",$B18=""),"",IFERROR($H18/$G18,0)) | R18: =IF(OR($A18="",$B18=""),"",IFERROR($J18/$I18,0)) | S18: =IF(OR($A18="",$B18=""),"",IFERROR(($K18+$L18)/$E18*1000,0)) | T18: =IF(OR($A18="",$B18=""),"",MAX(0,MIN(100,100-($S18*'Settings'!$B$13)-($M18*'Settings'!$B$14)))) | U18: =IF(OR($A18="",$B18=""),"",MAX(0,MIN(100,IFERROR($Q18/'Settings'!$B$10*100,0)))) | V18: =IF(OR($A18="",$B18=""),"",MAX(0,MIN(100,IFERROR($P18/'Settings'!$B$11*100,0)))) | W18: =IF(OR($A18="",$B18=""),"",MAX(0,MIN(100,IFERROR($R18/'Settings'!$B$12*100,0)))) | X18: =IF(OR($A18="",$B18=""),"",MAX(0,MIN(100,100-($N18*'Settings'!$B$15)))) | Y18: =IF(OR($A18="",$B18=""),"",($T18*'Settings'!$B$4)+($U18*'Settings'!$B$5)+($V18*'Settings'!$B$6)+($W18*'Settings'!$B$7)+($X18*'Settings'!$B$8)) | Z18: =IF($Y18="","",IF($Y18>='Settings'!$B$17,"Excellent",IF($Y18>='Settings'!$B$18,"Good",IF($Y18>='Settings'!$B$19,"Needs Improvement","Poor")))) | AA18: =IF($Z18="","",IF($Z18="Excellent",'Settings'!$B$21,IF($Z18="Good",'Settings'!$B$22,0))) | AB18: =IF(COUNTA($A18:$B18,$D18:$O18,$AC18:$AD18)=0,"",IF(OR($A18="",$B18=""),"Missing period/driver",IF($C18="Driver ID not found","Invalid driver ID",IF(COUNTIFS($A$5:$A$1000,$A18,$B$5:$B$1000,$B18)>1,"Duplicate driver/period",IF(OR($E18<=0,$F18<=0,$G18<=0,$I18<=0),"Check required activity",IF($H18>$G18,"On-time stops exceed total",IF($J18>$I18,"Completed inspections exceed required",IF(OR($H18<0,$J18<0,$K18<0,$L18<0,$M18<0,$N18<0),"Negative count",IF($AC18="","Select review status",IF(AND($AC18="Coaching Scheduled",$AD18=""),"Add follow-up date","OK"))))))))))
C19: =IF(OR($A19="",$B19=""),"",IFERROR(VLOOKUP($B19,'Settings'!$D$4:$E$103,2,FALSE),"Driver ID not found")) | P19: =IF(OR($A19="",$B19=""),"",IFERROR($E19/$F19,0)) | Q19: =IF(OR($A19="",$B19=""),"",IFERROR($H19/$G19,0)) | R19: =IF(OR($A19="",$B19=""),"",IFERROR($J19/$I19,0)) | S19: =IF(OR($A19="",$B19=""),"",IFERROR(($K19+$L19)/$E19*1000,0)) | T19: =IF(OR($A19="",$B19=""),"",MAX(0,MIN(100,100-($S19*'Settings'!$B$13)-($M19*'Settings'!$B$14)))) | U19: =IF(OR($A19="",$B19=""),"",MAX(0,MIN(100,IFERROR($Q19/'Settings'!$B$10*100,0)))) | V19: =IF(OR($A19="",$B19=""),"",MAX(0,MIN(100,IFERROR($P19/'Settings'!$B$11*100,0)))) | W19: =IF(OR($A19="",$B19=""),"",MAX(0,MIN(100,IFERROR($R19/'Settings'!$B$12*100,0)))) | X19: =IF(OR($A19="",$B19=""),"",MAX(0,MIN(100,100-($N19*'Settings'!$B$15)))) | Y19: =IF(OR($A19="",$B19=""),"",($T19*'Settings'!$B$4)+($U19*'Settings'!$B$5)+($V19*'Settings'!$B$6)+($W19*'Settings'!$B$7)+($X19*'Settings'!$B$8)) | Z19: =IF($Y19="","",IF($Y19>='Settings'!$B$17,"Excellent",IF($Y19>='Settings'!$B$18,"Good",IF($Y19>='Settings'!$B$19,"Needs Improvement","Poor")))) | AA19: =IF($Z19="","",IF($Z19="Excellent",'Settings'!$B$21,IF($Z19="Good",'Settings'!$B$22,0))) | AB19: =IF(COUNTA($A19:$B19,$D19:$O19,$AC19:$AD19)=0,"",IF(OR($A19="",$B19=""),"Missing period/driver",IF($C19="Driver ID not found","Invalid driver ID",IF(COUNTIFS($A$5:$A$1000,$A19,$B$5:$B$1000,$B19)>1,"Duplicate driver/period",IF(OR($E19<=0,$F19<=0,$G19<=0,$I19<=0),"Check required activity",IF($H19>$G19,"On-time stops exceed total",IF($J19>$I19,"Completed inspections exceed required",IF(OR($H19<0,$J19<0,$K19<0,$L19<0,$M19<0,$N19<0),"Negative count",IF($AC19="","Select review status",IF(AND($AC19="Coaching Scheduled",$AD19=""),"Add follow-up date","OK"))))))))))
C20: =IF(OR($A20="",$B20=""),"",IFERROR(VLOOKUP($B20,'Settings'!$D$4:$E$103,2,FALSE),"Driver ID not found")) | P20: =IF(OR($A20="",$B20=""),"",IFERROR($E20/$F20,0)) | Q20: =IF(OR($A20="",$B20=""),"",IFERROR($H20/$G20,0)) | R20: =IF(OR($A20="",$B20=""),"",IFERROR($J20/$I20,0)) | S20: =IF(OR($A20="",$B20=""),"",IFERROR(($K20+$L20)/$E20*1000,0)) | T20: =IF(OR($A20="",$B20=""),"",MAX(0,MIN(100,100-($S20*'Settings'!$B$13)-($M20*'Settings'!$B$14)))) | U20: =IF(OR($A20="",$B20=""),"",MAX(0,MIN(100,IFERROR($Q20/'Settings'!$B$10*100,0)))) | V20: =IF(OR($A20="",$B20=""),"",MAX(0,MIN(100,IFERROR($P20/'Settings'!$B$11*100,0)))) | W20: =IF(OR($A20="",$B20=""),"",MAX(0,MIN(100,IFERROR($R20/'Settings'!$B$12*100,0)))) | X20: =IF(OR($A20="",$B20=""),"",MAX(0,MIN(100,100-($N20*'Settings'!$B$15)))) | Y20: =IF(OR($A20="",$B20=""),"",($T20*'Settings'!$B$4)+($U20*'Settings'!$B$5)+($V20*'Settings'!$B$6)+($W20*'Settings'!$B$7)+($X20*'Settings'!$B$8)) | Z20: =IF($Y20="","",IF($Y20>='Settings'!$B$17,"Excellent",IF($Y20>='Settings'!$B$18,"Good",IF($Y20>='Settings'!$B$19,"Needs Improvement","Poor")))) | AA20: =IF($Z20="","",IF($Z20="Excellent",'Settings'!$B$21,IF($Z20="Good",'Settings'!$B$22,0))) | AB20: =IF(COUNTA($A20:$B20,$D20:$O20,$AC20:$AD20)=0,"",IF(OR($A20="",$B20=""),"Missing period/driver",IF($C20="Driver ID not found","Invalid driver ID",IF(COUNTIFS($A$5:$A$1000,$A20,$B$5:$B$1000,$B20)>1,"Duplicate driver/period",IF(OR($E20<=0,$F20<=0,$G20<=0,$I20<=0),"Check required activity",IF($H20>$G20,"On-time stops exceed total",IF($J20>$I20,"Completed inspections exceed required",IF(OR($H20<0,$J20<0,$K20<0,$L20<0,$M20<0,$N20<0),"Negative count",IF($AC20="","Select review status",IF(AND($AC20="Coaching Scheduled",$AD20=""),"Add follow-up date","OK"))))))))))
C21: =IF(OR($A21="",$B21=""),"",IFERROR(VLOOKUP($B21,'Settings'!$D$4:$E$103,2,FALSE),"Driver ID not found")) | P21: =IF(OR($A21="",$B21=""),"",IFERROR($E21/$F21,0)) | Q21: =IF(OR($A21="",$B21=""),"",IFERROR($H21/$G21,0)) | R21: =IF(OR($A21="",$B21=""),"",IFERROR($J21/$I21,0)) | S21: =IF(OR($A21="",$B21=""),"",IFERROR(($K21+$L21)/$E21*1000,0)) | T21: =IF(OR($A21="",$B21=""),"",MAX(0,MIN(100,100-($S21*'Settings'!$B$13)-($M21*'Settings'!$B$14)))) | U21: =IF(OR($A21="",$B21=""),"",MAX(0,MIN(100,IFERROR($Q21/'Settings'!$B$10*100,0)))) | V21: =IF(OR($A21="",$B21=""),"",MAX(0,MIN(100,IFERROR($P21/'Settings'!$B$11*100,0)))) | W21: =IF(OR($A21="",$B21=""),"",MAX(0,MIN(100,IFERROR($R21/'Settings'!$B$12*100,0)))) | X21: =IF(OR($A21="",$B21=""),"",MAX(0,MIN(100,100-($N21*'Settings'!$B$15)))) | Y21: =IF(OR($A21="",$B21=""),"",($T21*'Settings'!$B$4)+($U21*'Settings'!$B$5)+($V21*'Settings'!$B$6)+($W21*'Settings'!$B$7)+($X21*'Settings'!$B$8)) | Z21: =IF($Y21="","",IF($Y21>='Settings'!$B$17,"Excellent",IF($Y21>='Settings'!$B$18,"Good",IF($Y21>='Settings'!$B$19,"Needs Improvement","Poor")))) | AA21: =IF($Z21="","",IF($Z21="Excellent",'Settings'!$B$21,IF($Z21="Good",'Settings'!$B$22,0))) | AB21: =IF(COUNTA($A21:$B21,$D21:$O21,$AC21:$AD21)=0,"",IF(OR($A21="",$B21=""),"Missing period/driver",IF($C21="Driver ID not found","Invalid driver ID",IF(COUNTIFS($A$5:$A$1000,$A21,$B$5:$B$1000,$B21)>1,"Duplicate driver/period",IF(OR($E21<=0,$F21<=0,$G21<=0,$I21<=0),"Check required activity",IF($H21>$G21,"On-time stops exceed total",IF($J21>$I21,"Completed inspections exceed required",IF(OR($H21<0,$J21<0,$K21<0,$L21<0,$M21<0,$N21<0),"Negative count",IF($AC21="","Select review status",IF(AND($AC21="Coaching Scheduled",$AD21=""),"Add follow-up date","OK"))))))))))
C22: =IF(OR($A22="",$B22=""),"",IFERROR(VLOOKUP($B22,'Settings'!$D$4:$E$103,2,FALSE),"Driver ID not found")) | P22: =IF(OR($A22="",$B22=""),"",IFERROR($E22/$F22,0)) | Q22: =IF(OR($A22="",$B22=""),"",IFERROR($H22/$G22,0)) | R22: =IF(OR($A22="",$B22=""),"",IFERROR($J22/$I22,0)) | S22: =IF(OR($A22="",$B22=""),"",IFERROR(($K22+$L22)/$E22*1000,0)) | T22: =IF(OR($A22="",$B22=""),"",MAX(0,MIN(100,100-($S22*'Settings'!$B$13)-($M22*'Settings'!$B$14)))) | U22: =IF(OR($A22="",$B22=""),"",MAX(0,MIN(100,IFERROR($Q22/'Settings'!$B$10*100,0)))) | V22: =IF(OR($A22="",$B22=""),"",MAX(0,MIN(100,IFERROR($P22/'Settings'!$B$11*100,0)))) | W22: =IF(OR($A22="",$B22=""),"",MAX(0,MIN(100,IFERROR($R22/'Settings'!$B$12*100,0)))) | X22: =IF(OR($A22="",$B22=""),"",MAX(0,MIN(100,100-($N22*'Settings'!$B$15)))) | Y22: =IF(OR($A22="",$B22=""),"",($T22*'Settings'!$B$4)+($U22*'Settings'!$B$5)+($V22*'Settings'!$B$6)+($W22*'Settings'!$B$7)+($X22*'Settings'!$B$8)) | Z22: =IF($Y22="","",IF($Y22>='Settings'!$B$17,"Excellent",IF($Y22>='Settings'!$B$18,"Good",IF($Y22>='Settings'!$B$19,"Needs Improvement","Poor")))) | AA22: =IF($Z22="","",IF($Z22="Excellent",'Settings'!$B$21,IF($Z22="Good",'Settings'!$B$22,0))) | AB22: =IF(COUNTA($A22:$B22,$D22:$O22,$AC22:$AD22)=0,"",IF(OR($A22="",$B22=""),"Missing period/driver",IF($C22="Driver ID not found","Invalid driver ID",IF(COUNTIFS($A$5:$A$1000,$A22,$B$5:$B$1000,$B22)>1,"Duplicate driver/period",IF(OR($E22<=0,$F22<=0,$G22<=0,$I22<=0),"Check required activity",IF($H22>$G22,"On-time stops exceed total",IF($J22>$I22,"Completed inspections exceed required",IF(OR($H22<0,$J22<0,$K22<0,$L22<0,$M22<0,$N22<0),"Negative count",IF($AC22="","Select review status",IF(AND($AC22="Coaching Scheduled",$AD22=""),"Add follow-up date","OK"))))))))))
C23: =IF(OR($A23="",$B23=""),"",IFERROR(VLOOKUP($B23,'Settings'!$D$4:$E$103,2,FALSE),"Driver ID not found")) | P23: =IF(OR($A23="",$B23=""),"",IFERROR($E23/$F23,0)) | Q23: =IF(OR($A23="",$B23=""),"",IFERROR($H23/$G23,0)) | R23: =IF(OR($A23="",$B23=""),"",IFERROR($J23/$I23,0)) | S23: =IF(OR($A23="",$B23=""),"",IFERROR(($K23+$L23)/$E23*1000,0)) | T23: =IF(OR($A23="",$B23=""),"",MAX(0,MIN(100,100-($S23*'Settings'!$B$13)-($M23*'Settings'!$B$14)))) | U23: =IF(OR($A23="",$B23=""),"",MAX(0,MIN(100,IFERROR($Q23/'Settings'!$B$10*100,0)))) | V23: =IF(OR($A23="",$B23=""),"",MAX(0,MIN(100,IFERROR($P23/'Settings'!$B$11*100,0)))) | W23: =IF(OR($A23="",$B23=""),"",MAX(0,MIN(100,IFERROR($R23/'Settings'!$B$12*100,0)))) | X23: =IF(OR($A23="",$B23=""),"",MAX(0,MIN(100,100-($N23*'Settings'!$B$15)))) | Y23: =IF(OR($A23="",$B23=""),"",($T23*'Settings'!$B$4)+($U23*'Settings'!$B$5)+($V23*'Settings'!$B$6)+($W23*'Settings'!$B$7)+($X23*'Settings'!$B$8)) | Z23: =IF($Y23="","",IF($Y23>='Settings'!$B$17,"Excellent",IF($Y23>='Settings'!$B$18,"Good",IF($Y23>='Settings'!$B$19,"Needs Improvement","Poor")))) | AA23: =IF($Z23="","",IF($Z23="Excellent",'Settings'!$B$21,IF($Z23="Good",'Settings'!$B$22,0))) | AB23: =IF(COUNTA($A23:$B23,$D23:$O23,$AC23:$AD23)=0,"",IF(OR($A23="",$B23=""),"Missing period/driver",IF($C23="Driver ID not found","Invalid driver ID",IF(COUNTIFS($A$5:$A$1000,$A23,$B$5:$B$1000,$B23)>1,"Duplicate driver/period",IF(OR($E23<=0,$F23<=0,$G23<=0,$I23<=0),"Check required activity",IF($H23>$G23,"On-time stops exceed total",IF($J23>$I23,"Completed inspections exceed required",IF(OR($H23<0,$J23<0,$K23<0,$L23<0,$M23<0,$N23<0),"Negative count",IF($AC23="","Select review status",IF(AND($AC23="Coaching Scheduled",$AD23=""),"Add follow-up date","OK"))))))))))
C24: =IF(OR($A24="",$B24=""),"",IFERROR(VLOOKUP($B24,'Settings'!$D$4:$E$103,2,FALSE),"Driver ID not found")) | P24: =IF(OR($A24="",$B24=""),"",IFERROR($E24/$F24,0)) | Q24: =IF(OR($A24="",$B24=""),"",IFERROR($H24/$G24,0)) | R24: =IF(OR($A24="",$B24=""),"",IFERROR($J24/$I24,0)) | S24: =IF(OR($A24="",$B24=""),"",IFERROR(($K24+$L24)/$E24*1000,0)) | T24: =IF(OR($A24="",$B24=""),"",MAX(0,MIN(100,100-($S24*'Settings'!$B$13)-($M24*'Settings'!$B$14)))) | U24: =IF(OR($A24="",$B24=""),"",MAX(0,MIN(100,IFERROR($Q24/'Settings'!$B$10*100,0)))) | V24: =IF(OR($A24="",$B24=""),"",MAX(0,MIN(100,IFERROR($P24/'Settings'!$B$11*100,0)))) | W24: =IF(OR($A24="",$B24=""),"",MAX(0,MIN(100,IFERROR($R24/'Settings'!$B$12*100,0)))) | X24: =IF(OR($A24="",$B24=""),"",MAX(0,MIN(100,100-($N24*'Settings'!$B$15)))) | Y24: =IF(OR($A24="",$B24=""),"",($T24*'Settings'!$B$4)+($U24*'Settings'!$B$5)+($V24*'Settings'!$B$6)+($W24*'Settings'!$B$7)+($X24*'Settings'!$B$8)) | Z24: =IF($Y24="","",IF($Y24>='Settings'!$B$17,"Excellent",IF($Y24>='Settings'!$B$18,"Good",IF($Y24>='Settings'!$B$19,"Needs Improvement","Poor")))) | AA24: =IF($Z24="","",IF($Z24="Excellent",'Settings'!$B$21,IF($Z24="Good",'Settings'!$B$22,0))) | AB24: =IF(COUNTA($A24:$B24,$D24:$O24,$AC24:$AD24)=0,"",IF(OR($A24="",$B24=""),"Missing period/driver",IF($C24="Driver ID not found","Invalid driver ID",IF(COUNTIFS($A$5:$A$1000,$A24,$B$5:$B$1000,$B24)>1,"Duplicate driver/period",IF(OR($E24<=0,$F24<=0,$G24<=0,$I24<=0),"Check required activity",IF($H24>$G24,"On-time stops exceed total",IF($J24>$I24,"Completed inspections exceed required",IF(OR($H24<0,$J24<0,$K24<0,$L24<0,$M24<0,$N24<0),"Negative count",IF($AC24="","Select review status",IF(AND($AC24="Coaching Scheduled",$AD24=""),"Add follow-up date","OK"))))))))))
C25: =IF(OR($A25="",$B25=""),"",IFERROR(VLOOKUP($B25,'Settings'!$D$4:$E$103,2,FALSE),"Driver ID not found")) | P25: =IF(OR($A25="",$B25=""),"",IFERROR($E25/$F25,0)) | Q25: =IF(OR($A25="",$B25=""),"",IFERROR($H25/$G25,0)) | R25: =IF(OR($A25="",$B25=""),"",IFERROR($J25/$I25,0)) | S25: =IF(OR($A25="",$B25=""),"",IFERROR(($K25+$L25)/$E25*1000,0)) | T25: =IF(OR($A25="",$B25=""),"",MAX(0,MIN(100,100-($S25*'Settings'!$B$13)-($M25*'Settings'!$B$14)))) | U25: =IF(OR($A25="",$B25=""),"",MAX(0,MIN(100,IFERROR($Q25/'Settings'!$B$10*100,0)))) | V25: =IF(OR($A25="",$B25=""),"",MAX(0,MIN(100,IFERROR($P25/'Settings'!$B$11*100,0)))) | W25: =IF(OR($A25="",$B25=""),"",MAX(0,MIN(100,IFERROR($R25/'Settings'!$B$12*100,0)))) | X25: =IF(OR($A25="",$B25=""),"",MAX(0,MIN(100,100-($N25*'Settings'!$B$15)))) | Y25: =IF(OR($A25="",$B25=""),"",($T25*'Settings'!$B$4)+($U25*'Settings'!$B$5)+($V25*'Settings'!$B$6)+($W25*'Settings'!$B$7)+($X25*'Settings'!$B$8)) | Z25: =IF($Y25="","",IF($Y25>='Settings'!$B$17,"Excellent",IF($Y25>='Settings'!$B$18,"Good",IF($Y25>='Settings'!$B$19,"Needs Improvement","Poor")))) | AA25: =IF($Z25="","",IF($Z25="Excellent",'Settings'!$B$21,IF($Z25="Good",'Settings'!$B$22,0))) | AB25: =IF(COUNTA($A25:$B25,$D25:$O25,$AC25:$AD25)=0,"",IF(OR($A25="",$B25=""),"Missing period/driver",IF($C25="Driver ID not found","Invalid driver ID",IF(COUNTIFS($A$5:$A$1000,$A25,$B$5:$B$1000,$B25)>1,"Duplicate driver/period",IF(OR($E25<=0,$F25<=0,$G25<=0,$I25<=0),"Check required activity",IF($H25>$G25,"On-time stops exceed total",IF($J25>$I25,"Completed inspections exceed required",IF(OR($H25<0,$J25<0,$K25<0,$L25<0,$M25<0,$N25<0),"Negative count",IF($AC25="","Select review status",IF(AND($AC25="Coaching Scheduled",$AD25=""),"Add follow-up date","OK"))))))))))
C26: =IF(OR($A26="",$B26=""),"",IFERROR(VLOOKUP($B26,'Settings'!$D$4:$E$103,2,FALSE),"Driver ID not found")) | P26: =IF(OR($A26="",$B26=""),"",IFERROR($E26/$F26,0)) | Q26: =IF(OR($A26="",$B26=""),"",IFERROR($H26/$G26,0)) | R26: =IF(OR($A26="",$B26=""),"",IFERROR($J26/$I26,0)) | S26: =IF(OR($A26="",$B26=""),"",IFERROR(($K26+$L26)/$E26*1000,0)) | T26: =IF(OR($A26="",$B26=""),"",MAX(0,MIN(100,100-($S26*'Settings'!$B$13)-($M26*'Settings'!$B$14)))) | U26: =IF(OR($A26="",$B26=""),"",MAX(0,MIN(100,IFERROR($Q26/'Settings'!$B$10*100,0)))) | V26: =IF(OR($A26="",$B26=""),"",MAX(0,MIN(100,IFERROR($P26/'Settings'!$B$11*100,0)))) | W26: =IF(OR($A26="",$B26=""),"",MAX(0,MIN(100,IFERROR($R26/'Settings'!$B$12*100,0)))) | X26: =IF(OR($A26="",$B26=""),"",MAX(0,MIN(100,100-($N26*'Settings'!$B$15)))) | Y26: =IF(OR($A26="",$B26=""),"",($T26*'Settings'!$B$4)+($U26*'Settings'!$B$5)+($V26*'Settings'!$B$6)+($W26*'Settings'!$B$7)+($X26*'Settings'!$B$8)) | Z26: =IF($Y26="","",IF($Y26>='Settings'!$B$17,"Excellent",IF($Y26>='Settings'!$B$18,"Good",IF($Y26>='Settings'!$B$19,"Needs Improvement","Poor")))) | AA26: =IF($Z26="","",IF($Z26="Excellent",'Settings'!$B$21,IF($Z26="Good",'Settings'!$B$22,0))) | AB26: =IF(COUNTA($A26:$B26,$D26:$O26,$AC26:$AD26)=0,"",IF(OR($A26="",$B26=""),"Missing period/driver",IF($C26="Driver ID not found","Invalid driver ID",IF(COUNTIFS($A$5:$A$1000,$A26,$B$5:$B$1000,$B26)>1,"Duplicate driver/period",IF(OR($E26<=0,$F26<=0,$G26<=0,$I26<=0),"Check required activity",IF($H26>$G26,"On-time stops exceed total",IF($J26>$I26,"Completed inspections exceed required",IF(OR($H26<0,$J26<0,$K26<0,$L26<0,$M26<0,$N26<0),"Negative count",IF($AC26="","Select review status",IF(AND($AC26="Coaching Scheduled",$AD26=""),"Add follow-up date","OK"))))))))))
