Workbook

Sheet Dashboard
A1: Driver Pay Per Mile Dashboard
A2: Pay estimates only. Verify rates, reimbursements, deductions, and company pay policies before payment.
A3: Selected Pay Period End | B3: 46257 | D3: Driver Filter | E3: All Drivers | G3: Yellow = User Input | H3: Blue-Gray = Calculated
A5: Trips | C5: Paid Miles | E5: Mileage Pay | G5: Gross Earnings
B6: =IFERROR(IF($E$3="All Drivers",COUNTIFS(tblPayLog[Pay Period End],$B$3),COUNTIFS(tblPayLog[Pay Period End],$B$3,tblPayLog[Driver ID],$E$3)),0) | D6: =IFERROR(IF($E$3="All Drivers",SUMIFS(tblPayLog[Paid Miles],tblPayLog[Pay Period End],$B$3),SUMIFS(tblPayLog[Paid Miles],tblPayLog[Pay Period End],$B$3,tblPayLog[Driver ID],$E$3)),0) | F6: =IFERROR(IF($E$3="All Drivers",SUMIFS(tblPayLog[Mileage Pay],tblPayLog[Pay Period End],$B$3),SUMIFS(tblPayLog[Mileage Pay],tblPayLog[Pay Period End],$B$3,tblPayLog[Driver ID],$E$3)),0) | H6: =IFERROR(IF($E$3="All Drivers",SUMIFS(tblPayLog[Gross Earnings],tblPayLog[Pay Period End],$B$3),SUMIFS(tblPayLog[Gross Earnings],tblPayLog[Pay Period End],$B$3,tblPayLog[Driver ID],$E$3)),0)
A8: Reimbursements | C8: Deductions | E8: Total Payable | G8: Average Mileage Rate
B9: =IFERROR(IF($E$3="All Drivers",SUMIFS(tblPayLog[Reimbursements],tblPayLog[Pay Period End],$B$3),SUMIFS(tblPayLog[Reimbursements],tblPayLog[Pay Period End],$B$3,tblPayLog[Driver ID],$E$3)),0) | D9: =IFERROR(IF($E$3="All Drivers",SUMIFS(tblPayLog[Deductions],tblPayLog[Pay Period End],$B$3),SUMIFS(tblPayLog[Deductions],tblPayLog[Pay Period End],$B$3,tblPayLog[Driver ID],$E$3)),0) | F9: =IFERROR(IF($E$3="All Drivers",SUMIFS(tblPayLog[Total Payable],tblPayLog[Pay Period End],$B$3),SUMIFS(tblPayLog[Total Payable],tblPayLog[Pay Period End],$B$3,tblPayLog[Driver ID],$E$3)),0) | H9: =IFERROR(F6/D6,0)
A11: Pending Payable | C11: Check Flags
B12: =IFERROR(IF($E$3="All Drivers",SUMIFS(tblPayLog[Total Payable],tblPayLog[Pay Period End],$B$3,tblPayLog[Status],"<>Paid"),SUMIFS(tblPayLog[Total Payable],tblPayLog[Pay Period End],$B$3,tblPayLog[Driver ID],$E$3,tblPayLog[Status],"<>Paid")),0) | D12: =IFERROR(IF($E$3="All Drivers",COUNTIFS(tblPayLog[Pay Period End],$B$3,tblPayLog[Check],"<>OK"),COUNTIFS(tblPayLog[Pay Period End],$B$3,tblPayLog[Driver ID],$E$3,tblPayLog[Check],"<>OK")),0)
D13: =""
D14: =""
A15: Status | B15: Trips | C15: Total Payable | D15: =""
A16: Open | B16: =IFERROR(IF($E$3="All Drivers",COUNTIFS(tblPayLog[Pay Period End],$B$3,tblPayLog[Status],$A16),COUNTIFS(tblPayLog[Pay Period End],$B$3,tblPayLog[Driver ID],$E$3,tblPayLog[Status],$A16)),0) | C16: =IFERROR(IF($E$3="All Drivers",SUMIFS(tblPayLog[Total Payable],tblPayLog[Pay Period End],$B$3,tblPayLog[Status],$A16),SUMIFS(tblPayLog[Total Payable],tblPayLog[Pay Period End],$B$3,tblPayLog[Driver ID],$E$3,tblPayLog[Status],$A16)),0) | D16: =""
A17: Approved | B17: =IFERROR(IF($E$3="All Drivers",COUNTIFS(tblPayLog[Pay Period End],$B$3,tblPayLog[Status],$A17),COUNTIFS(tblPayLog[Pay Period End],$B$3,tblPayLog[Driver ID],$E$3,tblPayLog[Status],$A17)),0) | C17: =IFERROR(IF($E$3="All Drivers",SUMIFS(tblPayLog[Total Payable],tblPayLog[Pay Period End],$B$3,tblPayLog[Status],$A17),SUMIFS(tblPayLog[Total Payable],tblPayLog[Pay Period End],$B$3,tblPayLog[Driver ID],$E$3,tblPayLog[Status],$A17)),0) | D17: =""
A18: Paid | B18: =IFERROR(IF($E$3="All Drivers",COUNTIFS(tblPayLog[Pay Period End],$B$3,tblPayLog[Status],$A18),COUNTIFS(tblPayLog[Pay Period End],$B$3,tblPayLog[Driver ID],$E$3,tblPayLog[Status],$A18)),0) | C18: =IFERROR(IF($E$3="All Drivers",SUMIFS(tblPayLog[Total Payable],tblPayLog[Pay Period End],$B$3,tblPayLog[Status],$A18),SUMIFS(tblPayLog[Total Payable],tblPayLog[Pay Period End],$B$3,tblPayLog[Driver ID],$E$3,tblPayLog[Status],$A18)),0) | D18: =""
B19: ="" | C19: ="" | D19: =""
B20: ="" | C20: ="" | D20: =""
B21: ="" | C21: ="" | D21: =""
B22: ="" | C22: ="" | D22: =""
B23: ="" | C23: ="" | D23: =""
B24: ="" | C24: ="" | D24: =""
B25: ="" | C25: ="" | D25: =""
B26: ="" | C26: ="" | D26: =""
B27: ="" | C27: ="" | D27: =""
B28: ="" | C28: ="" | D28: =""
B29: ="" | C29: ="" | D29: =""
B30: ="" | C30: ="" | D30: =""
... B101: ="" | C101: ="" | D101: =""

Sheet Pay Log
A1: Driver Pay Detail Log
A2: Enter yellow cells only. Blue-gray cells contain calculations. A blank Rate Override uses the driver's default rate from Settings.
A3: Yellow = User Input | B3: Blue-Gray = Calculated
A4: Pay Period End | B4: Trip Date | C4: Driver ID | D4: Driver Name | E4: Trip/Load # | F4: Origin | G4: Destination | H4: Loaded Miles | I4: Empty Miles | J4: Paid Miles | K4: Rate Override | L4: Default Rate/Mile | M4: Effective Rate/Mile | N4: Mileage Pay | O4: Detention Hours | P4: Detention Rate/Hour | Q4: Detention Pay | R4: Extra Stops | S4: Stop Rate | T4: Stop Pay | U4: Other Pay | V4: Reimbursements | W4: Deductions | X4: Gross Earnings | Y4: Total Payable | Z4: Status | AA4: Notes | AB4: Check
A5: 46257 | B5: 46245 | C5: DRV-001 | D5: =IF(COUNTA($A5:$C5,$E5:$I5,$K5,$O5,$R5,$U5:$W5,$Z5:$AA5)=0,"",IFERROR(INDEX('Settings'!$B$10:$B$109,MATCH(C5,'Settings'!$A$10:$A$109,0)),"")) | E5: LD-260811-DH | F5: Dallas, TX | G5: Houston, TX | H5: 239 | I5: 12 | J5: =IF(COUNTA($A5:$C5,$E5:$I5,$K5,$O5,$R5,$U5:$W5,$Z5:$AA5)=0,"",IFERROR(H5+I5,0)) | L5: =IF(COUNTA($A5:$C5,$E5:$I5,$K5,$O5,$R5,$U5:$W5,$Z5:$AA5)=0,"",IFERROR(INDEX('Settings'!$D$10:$D$109,MATCH(C5,'Settings'!$A$10:$A$109,0)),0)) | M5: =IF(COUNTA($A5:$C5,$E5:$I5,$K5,$O5,$R5,$U5:$W5,$Z5:$AA5)=0,"",IFERROR(IF(K5<>"",K5,L5),0)) | N5: =IF(COUNTA($A5:$C5,$E5:$I5,$K5,$O5,$R5,$U5:$W5,$Z5:$AA5)=0,"",IFERROR(J5*M5,0)) | O5: 1.5 | P5: =IF(COUNTA($A5:$C5,$E5:$I5,$K5,$O5,$R5,$U5:$W5,$Z5:$AA5)=0,"",IFERROR(INDEX('Settings'!$F$10:$F$109,MATCH(C5,'Settings'!$A$10:$A$109,0)),0)) | Q5: =IF(COUNTA($A5:$C5,$E5:$I5,$K5,$O5,$R5,$U5:$W5,$Z5:$AA5)=0,"",IFERROR(O5*P5,0)) | R5: 1 | S5: =IF(COUNTA($A5:$C5,$E5:$I5,$K5,$O5,$R5,$U5:$W5,$Z5:$AA5)=0,"",IFERROR(INDEX('Settings'!$E$10:$E$109,MATCH(C5,'Settings'!$A$10:$A$109,0)),0)) | T5: =IF(COUNTA($A5:$C5,$E5:$I5,$K5,$O5,$R5,$U5:$W5,$Z5:$AA5)=0,"",IFERROR(R5*S5,0)) | U5: 50 | V5: 35 | W5: 0 | X5: =IF(COUNTA($A5:$C5,$E5:$I5,$K5,$O5,$R5,$U5:$W5,$Z5:$AA5)=0,"",IFERROR(SUM(N5,Q5,T5,U5),0)) | Y5: =IF(COUNTA($A5:$C5,$E5:$I5,$K5,$O5,$R5,$U5:$W5,$Z5:$AA5)=0,"",IFERROR(X5+V5-W5,0)) | Z5: Paid | AA5: Additional pickup; lumper reimbursement | AB5: =IF(COUNTA($A5:$C5,$E5:$I5,$K5,$O5,$R5,$U5:$W5,$Z5:$AA5)=0,"",IF(OR(A5="",B5="",C5="",E5=""),"Missing required input",IF(D5="","Driver not found",IF(COUNTIF($E:$E,E5)>1,"Duplicate Trip/Load #",IF(B5>A5,"Trip after period end",IF(B5<=A5-'Settings'!$B$4,"Trip outside pay period",IF(J5<=0,"Check miles",IF(M5<=0,"Check rate",IF(Y5<0,"Negative payable","OK")))))))))
A6: 46257 | B6: 46247 | C6: DRV-002 | D6: =IF(COUNTA($A6:$C6,$E6:$I6,$K6,$O6,$R6,$U6:$W6,$Z6:$AA6)=0,"",IFERROR(INDEX('Settings'!$B$10:$B$109,MATCH(C6,'Settings'!$A$10:$A$109,0)),"")) | E6: LD-260813-AS | F6: Atlanta, GA | G6: Savannah, GA | H6: 248 | I6: 18 | J6: =IF(COUNTA($A6:$C6,$E6:$I6,$K6,$O6,$R6,$U6:$W6,$Z6:$AA6)=0,"",IFERROR(H6+I6,0)) | K6: 0.67 | L6: =IF(COUNTA($A6:$C6,$E6:$I6,$K6,$O6,$R6,$U6:$W6,$Z6:$AA6)=0,"",IFERROR(INDEX('Settings'!$D$10:$D$109,MATCH(C6,'Settings'!$A$10:$A$109,0)),0)) | M6: =IF(COUNTA($A6:$C6,$E6:$I6,$K6,$O6,$R6,$U6:$W6,$Z6:$AA6)=0,"",IFERROR(IF(K6<>"",K6,L6),0)) | N6: =IF(COUNTA($A6:$C6,$E6:$I6,$K6,$O6,$R6,$U6:$W6,$Z6:$AA6)=0,"",IFERROR(J6*M6,0)) | O6: 0 | P6: =IF(COUNTA($A6:$C6,$E6:$I6,$K6,$O6,$R6,$U6:$W6,$Z6:$AA6)=0,"",IFERROR(INDEX('Settings'!$F$10:$F$109,MATCH(C6,'Settings'!$A$10:$A$109,0)),0)) | Q6: =IF(COUNTA($A6:$C6,$E6:$I6,$K6,$O6,$R6,$U6:$W6,$Z6:$AA6)=0,"",IFERROR(O6*P6,0)) | R6: 0 | S6: =IF(COUNTA($A6:$C6,$E6:$I6,$K6,$O6,$R6,$U6:$W6,$Z6:$AA6)=0,"",IFERROR(INDEX('Settings'!$E$10:$E$109,MATCH(C6,'Settings'!$A$10:$A$109,0)),0)) | T6: =IF(COUNTA($A6:$C6,$E6:$I6,$K6,$O6,$R6,$U6:$W6,$Z6:$AA6)=0,"",IFERROR(R6*S6,0)) | U6: 0 | V6: 0 | W6: 0 | X6: =IF(COUNTA($A6:$C6,$E6:$I6,$K6,$O6,$R6,$U6:$W6,$Z6:$AA6)=0,"",IFERROR(SUM(N6,Q6,T6,U6),0)) | Y6: =IF(COUNTA($A6:$C6,$E6:$I6,$K6,$O6,$R6,$U6:$W6,$Z6:$AA6)=0,"",IFERROR(X6+V6-W6,0)) | Z6: Approved | AA6: Contract rate override | AB6: =IF(COUNTA($A6:$C6,$E6:$I6,$K6,$O6,$R6,$U6:$W6,$Z6:$AA6)=0,"",IF(OR(A6="",B6="",C6="",E6=""),"Missing required input",IF(D6="","Driver not found",IF(COUNTIF($E:$E,E6)>1,"Duplicate Trip/Load #",IF(B6>A6,"Trip after period end",IF(B6<=A6-'Settings'!$B$4,"Trip outside pay period",IF(J6<=0,"Check miles",IF(M6<=0,"Check rate",IF(Y6<0,"Negative payable","OK")))))))))
A7: 46257 | B7: 46250 | C7: DRV-003 | D7: =IF(COUNTA($A7:$C7,$E7:$I7,$K7,$O7,$R7,$U7:$W7,$Z7:$AA7)=0,"",IFERROR(INDEX('Settings'!$B$10:$B$109,MATCH(C7,'Settings'!$A$10:$A$109,0)),"")) | E7: LD-260816-CI | F7: Chicago, IL | G7: Indianapolis, IN | H7: 184 | I7: 22 | J7: =IF(COUNTA($A7:$C7,$E7:$I7,$K7,$O7,$R7,$U7:$W7,$Z7:$AA7)=0,"",IFERROR(H7+I7,0)) | L7: =IF(COUNTA($A7:$C7,$E7:$I7,$K7,$O7,$R7,$U7:$W7,$Z7:$AA7)=0,"",IFERROR(INDEX('Settings'!$D$10:$D$109,MATCH(C7,'Settings'!$A$10:$A$109,0)),0)) | M7: =IF(COUNTA($A7:$C7,$E7:$I7,$K7,$O7,$R7,$U7:$W7,$Z7:$AA7)=0,"",IFERROR(IF(K7<>"",K7,L7),0)) | N7: =IF(COUNTA($A7:$C7,$E7:$I7,$K7,$O7,$R7,$U7:$W7,$Z7:$AA7)=0,"",IFERROR(J7*M7,0)) | O7: 2 | P7: =IF(COUNTA($A7:$C7,$E7:$I7,$K7,$O7,$R7,$U7:$W7,$Z7:$AA7)=0,"",IFERROR(INDEX('Settings'!$F$10:$F$109,MATCH(C7,'Settings'!$A$10:$A$109,0)),0)) | Q7: =IF(COUNTA($A7:$C7,$E7:$I7,$K7,$O7,$R7,$U7:$W7,$Z7:$AA7)=0,"",IFERROR(O7*P7,0)) | R7: 1 | S7: =IF(COUNTA($A7:$C7,$E7:$I7,$K7,$O7,$R7,$U7:$W7,$Z7:$AA7)=0,"",IFERROR(INDEX('Settings'!$E$10:$E$109,MATCH(C7,'Settings'!$A$10:$A$109,0)),0)) | T7: =IF(COUNTA($A7:$C7,$E7:$I7,$K7,$O7,$R7,$U7:$W7,$Z7:$AA7)=0,"",IFERROR(R7*S7,0)) | U7: 0 | V7: 22.5 | W7: 15 | X7: =IF(COUNTA($A7:$C7,$E7:$I7,$K7,$O7,$R7,$U7:$W7,$Z7:$AA7)=0,"",IFERROR(SUM(N7,Q7,T7,U7),0)) | Y7: =IF(COUNTA($A7:$C7,$E7:$I7,$K7,$O7,$R7,$U7:$W7,$Z7:$AA7)=0,"",IFERROR(X7+V7-W7,0)) | Z7: Paid | AA7: Parking reimbursed; advance deducted | AB7: =IF(COUNTA($A7:$C7,$E7:$I7,$K7,$O7,$R7,$U7:$W7,$Z7:$AA7)=0,"",IF(OR(A7="",B7="",C7="",E7=""),"Missing required input",IF(D7="","Driver not found",IF(COUNTIF($E:$E,E7)>1,"Duplicate Trip/Load #",IF(B7>A7,"Trip after period end",IF(B7<=A7-'Settings'!$B$4,"Trip outside pay period",IF(J7<=0,"Check miles",IF(M7<=0,"Check rate",IF(Y7<0,"Negative payable","OK")))))))))
A8: 46257 | B8: 46253 | C8: DRV-001 | D8: =IF(COUNTA($A8:$C8,$E8:$I8,$K8,$O8,$R8,$U8:$W8,$Z8:$AA8)=0,"",IFERROR(INDEX('Settings'!$B$10:$B$109,MATCH(C8,'Settings'!$A$10:$A$109,0)),"")) | E8: LD-260819-HS | F8: Houston, TX | G8: San Antonio, TX | H8: 197 | I8: 8 | J8: =IF(COUNTA($A8:$C8,$E8:$I8,$K8,$O8,$R8,$U8:$W8,$Z8:$AA8)=0,"",IFERROR(H8+I8,0)) | L8: =IF(COUNTA($A8:$C8,$E8:$I8,$K8,$O8,$R8,$U8:$W8,$Z8:$AA8)=0,"",IFERROR(INDEX('Settings'!$D$10:$D$109,MATCH(C8,'Settings'!$A$10:$A$109,0)),0)) | M8: =IF(COUNTA($A8:$C8,$E8:$I8,$K8,$O8,$R8,$U8:$W8,$Z8:$AA8)=0,"",IFERROR(IF(K8<>"",K8,L8),0)) | N8: =IF(COUNTA($A8:$C8,$E8:$I8,$K8,$O8,$R8,$U8:$W8,$Z8:$AA8)=0,"",IFERROR(J8*M8,0)) | O8: 0.5 | P8: =IF(COUNTA($A8:$C8,$E8:$I8,$K8,$O8,$R8,$U8:$W8,$Z8:$AA8)=0,"",IFERROR(INDEX('Settings'!$F$10:$F$109,MATCH(C8,'Settings'!$A$10:$A$109,0)),0)) | Q8: =IF(COUNTA($A8:$C8,$E8:$I8,$K8,$O8,$R8,$U8:$W8,$Z8:$AA8)=0,"",IFERROR(O8*P8,0)) | R8: 0 | S8: =IF(COUNTA($A8:$C8,$E8:$I8,$K8,$O8,$R8,$U8:$W8,$Z8:$AA8)=0,"",IFERROR(INDEX('Settings'!$E$10:$E$109,MATCH(C8,'Settings'!$A$10:$A$109,0)),0)) | T8: =IF(COUNTA($A8:$C8,$E8:$I8,$K8,$O8,$R8,$U8:$W8,$Z8:$AA8)=0,"",IFERROR(R8*S8,0)) | U8: 75 | V8: 0 | W8: 0 | X8: =IF(COUNTA($A8:$C8,$E8:$I8,$K8,$O8,$R8,$U8:$W8,$Z8:$AA8)=0,"",IFERROR(SUM(N8,Q8,T8,U8),0)) | Y8: =IF(COUNTA($A8:$C8,$E8:$I8,$K8,$O8,$R8,$U8:$W8,$Z8:$AA8)=0,"",IFERROR(X8+V8-W8,0)) | Z8: Approved | AA8: Weekend premium | AB8: =IF(COUNTA($A8:$C8,$E8:$I8,$K8,$O8,$R8,$U8:$W8,$Z8:$AA8)=0,"",IF(OR(A8="",B8="",C8="",E8=""),"Missing required input",IF(D8="","Driver not found",IF(COUNTIF($E:$E,E8)>1,"Duplicate Trip/Load #",IF(B8>A8,"Trip after period end",IF(B8<=A8-'Settings'!$B$4,"Trip outside pay period",IF(J8<=0,"Check miles",IF(M8<=0,"Check rate",IF(Y8<0,"Negative payable","OK")))))))))
A9: 46257 | B9: 46256 | C9: DRV-004 | D9: =IF(COUNTA($A9:$C9,$E9:$I9,$K9,$O9,$R9,$U9:$W9,$Z9:$AA9)=0,"",IFERROR(INDEX('Settings'!$B$10:$B$109,MATCH(C9,'Settings'!$A$10:$A$109,0)),"")) | E9: LD-260822-PT | F9: Phoenix, AZ | G9: Tucson, AZ | H9: 116 | I9: 15 | J9: =IF(COUNTA($A9:$C9,$E9:$I9,$K9,$O9,$R9,$U9:$W9,$Z9:$AA9)=0,"",IFERROR(H9+I9,0)) | L9: =IF(COUNTA($A9:$C9,$E9:$I9,$K9,$O9,$R9,$U9:$W9,$Z9:$AA9)=0,"",IFERROR(INDEX('Settings'!$D$10:$D$109,MATCH(C9,'Settings'!$A$10:$A$109,0)),0)) | M9: =IF(COUNTA($A9:$C9,$E9:$I9,$K9,$O9,$R9,$U9:$W9,$Z9:$AA9)=0,"",IFERROR(IF(K9<>"",K9,L9),0)) | N9: =IF(COUNTA($A9:$C9,$E9:$I9,$K9,$O9,$R9,$U9:$W9,$Z9:$AA9)=0,"",IFERROR(J9*M9,0)) | O9: 0.75 | P9: =IF(COUNTA($A9:$C9,$E9:$I9,$K9,$O9,$R9,$U9:$W9,$Z9:$AA9)=0,"",IFERROR(INDEX('Settings'!$F$10:$F$109,MATCH(C9,'Settings'!$A$10:$A$109,0)),0)) | Q9: =IF(COUNTA($A9:$C9,$E9:$I9,$K9,$O9,$R9,$U9:$W9,$Z9:$AA9)=0,"",IFERROR(O9*P9,0)) | R9: 0 | S9: =IF(COUNTA($A9:$C9,$E9:$I9,$K9,$O9,$R9,$U9:$W9,$Z9:$AA9)=0,"",IFERROR(INDEX('Settings'!$E$10:$E$109,MATCH(C9,'Settings'!$A$10:$A$109,0)),0)) | T9: =IF(COUNTA($A9:$C9,$E9:$I9,$K9,$O9,$R9,$U9:$W9,$Z9:$AA9)=0,"",IFERROR(R9*S9,0)) | U9: 0 | V9: 18 | W9: 0 | X9: =IF(COUNTA($A9:$C9,$E9:$I9,$K9,$O9,$R9,$U9:$W9,$Z9:$AA9)=0,"",IFERROR(SUM(N9,Q9,T9,U9),0)) | Y9: =IF(COUNTA($A9:$C9,$E9:$I9,$K9,$O9,$R9,$U9:$W9,$Z9:$AA9)=0,"",IFERROR(X9+V9-W9,0)) | Z9: Paid | AA9: Scale ticket reimbursement | AB9: =IF(COUNTA($A9:$C9,$E9:$I9,$K9,$O9,$R9,$U9:$W9,$Z9:$AA9)=0,"",IF(OR(A9="",B9="",C9="",E9=""),"Missing required input",IF(D9="","Driver not found",IF(COUNTIF($E:$E,E9)>1,"Duplicate Trip/Load #",IF(B9>A9,"Trip after period end",IF(B9<=A9-'Settings'!$B$4,"Trip outside pay period",IF(J9<=0,"Check miles",IF(M9<=0,"Check rate",IF(Y9<0,"Negative payable","OK")))))))))
A10: 46271 | B10: 46259 | C10: DRV-005 | D10: =IF(COUNTA($A10:$C10,$E10:$I10,$K10,$O10,$R10,$U10:$W10,$Z10:$AA10)=0,"",IFERROR(INDEX('Settings'!$B$10:$B$109,MATCH(C10,'Settings'!$A$10:$A$109,0)),"")) | E10: LD-260825-CP | F10: Columbus, OH | G10: Pittsburgh, PA | H10: 186 | I10: 24 | J10: =IF(COUNTA($A10:$C10,$E10:$I10,$K10,$O10,$R10,$U10:$W10,$Z10:$AA10)=0,"",IFERROR(H10+I10,0)) | L10: =IF(COUNTA($A10:$C10,$E10:$I10,$K10,$O10,$R10,$U10:$W10,$Z10:$AA10)=0,"",IFERROR(INDEX('Settings'!$D$10:$D$109,MATCH(C10,'Settings'!$A$10:$A$109,0)),0)) | M10: =IF(COUNTA($A10:$C10,$E10:$I10,$K10,$O10,$R10,$U10:$W10,$Z10:$AA10)=0,"",IFERROR(IF(K10<>"",K10,L10),0)) | N10: =IF(COUNTA($A10:$C10,$E10:$I10,$K10,$O10,$R10,$U10:$W10,$Z10:$AA10)=0,"",IFERROR(J10*M10,0)) | O10: 1.25 | P10: =IF(COUNTA($A10:$C10,$E10:$I10,$K10,$O10,$R10,$U10:$W10,$Z10:$AA10)=0,"",IFERROR(INDEX('Settings'!$F$10:$F$109,MATCH(C10,'Settings'!$A$10:$A$109,0)),0)) | Q10: =IF(COUNTA($A10:$C10,$E10:$I10,$K10,$O10,$R10,$U10:$W10,$Z10:$AA10)=0,"",IFERROR(O10*P10,0)) | R10: 1 | S10: =IF(COUNTA($A10:$C10,$E10:$I10,$K10,$O10,$R10,$U10:$W10,$Z10:$AA10)=0,"",IFERROR(INDEX('Settings'!$E$10:$E$109,MATCH(C10,'Settings'!$A$10:$A$109,0)),0)) | T10: =IF(COUNTA($A10:$C10,$E10:$I10,$K10,$O10,$R10,$U10:$W10,$Z10:$AA10)=0,"",IFERROR(R10*S10,0)) | U10: 0 | V10: 28 | W10: 0 | X10: =IF(COUNTA($A10:$C10,$E10:$I10,$K10,$O10,$R10,$U10:$W10,$Z10:$AA10)=0,"",IFERROR(SUM(N10,Q10,T10,U10),0)) | Y10: =IF(COUNTA($A10:$C10,$E10:$I10,$K10,$O10,$R10,$U10:$W10,$Z10:$AA10)=0,"",IFERROR(X10+V10-W10,0)) | Z10: Approved | AA10: Tolls reimbursed | AB10: =IF(COUNTA($A10:$C10,$E10:$I10,$K10,$O10,$R10,$U10:$W10,$Z10:$AA10)=0,"",IF(OR(A10="",B10="",C10="",E10=""),"Missing required input",IF(D10="","Driver not found",IF(COUNTIF($E:$E,E10)>1,"Duplicate Trip/Load #",IF(B10>A10,"Trip after period end",IF(B10<=A10-'Settings'!$B$4,"Trip outside pay period",IF(J10<=0,"Check miles",IF(M10<=0,"Check rate",IF(Y10<0,"Negative payable","OK")))))))))
A11: 46271 | B11: 46262 | C11: DRV-002 | D11: =IF(COUNTA($A11:$C11,$E11:$I11,$K11,$O11,$R11,$U11:$W11,$Z11:$AA11)=0,"",IFERROR(INDEX('Settings'!$B$10:$B$109,MATCH(C11,'Settings'!$A$10:$A$109,0)),"")) | E11: LD-260828-JO | F11: Jacksonville, FL | G11: Orlando, FL | H11: 141 | I11: 10 | J11: =IF(COUNTA($A11:$C11,$E11:$I11,$K11,$O11,$R11,$U11:$W11,$Z11:$AA11)=0,"",IFERROR(H11+I11,0)) | K11: 0.66 | L11: =IF(COUNTA($A11:$C11,$E11:$I11,$K11,$O11,$R11,$U11:$W11,$Z11:$AA11)=0,"",IFERROR(INDEX('Settings'!$D$10:$D$109,MATCH(C11,'Settings'!$A$10:$A$109,0)),0)) | M11: =IF(COUNTA($A11:$C11,$E11:$I11,$K11,$O11,$R11,$U11:$W11,$Z11:$AA11)=0,"",IFERROR(IF(K11<>"",K11,L11),0)) | N11: =IF(COUNTA($A11:$C11,$E11:$I11,$K11,$O11,$R11,$U11:$W11,$Z11:$AA11)=0,"",IFERROR(J11*M11,0)) | O11: 0 | P11: =IF(COUNTA($A11:$C11,$E11:$I11,$K11,$O11,$R11,$U11:$W11,$Z11:$AA11)=0,"",IFERROR(INDEX('Settings'!$F$10:$F$109,MATCH(C11,'Settings'!$A$10:$A$109,0)),0)) | Q11: =IF(COUNTA($A11:$C11,$E11:$I11,$K11,$O11,$R11,$U11:$W11,$Z11:$AA11)=0,"",IFERROR(O11*P11,0)) | R11: 2 | S11: =IF(COUNTA($A11:$C11,$E11:$I11,$K11,$O11,$R11,$U11:$W11,$Z11:$AA11)=0,"",IFERROR(INDEX('Settings'!$E$10:$E$109,MATCH(C11,'Settings'!$A$10:$A$109,0)),0)) | T11: =IF(COUNTA($A11:$C11,$E11:$I11,$K11,$O11,$R11,$U11:$W11,$Z11:$AA11)=0,"",IFERROR(R11*S11,0)) | U11: 40 | V11: 0 | W11: 0 | X11: =IF(COUNTA($A11:$C11,$E11:$I11,$K11,$O11,$R11,$U11:$W11,$Z11:$AA11)=0,"",IFERROR(SUM(N11,Q11,T11,U11),0)) | Y11: =IF(COUNTA($A11:$C11,$E11:$I11,$K11,$O11,$R11,$U11:$W11,$Z11:$AA11)=0,"",IFERROR(X11+V11-W11,0)) | Z11: Paid | AA11: Two additional deliveries | AB11: =IF(COUNTA($A11:$C11,$E11:$I11,$K11,$O11,$R11,$U11:$W11,$Z11:$AA11)=0,"",IF(OR(A11="",B11="",C11="",E11=""),"Missing required input",IF(D11="","Driver not found",IF(COUNTIF($E:$E,E11)>1,"Duplicate Trip/Load #",IF(B11>A11,"Trip after period end",IF(B11<=A11-'Settings'!$B$4,"Trip outside pay period",IF(J11<=0,"Check miles",IF(M11<=0,"Check rate",IF(Y11<0,"Negative payable","OK")))))))))
A12: 46271 | B12: 46266 | C12: DRV-003 | D12: =IF(COUNTA($A12:$C12,$E12:$I12,$K12,$O12,$R12,$U12:$W12,$Z12:$AA12)=0,"",IFERROR(INDEX('Settings'!$B$10:$B$109,MATCH(C12,'Settings'!$A$10:$A$109,0)),"")) | E12: LD-260901-MG | F12: Milwaukee, WI | G12: Grand Rapids, MI | H12: 277 | I12: 31 | J12: =IF(COUNTA($A12:$C12,$E12:$I12,$K12,$O12,$R12,$U12:$W12,$Z12:$AA12)=0,"",IFERROR(H12+I12,0)) | L12: =IF(COUNTA($A12:$C12,$E12:$I12,$K12,$O12,$R12,$U12:$W12,$Z12:$AA12)=0,"",IFERROR(INDEX('Settings'!$D$10:$D$109,MATCH(C12,'Settings'!$A$10:$A$109,0)),0)) | M12: =IF(COUNTA($A12:$C12,$E12:$I12,$K12,$O12,$R12,$U12:$W12,$Z12:$AA12)=0,"",IFERROR(IF(K12<>"",K12,L12),0)) | N12: =IF(COUNTA($A12:$C12,$E12:$I12,$K12,$O12,$R12,$U12:$W12,$Z12:$AA12)=0,"",IFERROR(J12*M12,0)) | O12: 1.25 | P12: =IF(COUNTA($A12:$C12,$E12:$I12,$K12,$O12,$R12,$U12:$W12,$Z12:$AA12)=0,"",IFERROR(INDEX('Settings'!$F$10:$F$109,MATCH(C12,'Settings'!$A$10:$A$109,0)),0)) | Q12: =IF(COUNTA($A12:$C12,$E12:$I12,$K12,$O12,$R12,$U12:$W12,$Z12:$AA12)=0,"",IFERROR(O12*P12,0)) | R12: 0 | S12: =IF(COUNTA($A12:$C12,$E12:$I12,$K12,$O12,$R12,$U12:$W12,$Z12:$AA12)=0,"",IFERROR(INDEX('Settings'!$E$10:$E$109,MATCH(C12,'Settings'!$A$10:$A$109,0)),0)) | T12: =IF(COUNTA($A12:$C12,$E12:$I12,$K12,$O12,$R12,$U12:$W12,$Z12:$AA12)=0,"",IFERROR(R12*S12,0)) | U12: 0 | V12: 24 | W12: 0 | X12: =IF(COUNTA($A12:$C12,$E12:$I12,$K12,$O12,$R12,$U12:$W12,$Z12:$AA12)=0,"",IFERROR(SUM(N12,Q12,T12,U12),0)) | Y12: =IF(COUNTA($A12:$C12,$E12:$I12,$K12,$O12,$R12,$U12:$W12,$Z12:$AA12)=0,"",IFERROR(X12+V12-W12,0)) | Z12: Approved | AA12: Parking reimbursed | AB12: =IF(COUNTA($A12:$C12,$E12:$I12,$K12,$O12,$R12,$U12:$W12,$Z12:$AA12)=0,"",IF(OR(A12="",B12="",C12="",E12=""),"Missing required input",IF(D12="","Driver not found",IF(COUNTIF($E:$E,E12)>1,"Duplicate Trip/Load #",IF(B12>A12,"Trip after period end",IF(B12<=A12-'Settings'!$B$4,"Trip outside pay period",IF(J12<=0,"Check miles",IF(M12<=0,"Check rate",IF(Y12<0,"Negative payable","OK")))))))))
A13: 46271 | B13: 46268 | C13: DRV-004 | D13: =IF(COUNTA($A13:$C13,$E13:$I13,$K13,$O13,$R13,$U13:$W13,$Z13:$AA13)=0,"",IFERROR(INDEX('Settings'!$B$10:$B$109,MATCH(C13,'Settings'!$A$10:$A$109,0)),"")) | E13: LD-260903-LA | F13: Las Vegas, NV | G13: Los Angeles, CA | H13: 270 | I13: 19 | J13: =IF(COUNTA($A13:$C13,$E13:$I13,$K13,$O13,$R13,$U13:$W13,$Z13:$AA13)=0,"",IFERROR(H13+I13,0)) | L13: =IF(COUNTA($A13:$C13,$E13:$I13,$K13,$O13,$R13,$U13:$W13,$Z13:$AA13)=0,"",IFERROR(INDEX('Settings'!$D$10:$D$109,MATCH(C13,'Settings'!$A$10:$A$109,0)),0)) | M13: =IF(COUNTA($A13:$C13,$E13:$I13,$K13,$O13,$R13,$U13:$W13,$Z13:$AA13)=0,"",IFERROR(IF(K13<>"",K13,L13),0)) | N13: =IF(COUNTA($A13:$C13,$E13:$I13,$K13,$O13,$R13,$U13:$W13,$Z13:$AA13)=0,"",IFERROR(J13*M13,0)) | O13: 0.5 | P13: =IF(COUNTA($A13:$C13,$E13:$I13,$K13,$O13,$R13,$U13:$W13,$Z13:$AA13)=0,"",IFERROR(INDEX('Settings'!$F$10:$F$109,MATCH(C13,'Settings'!$A$10:$A$109,0)),0)) | Q13: =IF(COUNTA($A13:$C13,$E13:$I13,$K13,$O13,$R13,$U13:$W13,$Z13:$AA13)=0,"",IFERROR(O13*P13,0)) | R13: 2 | S13: =IF(COUNTA($A13:$C13,$E13:$I13,$K13,$O13,$R13,$U13:$W13,$Z13:$AA13)=0,"",IFERROR(INDEX('Settings'!$E$10:$E$109,MATCH(C13,'Settings'!$A$10:$A$109,0)),0)) | T13: =IF(COUNTA($A13:$C13,$E13:$I13,$K13,$O13,$R13,$U13:$W13,$Z13:$AA13)=0,"",IFERROR(R13*S13,0)) | U13: 40 | V13: 0 | W13: 20 | X13: =IF(COUNTA($A13:$C13,$E13:$I13,$K13,$O13,$R13,$U13:$W13,$Z13:$AA13)=0,"",IFERROR(SUM(N13,Q13,T13,U13),0)) | Y13: =IF(COUNTA($A13:$C13,$E13:$I13,$K13,$O13,$R13,$U13:$W13,$Z13:$AA13)=0,"",IFERROR(X13+V13-W13,0)) | Z13: Open | AA13: Advance deduction | AB13: =IF(COUNTA($A13:$C13,$E13:$I13,$K13,$O13,$R13,$U13:$W13,$Z13:$AA13)=0,"",IF(OR(A13="",B13="",C13="",E13=""),"Missing required input",IF(D13="","Driver not found",IF(COUNTIF($E:$E,E13)>1,"Duplicate Trip/Load #",IF(B13>A13,"Trip after period end",IF(B13<=A13-'Settings'!$B$4,"Trip outside pay period",IF(J13<=0,"Check miles",IF(M13<=0,"Check rate",IF(Y13<0,"Negative payable","OK")))))))))
D14: =IF(COUNTA($A14:$C14,$E14:$I14,$K14,$O14,$R14,$U14:$W14,$Z14:$AA14)=0,"",IFERROR(INDEX('Settings'!$B$10:$B$109,MATCH(C14,'Settings'!$A$10:$A$109,0)),"")) | J14: =IF(COUNTA($A14:$C14,$E14:$I14,$K14,$O14,$R14,$U14:$W14,$Z14:$AA14)=0,"",IFERROR(H14+I14,0)) | L14: =IF(COUNTA($A14:$C14,$E14:$I14,$K14,$O14,$R14,$U14:$W14,$Z14:$AA14)=0,"",IFERROR(INDEX('Settings'!$D$10:$D$109,MATCH(C14,'Settings'!$A$10:$A$109,0)),0)) | M14: =IF(COUNTA($A14:$C14,$E14:$I14,$K14,$O14,$R14,$U14:$W14,$Z14:$AA14)=0,"",IFERROR(IF(K14<>"",K14,L14),0)) | N14: =IF(COUNTA($A14:$C14,$E14:$I14,$K14,$O14,$R14,$U14:$W14,$Z14:$AA14)=0,"",IFERROR(J14*M14,0)) | P14: =IF(COUNTA($A14:$C14,$E14:$I14,$K14,$O14,$R14,$U14:$W14,$Z14:$AA14)=0,"",IFERROR(INDEX('Settings'!$F$10:$F$109,MATCH(C14,'Settings'!$A$10:$A$109,0)),0)) | Q14: =IF(COUNTA($A14:$C14,$E14:$I14,$K14,$O14,$R14,$U14:$W14,$Z14:$AA14)=0,"",IFERROR(O14*P14,0)) | S14: =IF(COUNTA($A14:$C14,$E14:$I14,$K14,$O14,$R14,$U14:$W14,$Z14:$AA14)=0,"",IFERROR(INDEX('Settings'!$E$10:$E$109,MATCH(C14,'Settings'!$A$10:$A$109,0)),0)) | T14: =IF(COUNTA($A14:$C14,$E14:$I14,$K14,$O14,$R14,$U14:$W14,$Z14:$AA14)=0,"",IFERROR(R14*S14,0)) | X14: =IF(COUNTA($A14:$C14,$E14:$I14,$K14,$O14,$R14,$U14:$W14,$Z14:$AA14)=0,"",IFERROR(SUM(N14,Q14,T14,U14),0)) | Y14: =IF(COUNTA($A14:$C14,$E14:$I14,$K14,$O14,$R14,$U14:$W14,$Z14:$AA14)=0,"",IFERROR(X14+V14-W14,0)) | AB14: =IF(COUNTA($A14:$C14,$E14:$I14,$K14,$O14,$R14,$U14:$W14,$Z14:$AA14)=0,"",IF(OR(A14="",B14="",C14="",E14=""),"Missing required input",IF(D14="","Driver not found",IF(COUNTIF($E:$E,E14)>1,"Duplicate Trip/Load #",IF(B14>A14,"Trip after period end",IF(B14<=A14-'Settings'!$B$4,"Trip outside pay period",IF(J14<=0,"Check miles",IF(M14<=0,"Check rate",IF(Y14<0,"Negative payable","OK")))))))))
D15: =IF(COUNTA($A15:$C15,$E15:$I15,$K15,$O15,$R15,$U15:$W15,$Z15:$AA15)=0,"",IFERROR(INDEX('Settings'!$B$10:$B$109,MATCH(C15,'Settings'!$A$10:$A$109,0)),"")) | J15: =IF(COUNTA($A15:$C15,$E15:$I15,$K15,$O15,$R15,$U15:$W15,$Z15:$AA15)=0,"",IFERROR(H15+I15,0)) | L15: =IF(COUNTA($A15:$C15,$E15:$I15,$K15,$O15,$R15,$U15:$W15,$Z15:$AA15)=0,"",IFERROR(INDEX('Settings'!$D$10:$D$109,MATCH(C15,'Settings'!$A$10:$A$109,0)),0)) | M15: =IF(COUNTA($A15:$C15,$E15:$I15,$K15,$O15,$R15,$U15:$W15,$Z15:$AA15)=0,"",IFERROR(IF(K15<>"",K15,L15),0)) | N15: =IF(COUNTA($A15:$C15,$E15:$I15,$K15,$O15,$R15,$U15:$W15,$Z15:$AA15)=0,"",IFERROR(J15*M15,0)) | P15: =IF(COUNTA($A15:$C15,$E15:$I15,$K15,$O15,$R15,$U15:$W15,$Z15:$AA15)=0,"",IFERROR(INDEX('Settings'!$F$10:$F$109,MATCH(C15,'Settings'!$A$10:$A$109,0)),0)) | Q15: =IF(COUNTA($A15:$C15,$E15:$I15,$K15,$O15,$R15,$U15:$W15,$Z15:$AA15)=0,"",IFERROR(O15*P15,0)) | S15: =IF(COUNTA($A15:$C15,$E15:$I15,$K15,$O15,$R15,$U15:$W15,$Z15:$AA15)=0,"",IFERROR(INDEX('Settings'!$E$10:$E$109,MATCH(C15,'Settings'!$A$10:$A$109,0)),0)) | T15: =IF(COUNTA($A15:$C15,$E15:$I15,$K15,$O15,$R15,$U15:$W15,$Z15:$AA15)=0,"",IFERROR(R15*S15,0)) | X15: =IF(COUNTA($A15:$C15,$E15:$I15,$K15,$O15,$R15,$U15:$W15,$Z15:$AA15)=0,"",IFERROR(SUM(N15,Q15,T15,U15),0)) | Y15: =IF(COUNTA($A15:$C15,$E15:$I15,$K15,$O15,$R15,$U15:$W15,$Z15:$AA15)=0,"",IFERROR(X15+V15-W15,0)) | AB15: =IF(COUNTA($A15:$C15,$E15:$I15,$K15,$O15,$R15,$U15:$W15,$Z15:$AA15)=0,"",IF(OR(A15="",B15="",C15="",E15=""),"Missing required input",IF(D15="","Driver not found",IF(COUNTIF($E:$E,E15)>1,"Duplicate Trip/Load #",IF(B15>A15,"Trip after period end",IF(B15<=A15-'Settings'!$B$4,"Trip outside pay period",IF(J15<=0,"Check miles",IF(M15<=0,"Check rate",IF(Y15<0,"Negative payable","OK")))))))))
D16: =IF(COUNTA($A16:$C16,$E16:$I16,$K16,$O16,$R16,$U16:$W16,$Z16:$AA16)=0,"",IFERROR(INDEX('Settings'!$B$10:$B$109,MATCH(C16,'Settings'!$A$10:$A$109,0)),"")) | J16: =IF(COUNTA($A16:$C16,$E16:$I16,$K16,$O16,$R16,$U16:$W16,$Z16:$AA16)=0,"",IFERROR(H16+I16,0)) | L16: =IF(COUNTA($A16:$C16,$E16:$I16,$K16,$O16,$R16,$U16:$W16,$Z16:$AA16)=0,"",IFERROR(INDEX('Settings'!$D$10:$D$109,MATCH(C16,'Settings'!$A$10:$A$109,0)),0)) | M16: =IF(COUNTA($A16:$C16,$E16:$I16,$K16,$O16,$R16,$U16:$W16,$Z16:$AA16)=0,"",IFERROR(IF(K16<>"",K16,L16),0)) | N16: =IF(COUNTA($A16:$C16,$E16:$I16,$K16,$O16,$R16,$U16:$W16,$Z16:$AA16)=0,"",IFERROR(J16*M16,0)) | P16: =IF(COUNTA($A16:$C16,$E16:$I16,$K16,$O16,$R16,$U16:$W16,$Z16:$AA16)=0,"",IFERROR(INDEX('Settings'!$F$10:$F$109,MATCH(C16,'Settings'!$A$10:$A$109,0)),0)) | Q16: =IF(COUNTA($A16:$C16,$E16:$I16,$K16,$O16,$R16,$U16:$W16,$Z16:$AA16)=0,"",IFERROR(O16*P16,0)) | S16: =IF(COUNTA($A16:$C16,$E16:$I16,$K16,$O16,$R16,$U16:$W16,$Z16:$AA16)=0,"",IFERROR(INDEX('Settings'!$E$10:$E$109,MATCH(C16,'Settings'!$A$10:$A$109,0)),0)) | T16: =IF(COUNTA($A16:$C16,$E16:$I16,$K16,$O16,$R16,$U16:$W16,$Z16:$AA16)=0,"",IFERROR(R16*S16,0)) | X16: =IF(COUNTA($A16:$C16,$E16:$I16,$K16,$O16,$R16,$U16:$W16,$Z16:$AA16)=0,"",IFERROR(SUM(N16,Q16,T16,U16),0)) | Y16: =IF(COUNTA($A16:$C16,$E16:$I16,$K16,$O16,$R16,$U16:$W16,$Z16:$AA16)=0,"",IFERROR(X16+V16-W16,0)) | AB16: =IF(COUNTA($A16:$C16,$E16:$I16,$K16,$O16,$R16,$U16:$W16,$Z16:$AA16)=0,"",IF(OR(A16="",B16="",C16="",E16=""),"Missing required input",IF(D16="","Driver not found",IF(COUNTIF($E:$E,E16)>1,"Duplicate Trip/Load #",IF(B16>A16,"Trip after period end",IF(B16<=A16-'Settings'!$B$4,"Trip outside pay period",IF(J16<=0,"Check miles",IF(M16<=0,"Check rate",IF(Y16<0,"Negative payable","OK")))))))))
D17: =IF(COUNTA($A17:$C17,$E17:$I17,$K17,$O17,$R17,$U17:$W17,$Z17:$AA17)=0,"",IFERROR(INDEX('Settings'!$B$10:$B$109,MATCH(C17,'Settings'!$A$10:$A$109,0)),"")) | J17: =IF(COUNTA($A17:$C17,$E17:$I17,$K17,$O17,$R17,$U17:$W17,$Z17:$AA17)=0,"",IFERROR(H17+I17,0)) | L17: =IF(COUNTA($A17:$C17,$E17:$I17,$K17,$O17,$R17,$U17:$W17,$Z17:$AA17)=0,"",IFERROR(INDEX('Settings'!$D$10:$D$109,MATCH(C17,'Settings'!$A$10:$A$109,0)),0)) | M17: =IF(COUNTA($A17:$C17,$E17:$I17,$K17,$O17,$R17,$U17:$W17,$Z17:$AA17)=0,"",IFERROR(IF(K17<>"",K17,L17),0)) | N17: =IF(COUNTA($A17:$C17,$E17:$I17,$K17,$O17,$R17,$U17:$W17,$Z17:$AA17)=0,"",IFERROR(J17*M17,0)) | P17: =IF(COUNTA($A17:$C17,$E17:$I17,$K17,$O17,$R17,$U17:$W17,$Z17:$AA17)=0,"",IFERROR(INDEX('Settings'!$F$10:$F$109,MATCH(C17,'Settings'!$A$10:$A$109,0)),0)) | Q17: =IF(COUNTA($A17:$C17,$E17:$I17,$K17,$O17,$R17,$U17:$W17,$Z17:$AA17)=0,"",IFERROR(O17*P17,0)) | S17: =IF(COUNTA($A17:$C17,$E17:$I17,$K17,$O17,$R17,$U17:$W17,$Z17:$AA17)=0,"",IFERROR(INDEX('Settings'!$E$10:$E$109,MATCH(C17,'Settings'!$A$10:$A$109,0)),0)) | T17: =IF(COUNTA($A17:$C17,$E17:$I17,$K17,$O17,$R17,$U17:$W17,$Z17:$AA17)=0,"",IFERROR(R17*S17,0)) | X17: =IF(COUNTA($A17:$C17,$E17:$I17,$K17,$O17,$R17,$U17:$W17,$Z17:$AA17)=0,"",IFERROR(SUM(N17,Q17,T17,U17),0)) | Y17: =IF(COUNTA($A17:$C17,$E17:$I17,$K17,$O17,$R17,$U17:$W17,$Z17:$AA17)=0,"",IFERROR(X17+V17-W17,0)) | AB17: =IF(COUNTA($A17:$C17,$E17:$I17,$K17,$O17,$R17,$U17:$W17,$Z17:$AA17)=0,"",IF(OR(A17="",B17="",C17="",E17=""),"Missing required input",IF(D17="","Driver not found",IF(COUNTIF($E:$E,E17)>1,"Duplicate Trip/Load #",IF(B17>A17,"Trip after period end",IF(B17<=A17-'Settings'!$B$4,"Trip outside pay period",IF(J17<=0,"Check miles",IF(M17<=0,"Check rate",IF(Y17<0,"Negative payable","OK")))))))))
D18: =IF(COUNTA($A18:$C18,$E18:$I18,$K18,$O18,$R18,$U18:$W18,$Z18:$AA18)=0,"",IFERROR(INDEX('Settings'!$B$10:$B$109,MATCH(C18,'Settings'!$A$10:$A$109,0)),"")) | J18: =IF(COUNTA($A18:$C18,$E18:$I18,$K18,$O18,$R18,$U18:$W18,$Z18:$AA18)=0,"",IFERROR(H18+I18,0)) | L18: =IF(COUNTA($A18:$C18,$E18:$I18,$K18,$O18,$R18,$U18:$W18,$Z18:$AA18)=0,"",IFERROR(INDEX('Settings'!$D$10:$D$109,MATCH(C18,'Settings'!$A$10:$A$109,0)),0)) | M18: =IF(COUNTA($A18:$C18,$E18:$I18,$K18,$O18,$R18,$U18:$W18,$Z18:$AA18)=0,"",IFERROR(IF(K18<>"",K18,L18),0)) | N18: =IF(COUNTA($A18:$C18,$E18:$I18,$K18,$O18,$R18,$U18:$W18,$Z18:$AA18)=0,"",IFERROR(J18*M18,0)) | P18: =IF(COUNTA($A18:$C18,$E18:$I18,$K18,$O18,$R18,$U18:$W18,$Z18:$AA18)=0,"",IFERROR(INDEX('Settings'!$F$10:$F$109,MATCH(C18,'Settings'!$A$10:$A$109,0)),0)) | Q18: =IF(COUNTA($A18:$C18,$E18:$I18,$K18,$O18,$R18,$U18:$W18,$Z18:$AA18)=0,"",IFERROR(O18*P18,0)) | S18: =IF(COUNTA($A18:$C18,$E18:$I18,$K18,$O18,$R18,$U18:$W18,$Z18:$AA18)=0,"",IFERROR(INDEX('Settings'!$E$10:$E$109,MATCH(C18,'Settings'!$A$10:$A$109,0)),0)) | T18: =IF(COUNTA($A18:$C18,$E18:$I18,$K18,$O18,$R18,$U18:$W18,$Z18:$AA18)=0,"",IFERROR(R18*S18,0)) | X18: =IF(COUNTA($A18:$C18,$E18:$I18,$K18,$O18,$R18,$U18:$W18,$Z18:$AA18)=0,"",IFERROR(SUM(N18,Q18,T18,U18),0)) | Y18: =IF(COUNTA($A18:$C18,$E18:$I18,$K18,$O18,$R18,$U18:$W18,$Z18:$AA18)=0,"",IFERROR(X18+V18-W18,0)) | AB18: =IF(COUNTA($A18:$C18,$E18:$I18,$K18,$O18,$R18,$U18:$W18,$Z18:$AA18)=0,"",IF(OR(A18="",B18="",C18="",E18=""),"Missing required input",IF(D18="","Driver not found",IF(COUNTIF($E:$E,E18)>1,"Duplicate Trip/Load #",IF(B18>A18,"Trip after period end",IF(B18<=A18-'Settings'!$B$4,"Trip outside pay period",IF(J18<=0,"Check miles",IF(M18<=0,"Check rate",IF(Y18<0,"Negative payable","OK")))))))))
D19: =IF(COUNTA($A19:$C19,$E19:$I19,$K19,$O19,$R19,$U19:$W19,$Z19:$AA19)=0,"",IFERROR(INDEX('Settings'!$B$10:$B$109,MATCH(C19,'Settings'!$A$10:$A$109,0)),"")) | J19: =IF(COUNTA($A19:$C19,$E19:$I19,$K19,$O19,$R19,$U19:$W19,$Z19:$AA19)=0,"",IFERROR(H19+I19,0)) | L19: =IF(COUNTA($A19:$C19,$E19:$I19,$K19,$O19,$R19,$U19:$W19,$Z19:$AA19)=0,"",IFERROR(INDEX('Settings'!$D$10:$D$109,MATCH(C19,'Settings'!$A$10:$A$109,0)),0)) | M19: =IF(COUNTA($A19:$C19,$E19:$I19,$K19,$O19,$R19,$U19:$W19,$Z19:$AA19)=0,"",IFERROR(IF(K19<>"",K19,L19),0)) | N19: =IF(COUNTA($A19:$C19,$E19:$I19,$K19,$O19,$R19,$U19:$W19,$Z19:$AA19)=0,"",IFERROR(J19*M19,0)) | P19: =IF(COUNTA($A19:$C19,$E19:$I19,$K19,$O19,$R19,$U19:$W19,$Z19:$AA19)=0,"",IFERROR(INDEX('Settings'!$F$10:$F$109,MATCH(C19,'Settings'!$A$10:$A$109,0)),0)) | Q19: =IF(COUNTA($A19:$C19,$E19:$I19,$K19,$O19,$R19,$U19:$W19,$Z19:$AA19)=0,"",IFERROR(O19*P19,0)) | S19: =IF(COUNTA($A19:$C19,$E19:$I19,$K19,$O19,$R19,$U19:$W19,$Z19:$AA19)=0,"",IFERROR(INDEX('Settings'!$E$10:$E$109,MATCH(C19,'Settings'!$A$10:$A$109,0)),0)) | T19: =IF(COUNTA($A19:$C19,$E19:$I19,$K19,$O19,$R19,$U19:$W19,$Z19:$AA19)=0,"",IFERROR(R19*S19,0)) | X19: =IF(COUNTA($A19:$C19,$E19:$I19,$K19,$O19,$R19,$U19:$W19,$Z19:$AA19)=0,"",IFERROR(SUM(N19,Q19,T19,U19),0)) | Y19: =IF(COUNTA($A19:$C19,$E19:$I19,$K19,$O19,$R19,$U19:$W19,$Z19:$AA19)=0,"",IFERROR(X19+V19-W19,0)) | AB19: =IF(COUNTA($A19:$C19,$E19:$I19,$K19,$O19,$R19,$U19:$W19,$Z19:$AA19)=0,"",IF(OR(A19="",B19="",C19="",E19=""),"Missing required input",IF(D19="","Driver not found",IF(COUNTIF($E:$E,E19)>1,"Duplicate Trip/Load #",IF(B19>A19,"Trip after period end",IF(B19<=A19-'Settings'!$B$4,"Trip outside pay period",IF(J19<=0,"Check miles",IF(M19<=0,"Check rate",IF(Y19<0,"Negative payable","OK")))))))))
D20: =IF(COUNTA($A20:$C20,$E20:$I20,$K20,$O20,$R20,$U20:$W20,$Z20:$AA20)=0,"",IFERROR(INDEX('Settings'!$B$10:$B$109,MATCH(C20,'Settings'!$A$10:$A$109,0)),"")) | J20: =IF(COUNTA($A20:$C20,$E20:$I20,$K20,$O20,$R20,$U20:$W20,$Z20:$AA20)=0,"",IFERROR(H20+I20,0)) | L20: =IF(COUNTA($A20:$C20,$E20:$I20,$K20,$O20,$R20,$U20:$W20,$Z20:$AA20)=0,"",IFERROR(INDEX('Settings'!$D$10:$D$109,MATCH(C20,'Settings'!$A$10:$A$109,0)),0)) | M20: =IF(COUNTA($A20:$C20,$E20:$I20,$K20,$O20,$R20,$U20:$W20,$Z20:$AA20)=0,"",IFERROR(IF(K20<>"",K20,L20),0)) | N20: =IF(COUNTA($A20:$C20,$E20:$I20,$K20,$O20,$R20,$U20:$W20,$Z20:$AA20)=0,"",IFERROR(J20*M20,0)) | P20: =IF(COUNTA($A20:$C20,$E20:$I20,$K20,$O20,$R20,$U20:$W20,$Z20:$AA20)=0,"",IFERROR(INDEX('Settings'!$F$10:$F$109,MATCH(C20,'Settings'!$A$10:$A$109,0)),0)) | Q20: =IF(COUNTA($A20:$C20,$E20:$I20,$K20,$O20,$R20,$U20:$W20,$Z20:$AA20)=0,"",IFERROR(O20*P20,0)) | S20: =IF(COUNTA($A20:$C20,$E20:$I20,$K20,$O20,$R20,$U20:$W20,$Z20:$AA20)=0,"",IFERROR(INDEX('Settings'!$E$10:$E$109,MATCH(C20,'Settings'!$A$10:$A$109,0)),0)) | T20: =IF(COUNTA($A20:$C20,$E20:$I20,$K20,$O20,$R20,$U20:$W20,$Z20:$AA20)=0,"",IFERROR(R20*S20,0)) | X20: =IF(COUNTA($A20:$C20,$E20:$I20,$K20,$O20,$R20,$U20:$W20,$Z20:$AA20)=0,"",IFERROR(SUM(N20,Q20,T20,U20),0)) | Y20: =IF(COUNTA($A20:$C20,$E20:$I20,$K20,$O20,$R20,$U20:$W20,$Z20:$AA20)=0,"",IFERROR(X20+V20-W20,0)) | AB20: =IF(COUNTA($A20:$C20,$E20:$I20,$K20,$O20,$R20,$U20:$W20,$Z20:$AA20)=0,"",IF(OR(A20="",B20="",C20="",E20=""),"Missing required input",IF(D20="","Driver not found",IF(COUNTIF($E:$E,E20)>1,"Duplicate Trip/Load #",IF(B20>A20,"Trip after period end",IF(B20<=A20-'Settings'!$B$4,"Trip outside pay period",IF(J20<=0,"Check miles",IF(M20<=0,"Check rate",IF(Y20<0,"Negative payable","OK")))))))))
D21: =IF(COUNTA($A21:$C21,$E21:$I21,$K21,$O21,$R21,$U21:$W21,$Z21:$AA21)=0,"",IFERROR(INDEX('Settings'!$B$10:$B$109,MATCH(C21,'Settings'!$A$10:$A$109,0)),"")) | J21: =IF(COUNTA($A21:$C21,$E21:$I21,$K21,$O21,$R21,$U21:$W21,$Z21:$AA21)=0,"",IFERROR(H21+I21,0)) | L21: =IF(COUNTA($A21:$C21,$E21:$I21,$K21,$O21,$R21,$U21:$W21,$Z21:$AA21)=0,"",IFERROR(INDEX('Settings'!$D$10:$D$109,MATCH(C21,'Settings'!$A$10:$A$109,0)),0)) | M21: =IF(COUNTA($A21:$C21,$E21:$I21,$K21,$O21,$R21,$U21:$W21,$Z21:$AA21)=0,"",IFERROR(IF(K21<>"",K21,L21),0)) | N21: =IF(COUNTA($A21:$C21,$E21:$I21,$K21,$O21,$R21,$U21:$W21,$Z21:$AA21)=0,"",IFERROR(J21*M21,0)) | P21: =IF(COUNTA($A21:$C21,$E21:$I21,$K21,$O21,$R21,$U21:$W21,$Z21:$AA21)=0,"",IFERROR(INDEX('Settings'!$F$10:$F$109,MATCH(C21,'Settings'!$A$10:$A$109,0)),0)) | Q21: =IF(COUNTA($A21:$C21,$E21:$I21,$K21,$O21,$R21,$U21:$W21,$Z21:$AA21)=0,"",IFERROR(O21*P21,0)) | S21: =IF(COUNTA($A21:$C21,$E21:$I21,$K21,$O21,$R21,$U21:$W21,$Z21:$AA21)=0,"",IFERROR(INDEX('Settings'!$E$10:$E$109,MATCH(C21,'Settings'!$A$10:$A$109,0)),0)) | T21: =IF(COUNTA($A21:$C21,$E21:$I21,$K21,$O21,$R21,$U21:$W21,$Z21:$AA21)=0,"",IFERROR(R21*S21,0)) | X21: =IF(COUNTA($A21:$C21,$E21:$I21,$K21,$O21,$R21,$U21:$W21,$Z21:$AA21)=0,"",IFERROR(SUM(N21,Q21,T21,U21),0)) | Y21: =IF(COUNTA($A21:$C21,$E21:$I21,$K21,$O21,$R21,$U21:$W21,$Z21:$AA21)=0,"",IFERROR(X21+V21-W21,0)) | AB21: =IF(COUNTA($A21:$C21,$E21:$I21,$K21,$O21,$R21,$U21:$W21,$Z21:$AA21)=0,"",IF(OR(A21="",B21="",C21="",E21=""),"Missing required input",IF(D21="","Driver not found",IF(COUNTIF($E:$E,E21)>1,"Duplicate Trip/Load #",IF(B21>A21,"Trip after period end",IF(B21<=A21-'Settings'!$B$4,"Trip outside pay period",IF(J21<=0,"Check miles",IF(M21<=0,"Check rate",IF(Y21<0,"Negative payable","OK")))))))))
D22: =IF(COUNTA($A22:$C22,$E22:$I22,$K22,$O22,$R22,$U22:$W22,$Z22:$AA22)=0,"",IFERROR(INDEX('Settings'!$B$10:$B$109,MATCH(C22,'Settings'!$A$10:$A$109,0)),"")) | J22: =IF(COUNTA($A22:$C22,$E22:$I22,$K22,$O22,$R22,$U22:$W22,$Z22:$AA22)=0,"",IFERROR(H22+I22,0)) | L22: =IF(COUNTA($A22:$C22,$E22:$I22,$K22,$O22,$R22,$U22:$W22,$Z22:$AA22)=0,"",IFERROR(INDEX('Settings'!$D$10:$D$109,MATCH(C22,'Settings'!$A$10:$A$109,0)),0)) | M22: =IF(COUNTA($A22:$C22,$E22:$I22,$K22,$O22,$R22,$U22:$W22,$Z22:$AA22)=0,"",IFERROR(IF(K22<>"",K22,L22),0)) | N22: =IF(COUNTA($A22:$C22,$E22:$I22,$K22,$O22,$R22,$U22:$W22,$Z22:$AA22)=0,"",IFERROR(J22*M22,0)) | P22: =IF(COUNTA($A22:$C22,$E22:$I22,$K22,$O22,$R22,$U22:$W22,$Z22:$AA22)=0,"",IFERROR(INDEX('Settings'!$F$10:$F$109,MATCH(C22,'Settings'!$A$10:$A$109,0)),0)) | Q22: =IF(COUNTA($A22:$C22,$E22:$I22,$K22,$O22,$R22,$U22:$W22,$Z22:$AA22)=0,"",IFERROR(O22*P22,0)) | S22: =IF(COUNTA($A22:$C22,$E22:$I22,$K22,$O22,$R22,$U22:$W22,$Z22:$AA22)=0,"",IFERROR(INDEX('Settings'!$E$10:$E$109,MATCH(C22,'Settings'!$A$10:$A$109,0)),0)) | T22: =IF(COUNTA($A22:$C22,$E22:$I22,$K22,$O22,$R22,$U22:$W22,$Z22:$AA22)=0,"",IFERROR(R22*S22,0)) | X22: =IF(COUNTA($A22:$C22,$E22:$I22,$K22,$O22,$R22,$U22:$W22,$Z22:$AA22)=0,"",IFERROR(SUM(N22,Q22,T22,U22),0)) | Y22: =IF(COUNTA($A22:$C22,$E22:$I22,$K22,$O22,$R22,$U22:$W22,$Z22:$AA22)=0,"",IFERROR(X22+V22-W22,0)) | AB22: =IF(COUNTA($A22:$C22,$E22:$I22,$K22,$O22,$R22,$U22:$W22,$Z22:$AA22)=0,"",IF(OR(A22="",B22="",C22="",E22=""),"Missing required input",IF(D22="","Driver not found",IF(COUNTIF($E:$E,E22)>1,"Duplicate Trip/Load #",IF(B22>A22,"Trip after period end",IF(B22<=A22-'Settings'!$B$4,"Trip outside pay period",IF(J22<=0,"Check miles",IF(M22<=0,"Check rate",IF(Y22<0,"Negative payable","OK")))))))))
D23: =IF(COUNTA($A23:$C23,$E23:$I23,$K23,$O23,$R23,$U23:$W23,$Z23:$AA23)=0,"",IFERROR(INDEX('Settings'!$B$10:$B$109,MATCH(C23,'Settings'!$A$10:$A$109,0)),"")) | J23: =IF(COUNTA($A23:$C23,$E23:$I23,$K23,$O23,$R23,$U23:$W23,$Z23:$AA23)=0,"",IFERROR(H23+I23,0)) | L23: =IF(COUNTA($A23:$C23,$E23:$I23,$K23,$O23,$R23,$U23:$W23,$Z23:$AA23)=0,"",IFERROR(INDEX('Settings'!$D$10:$D$109,MATCH(C23,'Settings'!$A$10:$A$109,0)),0)) | M23: =IF(COUNTA($A23:$C23,$E23:$I23,$K23,$O23,$R23,$U23:$W23,$Z23:$AA23)=0,"",IFERROR(IF(K23<>"",K23,L23),0)) | N23: =IF(COUNTA($A23:$C23,$E23:$I23,$K23,$O23,$R23,$U23:$W23,$Z23:$AA23)=0,"",IFERROR(J23*M23,0)) | P23: =IF(COUNTA($A23:$C23,$E23:$I23,$K23,$O23,$R23,$U23:$W23,$Z23:$AA23)=0,"",IFERROR(INDEX('Settings'!$F$10:$F$109,MATCH(C23,'Settings'!$A$10:$A$109,0)),0)) | Q23: =IF(COUNTA($A23:$C23,$E23:$I23,$K23,$O23,$R23,$U23:$W23,$Z23:$AA23)=0,"",IFERROR(O23*P23,0)) | S23: =IF(COUNTA($A23:$C23,$E23:$I23,$K23,$O23,$R23,$U23:$W23,$Z23:$AA23)=0,"",IFERROR(INDEX('Settings'!$E$10:$E$109,MATCH(C23,'Settings'!$A$10:$A$109,0)),0)) | T23: =IF(COUNTA($A23:$C23,$E23:$I23,$K23,$O23,$R23,$U23:$W23,$Z23:$AA23)=0,"",IFERROR(R23*S23,0)) | X23: =IF(COUNTA($A23:$C23,$E23:$I23,$K23,$O23,$R23,$U23:$W23,$Z23:$AA23)=0,"",IFERROR(SUM(N23,Q23,T23,U23),0)) | Y23: =IF(COUNTA($A23:$C23,$E23:$I23,$K23,$O23,$R23,$U23:$W23,$Z23:$AA23)=0,"",IFERROR(X23+V23-W23,0)) | AB23: =IF(COUNTA($A23:$C23,$E23:$I23,$K23,$O23,$R23,$U23:$W23,$Z23:$AA23)=0,"",IF(OR(A23="",B23="",C23="",E23=""),"Missing required input",IF(D23="","Driver not found",IF(COUNTIF($E:$E,E23)>1,"Duplicate Trip/Load #",IF(B23>A23,"Trip after period end",IF(B23<=A23-'Settings'!$B$4,"Trip outside pay period",IF(J23<=0,"Check miles",IF(M23<=0,"Check rate",IF(Y23<0,"Negative payable","OK")))))))))
D24: =IF(COUNTA($A24:$C24,$E24:$I24,$K24,$O24,$R24,$U24:$W24,$Z24:$AA24)=0,"",IFERROR(INDEX('Settings'!$B$10:$B$109,MATCH(C24,'Settings'!$A$10:$A$109,0)),"")) | J24: =IF(COUNTA($A24:$C24,$E24:$I24,$K24,$O24,$R24,$U24:$W24,$Z24:$AA24)=0,"",IFERROR(H24+I24,0)) | L24: =IF(COUNTA($A24:$C24,$E24:$I24,$K24,$O24,$R24,$U24:$W24,$Z24:$AA24)=0,"",IFERROR(INDEX('Settings'!$D$10:$D$109,MATCH(C24,'Settings'!$A$10:$A$109,0)),0)) | M24: =IF(COUNTA($A24:$C24,$E24:$I24,$K24,$O24,$R24,$U24:$W24,$Z24:$AA24)=0,"",IFERROR(IF(K24<>"",K24,L24),0)) | N24: =IF(COUNTA($A24:$C24,$E24:$I24,$K24,$O24,$R24,$U24:$W24,$Z24:$AA24)=0,"",IFERROR(J24*M24,0)) | P24: =IF(COUNTA($A24:$C24,$E24:$I24,$K24,$O24,$R24,$U24:$W24,$Z24:$AA24)=0,"",IFERROR(INDEX('Settings'!$F$10:$F$109,MATCH(C24,'Settings'!$A$10:$A$109,0)),0)) | Q24: =IF(COUNTA($A24:$C24,$E24:$I24,$K24,$O24,$R24,$U24:$W24,$Z24:$AA24)=0,"",IFERROR(O24*P24,0)) | S24: =IF(COUNTA($A24:$C24,$E24:$I24,$K24,$O24,$R24,$U24:$W24,$Z24:$AA24)=0,"",IFERROR(INDEX('Settings'!$E$10:$E$109,MATCH(C24,'Settings'!$A$10:$A$109,0)),0)) | T24: =IF(COUNTA($A24:$C24,$E24:$I24,$K24,$O24,$R24,$U24:$W24,$Z24:$AA24)=0,"",IFERROR(R24*S24,0)) | X24: =IF(COUNTA($A24:$C24,$E24:$I24,$K24,$O24,$R24,$U24:$W24,$Z24:$AA24)=0,"",IFERROR(SUM(N24,Q24,T24,U24),0)) | Y24: =IF(COUNTA($A24:$C24,$E24:$I24,$K24,$O24,$R24,$U24:$W24,$Z24:$AA24)=0,"",IFERROR(X24+V24-W24,0)) | AB24: =IF(COUNTA($A24:$C24,$E24:$I24,$K24,$O24,$R24,$U24:$W24,$Z24:$AA24)=0,"",IF(OR(A24="",B24="",C24="",E24=""),"Missing required input",IF(D24="","Driver not found",IF(COUNTIF($E:$E,E24)>1,"Duplicate Trip/Load #",IF(B24>A24,"Trip after period end",IF(B24<=A24-'Settings'!$B$4,"Trip outside pay period",IF(J24<=0,"Check miles",IF(M24<=0,"Check rate",IF(Y24<0,"Negative payable","OK")))))))))
D25: =IF(COUNTA($A25:$C25,$E25:$I25,$K25,$O25,$R25,$U25:$W25,$Z25:$AA25)=0,"",IFERROR(INDEX('Settings'!$B$10:$B$109,MATCH(C25,'Settings'!$A$10:$A$109,0)),"")) | J25: =IF(COUNTA($A25:$C25,$E25:$I25,$K25,$O25,$R25,$U25:$W25,$Z25:$AA25)=0,"",IFERROR(H25+I25,0)) | L25: =IF(COUNTA($A25:$C25,$E25:$I25,$K25,$O25,$R25,$U25:$W25,$Z25:$AA25)=0,"",IFERROR(INDEX('Settings'!$D$10:$D$109,MATCH(C25,'Settings'!$A$10:$A$109,0)),0)) | M25: =IF(COUNTA($A25:$C25,$E25:$I25,$K25,$O25,$R25,$U25:$W25,$Z25:$AA25)=0,"",IFERROR(IF(K25<>"",K25,L25),0)) | N25: =IF(COUNTA($A25:$C25,$E25:$I25,$K25,$O25,$R25,$U25:$W25,$Z25:$AA25)=0,"",IFERROR(J25*M25,0)) | P25: =IF(COUNTA($A25:$C25,$E25:$I25,$K25,$O25,$R25,$U25:$W25,$Z25:$AA25)=0,"",IFERROR(INDEX('Settings'!$F$10:$F$109,MATCH(C25,'Settings'!$A$10:$A$109,0)),0)) | Q25: =IF(COUNTA($A25:$C25,$E25:$I25,$K25,$O25,$R25,$U25:$W25,$Z25:$AA25)=0,"",IFERROR(O25*P25,0)) | S25: =IF(COUNTA($A25:$C25,$E25:$I25,$K25,$O25,$R25,$U25:$W25,$Z25:$AA25)=0,"",IFERROR(INDEX('Settings'!$E$10:$E$109,MATCH(C25,'Settings'!$A$10:$A$109,0)),0)) | T25: =IF(COUNTA($A25:$C25,$E25:$I25,$K25,$O25,$R25,$U25:$W25,$Z25:$AA25)=0,"",IFERROR(R25*S25,0)) | X25: =IF(COUNTA($A25:$C25,$E25:$I25,$K25,$O25,$R25,$U25:$W25,$Z25:$AA25)=0,"",IFERROR(SUM(N25,Q25,T25,U25),0)) | Y25: =IF(COUNTA($A25:$C25,$E25:$I25,$K25,$O25,$R25,$U25:$W25,$Z25:$AA25)=0,"",IFERROR(X25+V25-W25,0)) | AB25: =IF(COUNTA($A25:$C25,$E25:$I25,$K25,$O25,$R25,$U25:$W25,$Z25:$AA25)=0,"",IF(OR(A25="",B25="",C25="",E25=""),"Missing required input",IF(D25="","Driver not found",IF(COUNTIF($E:$E,E25)>1,"Duplicate Trip/Load #",IF(B25>A25,"Trip after period end",IF(B25<=A25-'Settings'!$B$4,"Trip outside pay period",IF(J25<=0,"Check miles",IF(M25<=0,"Check rate",IF(Y25<0,"Negative payable","OK")))))))))
... D1004: =IF(COUNTA($A1004:$C1004,$E1004:$I1004,$K1004,$O1004,$R1004,$U1004:$W1004,$Z1004:$AA1004)=0,"",IFERROR(INDEX('Settings'!$B$10:$B$109,MATCH(C1004,'Settings'!$A$10:$A$109,0)),"")) | J1004: =IF(COUNTA($A1004:$C1004,$E1004:$I1004,$K1004,$O1004,$R1004,$U1004:$W1004,$Z1004:$AA1004)=0,"",IFERROR(H1004+I1004,0)) | L1004: =IF(COUNTA($A1004:$C1004,$E1004:$I1004,$K1004,$O1004,$R1004,$U1004:$W1004,$Z1004:$AA1004)=0,"",IFERROR(INDEX('Settings'!$D$10:$D$109,MATCH(C1004,'Settings'!$A$10:$A$109,0)),0)) | M1004: =IF(COUNTA($A1004:$C1004,$E1004:$I1004,$K1004,$O1004,$R1004,$U1004:$W1004,$Z1004:$AA1004)=0,"",IFERROR(IF(K1004<>"",K1004,L1004),0)) | N1004: =IF(COUNTA($A1004:$C1004,$E1004:$I1004,$K1004,$O1004,$R1004,$U1004:$W1004,$Z1004:$AA1004)=0,"",IFERROR(J1004*M1004,0)) | P1004: =IF(COUNTA($A1004:$C1004,$E1004:$I1004,$K1004,$O1004,$R1004,$U1004:$W1004,$Z1004:$AA1004)=0,"",IFERROR(INDEX('Settings'!$F$10:$F$109,MATCH(C1004,'Settings'!$A$10:$A$109,0)),0)) | Q1004: =IF(COUNTA($A1004:$C1004,$E1004:$I1004,$K1004,$O1004,$R1004,$U1004:$W1004,$Z1004:$AA1004)=0,"",IFERROR(O1004*P1004,0)) | S1004: =IF(COUNTA($A1004:$C1004,$E1004:$I1004,$K1004,$O1004,$R1004,$U1004:$W1004,$Z1004:$AA1004)=0,"",IFERROR(INDEX('Settings'!$E$10:$E$109,MATCH(C1004,'Settings'!$A$10:$A$109,0)),0)) | T1004: =IF(COUNTA($A1004:$C1004,$E1004:$I1004,$K1004,$O1004,$R1004,$U1004:$W1004,$Z1004:$AA1004)=0,"",IFERROR(R1004*S1004,0)) | X1004: =IF(COUNTA($A1004:$C1004,$E1004:$I1004,$K1004,$O1004,$R1004,$U1004:$W1004,$Z1004:$AA1004)=0,"",IFERROR(SUM(N1004,Q1004,T1004,U1004),0)) | Y1004: =IF(COUNTA($A1004:$C1004,$E1004:$I1004,$K1004,$O1004,$R1004,$U1004:$W1004,$Z1004:$AA1004)=0,"",IFERROR(X1004+V1004-W1004,0)) | AB1004: =IF(COUNTA($A1004:$C1004,$E1004:$I1004,$K1004,$O1004,$R1004,$U1004:$W1004,$Z1004:$AA1004)=0,"",IF(OR(A1004="",B1004="",C1004="",E1004=""),"Missing required input",IF(D1004="","Driver not found",IF(COUNTIF($E:$E,E1004)>1,"Duplicate Trip/Load #",IF(B1004>A1004,"Trip after period end",IF(B1004<=A1004-'Settings'!$B$4,"Trip outside pay period",IF(J1004<=0,"Check miles",IF(M1004<=0,"Check rate",IF(Y1004<0,"Negative payable","OK")))))))))

Sheet Driver Summary
A1: Driver Pay Summary
A2: Selected Pay Period End | B2: ='Dashboard'!B3
A4: Driver ID | B4: Driver Name | C4: Trips | D4: Loaded Miles | E4: Empty Miles | F4: Paid Miles | G4: Mileage Pay | H4: Detention Pay | I4: Stop Pay | J4: Other Pay | K4: Gross Earnings | L4: Reimbursements | M4: Deductions | N4: Total Payable | O4: Avg Rate/Paid Mile | P4: Check Flags
A5: =IF('Settings'!A10="","",'Settings'!A10) | B5: =IF('Settings'!B10="","",'Settings'!B10) | C5: =IF($A5="","",IFERROR(COUNTIFS(tblPayLog[Pay Period End],'Dashboard'!$B$3,tblPayLog[Driver ID],$A5),0)) | D5: =IF($A5="","",IFERROR(SUMIFS(tblPayLog[Loaded Miles],tblPayLog[Pay Period End],'Dashboard'!$B$3,tblPayLog[Driver ID],$A5),0)) | E5: =IF($A5="","",IFERROR(SUMIFS(tblPayLog[Empty Miles],tblPayLog[Pay Period End],'Dashboard'!$B$3,tblPayLog[Driver ID],$A5),0)) | F5: =IF($A5="","",IFERROR(SUMIFS(tblPayLog[Paid Miles],tblPayLog[Pay Period End],'Dashboard'!$B$3,tblPayLog[Driver ID],$A5),0)) | G5: =IF($A5="","",IFERROR(SUMIFS(tblPayLog[Mileage Pay],tblPayLog[Pay Period End],'Dashboard'!$B$3,tblPayLog[Driver ID],$A5),0)) | H5: =IF($A5="","",IFERROR(SUMIFS(tblPayLog[Detention Pay],tblPayLog[Pay Period End],'Dashboard'!$B$3,tblPayLog[Driver ID],$A5),0)) | I5: =IF($A5="","",IFERROR(SUMIFS(tblPayLog[Stop Pay],tblPayLog[Pay Period End],'Dashboard'!$B$3,tblPayLog[Driver ID],$A5),0)) | J5: =IF($A5="","",IFERROR(SUMIFS(tblPayLog[Other Pay],tblPayLog[Pay Period End],'Dashboard'!$B$3,tblPayLog[Driver ID],$A5),0)) | K5: =IF($A5="","",IFERROR(SUMIFS(tblPayLog[Gross Earnings],tblPayLog[Pay Period End],'Dashboard'!$B$3,tblPayLog[Driver ID],$A5),0)) | L5: =IF($A5="","",IFERROR(SUMIFS(tblPayLog[Reimbursements],tblPayLog[Pay Period End],'Dashboard'!$B$3,tblPayLog[Driver ID],$A5),0)) | M5: =IF($A5="","",IFERROR(SUMIFS(tblPayLog[Deductions],tblPayLog[Pay Period End],'Dashboard'!$B$3,tblPayLog[Driver ID],$A5),0)) | N5: =IF($A5="","",IFERROR(SUMIFS(tblPayLog[Total Payable],tblPayLog[Pay Period End],'Dashboard'!$B$3,tblPayLog[Driver ID],$A5),0)) | O5: =IF($A5="","",IFERROR(G5/F5,0)) | P5: =IF($A5="","",IFERROR(COUNTIFS(tblPayLog[Pay Period End],'Dashboard'!$B$3,tblPayLog[Driver ID],$A5,tblPayLog[Check],"<>OK"),0))
A6: =IF('Settings'!A11="","",'Settings'!A11) | B6: =IF('Settings'!B11="","",'Settings'!B11) | C6: =IF($A6="","",IFERROR(COUNTIFS(tblPayLog[Pay Period End],'Dashboard'!$B$3,tblPayLog[Driver ID],$A6),0)) | D6: =IF($A6="","",IFERROR(SUMIFS(tblPayLog[Loaded Miles],tblPayLog[Pay Period End],'Dashboard'!$B$3,tblPayLog[Driver ID],$A6),0)) | E6: =IF($A6="","",IFERROR(SUMIFS(tblPayLog[Empty Miles],tblPayLog[Pay Period End],'Dashboard'!$B$3,tblPayLog[Driver ID],$A6),0)) | F6: =IF($A6="","",IFERROR(SUMIFS(tblPayLog[Paid Miles],tblPayLog[Pay Period End],'Dashboard'!$B$3,tblPayLog[Driver ID],$A6),0)) | G6: =IF($A6="","",IFERROR(SUMIFS(tblPayLog[Mileage Pay],tblPayLog[Pay Period End],'Dashboard'!$B$3,tblPayLog[Driver ID],$A6),0)) | H6: =IF($A6="","",IFERROR(SUMIFS(tblPayLog[Detention Pay],tblPayLog[Pay Period End],'Dashboard'!$B$3,tblPayLog[Driver ID],$A6),0)) | I6: =IF($A6="","",IFERROR(SUMIFS(tblPayLog[Stop Pay],tblPayLog[Pay Period End],'Dashboard'!$B$3,tblPayLog[Driver ID],$A6),0)) | J6: =IF($A6="","",IFERROR(SUMIFS(tblPayLog[Other Pay],tblPayLog[Pay Period End],'Dashboard'!$B$3,tblPayLog[Driver ID],$A6),0)) | K6: =IF($A6="","",IFERROR(SUMIFS(tblPayLog[Gross Earnings],tblPayLog[Pay Period End],'Dashboard'!$B$3,tblPayLog[Driver ID],$A6),0)) | L6: =IF($A6="","",IFERROR(SUMIFS(tblPayLog[Reimbursements],tblPayLog[Pay Period End],'Dashboard'!$B$3,tblPayLog[Driver ID],$A6),0)) | M6: =IF($A6="","",IFERROR(SUMIFS(tblPayLog[Deductions],tblPayLog[Pay Period End],'Dashboard'!$B$3,tblPayLog[Driver ID],$A6),0)) | N6: =IF($A6="","",IFERROR(SUMIFS(tblPayLog[Total Payable],tblPayLog[Pay Period End],'Dashboard'!$B$3,tblPayLog[Driver ID],$A6),0)) | O6: =IF($A6="","",IFERROR(G6/F6,0)) | P6: =IF($A6="","",IFERROR(COUNTIFS(tblPayLog[Pay Period End],'Dashboard'!$B$3,tblPayLog[Driver ID],$A6,tblPayLog[Check],"<>OK"),0))
A7: =IF('Settings'!A12="","",'Settings'!A12) | B7: =IF('Settings'!B12="","",'Settings'!B12) | C7: =IF($A7="","",IFERROR(COUNTIFS(tblPayLog[Pay Period End],'Dashboard'!$B$3,tblPayLog[Driver ID],$A7),0)) | D7: =IF($A7="","",IFERROR(SUMIFS(tblPayLog[Loaded Miles],tblPayLog[Pay Period End],'Dashboard'!$B$3,tblPayLog[Driver ID],$A7),0)) | E7: =IF($A7="","",IFERROR(SUMIFS(tblPayLog[Empty Miles],tblPayLog[Pay Period End],'Dashboard'!$B$3,tblPayLog[Driver ID],$A7),0)) | F7: =IF($A7="","",IFERROR(SUMIFS(tblPayLog[Paid Miles],tblPayLog[Pay Period End],'Dashboard'!$B$3,tblPayLog[Driver ID],$A7),0)) | G7: =IF($A7="","",IFERROR(SUMIFS(tblPayLog[Mileage Pay],tblPayLog[Pay Period End],'Dashboard'!$B$3,tblPayLog[Driver ID],$A7),0)) | H7: =IF($A7="","",IFERROR(SUMIFS(tblPayLog[Detention Pay],tblPayLog[Pay Period End],'Dashboard'!$B$3,tblPayLog[Driver ID],$A7),0)) | I7: =IF($A7="","",IFERROR(SUMIFS(tblPayLog[Stop Pay],tblPayLog[Pay Period End],'Dashboard'!$B$3,tblPayLog[Driver ID],$A7),0)) | J7: =IF($A7="","",IFERROR(SUMIFS(tblPayLog[Other Pay],tblPayLog[Pay Period End],'Dashboard'!$B$3,tblPayLog[Driver ID],$A7),0)) | K7: =IF($A7="","",IFERROR(SUMIFS(tblPayLog[Gross Earnings],tblPayLog[Pay Period End],'Dashboard'!$B$3,tblPayLog[Driver ID],$A7),0)) | L7: =IF($A7="","",IFERROR(SUMIFS(tblPayLog[Reimbursements],tblPayLog[Pay Period End],'Dashboard'!$B$3,tblPayLog[Driver ID],$A7),0)) | M7: =IF($A7="","",IFERROR(SUMIFS(tblPayLog[Deductions],tblPayLog[Pay Period End],'Dashboard'!$B$3,tblPayLog[Driver ID],$A7),0)) | N7: =IF($A7="","",IFERROR(SUMIFS(tblPayLog[Total Payable],tblPayLog[Pay Period End],'Dashboard'!$B$3,tblPayLog[Driver ID],$A7),0)) | O7: =IF($A7="","",IFERROR(G7/F7,0)) | P7: =IF($A7="","",IFERROR(COUNTIFS(tblPayLog[Pay Period End],'Dashboard'!$B$3,tblPayLog[Driver ID],$A7,tblPayLog[Check],"<>OK"),0))
A8: =IF('Settings'!A13="","",'Settings'!A13) | B8: =IF('Settings'!B13="","",'Settings'!B13) | C8: =IF($A8="","",IFERROR(COUNTIFS(tblPayLog[Pay Period End],'Dashboard'!$B$3,tblPayLog[Driver ID],$A8),0)) | D8: =IF($A8="","",IFERROR(SUMIFS(tblPayLog[Loaded Miles],tblPayLog[Pay Period End],'Dashboard'!$B$3,tblPayLog[Driver ID],$A8),0)) | E8: =IF($A8="","",IFERROR(SUMIFS(tblPayLog[Empty Miles],tblPayLog[Pay Period End],'Dashboard'!$B$3,tblPayLog[Driver ID],$A8),0)) | F8: =IF($A8="","",IFERROR(SUMIFS(tblPayLog[Paid Miles],tblPayLog[Pay Period End],'Dashboard'!$B$3,tblPayLog[Driver ID],$A8),0)) | G8: =IF($A8="","",IFERROR(SUMIFS(tblPayLog[Mileage Pay],tblPayLog[Pay Period End],'Dashboard'!$B$3,tblPayLog[Driver ID],$A8),0)) | H8: =IF($A8="","",IFERROR(SUMIFS(tblPayLog[Detention Pay],tblPayLog[Pay Period End],'Dashboard'!$B$3,tblPayLog[Driver ID],$A8),0)) | I8: =IF($A8="","",IFERROR(SUMIFS(tblPayLog[Stop Pay],tblPayLog[Pay Period End],'Dashboard'!$B$3,tblPayLog[Driver ID],$A8),0)) | J8: =IF($A8="","",IFERROR(SUMIFS(tblPayLog[Other Pay],tblPayLog[Pay Period End],'Dashboard'!$B$3,tblPayLog[Driver ID],$A8),0)) | K8: =IF($A8="","",IFERROR(SUMIFS(tblPayLog[Gross Earnings],tblPayLog[Pay Period End],'Dashboard'!$B$3,tblPayLog[Driver ID],$A8),0)) | L8: =IF($A8="","",IFERROR(SUMIFS(tblPayLog[Reimbursements],tblPayLog[Pay Period End],'Dashboard'!$B$3,tblPayLog[Driver ID],$A8),0)) | M8: =IF($A8="","",IFERROR(SUMIFS(tblPayLog[Deductions],tblPayLog[Pay Period End],'Dashboard'!$B$3,tblPayLog[Driver ID],$A8),0)) | N8: =IF($A8="","",IFERROR(SUMIFS(tblPayLog[Total Payable],tblPayLog[Pay Period End],'Dashboard'!$B$3,tblPayLog[Driver ID],$A8),0)) | O8: =IF($A8="","",IFERROR(G8/F8,0)) | P8: =IF($A8="","",IFERROR(COUNTIFS(tblPayLog[Pay Period End],'Dashboard'!$B$3,tblPayLog[Driver ID],$A8,tblPayLog[Check],"<>OK"),0))
A9: =IF('Settings'!A14="","",'Settings'!A14) | B9: =IF('Settings'!B14="","",'Settings'!B14) | C9: =IF($A9="","",IFERROR(COUNTIFS(tblPayLog[Pay Period End],'Dashboard'!$B$3,tblPayLog[Driver ID],$A9),0)) | D9: =IF($A9="","",IFERROR(SUMIFS(tblPayLog[Loaded Miles],tblPayLog[Pay Period End],'Dashboard'!$B$3,tblPayLog[Driver ID],$A9),0)) | E9: =IF($A9="","",IFERROR(SUMIFS(tblPayLog[Empty Miles],tblPayLog[Pay Period End],'Dashboard'!$B$3,tblPayLog[Driver ID],$A9),0)) | F9: =IF($A9="","",IFERROR(SUMIFS(tblPayLog[Paid Miles],tblPayLog[Pay Period End],'Dashboard'!$B$3,tblPayLog[Driver ID],$A9),0)) | G9: =IF($A9="","",IFERROR(SUMIFS(tblPayLog[Mileage Pay],tblPayLog[Pay Period End],'Dashboard'!$B$3,tblPayLog[Driver ID],$A9),0)) | H9: =IF($A9="","",IFERROR(SUMIFS(tblPayLog[Detention Pay],tblPayLog[Pay Period End],'Dashboard'!$B$3,tblPayLog[Driver ID],$A9),0)) | I9: =IF($A9="","",IFERROR(SUMIFS(tblPayLog[Stop Pay],tblPayLog[Pay Period End],'Dashboard'!$B$3,tblPayLog[Driver ID],$A9),0)) | J9: =IF($A9="","",IFERROR(SUMIFS(tblPayLog[Other Pay],tblPayLog[Pay Period End],'Dashboard'!$B$3,tblPayLog[Driver ID],$A9),0)) | K9: =IF($A9="","",IFERROR(SUMIFS(tblPayLog[Gross Earnings],tblPayLog[Pay Period End],'Dashboard'!$B$3,tblPayLog[Driver ID],$A9),0)) | L9: =IF($A9="","",IFERROR(SUMIFS(tblPayLog[Reimbursements],tblPayLog[Pay Period End],'Dashboard'!$B$3,tblPayLog[Driver ID],$A9),0)) | M9: =IF($A9="","",IFERROR(SUMIFS(tblPayLog[Deductions],tblPayLog[Pay Period End],'Dashboard'!$B$3,tblPayLog[Driver ID],$A9),0)) | N9: =IF($A9="","",IFERROR(SUMIFS(tblPayLog[Total Payable],tblPayLog[Pay Period End],'Dashboard'!$B$3,tblPayLog[Driver ID],$A9),0)) | O9: =IF($A9="","",IFERROR(G9/F9,0)) | P9: =IF($A9="","",IFERROR(COUNTIFS(tblPayLog[Pay Period End],'Dashboard'!$B$3,tblPayLog[Driver ID],$A9,tblPayLog[Check],"<>OK"),0))
A10: =IF('Settings'!A15="","",'Settings'!A15) | B10: =IF('Settings'!B15="","",'Settings'!B15) | C10: =IF($A10="","",IFERROR(COUNTIFS(tblPayLog[Pay Period End],'Dashboard'!$B$3,tblPayLog[Driver ID],$A10),0)) | D10: =IF($A10="","",IFERROR(SUMIFS(tblPayLog[Loaded Miles],tblPayLog[Pay Period End],'Dashboard'!$B$3,tblPayLog[Driver ID],$A10),0)) | E10: =IF($A10="","",IFERROR(SUMIFS(tblPayLog[Empty Miles],tblPayLog[Pay Period End],'Dashboard'!$B$3,tblPayLog[Driver ID],$A10),0)) | F10: =IF($A10="","",IFERROR(SUMIFS(tblPayLog[Paid Miles],tblPayLog[Pay Period End],'Dashboard'!$B$3,tblPayLog[Driver ID],$A10),0)) | G10: =IF($A10="","",IFERROR(SUMIFS(tblPayLog[Mileage Pay],tblPayLog[Pay Period End],'Dashboard'!$B$3,tblPayLog[Driver ID],$A10),0)) | H10: =IF($A10="","",IFERROR(SUMIFS(tblPayLog[Detention Pay],tblPayLog[Pay Period End],'Dashboard'!$B$3,tblPayLog[Driver ID],$A10),0)) | I10: =IF($A10="","",IFERROR(SUMIFS(tblPayLog[Stop Pay],tblPayLog[Pay Period End],'Dashboard'!$B$3,tblPayLog[Driver ID],$A10),0)) | J10: =IF($A10="","",IFERROR(SUMIFS(tblPayLog[Other Pay],tblPayLog[Pay Period End],'Dashboard'!$B$3,tblPayLog[Driver ID],$A10),0)) | K10: =IF($A10="","",IFERROR(SUMIFS(tblPayLog[Gross Earnings],tblPayLog[Pay Period End],'Dashboard'!$B$3,tblPayLog[Driver ID],$A10),0)) | L10: =IF($A10="","",IFERROR(SUMIFS(tblPayLog[Reimbursements],tblPayLog[Pay Period End],'Dashboard'!$B$3,tblPayLog[Driver ID],$A10),0)) | M10: =IF($A10="","",IFERROR(SUMIFS(tblPayLog[Deductions],tblPayLog[Pay Period End],'Dashboard'!$B$3,tblPayLog[Driver ID],$A10),0)) | N10: =IF($A10="","",IFERROR(SUMIFS(tblPayLog[Total Payable],tblPayLog[Pay Period End],'Dashboard'!$B$3,tblPayLog[Driver ID],$A10),0)) | O10: =IF($A10="","",IFERROR(G10/F10,0)) | P10: =IF($A10="","",IFERROR(COUNTIFS(tblPayLog[Pay Period End],'Dashboard'!$B$3,tblPayLog[Driver ID],$A10,tblPayLog[Check],"<>OK"),0))
A11: =IF('Settings'!A16="","",'Settings'!A16) | B11: =IF('Settings'!B16="","",'Settings'!B16) | C11: =IF($A11="","",IFERROR(COUNTIFS(tblPayLog[Pay Period End],'Dashboard'!$B$3,tblPayLog[Driver ID],$A11),0)) | D11: =IF($A11="","",IFERROR(SUMIFS(tblPayLog[Loaded Miles],tblPayLog[Pay Period End],'Dashboard'!$B$3,tblPayLog[Driver ID],$A11),0)) | E11: =IF($A11="","",IFERROR(SUMIFS(tblPayLog[Empty Miles],tblPayLog[Pay Period End],'Dashboard'!$B$3,tblPayLog[Driver ID],$A11),0)) | F11: =IF($A11="","",IFERROR(SUMIFS(tblPayLog[Paid Miles],tblPayLog[Pay Period End],'Dashboard'!$B$3,tblPayLog[Driver ID],$A11),0)) | G11: =IF($A11="","",IFERROR(SUMIFS(tblPayLog[Mileage Pay],tblPayLog[Pay Period End],'Dashboard'!$B$3,tblPayLog[Driver ID],$A11),0)) | H11: =IF($A11="","",IFERROR(SUMIFS(tblPayLog[Detention Pay],tblPayLog[Pay Period End],'Dashboard'!$B$3,tblPayLog[Driver ID],$A11),0)) | I11: =IF($A11="","",IFERROR(SUMIFS(tblPayLog[Stop Pay],tblPayLog[Pay Period End],'Dashboard'!$B$3,tblPayLog[Driver ID],$A11),0)) | J11: =IF($A11="","",IFERROR(SUMIFS(tblPayLog[Other Pay],tblPayLog[Pay Period End],'Dashboard'!$B$3,tblPayLog[Driver ID],$A11),0)) | K11: =IF($A11="","",IFERROR(SUMIFS(tblPayLog[Gross Earnings],tblPayLog[Pay Period End],'Dashboard'!$B$3,tblPayLog[Driver ID],$A11),0)) | L11: =IF($A11="","",IFERROR(SUMIFS(tblPayLog[Reimbursements],tblPayLog[Pay Period End],'Dashboard'!$B$3,tblPayLog[Driver ID],$A11),0)) | M11: =IF($A11="","",IFERROR(SUMIFS(tblPayLog[Deductions],tblPayLog[Pay Period End],'Dashboard'!$B$3,tblPayLog[Driver ID],$A11),0)) | N11: =IF($A11="","",IFERROR(SUMIFS(tblPayLog[Total Payable],tblPayLog[Pay Period End],'Dashboard'!$B$3,tblPayLog[Driver ID],$A11),0)) | O11: =IF($A11="","",IFERROR(G11/F11,0)) | P11: =IF($A11="","",IFERROR(COUNTIFS(tblPayLog[Pay Period End],'Dashboard'!$B$3,tblPayLog[Driver ID],$A11,tblPayLog[Check],"<>OK"),0))
