Workbook

Sheet Dashboard
A1: Driver Mileage Log Dashboard
A2: Choose a report date range and driver. Enter or update trip records on the Mileage Log sheet.
A3: Report Start Date | B3: 46023 | D3: Total Trips | E3: =IFERROR(IF($B$5="All Drivers",COUNTIFS('Mileage Log'!$B$6:$B$505,">="&$B$3,'Mileage Log'!$B$6:$B$505,"<="&$B$4,'Mileage Log'!$A$6:$A$505,"<>"),COUNTIFS('Mileage Log'!$B$6:$B$505,">="&$B$3,'Mileage Log'!$B$6:$B$505,"<="&$B$4,'Mileage Log'!$C$6:$C$505,$B$5,'Mileage Log'!$A$6:$A$505,"<>")),0) | G3: Fuel Gallons | H3: =IFERROR(IF($B$5="All Drivers",SUMIFS('Mileage Log'!$Q$6:$Q$505,'Mileage Log'!$B$6:$B$505,">="&$B$3,'Mileage Log'!$B$6:$B$505,"<="&$B$4),SUMIFS('Mileage Log'!$Q$6:$Q$505,'Mileage Log'!$B$6:$B$505,">="&$B$3,'Mileage Log'!$B$6:$B$505,"<="&$B$4,'Mileage Log'!$C$6:$C$505,$B$5)),0) | J3: Business Mile % | K3: =IFERROR(E5/E4,0)
A4: Report End Date | B4: 46112 | D4: Total Miles | E4: =IFERROR(IF($B$5="All Drivers",SUMIFS('Mileage Log'!$K$6:$K$505,'Mileage Log'!$B$6:$B$505,">="&$B$3,'Mileage Log'!$B$6:$B$505,"<="&$B$4),SUMIFS('Mileage Log'!$K$6:$K$505,'Mileage Log'!$B$6:$B$505,">="&$B$3,'Mileage Log'!$B$6:$B$505,"<="&$B$4,'Mileage Log'!$C$6:$C$505,$B$5)),0) | G4: Average MPG | H4: =IFERROR(E4/H3,0) | J4: Rows Needing Review | K4: =IFERROR(IF($B$5="All Drivers",COUNTIFS('Mileage Log'!$B$6:$B$505,">="&$B$3,'Mileage Log'!$B$6:$B$505,"<="&$B$4,'Mileage Log'!$A$6:$A$505,"<>",'Mileage Log'!$T$6:$T$505,"<>OK"),COUNTIFS('Mileage Log'!$B$6:$B$505,">="&$B$3,'Mileage Log'!$B$6:$B$505,"<="&$B$4,'Mileage Log'!$C$6:$C$505,$B$5,'Mileage Log'!$A$6:$A$505,"<>",'Mileage Log'!$T$6:$T$505,"<>OK")),0)
A5: Driver | B5: All Drivers | D5: Business Miles | E5: =IFERROR(IF($B$5="All Drivers",SUMIFS('Mileage Log'!$L$6:$L$505,'Mileage Log'!$B$6:$B$505,">="&$B$3,'Mileage Log'!$B$6:$B$505,"<="&$B$4),SUMIFS('Mileage Log'!$L$6:$L$505,'Mileage Log'!$B$6:$B$505,">="&$B$3,'Mileage Log'!$B$6:$B$505,"<="&$B$4,'Mileage Log'!$C$6:$C$505,$B$5)),0) | G5: Fuel Cost | H5: =IFERROR(IF($B$5="All Drivers",SUMIFS('Mileage Log'!$R$6:$R$505,'Mileage Log'!$B$6:$B$505,">="&$B$3,'Mileage Log'!$B$6:$B$505,"<="&$B$4),SUMIFS('Mileage Log'!$R$6:$R$505,'Mileage Log'!$B$6:$B$505,">="&$B$3,'Mileage Log'!$B$6:$B$505,"<="&$B$4,'Mileage Log'!$C$6:$C$505,$B$5)),0) | J5: Missing Business Purpose | K5: =IFERROR(IF($B$5="All Drivers",COUNTIFS('Mileage Log'!$B$6:$B$505,">="&$B$3,'Mileage Log'!$B$6:$B$505,"<="&$B$4,'Mileage Log'!$E$6:$E$505,"Business",'Mileage Log'!$H$6:$H$505,"")+COUNTIFS('Mileage Log'!$B$6:$B$505,">="&$B$3,'Mileage Log'!$B$6:$B$505,"<="&$B$4,'Mileage Log'!$E$6:$E$505,"Mixed",'Mileage Log'!$H$6:$H$505,""),COUNTIFS('Mileage Log'!$B$6:$B$505,">="&$B$3,'Mileage Log'!$B$6:$B$505,"<="&$B$4,'Mileage Log'!$C$6:$C$505,$B$5,'Mileage Log'!$E$6:$E$505,"Business",'Mileage Log'!$H$6:$H$505,"")+COUNTIFS('Mileage Log'!$B$6:$B$505,">="&$B$3,'Mileage Log'!$B$6:$B$505,"<="&$B$4,'Mileage Log'!$C$6:$C$505,$B$5,'Mileage Log'!$E$6:$E$505,"Mixed",'Mileage Log'!$H$6:$H$505,"")),0)
D6: Personal / Commute Miles | E6: =IFERROR(IF($B$5="All Drivers",SUMIFS('Mileage Log'!$M$6:$M$505,'Mileage Log'!$B$6:$B$505,">="&$B$3,'Mileage Log'!$B$6:$B$505,"<="&$B$4),SUMIFS('Mileage Log'!$M$6:$M$505,'Mileage Log'!$B$6:$B$505,">="&$B$3,'Mileage Log'!$B$6:$B$505,"<="&$B$4,'Mileage Log'!$C$6:$C$505,$B$5)),0) | G6: Reimbursement | H6: =IFERROR(IF($B$5="All Drivers",SUMIFS('Mileage Log'!$P$6:$P$505,'Mileage Log'!$B$6:$B$505,">="&$B$3,'Mileage Log'!$B$6:$B$505,"<="&$B$4),SUMIFS('Mileage Log'!$P$6:$P$505,'Mileage Log'!$B$6:$B$505,">="&$B$3,'Mileage Log'!$B$6:$B$505,"<="&$B$4,'Mileage Log'!$C$6:$C$505,$B$5)),0) | J6: Duplicate Trip ID Rows | K6: =IFERROR(SUMPRODUCT(--('Mileage Log'!$A$6:$A$505<>""),--(COUNTIF('Mileage Log'!$A$6:$A$505,'Mileage Log'!$A$6:$A$505)>1)),0)
A7: Yellow cells = user inputs | K7: =""
A8: Gray cells = calculated results | K8: =""
K9: =""
A10: Monthly Summary | K10: =""
A11: Month | B11: Trips | C11: Total Miles | D11: Business Miles | E11: Reimbursement | K11: =""
A12: =IFERROR(DATE(YEAR($B$3),MONTH($B$3),1),"") | B12: =IFERROR(IF(OR(EOMONTH($A12,0)<$B$3,$A12>$B$4),"",IF($B$5="All Drivers",COUNTIFS('Mileage Log'!$B$6:$B$505,">="&MAX($A12,$B$3),'Mileage Log'!$B$6:$B$505,"<="&MIN(EOMONTH($A12,0),$B$4),'Mileage Log'!$A$6:$A$505,"<>"),COUNTIFS('Mileage Log'!$B$6:$B$505,">="&MAX($A12,$B$3),'Mileage Log'!$B$6:$B$505,"<="&MIN(EOMONTH($A12,0),$B$4),'Mileage Log'!$C$6:$C$505,$B$5,'Mileage Log'!$A$6:$A$505,"<>"))),"") | C12: =IFERROR(IF(OR(EOMONTH($A12,0)<$B$3,$A12>$B$4),"",IF($B$5="All Drivers",SUMIFS('Mileage Log'!$K$6:$K$505,'Mileage Log'!$B$6:$B$505,">="&MAX($A12,$B$3),'Mileage Log'!$B$6:$B$505,"<="&MIN(EOMONTH($A12,0),$B$4)),SUMIFS('Mileage Log'!$K$6:$K$505,'Mileage Log'!$B$6:$B$505,">="&MAX($A12,$B$3),'Mileage Log'!$B$6:$B$505,"<="&MIN(EOMONTH($A12,0),$B$4),'Mileage Log'!$C$6:$C$505,$B$5))),"") | D12: =IFERROR(IF(OR(EOMONTH($A12,0)<$B$3,$A12>$B$4),"",IF($B$5="All Drivers",SUMIFS('Mileage Log'!$L$6:$L$505,'Mileage Log'!$B$6:$B$505,">="&MAX($A12,$B$3),'Mileage Log'!$B$6:$B$505,"<="&MIN(EOMONTH($A12,0),$B$4)),SUMIFS('Mileage Log'!$L$6:$L$505,'Mileage Log'!$B$6:$B$505,">="&MAX($A12,$B$3),'Mileage Log'!$B$6:$B$505,"<="&MIN(EOMONTH($A12,0),$B$4),'Mileage Log'!$C$6:$C$505,$B$5))),"") | E12: =IFERROR(IF(OR(EOMONTH($A12,0)<$B$3,$A12>$B$4),"",IF($B$5="All Drivers",SUMIFS('Mileage Log'!$P$6:$P$505,'Mileage Log'!$B$6:$B$505,">="&MAX($A12,$B$3),'Mileage Log'!$B$6:$B$505,"<="&MIN(EOMONTH($A12,0),$B$4)),SUMIFS('Mileage Log'!$P$6:$P$505,'Mileage Log'!$B$6:$B$505,">="&MAX($A12,$B$3),'Mileage Log'!$B$6:$B$505,"<="&MIN(EOMONTH($A12,0),$B$4),'Mileage Log'!$C$6:$C$505,$B$5))),"") | K12: =""
A13: =IFERROR(EDATE(A12,1),"") | B13: =IFERROR(IF(OR(EOMONTH($A13,0)<$B$3,$A13>$B$4),"",IF($B$5="All Drivers",COUNTIFS('Mileage Log'!$B$6:$B$505,">="&MAX($A13,$B$3),'Mileage Log'!$B$6:$B$505,"<="&MIN(EOMONTH($A13,0),$B$4),'Mileage Log'!$A$6:$A$505,"<>"),COUNTIFS('Mileage Log'!$B$6:$B$505,">="&MAX($A13,$B$3),'Mileage Log'!$B$6:$B$505,"<="&MIN(EOMONTH($A13,0),$B$4),'Mileage Log'!$C$6:$C$505,$B$5,'Mileage Log'!$A$6:$A$505,"<>"))),"") | C13: =IFERROR(IF(OR(EOMONTH($A13,0)<$B$3,$A13>$B$4),"",IF($B$5="All Drivers",SUMIFS('Mileage Log'!$K$6:$K$505,'Mileage Log'!$B$6:$B$505,">="&MAX($A13,$B$3),'Mileage Log'!$B$6:$B$505,"<="&MIN(EOMONTH($A13,0),$B$4)),SUMIFS('Mileage Log'!$K$6:$K$505,'Mileage Log'!$B$6:$B$505,">="&MAX($A13,$B$3),'Mileage Log'!$B$6:$B$505,"<="&MIN(EOMONTH($A13,0),$B$4),'Mileage Log'!$C$6:$C$505,$B$5))),"") | D13: =IFERROR(IF(OR(EOMONTH($A13,0)<$B$3,$A13>$B$4),"",IF($B$5="All Drivers",SUMIFS('Mileage Log'!$L$6:$L$505,'Mileage Log'!$B$6:$B$505,">="&MAX($A13,$B$3),'Mileage Log'!$B$6:$B$505,"<="&MIN(EOMONTH($A13,0),$B$4)),SUMIFS('Mileage Log'!$L$6:$L$505,'Mileage Log'!$B$6:$B$505,">="&MAX($A13,$B$3),'Mileage Log'!$B$6:$B$505,"<="&MIN(EOMONTH($A13,0),$B$4),'Mileage Log'!$C$6:$C$505,$B$5))),"") | E13: =IFERROR(IF(OR(EOMONTH($A13,0)<$B$3,$A13>$B$4),"",IF($B$5="All Drivers",SUMIFS('Mileage Log'!$P$6:$P$505,'Mileage Log'!$B$6:$B$505,">="&MAX($A13,$B$3),'Mileage Log'!$B$6:$B$505,"<="&MIN(EOMONTH($A13,0),$B$4)),SUMIFS('Mileage Log'!$P$6:$P$505,'Mileage Log'!$B$6:$B$505,">="&MAX($A13,$B$3),'Mileage Log'!$B$6:$B$505,"<="&MIN(EOMONTH($A13,0),$B$4),'Mileage Log'!$C$6:$C$505,$B$5))),"") | K13: =""
A14: =IFERROR(EDATE(A13,1),"") | B14: =IFERROR(IF(OR(EOMONTH($A14,0)<$B$3,$A14>$B$4),"",IF($B$5="All Drivers",COUNTIFS('Mileage Log'!$B$6:$B$505,">="&MAX($A14,$B$3),'Mileage Log'!$B$6:$B$505,"<="&MIN(EOMONTH($A14,0),$B$4),'Mileage Log'!$A$6:$A$505,"<>"),COUNTIFS('Mileage Log'!$B$6:$B$505,">="&MAX($A14,$B$3),'Mileage Log'!$B$6:$B$505,"<="&MIN(EOMONTH($A14,0),$B$4),'Mileage Log'!$C$6:$C$505,$B$5,'Mileage Log'!$A$6:$A$505,"<>"))),"") | C14: =IFERROR(IF(OR(EOMONTH($A14,0)<$B$3,$A14>$B$4),"",IF($B$5="All Drivers",SUMIFS('Mileage Log'!$K$6:$K$505,'Mileage Log'!$B$6:$B$505,">="&MAX($A14,$B$3),'Mileage Log'!$B$6:$B$505,"<="&MIN(EOMONTH($A14,0),$B$4)),SUMIFS('Mileage Log'!$K$6:$K$505,'Mileage Log'!$B$6:$B$505,">="&MAX($A14,$B$3),'Mileage Log'!$B$6:$B$505,"<="&MIN(EOMONTH($A14,0),$B$4),'Mileage Log'!$C$6:$C$505,$B$5))),"") | D14: =IFERROR(IF(OR(EOMONTH($A14,0)<$B$3,$A14>$B$4),"",IF($B$5="All Drivers",SUMIFS('Mileage Log'!$L$6:$L$505,'Mileage Log'!$B$6:$B$505,">="&MAX($A14,$B$3),'Mileage Log'!$B$6:$B$505,"<="&MIN(EOMONTH($A14,0),$B$4)),SUMIFS('Mileage Log'!$L$6:$L$505,'Mileage Log'!$B$6:$B$505,">="&MAX($A14,$B$3),'Mileage Log'!$B$6:$B$505,"<="&MIN(EOMONTH($A14,0),$B$4),'Mileage Log'!$C$6:$C$505,$B$5))),"") | E14: =IFERROR(IF(OR(EOMONTH($A14,0)<$B$3,$A14>$B$4),"",IF($B$5="All Drivers",SUMIFS('Mileage Log'!$P$6:$P$505,'Mileage Log'!$B$6:$B$505,">="&MAX($A14,$B$3),'Mileage Log'!$B$6:$B$505,"<="&MIN(EOMONTH($A14,0),$B$4)),SUMIFS('Mileage Log'!$P$6:$P$505,'Mileage Log'!$B$6:$B$505,">="&MAX($A14,$B$3),'Mileage Log'!$B$6:$B$505,"<="&MIN(EOMONTH($A14,0),$B$4),'Mileage Log'!$C$6:$C$505,$B$5))),"") | K14: =""
A15: =IFERROR(EDATE(A14,1),"") | B15: =IFERROR(IF(OR(EOMONTH($A15,0)<$B$3,$A15>$B$4),"",IF($B$5="All Drivers",COUNTIFS('Mileage Log'!$B$6:$B$505,">="&MAX($A15,$B$3),'Mileage Log'!$B$6:$B$505,"<="&MIN(EOMONTH($A15,0),$B$4),'Mileage Log'!$A$6:$A$505,"<>"),COUNTIFS('Mileage Log'!$B$6:$B$505,">="&MAX($A15,$B$3),'Mileage Log'!$B$6:$B$505,"<="&MIN(EOMONTH($A15,0),$B$4),'Mileage Log'!$C$6:$C$505,$B$5,'Mileage Log'!$A$6:$A$505,"<>"))),"") | C15: =IFERROR(IF(OR(EOMONTH($A15,0)<$B$3,$A15>$B$4),"",IF($B$5="All Drivers",SUMIFS('Mileage Log'!$K$6:$K$505,'Mileage Log'!$B$6:$B$505,">="&MAX($A15,$B$3),'Mileage Log'!$B$6:$B$505,"<="&MIN(EOMONTH($A15,0),$B$4)),SUMIFS('Mileage Log'!$K$6:$K$505,'Mileage Log'!$B$6:$B$505,">="&MAX($A15,$B$3),'Mileage Log'!$B$6:$B$505,"<="&MIN(EOMONTH($A15,0),$B$4),'Mileage Log'!$C$6:$C$505,$B$5))),"") | D15: =IFERROR(IF(OR(EOMONTH($A15,0)<$B$3,$A15>$B$4),"",IF($B$5="All Drivers",SUMIFS('Mileage Log'!$L$6:$L$505,'Mileage Log'!$B$6:$B$505,">="&MAX($A15,$B$3),'Mileage Log'!$B$6:$B$505,"<="&MIN(EOMONTH($A15,0),$B$4)),SUMIFS('Mileage Log'!$L$6:$L$505,'Mileage Log'!$B$6:$B$505,">="&MAX($A15,$B$3),'Mileage Log'!$B$6:$B$505,"<="&MIN(EOMONTH($A15,0),$B$4),'Mileage Log'!$C$6:$C$505,$B$5))),"") | E15: =IFERROR(IF(OR(EOMONTH($A15,0)<$B$3,$A15>$B$4),"",IF($B$5="All Drivers",SUMIFS('Mileage Log'!$P$6:$P$505,'Mileage Log'!$B$6:$B$505,">="&MAX($A15,$B$3),'Mileage Log'!$B$6:$B$505,"<="&MIN(EOMONTH($A15,0),$B$4)),SUMIFS('Mileage Log'!$P$6:$P$505,'Mileage Log'!$B$6:$B$505,">="&MAX($A15,$B$3),'Mileage Log'!$B$6:$B$505,"<="&MIN(EOMONTH($A15,0),$B$4),'Mileage Log'!$C$6:$C$505,$B$5))),"") | K15: =""
A16: =IFERROR(EDATE(A15,1),"") | B16: =IFERROR(IF(OR(EOMONTH($A16,0)<$B$3,$A16>$B$4),"",IF($B$5="All Drivers",COUNTIFS('Mileage Log'!$B$6:$B$505,">="&MAX($A16,$B$3),'Mileage Log'!$B$6:$B$505,"<="&MIN(EOMONTH($A16,0),$B$4),'Mileage Log'!$A$6:$A$505,"<>"),COUNTIFS('Mileage Log'!$B$6:$B$505,">="&MAX($A16,$B$3),'Mileage Log'!$B$6:$B$505,"<="&MIN(EOMONTH($A16,0),$B$4),'Mileage Log'!$C$6:$C$505,$B$5,'Mileage Log'!$A$6:$A$505,"<>"))),"") | C16: =IFERROR(IF(OR(EOMONTH($A16,0)<$B$3,$A16>$B$4),"",IF($B$5="All Drivers",SUMIFS('Mileage Log'!$K$6:$K$505,'Mileage Log'!$B$6:$B$505,">="&MAX($A16,$B$3),'Mileage Log'!$B$6:$B$505,"<="&MIN(EOMONTH($A16,0),$B$4)),SUMIFS('Mileage Log'!$K$6:$K$505,'Mileage Log'!$B$6:$B$505,">="&MAX($A16,$B$3),'Mileage Log'!$B$6:$B$505,"<="&MIN(EOMONTH($A16,0),$B$4),'Mileage Log'!$C$6:$C$505,$B$5))),"") | D16: =IFERROR(IF(OR(EOMONTH($A16,0)<$B$3,$A16>$B$4),"",IF($B$5="All Drivers",SUMIFS('Mileage Log'!$L$6:$L$505,'Mileage Log'!$B$6:$B$505,">="&MAX($A16,$B$3),'Mileage Log'!$B$6:$B$505,"<="&MIN(EOMONTH($A16,0),$B$4)),SUMIFS('Mileage Log'!$L$6:$L$505,'Mileage Log'!$B$6:$B$505,">="&MAX($A16,$B$3),'Mileage Log'!$B$6:$B$505,"<="&MIN(EOMONTH($A16,0),$B$4),'Mileage Log'!$C$6:$C$505,$B$5))),"") | E16: =IFERROR(IF(OR(EOMONTH($A16,0)<$B$3,$A16>$B$4),"",IF($B$5="All Drivers",SUMIFS('Mileage Log'!$P$6:$P$505,'Mileage Log'!$B$6:$B$505,">="&MAX($A16,$B$3),'Mileage Log'!$B$6:$B$505,"<="&MIN(EOMONTH($A16,0),$B$4)),SUMIFS('Mileage Log'!$P$6:$P$505,'Mileage Log'!$B$6:$B$505,">="&MAX($A16,$B$3),'Mileage Log'!$B$6:$B$505,"<="&MIN(EOMONTH($A16,0),$B$4),'Mileage Log'!$C$6:$C$505,$B$5))),"") | K16: =""
A17: =IFERROR(EDATE(A16,1),"") | B17: =IFERROR(IF(OR(EOMONTH($A17,0)<$B$3,$A17>$B$4),"",IF($B$5="All Drivers",COUNTIFS('Mileage Log'!$B$6:$B$505,">="&MAX($A17,$B$3),'Mileage Log'!$B$6:$B$505,"<="&MIN(EOMONTH($A17,0),$B$4),'Mileage Log'!$A$6:$A$505,"<>"),COUNTIFS('Mileage Log'!$B$6:$B$505,">="&MAX($A17,$B$3),'Mileage Log'!$B$6:$B$505,"<="&MIN(EOMONTH($A17,0),$B$4),'Mileage Log'!$C$6:$C$505,$B$5,'Mileage Log'!$A$6:$A$505,"<>"))),"") | C17: =IFERROR(IF(OR(EOMONTH($A17,0)<$B$3,$A17>$B$4),"",IF($B$5="All Drivers",SUMIFS('Mileage Log'!$K$6:$K$505,'Mileage Log'!$B$6:$B$505,">="&MAX($A17,$B$3),'Mileage Log'!$B$6:$B$505,"<="&MIN(EOMONTH($A17,0),$B$4)),SUMIFS('Mileage Log'!$K$6:$K$505,'Mileage Log'!$B$6:$B$505,">="&MAX($A17,$B$3),'Mileage Log'!$B$6:$B$505,"<="&MIN(EOMONTH($A17,0),$B$4),'Mileage Log'!$C$6:$C$505,$B$5))),"") | D17: =IFERROR(IF(OR(EOMONTH($A17,0)<$B$3,$A17>$B$4),"",IF($B$5="All Drivers",SUMIFS('Mileage Log'!$L$6:$L$505,'Mileage Log'!$B$6:$B$505,">="&MAX($A17,$B$3),'Mileage Log'!$B$6:$B$505,"<="&MIN(EOMONTH($A17,0),$B$4)),SUMIFS('Mileage Log'!$L$6:$L$505,'Mileage Log'!$B$6:$B$505,">="&MAX($A17,$B$3),'Mileage Log'!$B$6:$B$505,"<="&MIN(EOMONTH($A17,0),$B$4),'Mileage Log'!$C$6:$C$505,$B$5))),"") | E17: =IFERROR(IF(OR(EOMONTH($A17,0)<$B$3,$A17>$B$4),"",IF($B$5="All Drivers",SUMIFS('Mileage Log'!$P$6:$P$505,'Mileage Log'!$B$6:$B$505,">="&MAX($A17,$B$3),'Mileage Log'!$B$6:$B$505,"<="&MIN(EOMONTH($A17,0),$B$4)),SUMIFS('Mileage Log'!$P$6:$P$505,'Mileage Log'!$B$6:$B$505,">="&MAX($A17,$B$3),'Mileage Log'!$B$6:$B$505,"<="&MIN(EOMONTH($A17,0),$B$4),'Mileage Log'!$C$6:$C$505,$B$5))),"") | K17: =""
A18: =IFERROR(EDATE(A17,1),"") | B18: =IFERROR(IF(OR(EOMONTH($A18,0)<$B$3,$A18>$B$4),"",IF($B$5="All Drivers",COUNTIFS('Mileage Log'!$B$6:$B$505,">="&MAX($A18,$B$3),'Mileage Log'!$B$6:$B$505,"<="&MIN(EOMONTH($A18,0),$B$4),'Mileage Log'!$A$6:$A$505,"<>"),COUNTIFS('Mileage Log'!$B$6:$B$505,">="&MAX($A18,$B$3),'Mileage Log'!$B$6:$B$505,"<="&MIN(EOMONTH($A18,0),$B$4),'Mileage Log'!$C$6:$C$505,$B$5,'Mileage Log'!$A$6:$A$505,"<>"))),"") | C18: =IFERROR(IF(OR(EOMONTH($A18,0)<$B$3,$A18>$B$4),"",IF($B$5="All Drivers",SUMIFS('Mileage Log'!$K$6:$K$505,'Mileage Log'!$B$6:$B$505,">="&MAX($A18,$B$3),'Mileage Log'!$B$6:$B$505,"<="&MIN(EOMONTH($A18,0),$B$4)),SUMIFS('Mileage Log'!$K$6:$K$505,'Mileage Log'!$B$6:$B$505,">="&MAX($A18,$B$3),'Mileage Log'!$B$6:$B$505,"<="&MIN(EOMONTH($A18,0),$B$4),'Mileage Log'!$C$6:$C$505,$B$5))),"") | D18: =IFERROR(IF(OR(EOMONTH($A18,0)<$B$3,$A18>$B$4),"",IF($B$5="All Drivers",SUMIFS('Mileage Log'!$L$6:$L$505,'Mileage Log'!$B$6:$B$505,">="&MAX($A18,$B$3),'Mileage Log'!$B$6:$B$505,"<="&MIN(EOMONTH($A18,0),$B$4)),SUMIFS('Mileage Log'!$L$6:$L$505,'Mileage Log'!$B$6:$B$505,">="&MAX($A18,$B$3),'Mileage Log'!$B$6:$B$505,"<="&MIN(EOMONTH($A18,0),$B$4),'Mileage Log'!$C$6:$C$505,$B$5))),"") | E18: =IFERROR(IF(OR(EOMONTH($A18,0)<$B$3,$A18>$B$4),"",IF($B$5="All Drivers",SUMIFS('Mileage Log'!$P$6:$P$505,'Mileage Log'!$B$6:$B$505,">="&MAX($A18,$B$3),'Mileage Log'!$B$6:$B$505,"<="&MIN(EOMONTH($A18,0),$B$4)),SUMIFS('Mileage Log'!$P$6:$P$505,'Mileage Log'!$B$6:$B$505,">="&MAX($A18,$B$3),'Mileage Log'!$B$6:$B$505,"<="&MIN(EOMONTH($A18,0),$B$4),'Mileage Log'!$C$6:$C$505,$B$5))),"") | K18: =""
A19: =IFERROR(EDATE(A18,1),"") | B19: =IFERROR(IF(OR(EOMONTH($A19,0)<$B$3,$A19>$B$4),"",IF($B$5="All Drivers",COUNTIFS('Mileage Log'!$B$6:$B$505,">="&MAX($A19,$B$3),'Mileage Log'!$B$6:$B$505,"<="&MIN(EOMONTH($A19,0),$B$4),'Mileage Log'!$A$6:$A$505,"<>"),COUNTIFS('Mileage Log'!$B$6:$B$505,">="&MAX($A19,$B$3),'Mileage Log'!$B$6:$B$505,"<="&MIN(EOMONTH($A19,0),$B$4),'Mileage Log'!$C$6:$C$505,$B$5,'Mileage Log'!$A$6:$A$505,"<>"))),"") | C19: =IFERROR(IF(OR(EOMONTH($A19,0)<$B$3,$A19>$B$4),"",IF($B$5="All Drivers",SUMIFS('Mileage Log'!$K$6:$K$505,'Mileage Log'!$B$6:$B$505,">="&MAX($A19,$B$3),'Mileage Log'!$B$6:$B$505,"<="&MIN(EOMONTH($A19,0),$B$4)),SUMIFS('Mileage Log'!$K$6:$K$505,'Mileage Log'!$B$6:$B$505,">="&MAX($A19,$B$3),'Mileage Log'!$B$6:$B$505,"<="&MIN(EOMONTH($A19,0),$B$4),'Mileage Log'!$C$6:$C$505,$B$5))),"") | D19: =IFERROR(IF(OR(EOMONTH($A19,0)<$B$3,$A19>$B$4),"",IF($B$5="All Drivers",SUMIFS('Mileage Log'!$L$6:$L$505,'Mileage Log'!$B$6:$B$505,">="&MAX($A19,$B$3),'Mileage Log'!$B$6:$B$505,"<="&MIN(EOMONTH($A19,0),$B$4)),SUMIFS('Mileage Log'!$L$6:$L$505,'Mileage Log'!$B$6:$B$505,">="&MAX($A19,$B$3),'Mileage Log'!$B$6:$B$505,"<="&MIN(EOMONTH($A19,0),$B$4),'Mileage Log'!$C$6:$C$505,$B$5))),"") | E19: =IFERROR(IF(OR(EOMONTH($A19,0)<$B$3,$A19>$B$4),"",IF($B$5="All Drivers",SUMIFS('Mileage Log'!$P$6:$P$505,'Mileage Log'!$B$6:$B$505,">="&MAX($A19,$B$3),'Mileage Log'!$B$6:$B$505,"<="&MIN(EOMONTH($A19,0),$B$4)),SUMIFS('Mileage Log'!$P$6:$P$505,'Mileage Log'!$B$6:$B$505,">="&MAX($A19,$B$3),'Mileage Log'!$B$6:$B$505,"<="&MIN(EOMONTH($A19,0),$B$4),'Mileage Log'!$C$6:$C$505,$B$5))),"") | K19: =""
A20: =IFERROR(EDATE(A19,1),"") | B20: =IFERROR(IF(OR(EOMONTH($A20,0)<$B$3,$A20>$B$4),"",IF($B$5="All Drivers",COUNTIFS('Mileage Log'!$B$6:$B$505,">="&MAX($A20,$B$3),'Mileage Log'!$B$6:$B$505,"<="&MIN(EOMONTH($A20,0),$B$4),'Mileage Log'!$A$6:$A$505,"<>"),COUNTIFS('Mileage Log'!$B$6:$B$505,">="&MAX($A20,$B$3),'Mileage Log'!$B$6:$B$505,"<="&MIN(EOMONTH($A20,0),$B$4),'Mileage Log'!$C$6:$C$505,$B$5,'Mileage Log'!$A$6:$A$505,"<>"))),"") | C20: =IFERROR(IF(OR(EOMONTH($A20,0)<$B$3,$A20>$B$4),"",IF($B$5="All Drivers",SUMIFS('Mileage Log'!$K$6:$K$505,'Mileage Log'!$B$6:$B$505,">="&MAX($A20,$B$3),'Mileage Log'!$B$6:$B$505,"<="&MIN(EOMONTH($A20,0),$B$4)),SUMIFS('Mileage Log'!$K$6:$K$505,'Mileage Log'!$B$6:$B$505,">="&MAX($A20,$B$3),'Mileage Log'!$B$6:$B$505,"<="&MIN(EOMONTH($A20,0),$B$4),'Mileage Log'!$C$6:$C$505,$B$5))),"") | D20: =IFERROR(IF(OR(EOMONTH($A20,0)<$B$3,$A20>$B$4),"",IF($B$5="All Drivers",SUMIFS('Mileage Log'!$L$6:$L$505,'Mileage Log'!$B$6:$B$505,">="&MAX($A20,$B$3),'Mileage Log'!$B$6:$B$505,"<="&MIN(EOMONTH($A20,0),$B$4)),SUMIFS('Mileage Log'!$L$6:$L$505,'Mileage Log'!$B$6:$B$505,">="&MAX($A20,$B$3),'Mileage Log'!$B$6:$B$505,"<="&MIN(EOMONTH($A20,0),$B$4),'Mileage Log'!$C$6:$C$505,$B$5))),"") | E20: =IFERROR(IF(OR(EOMONTH($A20,0)<$B$3,$A20>$B$4),"",IF($B$5="All Drivers",SUMIFS('Mileage Log'!$P$6:$P$505,'Mileage Log'!$B$6:$B$505,">="&MAX($A20,$B$3),'Mileage Log'!$B$6:$B$505,"<="&MIN(EOMONTH($A20,0),$B$4)),SUMIFS('Mileage Log'!$P$6:$P$505,'Mileage Log'!$B$6:$B$505,">="&MAX($A20,$B$3),'Mileage Log'!$B$6:$B$505,"<="&MIN(EOMONTH($A20,0),$B$4),'Mileage Log'!$C$6:$C$505,$B$5))),"") | K20: =""
A21: =IFERROR(EDATE(A20,1),"") | B21: =IFERROR(IF(OR(EOMONTH($A21,0)<$B$3,$A21>$B$4),"",IF($B$5="All Drivers",COUNTIFS('Mileage Log'!$B$6:$B$505,">="&MAX($A21,$B$3),'Mileage Log'!$B$6:$B$505,"<="&MIN(EOMONTH($A21,0),$B$4),'Mileage Log'!$A$6:$A$505,"<>"),COUNTIFS('Mileage Log'!$B$6:$B$505,">="&MAX($A21,$B$3),'Mileage Log'!$B$6:$B$505,"<="&MIN(EOMONTH($A21,0),$B$4),'Mileage Log'!$C$6:$C$505,$B$5,'Mileage Log'!$A$6:$A$505,"<>"))),"") | C21: =IFERROR(IF(OR(EOMONTH($A21,0)<$B$3,$A21>$B$4),"",IF($B$5="All Drivers",SUMIFS('Mileage Log'!$K$6:$K$505,'Mileage Log'!$B$6:$B$505,">="&MAX($A21,$B$3),'Mileage Log'!$B$6:$B$505,"<="&MIN(EOMONTH($A21,0),$B$4)),SUMIFS('Mileage Log'!$K$6:$K$505,'Mileage Log'!$B$6:$B$505,">="&MAX($A21,$B$3),'Mileage Log'!$B$6:$B$505,"<="&MIN(EOMONTH($A21,0),$B$4),'Mileage Log'!$C$6:$C$505,$B$5))),"") | D21: =IFERROR(IF(OR(EOMONTH($A21,0)<$B$3,$A21>$B$4),"",IF($B$5="All Drivers",SUMIFS('Mileage Log'!$L$6:$L$505,'Mileage Log'!$B$6:$B$505,">="&MAX($A21,$B$3),'Mileage Log'!$B$6:$B$505,"<="&MIN(EOMONTH($A21,0),$B$4)),SUMIFS('Mileage Log'!$L$6:$L$505,'Mileage Log'!$B$6:$B$505,">="&MAX($A21,$B$3),'Mileage Log'!$B$6:$B$505,"<="&MIN(EOMONTH($A21,0),$B$4),'Mileage Log'!$C$6:$C$505,$B$5))),"") | E21: =IFERROR(IF(OR(EOMONTH($A21,0)<$B$3,$A21>$B$4),"",IF($B$5="All Drivers",SUMIFS('Mileage Log'!$P$6:$P$505,'Mileage Log'!$B$6:$B$505,">="&MAX($A21,$B$3),'Mileage Log'!$B$6:$B$505,"<="&MIN(EOMONTH($A21,0),$B$4)),SUMIFS('Mileage Log'!$P$6:$P$505,'Mileage Log'!$B$6:$B$505,">="&MAX($A21,$B$3),'Mileage Log'!$B$6:$B$505,"<="&MIN(EOMONTH($A21,0),$B$4),'Mileage Log'!$C$6:$C$505,$B$5))),"") | K21: =""
A22: =IFERROR(EDATE(A21,1),"") | B22: =IFERROR(IF(OR(EOMONTH($A22,0)<$B$3,$A22>$B$4),"",IF($B$5="All Drivers",COUNTIFS('Mileage Log'!$B$6:$B$505,">="&MAX($A22,$B$3),'Mileage Log'!$B$6:$B$505,"<="&MIN(EOMONTH($A22,0),$B$4),'Mileage Log'!$A$6:$A$505,"<>"),COUNTIFS('Mileage Log'!$B$6:$B$505,">="&MAX($A22,$B$3),'Mileage Log'!$B$6:$B$505,"<="&MIN(EOMONTH($A22,0),$B$4),'Mileage Log'!$C$6:$C$505,$B$5,'Mileage Log'!$A$6:$A$505,"<>"))),"") | C22: =IFERROR(IF(OR(EOMONTH($A22,0)<$B$3,$A22>$B$4),"",IF($B$5="All Drivers",SUMIFS('Mileage Log'!$K$6:$K$505,'Mileage Log'!$B$6:$B$505,">="&MAX($A22,$B$3),'Mileage Log'!$B$6:$B$505,"<="&MIN(EOMONTH($A22,0),$B$4)),SUMIFS('Mileage Log'!$K$6:$K$505,'Mileage Log'!$B$6:$B$505,">="&MAX($A22,$B$3),'Mileage Log'!$B$6:$B$505,"<="&MIN(EOMONTH($A22,0),$B$4),'Mileage Log'!$C$6:$C$505,$B$5))),"") | D22: =IFERROR(IF(OR(EOMONTH($A22,0)<$B$3,$A22>$B$4),"",IF($B$5="All Drivers",SUMIFS('Mileage Log'!$L$6:$L$505,'Mileage Log'!$B$6:$B$505,">="&MAX($A22,$B$3),'Mileage Log'!$B$6:$B$505,"<="&MIN(EOMONTH($A22,0),$B$4)),SUMIFS('Mileage Log'!$L$6:$L$505,'Mileage Log'!$B$6:$B$505,">="&MAX($A22,$B$3),'Mileage Log'!$B$6:$B$505,"<="&MIN(EOMONTH($A22,0),$B$4),'Mileage Log'!$C$6:$C$505,$B$5))),"") | E22: =IFERROR(IF(OR(EOMONTH($A22,0)<$B$3,$A22>$B$4),"",IF($B$5="All Drivers",SUMIFS('Mileage Log'!$P$6:$P$505,'Mileage Log'!$B$6:$B$505,">="&MAX($A22,$B$3),'Mileage Log'!$B$6:$B$505,"<="&MIN(EOMONTH($A22,0),$B$4)),SUMIFS('Mileage Log'!$P$6:$P$505,'Mileage Log'!$B$6:$B$505,">="&MAX($A22,$B$3),'Mileage Log'!$B$6:$B$505,"<="&MIN(EOMONTH($A22,0),$B$4),'Mileage Log'!$C$6:$C$505,$B$5))),"") | K22: =""
A23: =IFERROR(EDATE(A22,1),"") | B23: =IFERROR(IF(OR(EOMONTH($A23,0)<$B$3,$A23>$B$4),"",IF($B$5="All Drivers",COUNTIFS('Mileage Log'!$B$6:$B$505,">="&MAX($A23,$B$3),'Mileage Log'!$B$6:$B$505,"<="&MIN(EOMONTH($A23,0),$B$4),'Mileage Log'!$A$6:$A$505,"<>"),COUNTIFS('Mileage Log'!$B$6:$B$505,">="&MAX($A23,$B$3),'Mileage Log'!$B$6:$B$505,"<="&MIN(EOMONTH($A23,0),$B$4),'Mileage Log'!$C$6:$C$505,$B$5,'Mileage Log'!$A$6:$A$505,"<>"))),"") | C23: =IFERROR(IF(OR(EOMONTH($A23,0)<$B$3,$A23>$B$4),"",IF($B$5="All Drivers",SUMIFS('Mileage Log'!$K$6:$K$505,'Mileage Log'!$B$6:$B$505,">="&MAX($A23,$B$3),'Mileage Log'!$B$6:$B$505,"<="&MIN(EOMONTH($A23,0),$B$4)),SUMIFS('Mileage Log'!$K$6:$K$505,'Mileage Log'!$B$6:$B$505,">="&MAX($A23,$B$3),'Mileage Log'!$B$6:$B$505,"<="&MIN(EOMONTH($A23,0),$B$4),'Mileage Log'!$C$6:$C$505,$B$5))),"") | D23: =IFERROR(IF(OR(EOMONTH($A23,0)<$B$3,$A23>$B$4),"",IF($B$5="All Drivers",SUMIFS('Mileage Log'!$L$6:$L$505,'Mileage Log'!$B$6:$B$505,">="&MAX($A23,$B$3),'Mileage Log'!$B$6:$B$505,"<="&MIN(EOMONTH($A23,0),$B$4)),SUMIFS('Mileage Log'!$L$6:$L$505,'Mileage Log'!$B$6:$B$505,">="&MAX($A23,$B$3),'Mileage Log'!$B$6:$B$505,"<="&MIN(EOMONTH($A23,0),$B$4),'Mileage Log'!$C$6:$C$505,$B$5))),"") | E23: =IFERROR(IF(OR(EOMONTH($A23,0)<$B$3,$A23>$B$4),"",IF($B$5="All Drivers",SUMIFS('Mileage Log'!$P$6:$P$505,'Mileage Log'!$B$6:$B$505,">="&MAX($A23,$B$3),'Mileage Log'!$B$6:$B$505,"<="&MIN(EOMONTH($A23,0),$B$4)),SUMIFS('Mileage Log'!$P$6:$P$505,'Mileage Log'!$B$6:$B$505,">="&MAX($A23,$B$3),'Mileage Log'!$B$6:$B$505,"<="&MIN(EOMONTH($A23,0),$B$4),'Mileage Log'!$C$6:$C$505,$B$5))),"") | K23: =""
A24: ="" | C24: ="" | K24: =""
A25: ="" | C25: ="" | K25: =""
A26: Data Quality Checks | C26: ="" | D26: Driver Breakdown | K26: =""
A27: Rows Needing Review | B27: =IFERROR($K$4,0) | C27: ="" | D27: Driver | E27: Trips | F27: Total Miles | G27: Business Miles | H27: Reimbursement | K27: =""
A28: Missing Business Purpose | B28: =IFERROR($K$5,0) | C28: ="" | D28: =IFERROR('Drivers & Vehicles'!$B$5,"") | E28: =IF($D28="","",IFERROR(COUNTIFS('Mileage Log'!$B$6:$B$505,">="&$B$3,'Mileage Log'!$B$6:$B$505,"<="&$B$4,'Mileage Log'!$C$6:$C$505,$D28,'Mileage Log'!$A$6:$A$505,"<>"),0)) | F28: =IF($D28="","",IFERROR(SUMIFS('Mileage Log'!$K$6:$K$505,'Mileage Log'!$B$6:$B$505,">="&$B$3,'Mileage Log'!$B$6:$B$505,"<="&$B$4,'Mileage Log'!$C$6:$C$505,$D28),0)) | G28: =IF($D28="","",IFERROR(SUMIFS('Mileage Log'!$L$6:$L$505,'Mileage Log'!$B$6:$B$505,">="&$B$3,'Mileage Log'!$B$6:$B$505,"<="&$B$4,'Mileage Log'!$C$6:$C$505,$D28),0)) | H28: =IF($D28="","",IFERROR(SUMIFS('Mileage Log'!$P$6:$P$505,'Mileage Log'!$B$6:$B$505,">="&$B$3,'Mileage Log'!$B$6:$B$505,"<="&$B$4,'Mileage Log'!$C$6:$C$505,$D28),0)) | K28: =""
A29: Duplicate Trip ID Rows | B29: =IFERROR($K$6,0) | C29: ="" | D29: =IFERROR('Drivers & Vehicles'!$B$6,"") | E29: =IF($D29="","",IFERROR(COUNTIFS('Mileage Log'!$B$6:$B$505,">="&$B$3,'Mileage Log'!$B$6:$B$505,"<="&$B$4,'Mileage Log'!$C$6:$C$505,$D29,'Mileage Log'!$A$6:$A$505,"<>"),0)) | F29: =IF($D29="","",IFERROR(SUMIFS('Mileage Log'!$K$6:$K$505,'Mileage Log'!$B$6:$B$505,">="&$B$3,'Mileage Log'!$B$6:$B$505,"<="&$B$4,'Mileage Log'!$C$6:$C$505,$D29),0)) | G29: =IF($D29="","",IFERROR(SUMIFS('Mileage Log'!$L$6:$L$505,'Mileage Log'!$B$6:$B$505,">="&$B$3,'Mileage Log'!$B$6:$B$505,"<="&$B$4,'Mileage Log'!$C$6:$C$505,$D29),0)) | H29: =IF($D29="","",IFERROR(SUMIFS('Mileage Log'!$P$6:$P$505,'Mileage Log'!$B$6:$B$505,">="&$B$3,'Mileage Log'!$B$6:$B$505,"<="&$B$4,'Mileage Log'!$C$6:$C$505,$D29),0)) | K29: =""
A30: End Odometer Below Start | B30: =IFERROR(IF($B$5="All Drivers",SUMPRODUCT(--('Mileage Log'!$A$6:$A$505<>""),--('Mileage Log'!$B$6:$B$505>=$B$3),--('Mileage Log'!$B$6:$B$505<=$B$4),--('Mileage Log'!$K$6:$K$505<0)),SUMPRODUCT(--('Mileage Log'!$A$6:$A$505<>""),--('Mileage Log'!$B$6:$B$505>=$B$3),--('Mileage Log'!$B$6:$B$505<=$B$4),--('Mileage Log'!$K$6:$K$505<0),--('Mileage Log'!$C$6:$C$505=$B$5))),0) | C30: ="" | D30: =IFERROR('Drivers & Vehicles'!$B$7,"") | E30: =IF($D30="","",IFERROR(COUNTIFS('Mileage Log'!$B$6:$B$505,">="&$B$3,'Mileage Log'!$B$6:$B$505,"<="&$B$4,'Mileage Log'!$C$6:$C$505,$D30,'Mileage Log'!$A$6:$A$505,"<>"),0)) | F30: =IF($D30="","",IFERROR(SUMIFS('Mileage Log'!$K$6:$K$505,'Mileage Log'!$B$6:$B$505,">="&$B$3,'Mileage Log'!$B$6:$B$505,"<="&$B$4,'Mileage Log'!$C$6:$C$505,$D30),0)) | G30: =IF($D30="","",IFERROR(SUMIFS('Mileage Log'!$L$6:$L$505,'Mileage Log'!$B$6:$B$505,">="&$B$3,'Mileage Log'!$B$6:$B$505,"<="&$B$4,'Mileage Log'!$C$6:$C$505,$D30),0)) | H30: =IF($D30="","",IFERROR(SUMIFS('Mileage Log'!$P$6:$P$505,'Mileage Log'!$B$6:$B$505,">="&$B$3,'Mileage Log'!$B$6:$B$505,"<="&$B$4,'Mileage Log'!$C$6:$C$505,$D30),0)) | K30: =""
A31: Business Miles Exceed Total | B31: =IFERROR(IF($B$5="All Drivers",SUMPRODUCT(--('Mileage Log'!$A$6:$A$505<>""),--('Mileage Log'!$B$6:$B$505>=$B$3),--('Mileage Log'!$B$6:$B$505<=$B$4),--('Mileage Log'!$L$6:$L$505>'Mileage Log'!$K$6:$K$505)),SUMPRODUCT(--('Mileage Log'!$A$6:$A$505<>""),--('Mileage Log'!$B$6:$B$505>=$B$3),--('Mileage Log'!$B$6:$B$505<=$B$4),--('Mileage Log'!$L$6:$L$505>'Mileage Log'!$K$6:$K$505),--('Mileage Log'!$C$6:$C$505=$B$5))),0) | C31: ="" | D31: =IFERROR('Drivers & Vehicles'!$B$8,"") | E31: =IF($D31="","",IFERROR(COUNTIFS('Mileage Log'!$B$6:$B$505,">="&$B$3,'Mileage Log'!$B$6:$B$505,"<="&$B$4,'Mileage Log'!$C$6:$C$505,$D31,'Mileage Log'!$A$6:$A$505,"<>"),0)) | F31: =IF($D31="","",IFERROR(SUMIFS('Mileage Log'!$K$6:$K$505,'Mileage Log'!$B$6:$B$505,">="&$B$3,'Mileage Log'!$B$6:$B$505,"<="&$B$4,'Mileage Log'!$C$6:$C$505,$D31),0)) | G31: =IF($D31="","",IFERROR(SUMIFS('Mileage Log'!$L$6:$L$505,'Mileage Log'!$B$6:$B$505,">="&$B$3,'Mileage Log'!$B$6:$B$505,"<="&$B$4,'Mileage Log'!$C$6:$C$505,$D31),0)) | H31: =IF($D31="","",IFERROR(SUMIFS('Mileage Log'!$P$6:$P$505,'Mileage Log'!$B$6:$B$505,">="&$B$3,'Mileage Log'!$B$6:$B$505,"<="&$B$4,'Mileage Log'!$C$6:$C$505,$D31),0)) | K31: =""
A32: Zero-Mile Trips | B32: =IFERROR(IF($B$5="All Drivers",SUMPRODUCT(--('Mileage Log'!$A$6:$A$505<>""),--('Mileage Log'!$B$6:$B$505>=$B$3),--('Mileage Log'!$B$6:$B$505<=$B$4),--('Mileage Log'!$K$6:$K$505=0),--('Mileage Log'!$K$6:$K$505<>"")),SUMPRODUCT(--('Mileage Log'!$A$6:$A$505<>""),--('Mileage Log'!$B$6:$B$505>=$B$3),--('Mileage Log'!$B$6:$B$505<=$B$4),--('Mileage Log'!$K$6:$K$505=0),--('Mileage Log'!$K$6:$K$505<>""),--('Mileage Log'!$C$6:$C$505=$B$5))),0) | C32: ="" | D32: =IFERROR('Drivers & Vehicles'!$B$9,"") | E32: =IF($D32="","",IFERROR(COUNTIFS('Mileage Log'!$B$6:$B$505,">="&$B$3,'Mileage Log'!$B$6:$B$505,"<="&$B$4,'Mileage Log'!$C$6:$C$505,$D32,'Mileage Log'!$A$6:$A$505,"<>"),0)) | F32: =IF($D32="","",IFERROR(SUMIFS('Mileage Log'!$K$6:$K$505,'Mileage Log'!$B$6:$B$505,">="&$B$3,'Mileage Log'!$B$6:$B$505,"<="&$B$4,'Mileage Log'!$C$6:$C$505,$D32),0)) | G32: =IF($D32="","",IFERROR(SUMIFS('Mileage Log'!$L$6:$L$505,'Mileage Log'!$B$6:$B$505,">="&$B$3,'Mileage Log'!$B$6:$B$505,"<="&$B$4,'Mileage Log'!$C$6:$C$505,$D32),0)) | H32: =IF($D32="","",IFERROR(SUMIFS('Mileage Log'!$P$6:$P$505,'Mileage Log'!$B$6:$B$505,">="&$B$3,'Mileage Log'!$B$6:$B$505,"<="&$B$4,'Mileage Log'!$C$6:$C$505,$D32),0)) | K32: =""
A33: ="" | B33: ="" | C33: ="" | D33: =IFERROR('Drivers & Vehicles'!$B$10,"") | E33: =IF($D33="","",IFERROR(COUNTIFS('Mileage Log'!$B$6:$B$505,">="&$B$3,'Mileage Log'!$B$6:$B$505,"<="&$B$4,'Mileage Log'!$C$6:$C$505,$D33,'Mileage Log'!$A$6:$A$505,"<>"),0)) | F33: =IF($D33="","",IFERROR(SUMIFS('Mileage Log'!$K$6:$K$505,'Mileage Log'!$B$6:$B$505,">="&$B$3,'Mileage Log'!$B$6:$B$505,"<="&$B$4,'Mileage Log'!$C$6:$C$505,$D33),0)) | G33: =IF($D33="","",IFERROR(SUMIFS('Mileage Log'!$L$6:$L$505,'Mileage Log'!$B$6:$B$505,">="&$B$3,'Mileage Log'!$B$6:$B$505,"<="&$B$4,'Mileage Log'!$C$6:$C$505,$D33),0)) | H33: =IF($D33="","",IFERROR(SUMIFS('Mileage Log'!$P$6:$P$505,'Mileage Log'!$B$6:$B$505,">="&$B$3,'Mileage Log'!$B$6:$B$505,"<="&$B$4,'Mileage Log'!$C$6:$C$505,$D33),0)) | K33: =""
A34: ="" | B34: ="" | C34: ="" | D34: =IFERROR('Drivers & Vehicles'!$B$11,"") | E34: =IF($D34="","",IFERROR(COUNTIFS('Mileage Log'!$B$6:$B$505,">="&$B$3,'Mileage Log'!$B$6:$B$505,"<="&$B$4,'Mileage Log'!$C$6:$C$505,$D34,'Mileage Log'!$A$6:$A$505,"<>"),0)) | F34: =IF($D34="","",IFERROR(SUMIFS('Mileage Log'!$K$6:$K$505,'Mileage Log'!$B$6:$B$505,">="&$B$3,'Mileage Log'!$B$6:$B$505,"<="&$B$4,'Mileage Log'!$C$6:$C$505,$D34),0)) | G34: =IF($D34="","",IFERROR(SUMIFS('Mileage Log'!$L$6:$L$505,'Mileage Log'!$B$6:$B$505,">="&$B$3,'Mileage Log'!$B$6:$B$505,"<="&$B$4,'Mileage Log'!$C$6:$C$505,$D34),0)) | H34: =IF($D34="","",IFERROR(SUMIFS('Mileage Log'!$P$6:$P$505,'Mileage Log'!$B$6:$B$505,">="&$B$3,'Mileage Log'!$B$6:$B$505,"<="&$B$4,'Mileage Log'!$C$6:$C$505,$D34),0)) | K34: =""
A35: ="" | B35: ="" | C35: ="" | D35: =IFERROR('Drivers & Vehicles'!$B$12,"") | E35: =IF($D35="","",IFERROR(COUNTIFS('Mileage Log'!$B$6:$B$505,">="&$B$3,'Mileage Log'!$B$6:$B$505,"<="&$B$4,'Mileage Log'!$C$6:$C$505,$D35,'Mileage Log'!$A$6:$A$505,"<>"),0)) | F35: =IF($D35="","",IFERROR(SUMIFS('Mileage Log'!$K$6:$K$505,'Mileage Log'!$B$6:$B$505,">="&$B$3,'Mileage Log'!$B$6:$B$505,"<="&$B$4,'Mileage Log'!$C$6:$C$505,$D35),0)) | G35: =IF($D35="","",IFERROR(SUMIFS('Mileage Log'!$L$6:$L$505,'Mileage Log'!$B$6:$B$505,">="&$B$3,'Mileage Log'!$B$6:$B$505,"<="&$B$4,'Mileage Log'!$C$6:$C$505,$D35),0)) | H35: =IF($D35="","",IFERROR(SUMIFS('Mileage Log'!$P$6:$P$505,'Mileage Log'!$B$6:$B$505,">="&$B$3,'Mileage Log'!$B$6:$B$505,"<="&$B$4,'Mileage Log'!$C$6:$C$505,$D35),0)) | K35: =""
A36: ="" | B36: ="" | C36: ="" | D36: =IFERROR('Drivers & Vehicles'!$B$13,"") | E36: =IF($D36="","",IFERROR(COUNTIFS('Mileage Log'!$B$6:$B$505,">="&$B$3,'Mileage Log'!$B$6:$B$505,"<="&$B$4,'Mileage Log'!$C$6:$C$505,$D36,'Mileage Log'!$A$6:$A$505,"<>"),0)) | F36: =IF($D36="","",IFERROR(SUMIFS('Mileage Log'!$K$6:$K$505,'Mileage Log'!$B$6:$B$505,">="&$B$3,'Mileage Log'!$B$6:$B$505,"<="&$B$4,'Mileage Log'!$C$6:$C$505,$D36),0)) | G36: =IF($D36="","",IFERROR(SUMIFS('Mileage Log'!$L$6:$L$505,'Mileage Log'!$B$6:$B$505,">="&$B$3,'Mileage Log'!$B$6:$B$505,"<="&$B$4,'Mileage Log'!$C$6:$C$505,$D36),0)) | H36: =IF($D36="","",IFERROR(SUMIFS('Mileage Log'!$P$6:$P$505,'Mileage Log'!$B$6:$B$505,">="&$B$3,'Mileage Log'!$B$6:$B$505,"<="&$B$4,'Mileage Log'!$C$6:$C$505,$D36),0)) | K36: =""
A37: ="" | B37: ="" | C37: ="" | D37: =IFERROR('Drivers & Vehicles'!$B$14,"") | E37: =IF($D37="","",IFERROR(COUNTIFS('Mileage Log'!$B$6:$B$505,">="&$B$3,'Mileage Log'!$B$6:$B$505,"<="&$B$4,'Mileage Log'!$C$6:$C$505,$D37,'Mileage Log'!$A$6:$A$505,"<>"),0)) | F37: =IF($D37="","",IFERROR(SUMIFS('Mileage Log'!$K$6:$K$505,'Mileage Log'!$B$6:$B$505,">="&$B$3,'Mileage Log'!$B$6:$B$505,"<="&$B$4,'Mileage Log'!$C$6:$C$505,$D37),0)) | G37: =IF($D37="","",IFERROR(SUMIFS('Mileage Log'!$L$6:$L$505,'Mileage Log'!$B$6:$B$505,">="&$B$3,'Mileage Log'!$B$6:$B$505,"<="&$B$4,'Mileage Log'!$C$6:$C$505,$D37),0)) | H37: =IF($D37="","",IFERROR(SUMIFS('Mileage Log'!$P$6:$P$505,'Mileage Log'!$B$6:$B$505,">="&$B$3,'Mileage Log'!$B$6:$B$505,"<="&$B$4,'Mileage Log'!$C$6:$C$505,$D37),0)) | K37: =""
A38: ="" | B38: ="" | C38: ="" | D38: ="" | E38: ="" | F38: ="" | G38: ="" | H38: ="" | K38: =""
A39: ="" | B39: ="" | C39: ="" | D39: ="" | E39: ="" | F39: ="" | G39: ="" | H39: ="" | K39: =""
A40: ="" | B40: ="" | C40: ="" | D40: ="" | E40: ="" | F40: ="" | G40: ="" | H40: ="" | K40: =""
...

Sheet Mileage Log
A1: Driver Mileage Log
A2: Enter one row per trip. Odometer readings and business miles are required for accurate totals.
A3: Yellow cells are inputs. Gray cells are calculated. Use the Validation Flag to review incomplete or inconsistent entries.
A5: Trip ID | B5: Trip Date | C5: Driver | D5: Vehicle ID | E5: Trip Type | F5: Start Location | G5: End Location | H5: Business Purpose / Notes | I5: Start Odometer | J5: End Odometer | K5: Total Miles | L5: Business Miles | M5: Personal / Commute Miles | N5: Reimbursement Eligible? | O5: Reimbursement Rate | P5: Reimbursement Amount | Q5: Fuel Gallons | R5: Fuel Cost | S5: MPG | T5: Validation Flag
A6: TRIP-260001 | B6: 46028 | C6: Elena Ruiz | D6: VAN-101 | E6: Business | F6: Phoenix Warehouse | G6: Mesa, AZ | H6: Parts delivery to customer | I6: 48210 | J6: 48246.8 | K6: =IF(OR($I6="",$J6=""),"",IFERROR($J6-$I6,"")) | L6: 36.8 | M6: =IF(OR($K6="",$L6=""),"",IFERROR(MAX(0,$K6-$L6),"")) | N6: Yes | O6: =IF($A6="","",IF($N6="Yes",IFERROR('Settings'!$B$4,0),0)) | P6: =IF(OR($A6="",$L6="",$O6=""),"",IFERROR(ROUND($L6*$O6,2),0)) | Q6: 2.9 | R6: 9.28 | S6: =IF(OR($K6="",$Q6=""),"",IFERROR($K6/$Q6,"")) | T6: =IF($A6="","",IF($B6="","Missing trip date",IF($C6="","Missing driver",IF($D6="","Missing vehicle",IF($E6="","Missing trip type",IF(OR($I6="",$J6=""),"Missing odometer",IF($K6<0,"End odometer below start",IF($K6=0,"Zero total miles",IF($L6="","Missing business miles",IF($L6>$K6,"Business miles exceed total",IF($N6="","Missing reimbursement choice",IF(AND(OR($E6="Business",$E6="Mixed"),$H6=""),"Missing business purpose",IF(AND(OR($E6="Personal",$E6="Commute"),$L6>0),"Review trip type",IF(AND($N6="Yes",$L6=0),"Review eligibility","OK"))))))))))))))
A7: TRIP-260002 | B7: 46030 | C7: Marcus Lee | D7: TRK-204 | E7: Business | F7: Dallas Service Yard | G7: Fort Worth, TX | H7: Scheduled equipment delivery | I7: 77104 | J7: 77178.5 | K7: =IF(OR($I7="",$J7=""),"",IFERROR($J7-$I7,"")) | L7: 74.5 | M7: =IF(OR($K7="",$L7=""),"",IFERROR(MAX(0,$K7-$L7),"")) | N7: Yes | O7: =IF($A7="","",IF($N7="Yes",IFERROR('Settings'!$B$4,0),0)) | P7: =IF(OR($A7="",$L7="",$O7=""),"",IFERROR(ROUND($L7*$O7,2),0)) | Q7: 8.5 | R7: 27.2 | S7: =IF(OR($K7="",$Q7=""),"",IFERROR($K7/$Q7,"")) | T7: =IF($A7="","",IF($B7="","Missing trip date",IF($C7="","Missing driver",IF($D7="","Missing vehicle",IF($E7="","Missing trip type",IF(OR($I7="",$J7=""),"Missing odometer",IF($K7<0,"End odometer below start",IF($K7=0,"Zero total miles",IF($L7="","Missing business miles",IF($L7>$K7,"Business miles exceed total",IF($N7="","Missing reimbursement choice",IF(AND(OR($E7="Business",$E7="Mixed"),$H7=""),"Missing business purpose",IF(AND(OR($E7="Personal",$E7="Commute"),$L7>0),"Review trip type",IF(AND($N7="Yes",$L7=0),"Review eligibility","OK"))))))))))))))
A8: TRIP-260003 | B8: 46032 | C8: Nina Patel | D8: SED-307 | E8: Commute | F8: Columbus Home Area | G8: Columbus Branch | H8: Home-to-branch commute | I8: 29110 | J8: 29128.2 | K8: =IF(OR($I8="",$J8=""),"",IFERROR($J8-$I8,"")) | L8: 0 | M8: =IF(OR($K8="",$L8=""),"",IFERROR(MAX(0,$K8-$L8),"")) | N8: No | O8: =IF($A8="","",IF($N8="Yes",IFERROR('Settings'!$B$4,0),0)) | P8: =IF(OR($A8="",$L8="",$O8=""),"",IFERROR(ROUND($L8*$O8,2),0)) | Q8: 1.2 | R8: 3.84 | S8: =IF(OR($K8="",$Q8=""),"",IFERROR($K8/$Q8,"")) | T8: =IF($A8="","",IF($B8="","Missing trip date",IF($C8="","Missing driver",IF($D8="","Missing vehicle",IF($E8="","Missing trip type",IF(OR($I8="",$J8=""),"Missing odometer",IF($K8<0,"End odometer below start",IF($K8=0,"Zero total miles",IF($L8="","Missing business miles",IF($L8>$K8,"Business miles exceed total",IF($N8="","Missing reimbursement choice",IF(AND(OR($E8="Business",$E8="Mixed"),$H8=""),"Missing business purpose",IF(AND(OR($E8="Personal",$E8="Commute"),$L8>0),"Review trip type",IF(AND($N8="Yes",$L8=0),"Review eligibility","OK"))))))))))))))
A9: TRIP-260004 | B9: 46036 | C9: Omar Johnson | D9: VAN-115 | E9: Mixed | F9: Atlanta Depot | G9: Marietta, GA | H9: Customer service call; 7.6 personal miles | I9: 62980 | J9: 63031.6 | K9: =IF(OR($I9="",$J9=""),"",IFERROR($J9-$I9,"")) | L9: 44 | M9: =IF(OR($K9="",$L9=""),"",IFERROR(MAX(0,$K9-$L9),"")) | N9: Yes | O9: =IF($A9="","",IF($N9="Yes",IFERROR('Settings'!$B$4,0),0)) | P9: =IF(OR($A9="",$L9="",$O9=""),"",IFERROR(ROUND($L9*$O9,2),0)) | Q9: 4.4 | R9: 14.08 | S9: =IF(OR($K9="",$Q9=""),"",IFERROR($K9/$Q9,"")) | T9: =IF($A9="","",IF($B9="","Missing trip date",IF($C9="","Missing driver",IF($D9="","Missing vehicle",IF($E9="","Missing trip type",IF(OR($I9="",$J9=""),"Missing odometer",IF($K9<0,"End odometer below start",IF($K9=0,"Zero total miles",IF($L9="","Missing business miles",IF($L9>$K9,"Business miles exceed total",IF($N9="","Missing reimbursement choice",IF(AND(OR($E9="Business",$E9="Mixed"),$H9=""),"Missing business purpose",IF(AND(OR($E9="Personal",$E9="Commute"),$L9>0),"Review trip type",IF(AND($N9="Yes",$L9=0),"Review eligibility","OK"))))))))))))))
A10: TRIP-260005 | B10: 46044 | C10: Elena Ruiz | D10: VAN-101 | E10: Business | F10: Phoenix Warehouse | G10: Chandler, AZ | H10: Urgent replacement parts delivery | I10: 48246.8 | J10: 48308.9 | K10: =IF(OR($I10="",$J10=""),"",IFERROR($J10-$I10,"")) | L10: 62.1 | M10: =IF(OR($K10="",$L10=""),"",IFERROR(MAX(0,$K10-$L10),"")) | N10: Yes | O10: =IF($A10="","",IF($N10="Yes",IFERROR('Settings'!$B$4,0),0)) | P10: =IF(OR($A10="",$L10="",$O10=""),"",IFERROR(ROUND($L10*$O10,2),0)) | Q10: 5.1 | R10: 16.32 | S10: =IF(OR($K10="",$Q10=""),"",IFERROR($K10/$Q10,"")) | T10: =IF($A10="","",IF($B10="","Missing trip date",IF($C10="","Missing driver",IF($D10="","Missing vehicle",IF($E10="","Missing trip type",IF(OR($I10="",$J10=""),"Missing odometer",IF($K10<0,"End odometer below start",IF($K10=0,"Zero total miles",IF($L10="","Missing business miles",IF($L10>$K10,"Business miles exceed total",IF($N10="","Missing reimbursement choice",IF(AND(OR($E10="Business",$E10="Mixed"),$H10=""),"Missing business purpose",IF(AND(OR($E10="Personal",$E10="Commute"),$L10>0),"Review trip type",IF(AND($N10="Yes",$L10=0),"Review eligibility","OK"))))))))))))))
A11: TRIP-260006 | B11: 46056 | C11: Priya Shah | D11: TRK-221 | E11: Business | F11: Sacramento Hub | G11: Stockton, CA | H11: Multi-stop retail deliveries | I11: 118420 | J11: 118512.4 | K11: =IF(OR($I11="",$J11=""),"",IFERROR($J11-$I11,"")) | L11: 92.4 | M11: =IF(OR($K11="",$L11=""),"",IFERROR(MAX(0,$K11-$L11),"")) | N11: Yes | O11: =IF($A11="","",IF($N11="Yes",IFERROR('Settings'!$B$4,0),0)) | P11: =IF(OR($A11="",$L11="",$O11=""),"",IFERROR(ROUND($L11*$O11,2),0)) | Q11: 10.8 | R11: 34.56 | S11: =IF(OR($K11="",$Q11=""),"",IFERROR($K11/$Q11,"")) | T11: =IF($A11="","",IF($B11="","Missing trip date",IF($C11="","Missing driver",IF($D11="","Missing vehicle",IF($E11="","Missing trip type",IF(OR($I11="",$J11=""),"Missing odometer",IF($K11<0,"End odometer below start",IF($K11=0,"Zero total miles",IF($L11="","Missing business miles",IF($L11>$K11,"Business miles exceed total",IF($N11="","Missing reimbursement choice",IF(AND(OR($E11="Business",$E11="Mixed"),$H11=""),"Missing business purpose",IF(AND(OR($E11="Personal",$E11="Commute"),$L11>0),"Review trip type",IF(AND($N11="Yes",$L11=0),"Review eligibility","OK"))))))))))))))
A12: TRIP-260007 | B12: 46064 | C12: Marcus Lee | D12: TRK-204 | E12: Personal | F12: Dallas, TX | G12: Arlington, TX | H12: Personal use | I12: 77178.5 | J12: 77211 | K12: =IF(OR($I12="",$J12=""),"",IFERROR($J12-$I12,"")) | L12: 0 | M12: =IF(OR($K12="",$L12=""),"",IFERROR(MAX(0,$K12-$L12),"")) | N12: No | O12: =IF($A12="","",IF($N12="Yes",IFERROR('Settings'!$B$4,0),0)) | P12: =IF(OR($A12="",$L12="",$O12=""),"",IFERROR(ROUND($L12*$O12,2),0)) | Q12: 4 | R12: 12.8 | S12: =IF(OR($K12="",$Q12=""),"",IFERROR($K12/$Q12,"")) | T12: =IF($A12="","",IF($B12="","Missing trip date",IF($C12="","Missing driver",IF($D12="","Missing vehicle",IF($E12="","Missing trip type",IF(OR($I12="",$J12=""),"Missing odometer",IF($K12<0,"End odometer below start",IF($K12=0,"Zero total miles",IF($L12="","Missing business miles",IF($L12>$K12,"Business miles exceed total",IF($N12="","Missing reimbursement choice",IF(AND(OR($E12="Business",$E12="Mixed"),$H12=""),"Missing business purpose",IF(AND(OR($E12="Personal",$E12="Commute"),$L12>0),"Review trip type",IF(AND($N12="Yes",$L12=0),"Review eligibility","OK"))))))))))))))
A13: TRIP-260008 | B13: 46073 | C13: Nina Patel | D13: SED-307 | E13: Business | F13: Columbus Branch | G13: Newark, OH | H13: Field inspection visit | I13: 29128.2 | J13: 29169.7 | K13: =IF(OR($I13="",$J13=""),"",IFERROR($J13-$I13,"")) | L13: 41.5 | M13: =IF(OR($K13="",$L13=""),"",IFERROR(MAX(0,$K13-$L13),"")) | N13: Yes | O13: =IF($A13="","",IF($N13="Yes",IFERROR('Settings'!$B$4,0),0)) | P13: =IF(OR($A13="",$L13="",$O13=""),"",IFERROR(ROUND($L13*$O13,2),0)) | Q13: 1.5 | R13: 4.8 | S13: =IF(OR($K13="",$Q13=""),"",IFERROR($K13/$Q13,"")) | T13: =IF($A13="","",IF($B13="","Missing trip date",IF($C13="","Missing driver",IF($D13="","Missing vehicle",IF($E13="","Missing trip type",IF(OR($I13="",$J13=""),"Missing odometer",IF($K13<0,"End odometer below start",IF($K13=0,"Zero total miles",IF($L13="","Missing business miles",IF($L13>$K13,"Business miles exceed total",IF($N13="","Missing reimbursement choice",IF(AND(OR($E13="Business",$E13="Mixed"),$H13=""),"Missing business purpose",IF(AND(OR($E13="Personal",$E13="Commute"),$L13>0),"Review trip type",IF(AND($N13="Yes",$L13=0),"Review eligibility","OK"))))))))))))))
A14: TRIP-260009 | B14: 46086 | C14: Omar Johnson | D14: VAN-115 | E14: Business | F14: Atlanta Depot | G14: Athens, GA | H14: Customer equipment pickup | I14: 63031.6 | J14: 63113.9 | K14: =IF(OR($I14="",$J14=""),"",IFERROR($J14-$I14,"")) | L14: 82.3 | M14: =IF(OR($K14="",$L14=""),"",IFERROR(MAX(0,$K14-$L14),"")) | N14: Yes | O14: =IF($A14="","",IF($N14="Yes",IFERROR('Settings'!$B$4,0),0)) | P14: =IF(OR($A14="",$L14="",$O14=""),"",IFERROR(ROUND($L14*$O14,2),0)) | Q14: 6.9 | R14: 22.08 | S14: =IF(OR($K14="",$Q14=""),"",IFERROR($K14/$Q14,"")) | T14: =IF($A14="","",IF($B14="","Missing trip date",IF($C14="","Missing driver",IF($D14="","Missing vehicle",IF($E14="","Missing trip type",IF(OR($I14="",$J14=""),"Missing odometer",IF($K14<0,"End odometer below start",IF($K14=0,"Zero total miles",IF($L14="","Missing business miles",IF($L14>$K14,"Business miles exceed total",IF($N14="","Missing reimbursement choice",IF(AND(OR($E14="Business",$E14="Mixed"),$H14=""),"Missing business purpose",IF(AND(OR($E14="Personal",$E14="Commute"),$L14>0),"Review trip type",IF(AND($N14="Yes",$L14=0),"Review eligibility","OK"))))))))))))))
A15: TRIP-260010 | B15: 46099 | C15: Priya Shah | D15: TRK-221 | E15: Mixed | F15: Sacramento Hub | G15: Davis, CA | H15: Supplier visit; 7.5 personal miles | I15: 118512.4 | J15: 118558.9 | K15: =IF(OR($I15="",$J15=""),"",IFERROR($J15-$I15,"")) | L15: 39 | M15: =IF(OR($K15="",$L15=""),"",IFERROR(MAX(0,$K15-$L15),"")) | N15: Yes | O15: =IF($A15="","",IF($N15="Yes",IFERROR('Settings'!$B$4,0),0)) | P15: =IF(OR($A15="",$L15="",$O15=""),"",IFERROR(ROUND($L15*$O15,2),0)) | Q15: 5.3 | R15: 16.96 | S15: =IF(OR($K15="",$Q15=""),"",IFERROR($K15/$Q15,"")) | T15: =IF($A15="","",IF($B15="","Missing trip date",IF($C15="","Missing driver",IF($D15="","Missing vehicle",IF($E15="","Missing trip type",IF(OR($I15="",$J15=""),"Missing odometer",IF($K15<0,"End odometer below start",IF($K15=0,"Zero total miles",IF($L15="","Missing business miles",IF($L15>$K15,"Business miles exceed total",IF($N15="","Missing reimbursement choice",IF(AND(OR($E15="Business",$E15="Mixed"),$H15=""),"Missing business purpose",IF(AND(OR($E15="Personal",$E15="Commute"),$L15>0),"Review trip type",IF(AND($N15="Yes",$L15=0),"Review eligibility","OK"))))))))))))))
K16: =IF(OR($I16="",$J16=""),"",IFERROR($J16-$I16,"")) | M16: =IF(OR($K16="",$L16=""),"",IFERROR(MAX(0,$K16-$L16),"")) | O16: =IF($A16="","",IF($N16="Yes",IFERROR('Settings'!$B$4,0),0)) | P16: =IF(OR($A16="",$L16="",$O16=""),"",IFERROR(ROUND($L16*$O16,2),0)) | S16: =IF(OR($K16="",$Q16=""),"",IFERROR($K16/$Q16,"")) | T16: =IF($A16="","",IF($B16="","Missing trip date",IF($C16="","Missing driver",IF($D16="","Missing vehicle",IF($E16="","Missing trip type",IF(OR($I16="",$J16=""),"Missing odometer",IF($K16<0,"End odometer below start",IF($K16=0,"Zero total miles",IF($L16="","Missing business miles",IF($L16>$K16,"Business miles exceed total",IF($N16="","Missing reimbursement choice",IF(AND(OR($E16="Business",$E16="Mixed"),$H16=""),"Missing business purpose",IF(AND(OR($E16="Personal",$E16="Commute"),$L16>0),"Review trip type",IF(AND($N16="Yes",$L16=0),"Review eligibility","OK"))))))))))))))
K17: =IF(OR($I17="",$J17=""),"",IFERROR($J17-$I17,"")) | M17: =IF(OR($K17="",$L17=""),"",IFERROR(MAX(0,$K17-$L17),"")) | O17: =IF($A17="","",IF($N17="Yes",IFERROR('Settings'!$B$4,0),0)) | P17: =IF(OR($A17="",$L17="",$O17=""),"",IFERROR(ROUND($L17*$O17,2),0)) | S17: =IF(OR($K17="",$Q17=""),"",IFERROR($K17/$Q17,"")) | T17: =IF($A17="","",IF($B17="","Missing trip date",IF($C17="","Missing driver",IF($D17="","Missing vehicle",IF($E17="","Missing trip type",IF(OR($I17="",$J17=""),"Missing odometer",IF($K17<0,"End odometer below start",IF($K17=0,"Zero total miles",IF($L17="","Missing business miles",IF($L17>$K17,"Business miles exceed total",IF($N17="","Missing reimbursement choice",IF(AND(OR($E17="Business",$E17="Mixed"),$H17=""),"Missing business purpose",IF(AND(OR($E17="Personal",$E17="Commute"),$L17>0),"Review trip type",IF(AND($N17="Yes",$L17=0),"Review eligibility","OK"))))))))))))))
K18: =IF(OR($I18="",$J18=""),"",IFERROR($J18-$I18,"")) | M18: =IF(OR($K18="",$L18=""),"",IFERROR(MAX(0,$K18-$L18),"")) | O18: =IF($A18="","",IF($N18="Yes",IFERROR('Settings'!$B$4,0),0)) | P18: =IF(OR($A18="",$L18="",$O18=""),"",IFERROR(ROUND($L18*$O18,2),0)) | S18: =IF(OR($K18="",$Q18=""),"",IFERROR($K18/$Q18,"")) | T18: =IF($A18="","",IF($B18="","Missing trip date",IF($C18="","Missing driver",IF($D18="","Missing vehicle",IF($E18="","Missing trip type",IF(OR($I18="",$J18=""),"Missing odometer",IF($K18<0,"End odometer below start",IF($K18=0,"Zero total miles",IF($L18="","Missing business miles",IF($L18>$K18,"Business miles exceed total",IF($N18="","Missing reimbursement choice",IF(AND(OR($E18="Business",$E18="Mixed"),$H18=""),"Missing business purpose",IF(AND(OR($E18="Personal",$E18="Commute"),$L18>0),"Review trip type",IF(AND($N18="Yes",$L18=0),"Review eligibility","OK"))))))))))))))
K19: =IF(OR($I19="",$J19=""),"",IFERROR($J19-$I19,"")) | M19: =IF(OR($K19="",$L19=""),"",IFERROR(MAX(0,$K19-$L19),"")) | O19: =IF($A19="","",IF($N19="Yes",IFERROR('Settings'!$B$4,0),0)) | P19: =IF(OR($A19="",$L19="",$O19=""),"",IFERROR(ROUND($L19*$O19,2),0)) | S19: =IF(OR($K19="",$Q19=""),"",IFERROR($K19/$Q19,"")) | T19: =IF($A19="","",IF($B19="","Missing trip date",IF($C19="","Missing driver",IF($D19="","Missing vehicle",IF($E19="","Missing trip type",IF(OR($I19="",$J19=""),"Missing odometer",IF($K19<0,"End odometer below start",IF($K19=0,"Zero total miles",IF($L19="","Missing business miles",IF($L19>$K19,"Business miles exceed total",IF($N19="","Missing reimbursement choice",IF(AND(OR($E19="Business",$E19="Mixed"),$H19=""),"Missing business purpose",IF(AND(OR($E19="Personal",$E19="Commute"),$L19>0),"Review trip type",IF(AND($N19="Yes",$L19=0),"Review eligibility","OK"))))))))))))))
K20: =IF(OR($I20="",$J20=""),"",IFERROR($J20-$I20,"")) | M20: =IF(OR($K20="",$L20=""),"",IFERROR(MAX(0,$K20-$L20),"")) | O20: =IF($A20="","",IF($N20="Yes",IFERROR('Settings'!$B$4,0),0)) | P20: =IF(OR($A20="",$L20="",$O20=""),"",IFERROR(ROUND($L20*$O20,2),0)) | S20: =IF(OR($K20="",$Q20=""),"",IFERROR($K20/$Q20,"")) | T20: =IF($A20="","",IF($B20="","Missing trip date",IF($C20="","Missing driver",IF($D20="","Missing vehicle",IF($E20="","Missing trip type",IF(OR($I20="",$J20=""),"Missing odometer",IF($K20<0,"End odometer below start",IF($K20=0,"Zero total miles",IF($L20="","Missing business miles",IF($L20>$K20,"Business miles exceed total",IF($N20="","Missing reimbursement choice",IF(AND(OR($E20="Business",$E20="Mixed"),$H20=""),"Missing business purpose",IF(AND(OR($E20="Personal",$E20="Commute"),$L20>0),"Review trip type",IF(AND($N20="Yes",$L20=0),"Review eligibility","OK"))))))))))))))
K21: =IF(OR($I21="",$J21=""),"",IFERROR($J21-$I21,"")) | M21: =IF(OR($K21="",$L21=""),"",IFERROR(MAX(0,$K21-$L21),"")) | O21: =IF($A21="","",IF($N21="Yes",IFERROR('Settings'!$B$4,0),0)) | P21: =IF(OR($A21="",$L21="",$O21=""),"",IFERROR(ROUND($L21*$O21,2),0)) | S21: =IF(OR($K21="",$Q21=""),"",IFERROR($K21/$Q21,"")) | T21: =IF($A21="","",IF($B21="","Missing trip date",IF($C21="","Missing driver",IF($D21="","Missing vehicle",IF($E21="","Missing trip type",IF(OR($I21="",$J21=""),"Missing odometer",IF($K21<0,"End odometer below start",IF($K21=0,"Zero total miles",IF($L21="","Missing business miles",IF($L21>$K21,"Business miles exceed total",IF($N21="","Missing reimbursement choice",IF(AND(OR($E21="Business",$E21="Mixed"),$H21=""),"Missing business purpose",IF(AND(OR($E21="Personal",$E21="Commute"),$L21>0),"Review trip type",IF(AND($N21="Yes",$L21=0),"Review eligibility","OK"))))))))))))))
K22: =IF(OR($I22="",$J22=""),"",IFERROR($J22-$I22,"")) | M22: =IF(OR($K22="",$L22=""),"",IFERROR(MAX(0,$K22-$L22),"")) | O22: =IF($A22="","",IF($N22="Yes",IFERROR('Settings'!$B$4,0),0)) | P22: =IF(OR($A22="",$L22="",$O22=""),"",IFERROR(ROUND($L22*$O22,2),0)) | S22: =IF(OR($K22="",$Q22=""),"",IFERROR($K22/$Q22,"")) | T22: =IF($A22="","",IF($B22="","Missing trip date",IF($C22="","Missing driver",IF($D22="","Missing vehicle",IF($E22="","Missing trip type",IF(OR($I22="",$J22=""),"Missing odometer",IF($K22<0,"End odometer below start",IF($K22=0,"Zero total miles",IF($L22="","Missing business miles",IF($L22>$K22,"Business miles exceed total",IF($N22="","Missing reimbursement choice",IF(AND(OR($E22="Business",$E22="Mixed"),$H22=""),"Missing business purpose",IF(AND(OR($E22="Personal",$E22="Commute"),$L22>0),"Review trip type",IF(AND($N22="Yes",$L22=0),"Review eligibility","OK"))))))))))))))
K23: =IF(OR($I23="",$J23=""),"",IFERROR($J23-$I23,"")) | M23: =IF(OR($K23="",$L23=""),"",IFERROR(MAX(0,$K23-$L23),"")) | O23: =IF($A23="","",IF($N23="Yes",IFERROR('Settings'!$B$4,0),0)) | P23: =IF(OR($A23="",$L23="",$O23=""),"",IFERROR(ROUND($L23*$O23,2),0)) | S23: =IF(OR($K23="",$Q23=""),"",IFERROR($K23/$Q23,"")) | T23: =IF($A23="","",IF($B23="","Missing trip date",IF($C23="","Missing driver",IF($D23="","Missing vehicle",IF($E23="","Missing trip type",IF(OR($I23="",$J23=""),"Missing odometer",IF($K23<0,"End odometer below start",IF($K23=0,"Zero total miles",IF($L23="","Missing business miles",IF($L23>$K23,"Business miles exceed total",IF($N23="","Missing reimbursement choice",IF(AND(OR($E23="Business",$E23="Mixed"),$H23=""),"Missing business purpose",IF(AND(OR($E23="Personal",$E23="Commute"),$L23>0),"Review trip type",IF(AND($N23="Yes",$L23=0),"Review eligibility","OK"))))))))))))))
K24: =IF(OR($I24="",$J24=""),"",IFERROR($J24-$I24,"")) | M24: =IF(OR($K24="",$L24=""),"",IFERROR(MAX(0,$K24-$L24),"")) | O24: =IF($A24="","",IF($N24="Yes",IFERROR('Settings'!$B$4,0),0)) | P24: =IF(OR($A24="",$L24="",$O24=""),"",IFERROR(ROUND($L24*$O24,2),0)) | S24: =IF(OR($K24="",$Q24=""),"",IFERROR($K24/$Q24,"")) | T24: =IF($A24="","",IF($B24="","Missing trip date",IF($C24="","Missing driver",IF($D24="","Missing vehicle",IF($E24="","Missing trip type",IF(OR($I24="",$J24=""),"Missing odometer",IF($K24<0,"End odometer below start",IF($K24=0,"Zero total miles",IF($L24="","Missing business miles",IF($L24>$K24,"Business miles exceed total",IF($N24="","Missing reimbursement choice",IF(AND(OR($E24="Business",$E24="Mixed"),$H24=""),"Missing business purpose",IF(AND(OR($E24="Personal",$E24="Commute"),$L24>0),"Review trip type",IF(AND($N24="Yes",$L24=0),"Review eligibility","OK"))))))))))))))
K25: =IF(OR($I25="",$J25=""),"",IFERROR($J25-$I25,"")) | M25: =IF(OR($K25="",$L25=""),"",IFERROR(MAX(0,$K25-$L25),"")) | O25: =IF($A25="","",IF($N25="Yes",IFERROR('Settings'!$B$4,0),0)) | P25: =IF(OR($A25="",$L25="",$O25=""),"",IFERROR(ROUND($L25*$O25,2),0)) | S25: =IF(OR($K25="",$Q25=""),"",IFERROR($K25/$Q25,"")) | T25: =IF($A25="","",IF($B25="","Missing trip date",IF($C25="","Missing driver",IF($D25="","Missing vehicle",IF($E25="","Missing trip type",IF(OR($I25="",$J25=""),"Missing odometer",IF($K25<0,"End odometer below start",IF($K25=0,"Zero total miles",IF($L25="","Missing business miles",IF($L25>$K25,"Business miles exceed total",IF($N25="","Missing reimbursement choice",IF(AND(OR($E25="Business",$E25="Mixed"),$H25=""),"Missing business purpose",IF(AND(OR($E25="Personal",$E25="Commute"),$L25>0),"Review trip type",IF(AND($N25="Yes",$L25=0),"Review eligibility","OK"))))))))))))))
K26: =IF(OR($I26="",$J26=""),"",IFERROR($J26-$I26,"")) | M26: =IF(OR($K26="",$L26=""),"",IFERROR(MAX(0,$K26-$L26),"")) | O26: =IF($A26="","",IF($N26="Yes",IFERROR('Settings'!$B$4,0),0)) | P26: =IF(OR($A26="",$L26="",$O26=""),"",IFERROR(ROUND($L26*$O26,2),0)) | S26: =IF(OR($K26="",$Q26=""),"",IFERROR($K26/$Q26,"")) | T26: =IF($A26="","",IF($B26="","Missing trip date",IF($C26="","Missing driver",IF($D26="","Missing vehicle",IF($E26="","Missing trip type",IF(OR($I26="",$J26=""),"Missing odometer",IF($K26<0,"End odometer below start",IF($K26=0,"Zero total miles",IF($L26="","Missing business miles",IF($L26>$K26,"Business miles exceed total",IF($N26="","Missing reimbursement choice",IF(AND(OR($E26="Business",$E26="Mixed"),$H26=""),"Missing business purpose",IF(AND(OR($E26="Personal",$E26="Commute"),$L26>0),"Review trip type",IF(AND($N26="Yes",$L26=0),"Review eligibility","OK"))))))))))))))
K27: =IF(OR($I27="",$J27=""),"",IFERROR($J27-$I27,"")) | M27: =IF(OR($K27="",$L27=""),"",IFERROR(MAX(0,$K27-$L27),"")) | O27: =IF($A27="","",IF($N27="Yes",IFERROR('Settings'!$B$4,0),0)) | P27: =IF(OR($A27="",$L27="",$O27=""),"",IFERROR(ROUND($L27*$O27,2),0)) | S27: =IF(OR($K27="",$Q27=""),"",IFERROR($K27/$Q27,"")) | T27: =IF($A27="","",IF($B27="","Missing trip date",IF($C27="","Missing driver",IF($D27="","Missing vehicle",IF($E27="","Missing trip type",IF(OR($I27="",$J27=""),"Missing odometer",IF($K27<0,"End odometer below start",IF($K27=0,"Zero total miles",IF($L27="","Missing business miles",IF($L27>$K27,"Business miles exceed total",IF($N27="","Missing reimbursement choice",IF(AND(OR($E27="Business",$E27="Mixed"),$H27=""),"Missing business purpose",IF(AND(OR($E27="Personal",$E27="Commute"),$L27>0),"Review trip type",IF(AND($N27="Yes",$L27=0),"Review eligibility","OK"))))))))))))))
... K505: =IF(OR($I505="",$J505=""),"",IFERROR($J505-$I505,"")) | M505: =IF(OR($K505="",$L505=""),"",IFERROR(MAX(0,$K505-$L505),"")) | O505: =IF($A505="","",IF($N505="Yes",IFERROR('Settings'!$B$4,0),0)) | P505: =IF(OR($A505="",$L505="",$O505=""),"",IFERROR(ROUND($L505*$O505,2),0)) | S505: =IF(OR($K505="",$Q505=""),"",IFERROR($K505/$Q505,"")) | T505: =IF($A505="","",IF($B505="","Missing trip date",IF($C505="","Missing driver",IF($D505="","Missing vehicle",IF($E505="","Missing trip type",IF(OR($I505="",$J505=""),"Missing odometer",IF($K505<0,"End odometer below start",IF($K505=0,"Zero total miles",IF($L505="","Missing business miles",IF($L505>$K505,"Business miles exceed total",IF($N505="","Missing reimbursement choice",IF(AND(OR($E505="Business",$E505="Mixed"),$H505=""),"Missing business purpose",IF(AND(OR($E505="Personal",$E505="Commute"),$L505>0),"Review trip type",IF(AND($N505="Yes",$L505=0),"Review eligibility","OK"))))))))))))))

Sheet Drivers & Vehicles
A1: Driver Roster | F1: Vehicle Roster
A4: Driver ID | B4: Driver Name | C4: Status | D4: Home Terminal | F4: Vehicle ID | G4: Year | H4: Make | I4: Model | J4: Vehicle Type | K4: Assigned Driver | L4: Status | M4: Starting Odometer
A5: DRV-001 | B5: Elena Ruiz | C5: Active | D5: Phoenix, AZ | F5: VAN-101 | G5: 2022 | H5: Ford | I5: Transit 250 | J5: Cargo Van | K5: Elena Ruiz | L5: Active | M5: 48210
A6: DRV-002 | B6: Marcus Lee | C6: Active | D6: Dallas, TX | F6: TRK-204 | G6: 2021 | H6: Freightliner | I6: M2 | J6: Box Truck | K6: Marcus Lee | L6: Active | M6: 77104
A7: DRV-003 | B7: Nina Patel | C7: Active | D7: Columbus, OH | F7: SED-307 | G7: 2023 | H7: Toyota | I7: Camry | J7: Sedan | K7: Nina Patel | L7: Active | M7: 29110
A8: DRV-004 | B8: Omar Johnson | C8: Active | D8: Atlanta, GA | F8: VAN-115 | G8: 2020 | H8: Ram | I8: ProMaster 2500 | J8: Cargo Van | K8: Omar Johnson | L8: Active | M8: 62980
A9: DRV-005 | B9: Priya Shah | C9: Active | D9: Sacramento, CA | F9: TRK-221 | G9: 2022 | H9: Isuzu | I9: NPR HD | J9: Box Truck | K9: Priya Shah | L9: Active | M9: 118420

Sheet Settings
A1: Mileage Log Settings
A2: Update yellow assumption cells before using the workbook. The reimbursement rate is an example company rate and is not a tax or regulatory determination.
D3: Trip Types | E3: Yes / No | F3: Status | G3: Dashboard Drivers
A4: Company Mileage Reimbursement Rate | B4: 0.67 | D4: Business | E4: Yes | F4: Active | G4: All Drivers
A5: Default Report Start Date | B5: 46023 | D5: Personal | E5: No | F5: Inactive | G5: =IFERROR('Drivers & Vehicles'!$B$5,"")
A6: Default Report End Date | B6: 46112 | D6: Commute | G6: =IFERROR('Drivers & Vehicles'!$B$6,"")
A7: Earliest Allowed Log Date | B7: 43831 | D7: Mixed | G7: =IFERROR('Drivers & Vehicles'!$B$7,"")
A8: Latest Allowed Log Date | B8: 49674 | G8: =IFERROR('Drivers & Vehicles'!$B$8,"")
A9: Distance Unit | B9: miles | G9: =IFERROR('Drivers & Vehicles'!$B$9,"")
A10: Fuel Volume Unit | B10: gallons | G10: =IFERROR('Drivers & Vehicles'!$B$10,"")
A11: Currency | B11: U.S. dollars | G11: =IFERROR('Drivers & Vehicles'!$B$11,"")
G12: =IFERROR('Drivers & Vehicles'!$B$12,"")
G13: =IFERROR('Drivers & Vehicles'!$B$13,"")
G14: =IFERROR('Drivers & Vehicles'!$B$14,"")
G15: =IFERROR('Drivers & Vehicles'!$B$15,"")
G16: =IFERROR('Drivers & Vehicles'!$B$16,"")
G17: =IFERROR('Drivers & Vehicles'!$B$17,"")
G18: =IFERROR('Drivers & Vehicles'!$B$18,"")
G19: =IFERROR('Drivers & Vehicles'!$B$19,"")
G20: =IFERROR('Drivers & Vehicles'!$B$20,"")
G21: =IFERROR('Drivers & Vehicles'!$B$21,"")
G22: =IFERROR('Drivers & Vehicles'!$B$22,"")
G23: =IFERROR('Drivers & Vehicles'!$B$23,"")
G24: =IFERROR('Drivers & Vehicles'!$B$24,"")
G25: =IFERROR('Drivers & Vehicles'!$B$25,"")
G26: =IFERROR('Drivers & Vehicles'!$B$26,"")
G27: =IFERROR('Drivers & Vehicles'!$B$27,"")
G28: =IFERROR('Drivers & Vehicles'!$B$28,"")
G29: =IFERROR('Drivers & Vehicles'!$B$29,"")
G30: =IFERROR('Drivers & Vehicles'!$B$30,"")
G31: =IFERROR('Drivers & Vehicles'!$B$31,"")
G32: =IFERROR('Drivers & Vehicles'!$B$32,"")
G33: =IFERROR('Drivers & Vehicles'!$B$33,"")
G34: =IFERROR('Drivers & Vehicles'!$B$34,"")
G35: =IFERROR('Drivers & Vehicles'!$B$35,"")
G36: =IFERROR('Drivers & Vehicles'!$B$36,"")
G37: =IFERROR('Drivers & Vehicles'!$B$37,"")
G38: =IFERROR('Drivers & Vehicles'!$B$38,"")
G39: =IFERROR('Drivers & Vehicles'!$B$39,"")
G40: =IFERROR('Drivers & Vehicles'!$B$40,"")
...
