Workbook

Sheet Dashboard
A1: Driver Coaching Action Plan Dashboard
A2: Monitor action plans, coaching activity, follow-ups, progress, and cost
A3: Location Filter | B3: All | D3: Report Date | E3: =TODAY()
A5: Active Plans | D5: Past Due | G5: Due Soon | J5: Average Active Progress
B6: =IF($B$3="All",COUNTIFS('Action Plans'!$A$5:$A$504,"<>",'Action Plans'!$K$5:$K$504,"<>Completed",'Action Plans'!$K$5:$K$504,"<>Canceled"),COUNTIFS('Action Plans'!$D$5:$D$504,$B$3,'Action Plans'!$A$5:$A$504,"<>",'Action Plans'!$K$5:$K$504,"<>Completed",'Action Plans'!$K$5:$K$504,"<>Canceled")) | E6: =IF($B$3="All",COUNTIF('Action Plans'!$V$5:$V$504,"Past Due"),COUNTIFS('Action Plans'!$D$5:$D$504,$B$3,'Action Plans'!$V$5:$V$504,"Past Due")) | H6: =IF($B$3="All",COUNTIF('Action Plans'!$V$5:$V$504,"Due Soon"),COUNTIFS('Action Plans'!$D$5:$D$504,$B$3,'Action Plans'!$V$5:$V$504,"Due Soon")) | L6: =IFERROR(IF($B$3="All",AVERAGEIFS('Action Plans'!$U$5:$U$504,'Action Plans'!$K$5:$K$504,"<>Completed",'Action Plans'!$K$5:$K$504,"<>Canceled"),AVERAGEIFS('Action Plans'!$U$5:$U$504,'Action Plans'!$D$5:$D$504,$B$3,'Action Plans'!$K$5:$K$504,"<>Completed",'Action Plans'!$K$5:$K$504,"<>Canceled")),0)
A8: Overdue Follow-Ups | D8: Completed This Month | G8: Sessions This Month | J8: Coaching Cost, Reporting Year
B9: =IF($B$3="All",COUNTIFS('Coaching Log'!$L$5:$L$504,"No",'Coaching Log'!$K$5:$K$504,"<>",'Coaching Log'!$K$5:$K$504,"<"&TODAY()),COUNTIFS('Coaching Log'!$E$5:$E$504,$B$3,'Coaching Log'!$L$5:$L$504,"No",'Coaching Log'!$K$5:$K$504,"<>",'Coaching Log'!$K$5:$K$504,"<"&TODAY())) | E9: =IF($B$3="All",COUNTIFS('Action Plans'!$K$5:$K$504,"Completed",'Action Plans'!$T$5:$T$504,">="&EOMONTH(TODAY(),-1)+1,'Action Plans'!$T$5:$T$504,"<="&EOMONTH(TODAY(),0)),COUNTIFS('Action Plans'!$D$5:$D$504,$B$3,'Action Plans'!$K$5:$K$504,"Completed",'Action Plans'!$T$5:$T$504,">="&EOMONTH(TODAY(),-1)+1,'Action Plans'!$T$5:$T$504,"<="&EOMONTH(TODAY(),0))) | H9: =IF($B$3="All",COUNTIFS('Coaching Log'!$F$5:$F$504,">="&EOMONTH(TODAY(),-1)+1,'Coaching Log'!$F$5:$F$504,"<="&EOMONTH(TODAY(),0)),COUNTIFS('Coaching Log'!$E$5:$E$504,$B$3,'Coaching Log'!$F$5:$F$504,">="&EOMONTH(TODAY(),-1)+1,'Coaching Log'!$F$5:$F$504,"<="&EOMONTH(TODAY(),0))) | L9: =IFERROR(IF($B$3="All",SUMIFS('Coaching Log'!$P$5:$P$504,'Coaching Log'!$F$5:$F$504,">="&DATE('Settings'!$B$6,1,1),'Coaching Log'!$F$5:$F$504,"<"&DATE('Settings'!$B$6+1,1,1)),SUMIFS('Coaching Log'!$P$5:$P$504,'Coaching Log'!$E$5:$E$504,$B$3,'Coaching Log'!$F$5:$F$504,">="&DATE('Settings'!$B$6,1,1),'Coaching Log'!$F$5:$F$504,"<"&DATE('Settings'!$B$6+1,1,1))),0)
A11: Data Issues
B12: =COUNTIFS('Action Plans'!$AA$5:$AA$504,"<>OK",'Action Plans'!$AA$5:$AA$504,"<>")+COUNTIFS('Coaching Log'!$R$5:$R$504,"<>OK",'Coaching Log'!$R$5:$R$504,"<>")
A13: Schedule Health | B13: Plans | D13: Coaching Category | E13: Active Plans | G13: Supervisor | H13: Active Plans | I13: Past Due | J13: Average Progress
A14: Past Due | B14: =IF($B$3="All",COUNTIF('Action Plans'!$V$5:$V$504,$A14),COUNTIFS('Action Plans'!$D$5:$D$504,$B$3,'Action Plans'!$V$5:$V$504,$A14)) | D14: Speed Management | E14: =IF($B$3="All",COUNTIFS('Action Plans'!$F$5:$F$504,$D14,'Action Plans'!$K$5:$K$504,"<>Completed",'Action Plans'!$K$5:$K$504,"<>Canceled"),COUNTIFS('Action Plans'!$D$5:$D$504,$B$3,'Action Plans'!$F$5:$F$504,$D14,'Action Plans'!$K$5:$K$504,"<>Completed",'Action Plans'!$K$5:$K$504,"<>Canceled")) | G14: Maria Santos | H14: =IF($B$3="All",COUNTIFS('Action Plans'!$E$5:$E$504,$G14,'Action Plans'!$K$5:$K$504,"<>Completed",'Action Plans'!$K$5:$K$504,"<>Canceled"),COUNTIFS('Action Plans'!$D$5:$D$504,$B$3,'Action Plans'!$E$5:$E$504,$G14,'Action Plans'!$K$5:$K$504,"<>Completed",'Action Plans'!$K$5:$K$504,"<>Canceled")) | I14: =IF($B$3="All",COUNTIFS('Action Plans'!$E$5:$E$504,$G14,'Action Plans'!$V$5:$V$504,"Past Due"),COUNTIFS('Action Plans'!$D$5:$D$504,$B$3,'Action Plans'!$E$5:$E$504,$G14,'Action Plans'!$V$5:$V$504,"Past Due")) | J14: =IFERROR(IF($B$3="All",AVERAGEIFS('Action Plans'!$U$5:$U$504,'Action Plans'!$E$5:$E$504,$G14,'Action Plans'!$K$5:$K$504,"<>Completed",'Action Plans'!$K$5:$K$504,"<>Canceled"),AVERAGEIFS('Action Plans'!$U$5:$U$504,'Action Plans'!$D$5:$D$504,$B$3,'Action Plans'!$E$5:$E$504,$G14,'Action Plans'!$K$5:$K$504,"<>Completed",'Action Plans'!$K$5:$K$504,"<>Canceled")),0)
A15: Due Soon | B15: =IF($B$3="All",COUNTIF('Action Plans'!$V$5:$V$504,$A15),COUNTIFS('Action Plans'!$D$5:$D$504,$B$3,'Action Plans'!$V$5:$V$504,$A15)) | D15: Following Distance | E15: =IF($B$3="All",COUNTIFS('Action Plans'!$F$5:$F$504,$D15,'Action Plans'!$K$5:$K$504,"<>Completed",'Action Plans'!$K$5:$K$504,"<>Canceled"),COUNTIFS('Action Plans'!$D$5:$D$504,$B$3,'Action Plans'!$F$5:$F$504,$D15,'Action Plans'!$K$5:$K$504,"<>Completed",'Action Plans'!$K$5:$K$504,"<>Canceled")) | G15: Trent Brooks | H15: =IF($B$3="All",COUNTIFS('Action Plans'!$E$5:$E$504,$G15,'Action Plans'!$K$5:$K$504,"<>Completed",'Action Plans'!$K$5:$K$504,"<>Canceled"),COUNTIFS('Action Plans'!$D$5:$D$504,$B$3,'Action Plans'!$E$5:$E$504,$G15,'Action Plans'!$K$5:$K$504,"<>Completed",'Action Plans'!$K$5:$K$504,"<>Canceled")) | I15: =IF($B$3="All",COUNTIFS('Action Plans'!$E$5:$E$504,$G15,'Action Plans'!$V$5:$V$504,"Past Due"),COUNTIFS('Action Plans'!$D$5:$D$504,$B$3,'Action Plans'!$E$5:$E$504,$G15,'Action Plans'!$V$5:$V$504,"Past Due")) | J15: =IFERROR(IF($B$3="All",AVERAGEIFS('Action Plans'!$U$5:$U$504,'Action Plans'!$E$5:$E$504,$G15,'Action Plans'!$K$5:$K$504,"<>Completed",'Action Plans'!$K$5:$K$504,"<>Canceled"),AVERAGEIFS('Action Plans'!$U$5:$U$504,'Action Plans'!$D$5:$D$504,$B$3,'Action Plans'!$E$5:$E$504,$G15,'Action Plans'!$K$5:$K$504,"<>Completed",'Action Plans'!$K$5:$K$504,"<>Canceled")),0)
A16: On Track | B16: =IF($B$3="All",COUNTIF('Action Plans'!$V$5:$V$504,$A16),COUNTIFS('Action Plans'!$D$5:$D$504,$B$3,'Action Plans'!$V$5:$V$504,$A16)) | D16: Fuel-Efficient Driving | E16: =IF($B$3="All",COUNTIFS('Action Plans'!$F$5:$F$504,$D16,'Action Plans'!$K$5:$K$504,"<>Completed",'Action Plans'!$K$5:$K$504,"<>Canceled"),COUNTIFS('Action Plans'!$D$5:$D$504,$B$3,'Action Plans'!$F$5:$F$504,$D16,'Action Plans'!$K$5:$K$504,"<>Completed",'Action Plans'!$K$5:$K$504,"<>Canceled")) | G16: Erica Cole | H16: =IF($B$3="All",COUNTIFS('Action Plans'!$E$5:$E$504,$G16,'Action Plans'!$K$5:$K$504,"<>Completed",'Action Plans'!$K$5:$K$504,"<>Canceled"),COUNTIFS('Action Plans'!$D$5:$D$504,$B$3,'Action Plans'!$E$5:$E$504,$G16,'Action Plans'!$K$5:$K$504,"<>Completed",'Action Plans'!$K$5:$K$504,"<>Canceled")) | I16: =IF($B$3="All",COUNTIFS('Action Plans'!$E$5:$E$504,$G16,'Action Plans'!$V$5:$V$504,"Past Due"),COUNTIFS('Action Plans'!$D$5:$D$504,$B$3,'Action Plans'!$E$5:$E$504,$G16,'Action Plans'!$V$5:$V$504,"Past Due")) | J16: =IFERROR(IF($B$3="All",AVERAGEIFS('Action Plans'!$U$5:$U$504,'Action Plans'!$E$5:$E$504,$G16,'Action Plans'!$K$5:$K$504,"<>Completed",'Action Plans'!$K$5:$K$504,"<>Canceled"),AVERAGEIFS('Action Plans'!$U$5:$U$504,'Action Plans'!$D$5:$D$504,$B$3,'Action Plans'!$E$5:$E$504,$G16,'Action Plans'!$K$5:$K$504,"<>Completed",'Action Plans'!$K$5:$K$504,"<>Canceled")),0)
A17: On Hold | B17: =IF($B$3="All",COUNTIF('Action Plans'!$V$5:$V$504,$A17),COUNTIFS('Action Plans'!$D$5:$D$504,$B$3,'Action Plans'!$V$5:$V$504,$A17)) | D17: Pre-Trip Inspection | E17: =IF($B$3="All",COUNTIFS('Action Plans'!$F$5:$F$504,$D17,'Action Plans'!$K$5:$K$504,"<>Completed",'Action Plans'!$K$5:$K$504,"<>Canceled"),COUNTIFS('Action Plans'!$D$5:$D$504,$B$3,'Action Plans'!$F$5:$F$504,$D17,'Action Plans'!$K$5:$K$504,"<>Completed",'Action Plans'!$K$5:$K$504,"<>Canceled")) | G17: Dana Kim | H17: =IF($B$3="All",COUNTIFS('Action Plans'!$E$5:$E$504,$G17,'Action Plans'!$K$5:$K$504,"<>Completed",'Action Plans'!$K$5:$K$504,"<>Canceled"),COUNTIFS('Action Plans'!$D$5:$D$504,$B$3,'Action Plans'!$E$5:$E$504,$G17,'Action Plans'!$K$5:$K$504,"<>Completed",'Action Plans'!$K$5:$K$504,"<>Canceled")) | I17: =IF($B$3="All",COUNTIFS('Action Plans'!$E$5:$E$504,$G17,'Action Plans'!$V$5:$V$504,"Past Due"),COUNTIFS('Action Plans'!$D$5:$D$504,$B$3,'Action Plans'!$E$5:$E$504,$G17,'Action Plans'!$V$5:$V$504,"Past Due")) | J17: =IFERROR(IF($B$3="All",AVERAGEIFS('Action Plans'!$U$5:$U$504,'Action Plans'!$E$5:$E$504,$G17,'Action Plans'!$K$5:$K$504,"<>Completed",'Action Plans'!$K$5:$K$504,"<>Canceled"),AVERAGEIFS('Action Plans'!$U$5:$U$504,'Action Plans'!$D$5:$D$504,$B$3,'Action Plans'!$E$5:$E$504,$G17,'Action Plans'!$K$5:$K$504,"<>Completed",'Action Plans'!$K$5:$K$504,"<>Canceled")),0)
A18: Completed | B18: =IF($B$3="All",COUNTIF('Action Plans'!$V$5:$V$504,$A18),COUNTIFS('Action Plans'!$D$5:$D$504,$B$3,'Action Plans'!$V$5:$V$504,$A18)) | D18: Idling Reduction | E18: =IF($B$3="All",COUNTIFS('Action Plans'!$F$5:$F$504,$D18,'Action Plans'!$K$5:$K$504,"<>Completed",'Action Plans'!$K$5:$K$504,"<>Canceled"),COUNTIFS('Action Plans'!$D$5:$D$504,$B$3,'Action Plans'!$F$5:$F$504,$D18,'Action Plans'!$K$5:$K$504,"<>Completed",'Action Plans'!$K$5:$K$504,"<>Canceled")) | G18: Luis Ortega | H18: =IF($B$3="All",COUNTIFS('Action Plans'!$E$5:$E$504,$G18,'Action Plans'!$K$5:$K$504,"<>Completed",'Action Plans'!$K$5:$K$504,"<>Canceled"),COUNTIFS('Action Plans'!$D$5:$D$504,$B$3,'Action Plans'!$E$5:$E$504,$G18,'Action Plans'!$K$5:$K$504,"<>Completed",'Action Plans'!$K$5:$K$504,"<>Canceled")) | I18: =IF($B$3="All",COUNTIFS('Action Plans'!$E$5:$E$504,$G18,'Action Plans'!$V$5:$V$504,"Past Due"),COUNTIFS('Action Plans'!$D$5:$D$504,$B$3,'Action Plans'!$E$5:$E$504,$G18,'Action Plans'!$V$5:$V$504,"Past Due")) | J18: =IFERROR(IF($B$3="All",AVERAGEIFS('Action Plans'!$U$5:$U$504,'Action Plans'!$E$5:$E$504,$G18,'Action Plans'!$K$5:$K$504,"<>Completed",'Action Plans'!$K$5:$K$504,"<>Canceled"),AVERAGEIFS('Action Plans'!$U$5:$U$504,'Action Plans'!$D$5:$D$504,$B$3,'Action Plans'!$E$5:$E$504,$G18,'Action Plans'!$K$5:$K$504,"<>Completed",'Action Plans'!$K$5:$K$504,"<>Canceled")),0)
A19: Canceled | B19: =IF($B$3="All",COUNTIF('Action Plans'!$V$5:$V$504,$A19),COUNTIFS('Action Plans'!$D$5:$D$504,$B$3,'Action Plans'!$V$5:$V$504,$A19)) | D19: Backing Safety | E19: =IF($B$3="All",COUNTIFS('Action Plans'!$F$5:$F$504,$D19,'Action Plans'!$K$5:$K$504,"<>Completed",'Action Plans'!$K$5:$K$504,"<>Canceled"),COUNTIFS('Action Plans'!$D$5:$D$504,$B$3,'Action Plans'!$F$5:$F$504,$D19,'Action Plans'!$K$5:$K$504,"<>Completed",'Action Plans'!$K$5:$K$504,"<>Canceled")) | G19: Monica Reed | H19: =IF($B$3="All",COUNTIFS('Action Plans'!$E$5:$E$504,$G19,'Action Plans'!$K$5:$K$504,"<>Completed",'Action Plans'!$K$5:$K$504,"<>Canceled"),COUNTIFS('Action Plans'!$D$5:$D$504,$B$3,'Action Plans'!$E$5:$E$504,$G19,'Action Plans'!$K$5:$K$504,"<>Completed",'Action Plans'!$K$5:$K$504,"<>Canceled")) | I19: =IF($B$3="All",COUNTIFS('Action Plans'!$E$5:$E$504,$G19,'Action Plans'!$V$5:$V$504,"Past Due"),COUNTIFS('Action Plans'!$D$5:$D$504,$B$3,'Action Plans'!$E$5:$E$504,$G19,'Action Plans'!$V$5:$V$504,"Past Due")) | J19: =IFERROR(IF($B$3="All",AVERAGEIFS('Action Plans'!$U$5:$U$504,'Action Plans'!$E$5:$E$504,$G19,'Action Plans'!$K$5:$K$504,"<>Completed",'Action Plans'!$K$5:$K$504,"<>Canceled"),AVERAGEIFS('Action Plans'!$U$5:$U$504,'Action Plans'!$D$5:$D$504,$B$3,'Action Plans'!$E$5:$E$504,$G19,'Action Plans'!$K$5:$K$504,"<>Completed",'Action Plans'!$K$5:$K$504,"<>Canceled")),0)
D20: Customer Service | E20: =IF($B$3="All",COUNTIFS('Action Plans'!$F$5:$F$504,$D20,'Action Plans'!$K$5:$K$504,"<>Completed",'Action Plans'!$K$5:$K$504,"<>Canceled"),COUNTIFS('Action Plans'!$D$5:$D$504,$B$3,'Action Plans'!$F$5:$F$504,$D20,'Action Plans'!$K$5:$K$504,"<>Completed",'Action Plans'!$K$5:$K$504,"<>Canceled")) | H20: ="" | I20: ="" | J20: =""
D21: Seat Belt Use | E21: =IF($B$3="All",COUNTIFS('Action Plans'!$F$5:$F$504,$D21,'Action Plans'!$K$5:$K$504,"<>Completed",'Action Plans'!$K$5:$K$504,"<>Canceled"),COUNTIFS('Action Plans'!$D$5:$D$504,$B$3,'Action Plans'!$F$5:$F$504,$D21,'Action Plans'!$K$5:$K$504,"<>Completed",'Action Plans'!$K$5:$K$504,"<>Canceled")) | H21: ="" | I21: ="" | J21: =""
D22: Harsh Braking | E22: =IF($B$3="All",COUNTIFS('Action Plans'!$F$5:$F$504,$D22,'Action Plans'!$K$5:$K$504,"<>Completed",'Action Plans'!$K$5:$K$504,"<>Canceled"),COUNTIFS('Action Plans'!$D$5:$D$504,$B$3,'Action Plans'!$F$5:$F$504,$D22,'Action Plans'!$K$5:$K$504,"<>Completed",'Action Plans'!$K$5:$K$504,"<>Canceled")) | H22: ="" | I22: ="" | J22: =""
D23: Route Adherence | E23: =IF($B$3="All",COUNTIFS('Action Plans'!$F$5:$F$504,$D23,'Action Plans'!$K$5:$K$504,"<>Completed",'Action Plans'!$K$5:$K$504,"<>Canceled"),COUNTIFS('Action Plans'!$D$5:$D$504,$B$3,'Action Plans'!$F$5:$F$504,$D23,'Action Plans'!$K$5:$K$504,"<>Completed",'Action Plans'!$K$5:$K$504,"<>Canceled")) | H23: ="" | I23: ="" | J23: =""
A24: Month | B24: Sessions | E24: ="" | H24: ="" | I24: ="" | J24: =""
A25: =DATE('Settings'!$B$6,1,1) | B25: =IF($B$3="All",COUNTIFS('Coaching Log'!$F$5:$F$504,">="&$A25,'Coaching Log'!$F$5:$F$504,"<"&EDATE($A25,1)),COUNTIFS('Coaching Log'!$E$5:$E$504,$B$3,'Coaching Log'!$F$5:$F$504,">="&$A25,'Coaching Log'!$F$5:$F$504,"<"&EDATE($A25,1))) | E25: ="" | H25: ="" | I25: ="" | J25: =""
A26: =EDATE($A25,1) | B26: =IF($B$3="All",COUNTIFS('Coaching Log'!$F$5:$F$504,">="&$A26,'Coaching Log'!$F$5:$F$504,"<"&EDATE($A26,1)),COUNTIFS('Coaching Log'!$E$5:$E$504,$B$3,'Coaching Log'!$F$5:$F$504,">="&$A26,'Coaching Log'!$F$5:$F$504,"<"&EDATE($A26,1))) | E26: ="" | H26: ="" | I26: ="" | J26: =""
A27: =EDATE($A26,1) | B27: =IF($B$3="All",COUNTIFS('Coaching Log'!$F$5:$F$504,">="&$A27,'Coaching Log'!$F$5:$F$504,"<"&EDATE($A27,1)),COUNTIFS('Coaching Log'!$E$5:$E$504,$B$3,'Coaching Log'!$F$5:$F$504,">="&$A27,'Coaching Log'!$F$5:$F$504,"<"&EDATE($A27,1))) | E27: ="" | H27: ="" | I27: ="" | J27: =""
A28: =EDATE($A27,1) | B28: =IF($B$3="All",COUNTIFS('Coaching Log'!$F$5:$F$504,">="&$A28,'Coaching Log'!$F$5:$F$504,"<"&EDATE($A28,1)),COUNTIFS('Coaching Log'!$E$5:$E$504,$B$3,'Coaching Log'!$F$5:$F$504,">="&$A28,'Coaching Log'!$F$5:$F$504,"<"&EDATE($A28,1))) | E28: ="" | H28: ="" | I28: ="" | J28: =""
A29: =EDATE($A28,1) | B29: =IF($B$3="All",COUNTIFS('Coaching Log'!$F$5:$F$504,">="&$A29,'Coaching Log'!$F$5:$F$504,"<"&EDATE($A29,1)),COUNTIFS('Coaching Log'!$E$5:$E$504,$B$3,'Coaching Log'!$F$5:$F$504,">="&$A29,'Coaching Log'!$F$5:$F$504,"<"&EDATE($A29,1))) | E29: ="" | H29: ="" | I29: ="" | J29: =""
A30: =EDATE($A29,1) | B30: =IF($B$3="All",COUNTIFS('Coaching Log'!$F$5:$F$504,">="&$A30,'Coaching Log'!$F$5:$F$504,"<"&EDATE($A30,1)),COUNTIFS('Coaching Log'!$E$5:$E$504,$B$3,'Coaching Log'!$F$5:$F$504,">="&$A30,'Coaching Log'!$F$5:$F$504,"<"&EDATE($A30,1))) | E30: ="" | H30: ="" | I30: ="" | J30: =""
A31: =EDATE($A30,1) | B31: =IF($B$3="All",COUNTIFS('Coaching Log'!$F$5:$F$504,">="&$A31,'Coaching Log'!$F$5:$F$504,"<"&EDATE($A31,1)),COUNTIFS('Coaching Log'!$E$5:$E$504,$B$3,'Coaching Log'!$F$5:$F$504,">="&$A31,'Coaching Log'!$F$5:$F$504,"<"&EDATE($A31,1))) | E31: ="" | H31: ="" | I31: ="" | J31: =""
A32: =EDATE($A31,1) | B32: =IF($B$3="All",COUNTIFS('Coaching Log'!$F$5:$F$504,">="&$A32,'Coaching Log'!$F$5:$F$504,"<"&EDATE($A32,1)),COUNTIFS('Coaching Log'!$E$5:$E$504,$B$3,'Coaching Log'!$F$5:$F$504,">="&$A32,'Coaching Log'!$F$5:$F$504,"<"&EDATE($A32,1))) | E32: ="" | H32: ="" | I32: ="" | J32: =""
A33: =EDATE($A32,1) | B33: =IF($B$3="All",COUNTIFS('Coaching Log'!$F$5:$F$504,">="&$A33,'Coaching Log'!$F$5:$F$504,"<"&EDATE($A33,1)),COUNTIFS('Coaching Log'!$E$5:$E$504,$B$3,'Coaching Log'!$F$5:$F$504,">="&$A33,'Coaching Log'!$F$5:$F$504,"<"&EDATE($A33,1))) | E33: ="" | H33: ="" | I33: ="" | J33: =""
A34: =EDATE($A33,1) | B34: =IF($B$3="All",COUNTIFS('Coaching Log'!$F$5:$F$504,">="&$A34,'Coaching Log'!$F$5:$F$504,"<"&EDATE($A34,1)),COUNTIFS('Coaching Log'!$E$5:$E$504,$B$3,'Coaching Log'!$F$5:$F$504,">="&$A34,'Coaching Log'!$F$5:$F$504,"<"&EDATE($A34,1))) | E34: ="" | H34: ="" | I34: ="" | J34: =""
A35: =EDATE($A34,1) | B35: =IF($B$3="All",COUNTIFS('Coaching Log'!$F$5:$F$504,">="&$A35,'Coaching Log'!$F$5:$F$504,"<"&EDATE($A35,1)),COUNTIFS('Coaching Log'!$E$5:$E$504,$B$3,'Coaching Log'!$F$5:$F$504,">="&$A35,'Coaching Log'!$F$5:$F$504,"<"&EDATE($A35,1))) | E35: ="" | H35: ="" | I35: ="" | J35: =""
A36: =EDATE($A35,1) | B36: =IF($B$3="All",COUNTIFS('Coaching Log'!$F$5:$F$504,">="&$A36,'Coaching Log'!$F$5:$F$504,"<"&EDATE($A36,1)),COUNTIFS('Coaching Log'!$E$5:$E$504,$B$3,'Coaching Log'!$F$5:$F$504,">="&$A36,'Coaching Log'!$F$5:$F$504,"<"&EDATE($A36,1))) | E36: ="" | H36: ="" | I36: ="" | J36: =""
A37: ="" | B37: ="" | E37: ="" | H37: ="" | I37: ="" | J37: =""
A38: ="" | B38: ="" | E38: ="" | H38: ="" | I38: ="" | J38: =""
A39: ="" | B39: ="" | E39: ="" | H39: ="" | I39: ="" | J39: =""
A40: ="" | B40: ="" | E40: ="" | H40: ="" | I40: ="" | J40: =""
A41: ="" | B41: ="" | E41: ="" | H41: ="" | I41: ="" | J41: =""
A42: ="" | B42: ="" | E42: ="" | H42: ="" | I42: ="" | J42: =""
A43: ="" | B43: ="" | E43: ="" | H43: ="" | I43: ="" | J43: =""
...

Sheet Action Plans
A1: Driver Coaching Action Plans
A2: Enter information in blue cells. Green cells contain formulas and should not be overwritten.
A3: Legend | B3: Input | C3: Calculated | D3: Warning | E3: Acceptable
A4: Plan ID | B4: Driver ID | C4: Driver Name | D4: Location | E4: Supervisor | F4: Coaching Category | G4: Trigger/Event Summary | H4: Start Date | I4: Due Date | J4: Priority | K4: Plan Status | L4: Plan Owner | M4: Metric Unit | N4: Desired Direction | O4: Baseline Value | P4: Target Value | Q4: Current Value | R4: Last Metric Update | S4: Planned Sessions | T4: Completion Date | U4: Progress % | V4: Schedule Health | W4: Sessions Logged | X4: Last Coaching Date | Y4: Estimated Cost | Z4: Actual Cost | AA4: Data Check
A5: AP-1001 | B5: D-2041 | C5: Jordan Lee | D5: Phoenix | E5: Maria Santos | F5: Speed Management | G5: Repeated speeding events above the route average. | H5: 46213 | I5: 46263 | J5: High | K5: In Progress | L5: Maria Santos | M5: Events per 1,000 miles | N5: Lower Is Better | O5: 4.2 | P5: 1.5 | Q5: 2.8 | R5: 46270 | S5: 4 | U5: =IF(OR($O5="",$P5="",$Q5="",$N5=""),"",IFERROR(MAX(0,MIN(1,IF($N5="Lower Is Better",($O5-$Q5)/($O5-$P5),($Q5-$O5)/($P5-$O5)))),"")) | V5: =IF($A5="","",IF($K5="Completed","Completed",IF($K5="Canceled","Canceled",IF($K5="On Hold","On Hold",IF($I5="","Missing Due Date",IF($I5<TODAY(),"Past Due",IF($I5<=TODAY()+'Settings'!$B$4,"Due Soon","On Track"))))))) | W5: =IF($A5="","",COUNTIFS('Coaching Log'!$B$5:$B$504,$A5)) | X5: =IF($A5="","",IFERROR(IF(MAXIFS('Coaching Log'!$F$5:$F$504,'Coaching Log'!$B$5:$B$504,$A5)=0,"",MAXIFS('Coaching Log'!$F$5:$F$504,'Coaching Log'!$B$5:$B$504,$A5)),"")) | Y5: =IF(OR($A5="",$S5=""),"",IFERROR($S5*'Settings'!$B$5,"")) | Z5: =IF($A5="","",IFERROR(SUMIFS('Coaching Log'!$P$5:$P$504,'Coaching Log'!$B$5:$B$504,$A5),0)) | AA5: =IF(COUNTA($A5:$T5)=0,"",IF($A5="","Missing Plan ID",IF(COUNTIF($A$5:$A$504,$A5)>1,"Duplicate Plan ID",IF(OR($B5="",$C5=""),"Missing Driver",IF($H5="","Missing Start Date",IF($I5="","Missing Due Date",IF($I5<$H5,"Due Date Before Start",IF(AND($K5="Completed",$T5=""),"Missing Completion Date",IF(AND($K5<>"Completed",$T5<>""),"Completion Date With Open Status",IF(AND($N5="Lower Is Better",$O5<>"",$P5<>"",$P5>=$O5),"Target Direction Conflict",IF(AND($N5="Higher Is Better",$O5<>"",$P5<>"",$P5<=$O5),"Target Direction Conflict","OK")))))))))))
A6: AP-1002 | B6: D-2078 | C6: Maya Patel | D6: Dallas | E6: Trent Brooks | F6: Following Distance | G6: Short following-distance observations during urban deliveries. | H6: 46238 | I6: 46280 | J6: High | K6: In Progress | L6: Trent Brooks | M6: Events per 1,000 miles | N6: Lower Is Better | O6: 6 | P6: 2 | Q6: 3.5 | R6: 46271 | S6: 4 | U6: =IF(OR($O6="",$P6="",$Q6="",$N6=""),"",IFERROR(MAX(0,MIN(1,IF($N6="Lower Is Better",($O6-$Q6)/($O6-$P6),($Q6-$O6)/($P6-$O6)))),"")) | V6: =IF($A6="","",IF($K6="Completed","Completed",IF($K6="Canceled","Canceled",IF($K6="On Hold","On Hold",IF($I6="","Missing Due Date",IF($I6<TODAY(),"Past Due",IF($I6<=TODAY()+'Settings'!$B$4,"Due Soon","On Track"))))))) | W6: =IF($A6="","",COUNTIFS('Coaching Log'!$B$5:$B$504,$A6)) | X6: =IF($A6="","",IFERROR(IF(MAXIFS('Coaching Log'!$F$5:$F$504,'Coaching Log'!$B$5:$B$504,$A6)=0,"",MAXIFS('Coaching Log'!$F$5:$F$504,'Coaching Log'!$B$5:$B$504,$A6)),"")) | Y6: =IF(OR($A6="",$S6=""),"",IFERROR($S6*'Settings'!$B$5,"")) | Z6: =IF($A6="","",IFERROR(SUMIFS('Coaching Log'!$P$5:$P$504,'Coaching Log'!$B$5:$B$504,$A6),0)) | AA6: =IF(COUNTA($A6:$T6)=0,"",IF($A6="","Missing Plan ID",IF(COUNTIF($A$5:$A$504,$A6)>1,"Duplicate Plan ID",IF(OR($B6="",$C6=""),"Missing Driver",IF($H6="","Missing Start Date",IF($I6="","Missing Due Date",IF($I6<$H6,"Due Date Before Start",IF(AND($K6="Completed",$T6=""),"Missing Completion Date",IF(AND($K6<>"Completed",$T6<>""),"Completion Date With Open Status",IF(AND($N6="Lower Is Better",$O6<>"",$P6<>"",$P6>=$O6),"Target Direction Conflict",IF(AND($N6="Higher Is Better",$O6<>"",$P6<>"",$P6<=$O6),"Target Direction Conflict","OK")))))))))))
A7: AP-1003 | B7: D-1986 | C7: Carlos Ramirez | D7: Atlanta | E7: Erica Cole | F7: Fuel-Efficient Driving | G7: Fuel economy below the terminal target. | H7: 46233 | I7: 46298 | J7: Medium | K7: In Progress | L7: Erica Cole | M7: Miles per Gallon (MPG) | N7: Higher Is Better | O7: 7.1 | P7: 8 | Q7: 7.6 | R7: 46269 | S7: 3 | U7: =IF(OR($O7="",$P7="",$Q7="",$N7=""),"",IFERROR(MAX(0,MIN(1,IF($N7="Lower Is Better",($O7-$Q7)/($O7-$P7),($Q7-$O7)/($P7-$O7)))),"")) | V7: =IF($A7="","",IF($K7="Completed","Completed",IF($K7="Canceled","Canceled",IF($K7="On Hold","On Hold",IF($I7="","Missing Due Date",IF($I7<TODAY(),"Past Due",IF($I7<=TODAY()+'Settings'!$B$4,"Due Soon","On Track"))))))) | W7: =IF($A7="","",COUNTIFS('Coaching Log'!$B$5:$B$504,$A7)) | X7: =IF($A7="","",IFERROR(IF(MAXIFS('Coaching Log'!$F$5:$F$504,'Coaching Log'!$B$5:$B$504,$A7)=0,"",MAXIFS('Coaching Log'!$F$5:$F$504,'Coaching Log'!$B$5:$B$504,$A7)),"")) | Y7: =IF(OR($A7="",$S7=""),"",IFERROR($S7*'Settings'!$B$5,"")) | Z7: =IF($A7="","",IFERROR(SUMIFS('Coaching Log'!$P$5:$P$504,'Coaching Log'!$B$5:$B$504,$A7),0)) | AA7: =IF(COUNTA($A7:$T7)=0,"",IF($A7="","Missing Plan ID",IF(COUNTIF($A$5:$A$504,$A7)>1,"Duplicate Plan ID",IF(OR($B7="",$C7=""),"Missing Driver",IF($H7="","Missing Start Date",IF($I7="","Missing Due Date",IF($I7<$H7,"Due Date Before Start",IF(AND($K7="Completed",$T7=""),"Missing Completion Date",IF(AND($K7<>"Completed",$T7<>""),"Completion Date With Open Status",IF(AND($N7="Lower Is Better",$O7<>"",$P7<>"",$P7>=$O7),"Target Direction Conflict",IF(AND($N7="Higher Is Better",$O7<>"",$P7<>"",$P7<=$O7),"Target Direction Conflict","OK")))))))))))
A8: AP-1004 | B8: D-2155 | C8: Aisha Thompson | D8: Chicago | E8: Dana Kim | F8: Pre-Trip Inspection | G8: Incomplete pre-trip inspection documentation. | H8: 46253 | I8: 46283 | J8: Medium | K8: Open | L8: Dana Kim | M8: Percent | N8: Higher Is Better | O8: 82 | P8: 95 | Q8: 88 | R8: 46272 | S8: 3 | U8: =IF(OR($O8="",$P8="",$Q8="",$N8=""),"",IFERROR(MAX(0,MIN(1,IF($N8="Lower Is Better",($O8-$Q8)/($O8-$P8),($Q8-$O8)/($P8-$O8)))),"")) | V8: =IF($A8="","",IF($K8="Completed","Completed",IF($K8="Canceled","Canceled",IF($K8="On Hold","On Hold",IF($I8="","Missing Due Date",IF($I8<TODAY(),"Past Due",IF($I8<=TODAY()+'Settings'!$B$4,"Due Soon","On Track"))))))) | W8: =IF($A8="","",COUNTIFS('Coaching Log'!$B$5:$B$504,$A8)) | X8: =IF($A8="","",IFERROR(IF(MAXIFS('Coaching Log'!$F$5:$F$504,'Coaching Log'!$B$5:$B$504,$A8)=0,"",MAXIFS('Coaching Log'!$F$5:$F$504,'Coaching Log'!$B$5:$B$504,$A8)),"")) | Y8: =IF(OR($A8="",$S8=""),"",IFERROR($S8*'Settings'!$B$5,"")) | Z8: =IF($A8="","",IFERROR(SUMIFS('Coaching Log'!$P$5:$P$504,'Coaching Log'!$B$5:$B$504,$A8),0)) | AA8: =IF(COUNTA($A8:$T8)=0,"",IF($A8="","Missing Plan ID",IF(COUNTIF($A$5:$A$504,$A8)>1,"Duplicate Plan ID",IF(OR($B8="",$C8=""),"Missing Driver",IF($H8="","Missing Start Date",IF($I8="","Missing Due Date",IF($I8<$H8,"Due Date Before Start",IF(AND($K8="Completed",$T8=""),"Missing Completion Date",IF(AND($K8<>"Completed",$T8<>""),"Completion Date With Open Status",IF(AND($N8="Lower Is Better",$O8<>"",$P8<>"",$P8>=$O8),"Target Direction Conflict",IF(AND($N8="Higher Is Better",$O8<>"",$P8<>"",$P8<=$O8),"Target Direction Conflict","OK")))))))))))
A9: AP-1005 | B9: D-1884 | C9: Ben Carter | D9: Denver | E9: Luis Ortega | F9: Idling Reduction | G9: High idle time during customer stops. | H9: 46198 | I9: 46278 | J9: Medium | K9: Completed | L9: Luis Ortega | M9: Percent | N9: Lower Is Better | O9: 18 | P9: 8 | Q9: 7.5 | R9: 46271 | S9: 3 | T9: 46272 | U9: =IF(OR($O9="",$P9="",$Q9="",$N9=""),"",IFERROR(MAX(0,MIN(1,IF($N9="Lower Is Better",($O9-$Q9)/($O9-$P9),($Q9-$O9)/($P9-$O9)))),"")) | V9: =IF($A9="","",IF($K9="Completed","Completed",IF($K9="Canceled","Canceled",IF($K9="On Hold","On Hold",IF($I9="","Missing Due Date",IF($I9<TODAY(),"Past Due",IF($I9<=TODAY()+'Settings'!$B$4,"Due Soon","On Track"))))))) | W9: =IF($A9="","",COUNTIFS('Coaching Log'!$B$5:$B$504,$A9)) | X9: =IF($A9="","",IFERROR(IF(MAXIFS('Coaching Log'!$F$5:$F$504,'Coaching Log'!$B$5:$B$504,$A9)=0,"",MAXIFS('Coaching Log'!$F$5:$F$504,'Coaching Log'!$B$5:$B$504,$A9)),"")) | Y9: =IF(OR($A9="",$S9=""),"",IFERROR($S9*'Settings'!$B$5,"")) | Z9: =IF($A9="","",IFERROR(SUMIFS('Coaching Log'!$P$5:$P$504,'Coaching Log'!$B$5:$B$504,$A9),0)) | AA9: =IF(COUNTA($A9:$T9)=0,"",IF($A9="","Missing Plan ID",IF(COUNTIF($A$5:$A$504,$A9)>1,"Duplicate Plan ID",IF(OR($B9="",$C9=""),"Missing Driver",IF($H9="","Missing Start Date",IF($I9="","Missing Due Date",IF($I9<$H9,"Due Date Before Start",IF(AND($K9="Completed",$T9=""),"Missing Completion Date",IF(AND($K9<>"Completed",$T9<>""),"Completion Date With Open Status",IF(AND($N9="Lower Is Better",$O9<>"",$P9<>"",$P9>=$O9),"Target Direction Conflict",IF(AND($N9="Higher Is Better",$O9<>"",$P9<>"",$P9<=$O9),"Target Direction Conflict","OK")))))))))))
A10: AP-1006 | B10: D-2210 | C10: Olivia Nguyen | D10: Seattle | E10: Monica Reed | F10: Backing Safety | G10: Backing observations requiring additional spotter use. | H10: 46258 | I10: 46303 | J10: High | K10: In Progress | L10: Monica Reed | M10: Count | N10: Lower Is Better | O10: 3 | P10: 0.5 | Q10: 2 | R10: 46271 | S10: 4 | U10: =IF(OR($O10="",$P10="",$Q10="",$N10=""),"",IFERROR(MAX(0,MIN(1,IF($N10="Lower Is Better",($O10-$Q10)/($O10-$P10),($Q10-$O10)/($P10-$O10)))),"")) | V10: =IF($A10="","",IF($K10="Completed","Completed",IF($K10="Canceled","Canceled",IF($K10="On Hold","On Hold",IF($I10="","Missing Due Date",IF($I10<TODAY(),"Past Due",IF($I10<=TODAY()+'Settings'!$B$4,"Due Soon","On Track"))))))) | W10: =IF($A10="","",COUNTIFS('Coaching Log'!$B$5:$B$504,$A10)) | X10: =IF($A10="","",IFERROR(IF(MAXIFS('Coaching Log'!$F$5:$F$504,'Coaching Log'!$B$5:$B$504,$A10)=0,"",MAXIFS('Coaching Log'!$F$5:$F$504,'Coaching Log'!$B$5:$B$504,$A10)),"")) | Y10: =IF(OR($A10="",$S10=""),"",IFERROR($S10*'Settings'!$B$5,"")) | Z10: =IF($A10="","",IFERROR(SUMIFS('Coaching Log'!$P$5:$P$504,'Coaching Log'!$B$5:$B$504,$A10),0)) | AA10: =IF(COUNTA($A10:$T10)=0,"",IF($A10="","Missing Plan ID",IF(COUNTIF($A$5:$A$504,$A10)>1,"Duplicate Plan ID",IF(OR($B10="",$C10=""),"Missing Driver",IF($H10="","Missing Start Date",IF($I10="","Missing Due Date",IF($I10<$H10,"Due Date Before Start",IF(AND($K10="Completed",$T10=""),"Missing Completion Date",IF(AND($K10<>"Completed",$T10<>""),"Completion Date With Open Status",IF(AND($N10="Lower Is Better",$O10<>"",$P10<>"",$P10>=$O10),"Target Direction Conflict",IF(AND($N10="Higher Is Better",$O10<>"",$P10<>"",$P10<=$O10),"Target Direction Conflict","OK")))))))))))
A11: AP-1007 | B11: D-2093 | C11: Marcus Green | D11: Nashville | E11: Trent Brooks | F11: Customer Service | G11: Customer communication concerns during delivery updates. | H11: 46223 | I11: 46278 | J11: Medium | K11: On Hold | L11: Trent Brooks | M11: Score | N11: Higher Is Better | O11: 74 | P11: 90 | Q11: 78 | R11: 46267 | S11: 2 | U11: =IF(OR($O11="",$P11="",$Q11="",$N11=""),"",IFERROR(MAX(0,MIN(1,IF($N11="Lower Is Better",($O11-$Q11)/($O11-$P11),($Q11-$O11)/($P11-$O11)))),"")) | V11: =IF($A11="","",IF($K11="Completed","Completed",IF($K11="Canceled","Canceled",IF($K11="On Hold","On Hold",IF($I11="","Missing Due Date",IF($I11<TODAY(),"Past Due",IF($I11<=TODAY()+'Settings'!$B$4,"Due Soon","On Track"))))))) | W11: =IF($A11="","",COUNTIFS('Coaching Log'!$B$5:$B$504,$A11)) | X11: =IF($A11="","",IFERROR(IF(MAXIFS('Coaching Log'!$F$5:$F$504,'Coaching Log'!$B$5:$B$504,$A11)=0,"",MAXIFS('Coaching Log'!$F$5:$F$504,'Coaching Log'!$B$5:$B$504,$A11)),"")) | Y11: =IF(OR($A11="",$S11=""),"",IFERROR($S11*'Settings'!$B$5,"")) | Z11: =IF($A11="","",IFERROR(SUMIFS('Coaching Log'!$P$5:$P$504,'Coaching Log'!$B$5:$B$504,$A11),0)) | AA11: =IF(COUNTA($A11:$T11)=0,"",IF($A11="","Missing Plan ID",IF(COUNTIF($A$5:$A$504,$A11)>1,"Duplicate Plan ID",IF(OR($B11="",$C11=""),"Missing Driver",IF($H11="","Missing Start Date",IF($I11="","Missing Due Date",IF($I11<$H11,"Due Date Before Start",IF(AND($K11="Completed",$T11=""),"Missing Completion Date",IF(AND($K11<>"Completed",$T11<>""),"Completion Date With Open Status",IF(AND($N11="Lower Is Better",$O11<>"",$P11<>"",$P11>=$O11),"Target Direction Conflict",IF(AND($N11="Higher Is Better",$O11<>"",$P11<>"",$P11<=$O11),"Target Direction Conflict","OK")))))))))))
A12: AP-1008 | B12: D-1942 | C12: Emily Foster | D12: Orlando | E12: Erica Cole | F12: Seat Belt Use | G12: Seat belt use below the internal target. | H12: 46183 | I12: 46228 | J12: High | K12: Completed | L12: Erica Cole | M12: Percent | N12: Higher Is Better | O12: 92 | P12: 100 | Q12: 100 | R12: 46218 | S12: 2 | T12: 46223 | U12: =IF(OR($O12="",$P12="",$Q12="",$N12=""),"",IFERROR(MAX(0,MIN(1,IF($N12="Lower Is Better",($O12-$Q12)/($O12-$P12),($Q12-$O12)/($P12-$O12)))),"")) | V12: =IF($A12="","",IF($K12="Completed","Completed",IF($K12="Canceled","Canceled",IF($K12="On Hold","On Hold",IF($I12="","Missing Due Date",IF($I12<TODAY(),"Past Due",IF($I12<=TODAY()+'Settings'!$B$4,"Due Soon","On Track"))))))) | W12: =IF($A12="","",COUNTIFS('Coaching Log'!$B$5:$B$504,$A12)) | X12: =IF($A12="","",IFERROR(IF(MAXIFS('Coaching Log'!$F$5:$F$504,'Coaching Log'!$B$5:$B$504,$A12)=0,"",MAXIFS('Coaching Log'!$F$5:$F$504,'Coaching Log'!$B$5:$B$504,$A12)),"")) | Y12: =IF(OR($A12="",$S12=""),"",IFERROR($S12*'Settings'!$B$5,"")) | Z12: =IF($A12="","",IFERROR(SUMIFS('Coaching Log'!$P$5:$P$504,'Coaching Log'!$B$5:$B$504,$A12),0)) | AA12: =IF(COUNTA($A12:$T12)=0,"",IF($A12="","Missing Plan ID",IF(COUNTIF($A$5:$A$504,$A12)>1,"Duplicate Plan ID",IF(OR($B12="",$C12=""),"Missing Driver",IF($H12="","Missing Start Date",IF($I12="","Missing Due Date",IF($I12<$H12,"Due Date Before Start",IF(AND($K12="Completed",$T12=""),"Missing Completion Date",IF(AND($K12<>"Completed",$T12<>""),"Completion Date With Open Status",IF(AND($N12="Lower Is Better",$O12<>"",$P12<>"",$P12>=$O12),"Target Direction Conflict",IF(AND($N12="Higher Is Better",$O12<>"",$P12<>"",$P12<=$O12),"Target Direction Conflict","OK")))))))))))
A13: AP-1009 | B13: D-2258 | C13: Noah Williams | D13: Columbus | E13: Dana Kim | F13: Harsh Braking | G13: Harsh-braking frequency above the fleet average. | H13: 46261 | I13: 46318 | J13: Low | K13: Open | L13: Dana Kim | M13: Events per 1,000 miles | N13: Lower Is Better | O13: 5.5 | P13: 2.5 | S13: 3 | U13: =IF(OR($O13="",$P13="",$Q13="",$N13=""),"",IFERROR(MAX(0,MIN(1,IF($N13="Lower Is Better",($O13-$Q13)/($O13-$P13),($Q13-$O13)/($P13-$O13)))),"")) | V13: =IF($A13="","",IF($K13="Completed","Completed",IF($K13="Canceled","Canceled",IF($K13="On Hold","On Hold",IF($I13="","Missing Due Date",IF($I13<TODAY(),"Past Due",IF($I13<=TODAY()+'Settings'!$B$4,"Due Soon","On Track"))))))) | W13: =IF($A13="","",COUNTIFS('Coaching Log'!$B$5:$B$504,$A13)) | X13: =IF($A13="","",IFERROR(IF(MAXIFS('Coaching Log'!$F$5:$F$504,'Coaching Log'!$B$5:$B$504,$A13)=0,"",MAXIFS('Coaching Log'!$F$5:$F$504,'Coaching Log'!$B$5:$B$504,$A13)),"")) | Y13: =IF(OR($A13="",$S13=""),"",IFERROR($S13*'Settings'!$B$5,"")) | Z13: =IF($A13="","",IFERROR(SUMIFS('Coaching Log'!$P$5:$P$504,'Coaching Log'!$B$5:$B$504,$A13),0)) | AA13: =IF(COUNTA($A13:$T13)=0,"",IF($A13="","Missing Plan ID",IF(COUNTIF($A$5:$A$504,$A13)>1,"Duplicate Plan ID",IF(OR($B13="",$C13=""),"Missing Driver",IF($H13="","Missing Start Date",IF($I13="","Missing Due Date",IF($I13<$H13,"Due Date Before Start",IF(AND($K13="Completed",$T13=""),"Missing Completion Date",IF(AND($K13<>"Completed",$T13<>""),"Completion Date With Open Status",IF(AND($N13="Lower Is Better",$O13<>"",$P13<>"",$P13>=$O13),"Target Direction Conflict",IF(AND($N13="Higher Is Better",$O13<>"",$P13<>"",$P13<=$O13),"Target Direction Conflict","OK")))))))))))
A14: AP-1010 | B14: D-2174 | C14: Sophia Martinez | D14: Sacramento | E14: Maria Santos | F14: Route Adherence | G14: Missed route-sequence instructions on multi-stop routes. | H14: 46243 | I14: 46271 | J14: Medium | K14: In Progress | L14: Maria Santos | M14: Score | N14: Higher Is Better | O14: 80 | P14: 95 | Q14: 86 | R14: 46270 | S14: 3 | U14: =IF(OR($O14="",$P14="",$Q14="",$N14=""),"",IFERROR(MAX(0,MIN(1,IF($N14="Lower Is Better",($O14-$Q14)/($O14-$P14),($Q14-$O14)/($P14-$O14)))),"")) | V14: =IF($A14="","",IF($K14="Completed","Completed",IF($K14="Canceled","Canceled",IF($K14="On Hold","On Hold",IF($I14="","Missing Due Date",IF($I14<TODAY(),"Past Due",IF($I14<=TODAY()+'Settings'!$B$4,"Due Soon","On Track"))))))) | W14: =IF($A14="","",COUNTIFS('Coaching Log'!$B$5:$B$504,$A14)) | X14: =IF($A14="","",IFERROR(IF(MAXIFS('Coaching Log'!$F$5:$F$504,'Coaching Log'!$B$5:$B$504,$A14)=0,"",MAXIFS('Coaching Log'!$F$5:$F$504,'Coaching Log'!$B$5:$B$504,$A14)),"")) | Y14: =IF(OR($A14="",$S14=""),"",IFERROR($S14*'Settings'!$B$5,"")) | Z14: =IF($A14="","",IFERROR(SUMIFS('Coaching Log'!$P$5:$P$504,'Coaching Log'!$B$5:$B$504,$A14),0)) | AA14: =IF(COUNTA($A14:$T14)=0,"",IF($A14="","Missing Plan ID",IF(COUNTIF($A$5:$A$504,$A14)>1,"Duplicate Plan ID",IF(OR($B14="",$C14=""),"Missing Driver",IF($H14="","Missing Start Date",IF($I14="","Missing Due Date",IF($I14<$H14,"Due Date Before Start",IF(AND($K14="Completed",$T14=""),"Missing Completion Date",IF(AND($K14<>"Completed",$T14<>""),"Completion Date With Open Status",IF(AND($N14="Lower Is Better",$O14<>"",$P14<>"",$P14>=$O14),"Target Direction Conflict",IF(AND($N14="Higher Is Better",$O14<>"",$P14<>"",$P14<=$O14),"Target Direction Conflict","OK")))))))))))
U15: =IF(OR($O15="",$P15="",$Q15="",$N15=""),"",IFERROR(MAX(0,MIN(1,IF($N15="Lower Is Better",($O15-$Q15)/($O15-$P15),($Q15-$O15)/($P15-$O15)))),"")) | V15: =IF($A15="","",IF($K15="Completed","Completed",IF($K15="Canceled","Canceled",IF($K15="On Hold","On Hold",IF($I15="","Missing Due Date",IF($I15<TODAY(),"Past Due",IF($I15<=TODAY()+'Settings'!$B$4,"Due Soon","On Track"))))))) | W15: =IF($A15="","",COUNTIFS('Coaching Log'!$B$5:$B$504,$A15)) | X15: =IF($A15="","",IFERROR(IF(MAXIFS('Coaching Log'!$F$5:$F$504,'Coaching Log'!$B$5:$B$504,$A15)=0,"",MAXIFS('Coaching Log'!$F$5:$F$504,'Coaching Log'!$B$5:$B$504,$A15)),"")) | Y15: =IF(OR($A15="",$S15=""),"",IFERROR($S15*'Settings'!$B$5,"")) | Z15: =IF($A15="","",IFERROR(SUMIFS('Coaching Log'!$P$5:$P$504,'Coaching Log'!$B$5:$B$504,$A15),0)) | AA15: =IF(COUNTA($A15:$T15)=0,"",IF($A15="","Missing Plan ID",IF(COUNTIF($A$5:$A$504,$A15)>1,"Duplicate Plan ID",IF(OR($B15="",$C15=""),"Missing Driver",IF($H15="","Missing Start Date",IF($I15="","Missing Due Date",IF($I15<$H15,"Due Date Before Start",IF(AND($K15="Completed",$T15=""),"Missing Completion Date",IF(AND($K15<>"Completed",$T15<>""),"Completion Date With Open Status",IF(AND($N15="Lower Is Better",$O15<>"",$P15<>"",$P15>=$O15),"Target Direction Conflict",IF(AND($N15="Higher Is Better",$O15<>"",$P15<>"",$P15<=$O15),"Target Direction Conflict","OK")))))))))))
U16: =IF(OR($O16="",$P16="",$Q16="",$N16=""),"",IFERROR(MAX(0,MIN(1,IF($N16="Lower Is Better",($O16-$Q16)/($O16-$P16),($Q16-$O16)/($P16-$O16)))),"")) | V16: =IF($A16="","",IF($K16="Completed","Completed",IF($K16="Canceled","Canceled",IF($K16="On Hold","On Hold",IF($I16="","Missing Due Date",IF($I16<TODAY(),"Past Due",IF($I16<=TODAY()+'Settings'!$B$4,"Due Soon","On Track"))))))) | W16: =IF($A16="","",COUNTIFS('Coaching Log'!$B$5:$B$504,$A16)) | X16: =IF($A16="","",IFERROR(IF(MAXIFS('Coaching Log'!$F$5:$F$504,'Coaching Log'!$B$5:$B$504,$A16)=0,"",MAXIFS('Coaching Log'!$F$5:$F$504,'Coaching Log'!$B$5:$B$504,$A16)),"")) | Y16: =IF(OR($A16="",$S16=""),"",IFERROR($S16*'Settings'!$B$5,"")) | Z16: =IF($A16="","",IFERROR(SUMIFS('Coaching Log'!$P$5:$P$504,'Coaching Log'!$B$5:$B$504,$A16),0)) | AA16: =IF(COUNTA($A16:$T16)=0,"",IF($A16="","Missing Plan ID",IF(COUNTIF($A$5:$A$504,$A16)>1,"Duplicate Plan ID",IF(OR($B16="",$C16=""),"Missing Driver",IF($H16="","Missing Start Date",IF($I16="","Missing Due Date",IF($I16<$H16,"Due Date Before Start",IF(AND($K16="Completed",$T16=""),"Missing Completion Date",IF(AND($K16<>"Completed",$T16<>""),"Completion Date With Open Status",IF(AND($N16="Lower Is Better",$O16<>"",$P16<>"",$P16>=$O16),"Target Direction Conflict",IF(AND($N16="Higher Is Better",$O16<>"",$P16<>"",$P16<=$O16),"Target Direction Conflict","OK")))))))))))
U17: =IF(OR($O17="",$P17="",$Q17="",$N17=""),"",IFERROR(MAX(0,MIN(1,IF($N17="Lower Is Better",($O17-$Q17)/($O17-$P17),($Q17-$O17)/($P17-$O17)))),"")) | V17: =IF($A17="","",IF($K17="Completed","Completed",IF($K17="Canceled","Canceled",IF($K17="On Hold","On Hold",IF($I17="","Missing Due Date",IF($I17<TODAY(),"Past Due",IF($I17<=TODAY()+'Settings'!$B$4,"Due Soon","On Track"))))))) | W17: =IF($A17="","",COUNTIFS('Coaching Log'!$B$5:$B$504,$A17)) | X17: =IF($A17="","",IFERROR(IF(MAXIFS('Coaching Log'!$F$5:$F$504,'Coaching Log'!$B$5:$B$504,$A17)=0,"",MAXIFS('Coaching Log'!$F$5:$F$504,'Coaching Log'!$B$5:$B$504,$A17)),"")) | Y17: =IF(OR($A17="",$S17=""),"",IFERROR($S17*'Settings'!$B$5,"")) | Z17: =IF($A17="","",IFERROR(SUMIFS('Coaching Log'!$P$5:$P$504,'Coaching Log'!$B$5:$B$504,$A17),0)) | AA17: =IF(COUNTA($A17:$T17)=0,"",IF($A17="","Missing Plan ID",IF(COUNTIF($A$5:$A$504,$A17)>1,"Duplicate Plan ID",IF(OR($B17="",$C17=""),"Missing Driver",IF($H17="","Missing Start Date",IF($I17="","Missing Due Date",IF($I17<$H17,"Due Date Before Start",IF(AND($K17="Completed",$T17=""),"Missing Completion Date",IF(AND($K17<>"Completed",$T17<>""),"Completion Date With Open Status",IF(AND($N17="Lower Is Better",$O17<>"",$P17<>"",$P17>=$O17),"Target Direction Conflict",IF(AND($N17="Higher Is Better",$O17<>"",$P17<>"",$P17<=$O17),"Target Direction Conflict","OK")))))))))))
U18: =IF(OR($O18="",$P18="",$Q18="",$N18=""),"",IFERROR(MAX(0,MIN(1,IF($N18="Lower Is Better",($O18-$Q18)/($O18-$P18),($Q18-$O18)/($P18-$O18)))),"")) | V18: =IF($A18="","",IF($K18="Completed","Completed",IF($K18="Canceled","Canceled",IF($K18="On Hold","On Hold",IF($I18="","Missing Due Date",IF($I18<TODAY(),"Past Due",IF($I18<=TODAY()+'Settings'!$B$4,"Due Soon","On Track"))))))) | W18: =IF($A18="","",COUNTIFS('Coaching Log'!$B$5:$B$504,$A18)) | X18: =IF($A18="","",IFERROR(IF(MAXIFS('Coaching Log'!$F$5:$F$504,'Coaching Log'!$B$5:$B$504,$A18)=0,"",MAXIFS('Coaching Log'!$F$5:$F$504,'Coaching Log'!$B$5:$B$504,$A18)),"")) | Y18: =IF(OR($A18="",$S18=""),"",IFERROR($S18*'Settings'!$B$5,"")) | Z18: =IF($A18="","",IFERROR(SUMIFS('Coaching Log'!$P$5:$P$504,'Coaching Log'!$B$5:$B$504,$A18),0)) | AA18: =IF(COUNTA($A18:$T18)=0,"",IF($A18="","Missing Plan ID",IF(COUNTIF($A$5:$A$504,$A18)>1,"Duplicate Plan ID",IF(OR($B18="",$C18=""),"Missing Driver",IF($H18="","Missing Start Date",IF($I18="","Missing Due Date",IF($I18<$H18,"Due Date Before Start",IF(AND($K18="Completed",$T18=""),"Missing Completion Date",IF(AND($K18<>"Completed",$T18<>""),"Completion Date With Open Status",IF(AND($N18="Lower Is Better",$O18<>"",$P18<>"",$P18>=$O18),"Target Direction Conflict",IF(AND($N18="Higher Is Better",$O18<>"",$P18<>"",$P18<=$O18),"Target Direction Conflict","OK")))))))))))
U19: =IF(OR($O19="",$P19="",$Q19="",$N19=""),"",IFERROR(MAX(0,MIN(1,IF($N19="Lower Is Better",($O19-$Q19)/($O19-$P19),($Q19-$O19)/($P19-$O19)))),"")) | V19: =IF($A19="","",IF($K19="Completed","Completed",IF($K19="Canceled","Canceled",IF($K19="On Hold","On Hold",IF($I19="","Missing Due Date",IF($I19<TODAY(),"Past Due",IF($I19<=TODAY()+'Settings'!$B$4,"Due Soon","On Track"))))))) | W19: =IF($A19="","",COUNTIFS('Coaching Log'!$B$5:$B$504,$A19)) | X19: =IF($A19="","",IFERROR(IF(MAXIFS('Coaching Log'!$F$5:$F$504,'Coaching Log'!$B$5:$B$504,$A19)=0,"",MAXIFS('Coaching Log'!$F$5:$F$504,'Coaching Log'!$B$5:$B$504,$A19)),"")) | Y19: =IF(OR($A19="",$S19=""),"",IFERROR($S19*'Settings'!$B$5,"")) | Z19: =IF($A19="","",IFERROR(SUMIFS('Coaching Log'!$P$5:$P$504,'Coaching Log'!$B$5:$B$504,$A19),0)) | AA19: =IF(COUNTA($A19:$T19)=0,"",IF($A19="","Missing Plan ID",IF(COUNTIF($A$5:$A$504,$A19)>1,"Duplicate Plan ID",IF(OR($B19="",$C19=""),"Missing Driver",IF($H19="","Missing Start Date",IF($I19="","Missing Due Date",IF($I19<$H19,"Due Date Before Start",IF(AND($K19="Completed",$T19=""),"Missing Completion Date",IF(AND($K19<>"Completed",$T19<>""),"Completion Date With Open Status",IF(AND($N19="Lower Is Better",$O19<>"",$P19<>"",$P19>=$O19),"Target Direction Conflict",IF(AND($N19="Higher Is Better",$O19<>"",$P19<>"",$P19<=$O19),"Target Direction Conflict","OK")))))))))))
U20: =IF(OR($O20="",$P20="",$Q20="",$N20=""),"",IFERROR(MAX(0,MIN(1,IF($N20="Lower Is Better",($O20-$Q20)/($O20-$P20),($Q20-$O20)/($P20-$O20)))),"")) | V20: =IF($A20="","",IF($K20="Completed","Completed",IF($K20="Canceled","Canceled",IF($K20="On Hold","On Hold",IF($I20="","Missing Due Date",IF($I20<TODAY(),"Past Due",IF($I20<=TODAY()+'Settings'!$B$4,"Due Soon","On Track"))))))) | W20: =IF($A20="","",COUNTIFS('Coaching Log'!$B$5:$B$504,$A20)) | X20: =IF($A20="","",IFERROR(IF(MAXIFS('Coaching Log'!$F$5:$F$504,'Coaching Log'!$B$5:$B$504,$A20)=0,"",MAXIFS('Coaching Log'!$F$5:$F$504,'Coaching Log'!$B$5:$B$504,$A20)),"")) | Y20: =IF(OR($A20="",$S20=""),"",IFERROR($S20*'Settings'!$B$5,"")) | Z20: =IF($A20="","",IFERROR(SUMIFS('Coaching Log'!$P$5:$P$504,'Coaching Log'!$B$5:$B$504,$A20),0)) | AA20: =IF(COUNTA($A20:$T20)=0,"",IF($A20="","Missing Plan ID",IF(COUNTIF($A$5:$A$504,$A20)>1,"Duplicate Plan ID",IF(OR($B20="",$C20=""),"Missing Driver",IF($H20="","Missing Start Date",IF($I20="","Missing Due Date",IF($I20<$H20,"Due Date Before Start",IF(AND($K20="Completed",$T20=""),"Missing Completion Date",IF(AND($K20<>"Completed",$T20<>""),"Completion Date With Open Status",IF(AND($N20="Lower Is Better",$O20<>"",$P20<>"",$P20>=$O20),"Target Direction Conflict",IF(AND($N20="Higher Is Better",$O20<>"",$P20<>"",$P20<=$O20),"Target Direction Conflict","OK")))))))))))
U21: =IF(OR($O21="",$P21="",$Q21="",$N21=""),"",IFERROR(MAX(0,MIN(1,IF($N21="Lower Is Better",($O21-$Q21)/($O21-$P21),($Q21-$O21)/($P21-$O21)))),"")) | V21: =IF($A21="","",IF($K21="Completed","Completed",IF($K21="Canceled","Canceled",IF($K21="On Hold","On Hold",IF($I21="","Missing Due Date",IF($I21<TODAY(),"Past Due",IF($I21<=TODAY()+'Settings'!$B$4,"Due Soon","On Track"))))))) | W21: =IF($A21="","",COUNTIFS('Coaching Log'!$B$5:$B$504,$A21)) | X21: =IF($A21="","",IFERROR(IF(MAXIFS('Coaching Log'!$F$5:$F$504,'Coaching Log'!$B$5:$B$504,$A21)=0,"",MAXIFS('Coaching Log'!$F$5:$F$504,'Coaching Log'!$B$5:$B$504,$A21)),"")) | Y21: =IF(OR($A21="",$S21=""),"",IFERROR($S21*'Settings'!$B$5,"")) | Z21: =IF($A21="","",IFERROR(SUMIFS('Coaching Log'!$P$5:$P$504,'Coaching Log'!$B$5:$B$504,$A21),0)) | AA21: =IF(COUNTA($A21:$T21)=0,"",IF($A21="","Missing Plan ID",IF(COUNTIF($A$5:$A$504,$A21)>1,"Duplicate Plan ID",IF(OR($B21="",$C21=""),"Missing Driver",IF($H21="","Missing Start Date",IF($I21="","Missing Due Date",IF($I21<$H21,"Due Date Before Start",IF(AND($K21="Completed",$T21=""),"Missing Completion Date",IF(AND($K21<>"Completed",$T21<>""),"Completion Date With Open Status",IF(AND($N21="Lower Is Better",$O21<>"",$P21<>"",$P21>=$O21),"Target Direction Conflict",IF(AND($N21="Higher Is Better",$O21<>"",$P21<>"",$P21<=$O21),"Target Direction Conflict","OK")))))))))))
U22: =IF(OR($O22="",$P22="",$Q22="",$N22=""),"",IFERROR(MAX(0,MIN(1,IF($N22="Lower Is Better",($O22-$Q22)/($O22-$P22),($Q22-$O22)/($P22-$O22)))),"")) | V22: =IF($A22="","",IF($K22="Completed","Completed",IF($K22="Canceled","Canceled",IF($K22="On Hold","On Hold",IF($I22="","Missing Due Date",IF($I22<TODAY(),"Past Due",IF($I22<=TODAY()+'Settings'!$B$4,"Due Soon","On Track"))))))) | W22: =IF($A22="","",COUNTIFS('Coaching Log'!$B$5:$B$504,$A22)) | X22: =IF($A22="","",IFERROR(IF(MAXIFS('Coaching Log'!$F$5:$F$504,'Coaching Log'!$B$5:$B$504,$A22)=0,"",MAXIFS('Coaching Log'!$F$5:$F$504,'Coaching Log'!$B$5:$B$504,$A22)),"")) | Y22: =IF(OR($A22="",$S22=""),"",IFERROR($S22*'Settings'!$B$5,"")) | Z22: =IF($A22="","",IFERROR(SUMIFS('Coaching Log'!$P$5:$P$504,'Coaching Log'!$B$5:$B$504,$A22),0)) | AA22: =IF(COUNTA($A22:$T22)=0,"",IF($A22="","Missing Plan ID",IF(COUNTIF($A$5:$A$504,$A22)>1,"Duplicate Plan ID",IF(OR($B22="",$C22=""),"Missing Driver",IF($H22="","Missing Start Date",IF($I22="","Missing Due Date",IF($I22<$H22,"Due Date Before Start",IF(AND($K22="Completed",$T22=""),"Missing Completion Date",IF(AND($K22<>"Completed",$T22<>""),"Completion Date With Open Status",IF(AND($N22="Lower Is Better",$O22<>"",$P22<>"",$P22>=$O22),"Target Direction Conflict",IF(AND($N22="Higher Is Better",$O22<>"",$P22<>"",$P22<=$O22),"Target Direction Conflict","OK")))))))))))
U23: =IF(OR($O23="",$P23="",$Q23="",$N23=""),"",IFERROR(MAX(0,MIN(1,IF($N23="Lower Is Better",($O23-$Q23)/($O23-$P23),($Q23-$O23)/($P23-$O23)))),"")) | V23: =IF($A23="","",IF($K23="Completed","Completed",IF($K23="Canceled","Canceled",IF($K23="On Hold","On Hold",IF($I23="","Missing Due Date",IF($I23<TODAY(),"Past Due",IF($I23<=TODAY()+'Settings'!$B$4,"Due Soon","On Track"))))))) | W23: =IF($A23="","",COUNTIFS('Coaching Log'!$B$5:$B$504,$A23)) | X23: =IF($A23="","",IFERROR(IF(MAXIFS('Coaching Log'!$F$5:$F$504,'Coaching Log'!$B$5:$B$504,$A23)=0,"",MAXIFS('Coaching Log'!$F$5:$F$504,'Coaching Log'!$B$5:$B$504,$A23)),"")) | Y23: =IF(OR($A23="",$S23=""),"",IFERROR($S23*'Settings'!$B$5,"")) | Z23: =IF($A23="","",IFERROR(SUMIFS('Coaching Log'!$P$5:$P$504,'Coaching Log'!$B$5:$B$504,$A23),0)) | AA23: =IF(COUNTA($A23:$T23)=0,"",IF($A23="","Missing Plan ID",IF(COUNTIF($A$5:$A$504,$A23)>1,"Duplicate Plan ID",IF(OR($B23="",$C23=""),"Missing Driver",IF($H23="","Missing Start Date",IF($I23="","Missing Due Date",IF($I23<$H23,"Due Date Before Start",IF(AND($K23="Completed",$T23=""),"Missing Completion Date",IF(AND($K23<>"Completed",$T23<>""),"Completion Date With Open Status",IF(AND($N23="Lower Is Better",$O23<>"",$P23<>"",$P23>=$O23),"Target Direction Conflict",IF(AND($N23="Higher Is Better",$O23<>"",$P23<>"",$P23<=$O23),"Target Direction Conflict","OK")))))))))))
U24: =IF(OR($O24="",$P24="",$Q24="",$N24=""),"",IFERROR(MAX(0,MIN(1,IF($N24="Lower Is Better",($O24-$Q24)/($O24-$P24),($Q24-$O24)/($P24-$O24)))),"")) | V24: =IF($A24="","",IF($K24="Completed","Completed",IF($K24="Canceled","Canceled",IF($K24="On Hold","On Hold",IF($I24="","Missing Due Date",IF($I24<TODAY(),"Past Due",IF($I24<=TODAY()+'Settings'!$B$4,"Due Soon","On Track"))))))) | W24: =IF($A24="","",COUNTIFS('Coaching Log'!$B$5:$B$504,$A24)) | X24: =IF($A24="","",IFERROR(IF(MAXIFS('Coaching Log'!$F$5:$F$504,'Coaching Log'!$B$5:$B$504,$A24)=0,"",MAXIFS('Coaching Log'!$F$5:$F$504,'Coaching Log'!$B$5:$B$504,$A24)),"")) | Y24: =IF(OR($A24="",$S24=""),"",IFERROR($S24*'Settings'!$B$5,"")) | Z24: =IF($A24="","",IFERROR(SUMIFS('Coaching Log'!$P$5:$P$504,'Coaching Log'!$B$5:$B$504,$A24),0)) | AA24: =IF(COUNTA($A24:$T24)=0,"",IF($A24="","Missing Plan ID",IF(COUNTIF($A$5:$A$504,$A24)>1,"Duplicate Plan ID",IF(OR($B24="",$C24=""),"Missing Driver",IF($H24="","Missing Start Date",IF($I24="","Missing Due Date",IF($I24<$H24,"Due Date Before Start",IF(AND($K24="Completed",$T24=""),"Missing Completion Date",IF(AND($K24<>"Completed",$T24<>""),"Completion Date With Open Status",IF(AND($N24="Lower Is Better",$O24<>"",$P24<>"",$P24>=$O24),"Target Direction Conflict",IF(AND($N24="Higher Is Better",$O24<>"",$P24<>"",$P24<=$O24),"Target Direction Conflict","OK")))))))))))
U25: =IF(OR($O25="",$P25="",$Q25="",$N25=""),"",IFERROR(MAX(0,MIN(1,IF($N25="Lower Is Better",($O25-$Q25)/($O25-$P25),($Q25-$O25)/($P25-$O25)))),"")) | V25: =IF($A25="","",IF($K25="Completed","Completed",IF($K25="Canceled","Canceled",IF($K25="On Hold","On Hold",IF($I25="","Missing Due Date",IF($I25<TODAY(),"Past Due",IF($I25<=TODAY()+'Settings'!$B$4,"Due Soon","On Track"))))))) | W25: =IF($A25="","",COUNTIFS('Coaching Log'!$B$5:$B$504,$A25)) | X25: =IF($A25="","",IFERROR(IF(MAXIFS('Coaching Log'!$F$5:$F$504,'Coaching Log'!$B$5:$B$504,$A25)=0,"",MAXIFS('Coaching Log'!$F$5:$F$504,'Coaching Log'!$B$5:$B$504,$A25)),"")) | Y25: =IF(OR($A25="",$S25=""),"",IFERROR($S25*'Settings'!$B$5,"")) | Z25: =IF($A25="","",IFERROR(SUMIFS('Coaching Log'!$P$5:$P$504,'Coaching Log'!$B$5:$B$504,$A25),0)) | AA25: =IF(COUNTA($A25:$T25)=0,"",IF($A25="","Missing Plan ID",IF(COUNTIF($A$5:$A$504,$A25)>1,"Duplicate Plan ID",IF(OR($B25="",$C25=""),"Missing Driver",IF($H25="","Missing Start Date",IF($I25="","Missing Due Date",IF($I25<$H25,"Due Date Before Start",IF(AND($K25="Completed",$T25=""),"Missing Completion Date",IF(AND($K25<>"Completed",$T25<>""),"Completion Date With Open Status",IF(AND($N25="Lower Is Better",$O25<>"",$P25<>"",$P25>=$O25),"Target Direction Conflict",IF(AND($N25="Higher Is Better",$O25<>"",$P25<>"",$P25<=$O25),"Target Direction Conflict","OK")))))))))))
U26: =IF(OR($O26="",$P26="",$Q26="",$N26=""),"",IFERROR(MAX(0,MIN(1,IF($N26="Lower Is Better",($O26-$Q26)/($O26-$P26),($Q26-$O26)/($P26-$O26)))),"")) | V26: =IF($A26="","",IF($K26="Completed","Completed",IF($K26="Canceled","Canceled",IF($K26="On Hold","On Hold",IF($I26="","Missing Due Date",IF($I26<TODAY(),"Past Due",IF($I26<=TODAY()+'Settings'!$B$4,"Due Soon","On Track"))))))) | W26: =IF($A26="","",COUNTIFS('Coaching Log'!$B$5:$B$504,$A26)) | X26: =IF($A26="","",IFERROR(IF(MAXIFS('Coaching Log'!$F$5:$F$504,'Coaching Log'!$B$5:$B$504,$A26)=0,"",MAXIFS('Coaching Log'!$F$5:$F$504,'Coaching Log'!$B$5:$B$504,$A26)),"")) | Y26: =IF(OR($A26="",$S26=""),"",IFERROR($S26*'Settings'!$B$5,"")) | Z26: =IF($A26="","",IFERROR(SUMIFS('Coaching Log'!$P$5:$P$504,'Coaching Log'!$B$5:$B$504,$A26),0)) | AA26: =IF(COUNTA($A26:$T26)=0,"",IF($A26="","Missing Plan ID",IF(COUNTIF($A$5:$A$504,$A26)>1,"Duplicate Plan ID",IF(OR($B26="",$C26=""),"Missing Driver",IF($H26="","Missing Start Date",IF($I26="","Missing Due Date",IF($I26<$H26,"Due Date Before Start",IF(AND($K26="Completed",$T26=""),"Missing Completion Date",IF(AND($K26<>"Completed",$T26<>""),"Completion Date With Open Status",IF(AND($N26="Lower Is Better",$O26<>"",$P26<>"",$P26>=$O26),"Target Direction Conflict",IF(AND($N26="Higher Is Better",$O26<>"",$P26<>"",$P26<=$O26),"Target Direction Conflict","OK")))))))))))
... U504: =IF(OR($O504="",$P504="",$Q504="",$N504=""),"",IFERROR(MAX(0,MIN(1,IF($N504="Lower Is Better",($O504-$Q504)/($O504-$P504),($Q504-$O504)/($P504-$O504)))),"")) | V504: =IF($A504="","",IF($K504="Completed","Completed",IF($K504="Canceled","Canceled",IF($K504="On Hold","On Hold",IF($I504="","Missing Due Date",IF($I504<TODAY(),"Past Due",IF($I504<=TODAY()+'Settings'!$B$4,"Due Soon","On Track"))))))) | W504: =IF($A504="","",COUNTIFS('Coaching Log'!$B$5:$B$504,$A504)) | X504: =IF($A504="","",IFERROR(IF(MAXIFS('Coaching Log'!$F$5:$F$504,'Coaching Log'!$B$5:$B$504,$A504)=0,"",MAXIFS('Coaching Log'!$F$5:$F$504,'Coaching Log'!$B$5:$B$504,$A504)),"")) | Y504: =IF(OR($A504="",$S504=""),"",IFERROR($S504*'Settings'!$B$5,"")) | Z504: =IF($A504="","",IFERROR(SUMIFS('Coaching Log'!$P$5:$P$504,'Coaching Log'!$B$5:$B$504,$A504),0)) | AA504: =IF(COUNTA($A504:$T504)=0,"",IF($A504="","Missing Plan ID",IF(COUNTIF($A$5:$A$504,$A504)>1,"Duplicate Plan ID",IF(OR($B504="",$C504=""),"Missing Driver",IF($H504="","Missing Start Date",IF($I504="","Missing Due Date",IF($I504<$H504,"Due Date Before Start",IF(AND($K504="Completed",$T504=""),"Missing Completion Date",IF(AND($K504<>"Completed",$T504<>""),"Completion Date With Open Status",IF(AND($N504="Lower Is Better",$O504<>"",$P504<>"",$P504>=$O504),"Target Direction Conflict",IF(AND($N504="Higher Is Better",$O504<>"",$P504<>"",$P504<=$O504),"Target Direction Conflict","OK")))))))))))

Sheet Coaching Log
A1: Driver Coaching Session Log
A2: Select a Plan ID, record the coaching discussion, and update follow-up details manually.
A3: Legend | B3: Input | C3: Calculated | D3: Warning | E3: Acceptable
A4: Session ID | B4: Plan ID | C4: Driver ID | D4: Driver Name | E4: Location | F4: Coaching Date | G4: Coach | H4: Coaching Method | I4: Discussion Focus | J4: Driver Commitment | K4: Follow-Up Due Date | L4: Follow-Up Completed | M4: Follow-Up Completion Date | N4: Outcome | O4: Session Duration (Minutes) | P4: Session Cost | Q4: Next Step / Notes | R4: Data Check
A5: CL-2001 | B5: AP-1001 | C5: =IF($B5="","",IFERROR(INDEX('Action Plans'!$B$5:$B$504,MATCH($B5,'Action Plans'!$A$5:$A$504,0)),"")) | D5: =IF($B5="","",IFERROR(INDEX('Action Plans'!$C$5:$C$504,MATCH($B5,'Action Plans'!$A$5:$A$504,0)),"")) | E5: =IF($B5="","",IFERROR(INDEX('Action Plans'!$D$5:$D$504,MATCH($B5,'Action Plans'!$A$5:$A$504,0)),"")) | F5: 46223 | G5: Maria Santos | H5: Ride-Along | I5: Reviewed speed-selection expectations for city routes. | J5: Driver will use posted limits and review event alerts after each route. | K5: 46230 | L5: Yes | M5: 46231 | N5: Partial Change | O5: 60 | P5: 95 | Q5: Compare event frequency after two additional weeks. | R5: =IF(COUNTA($A5:$B5,$F5:$Q5)=0,"",IF($A5="","Missing Session ID",IF(COUNTIF($A$5:$A$504,$A5)>1,"Duplicate Session ID",IF($B5="","Missing Plan ID",IF(COUNTIF('Action Plans'!$A$5:$A$504,$B5)=0,"Unknown Plan ID",IF($F5="","Missing Coaching Date",IF(AND($K5<>"",$K5<$F5),"Follow-Up Due Before Session",IF(AND($L5="Yes",$M5=""),"Missing Follow-Up Completion Date",IF(AND($L5="No",$M5<>""),"Completion Date With Open Follow-Up",IF(AND($M5<>"",$M5<$F5),"Follow-Up Completed Before Session","OK"))))))))))
A6: CL-2002 | B6: AP-1001 | C6: =IF($B6="","",IFERROR(INDEX('Action Plans'!$B$5:$B$504,MATCH($B6,'Action Plans'!$A$5:$A$504,0)),"")) | D6: =IF($B6="","",IFERROR(INDEX('Action Plans'!$C$5:$C$504,MATCH($B6,'Action Plans'!$A$5:$A$504,0)),"")) | E6: =IF($B6="","",IFERROR(INDEX('Action Plans'!$D$5:$D$504,MATCH($B6,'Action Plans'!$A$5:$A$504,0)),"")) | F6: 46253 | G6: Maria Santos | H6: Phone | I6: Reviewed recent speed events and route conditions. | J6: Driver will reduce approach speed before urban intersections. | K6: 46260 | L6: No | N6: Not Yet Assessed | O6: 30 | P6: 65 | Q6: Schedule a route review and confirm current event trend. | R6: =IF(COUNTA($A6:$B6,$F6:$Q6)=0,"",IF($A6="","Missing Session ID",IF(COUNTIF($A$5:$A$504,$A6)>1,"Duplicate Session ID",IF($B6="","Missing Plan ID",IF(COUNTIF('Action Plans'!$A$5:$A$504,$B6)=0,"Unknown Plan ID",IF($F6="","Missing Coaching Date",IF(AND($K6<>"",$K6<$F6),"Follow-Up Due Before Session",IF(AND($L6="Yes",$M6=""),"Missing Follow-Up Completion Date",IF(AND($L6="No",$M6<>""),"Completion Date With Open Follow-Up",IF(AND($M6<>"",$M6<$F6),"Follow-Up Completed Before Session","OK"))))))))))
A7: CL-2003 | B7: AP-1002 | C7: =IF($B7="","",IFERROR(INDEX('Action Plans'!$B$5:$B$504,MATCH($B7,'Action Plans'!$A$5:$A$504,0)),"")) | D7: =IF($B7="","",IFERROR(INDEX('Action Plans'!$C$5:$C$504,MATCH($B7,'Action Plans'!$A$5:$A$504,0)),"")) | E7: =IF($B7="","",IFERROR(INDEX('Action Plans'!$D$5:$D$504,MATCH($B7,'Action Plans'!$A$5:$A$504,0)),"")) | F7: 46248 | G7: Trent Brooks | H7: Video Call | I7: Discussed following distance during dense urban traffic. | J7: Driver agreed to increase following distance before lane changes. | K7: 46255 | L7: Yes | M7: 46256 | N7: Partial Change | O7: 45 | P7: 85 | Q7: Review the next two weeks of observation notes. | R7: =IF(COUNTA($A7:$B7,$F7:$Q7)=0,"",IF($A7="","Missing Session ID",IF(COUNTIF($A$5:$A$504,$A7)>1,"Duplicate Session ID",IF($B7="","Missing Plan ID",IF(COUNTIF('Action Plans'!$A$5:$A$504,$B7)=0,"Unknown Plan ID",IF($F7="","Missing Coaching Date",IF(AND($K7<>"",$K7<$F7),"Follow-Up Due Before Session",IF(AND($L7="Yes",$M7=""),"Missing Follow-Up Completion Date",IF(AND($L7="No",$M7<>""),"Completion Date With Open Follow-Up",IF(AND($M7<>"",$M7<$F7),"Follow-Up Completed Before Session","OK"))))))))))
A8: CL-2004 | B8: AP-1003 | C8: =IF($B8="","",IFERROR(INDEX('Action Plans'!$B$5:$B$504,MATCH($B8,'Action Plans'!$A$5:$A$504,0)),"")) | D8: =IF($B8="","",IFERROR(INDEX('Action Plans'!$C$5:$C$504,MATCH($B8,'Action Plans'!$A$5:$A$504,0)),"")) | E8: =IF($B8="","",IFERROR(INDEX('Action Plans'!$D$5:$D$504,MATCH($B8,'Action Plans'!$A$5:$A$504,0)),"")) | F8: 46243 | G8: Erica Cole | H8: Ride-Along | I8: Practiced progressive acceleration and steady-speed techniques. | J8: Driver will reduce unnecessary idling and use smoother acceleration. | K8: 46253 | L8: Yes | M8: 46254 | N8: Positive Change | O8: 60 | P8: 95 | Q8: Check miles-per-gallon results at the next metric update. | R8: =IF(COUNTA($A8:$B8,$F8:$Q8)=0,"",IF($A8="","Missing Session ID",IF(COUNTIF($A$5:$A$504,$A8)>1,"Duplicate Session ID",IF($B8="","Missing Plan ID",IF(COUNTIF('Action Plans'!$A$5:$A$504,$B8)=0,"Unknown Plan ID",IF($F8="","Missing Coaching Date",IF(AND($K8<>"",$K8<$F8),"Follow-Up Due Before Session",IF(AND($L8="Yes",$M8=""),"Missing Follow-Up Completion Date",IF(AND($L8="No",$M8<>""),"Completion Date With Open Follow-Up",IF(AND($M8<>"",$M8<$F8),"Follow-Up Completed Before Session","OK"))))))))))
A9: CL-2005 | B9: AP-1004 | C9: =IF($B9="","",IFERROR(INDEX('Action Plans'!$B$5:$B$504,MATCH($B9,'Action Plans'!$A$5:$A$504,0)),"")) | D9: =IF($B9="","",IFERROR(INDEX('Action Plans'!$C$5:$C$504,MATCH($B9,'Action Plans'!$A$5:$A$504,0)),"")) | E9: =IF($B9="","",IFERROR(INDEX('Action Plans'!$D$5:$D$504,MATCH($B9,'Action Plans'!$A$5:$A$504,0)),"")) | F9: 46263 | G9: Dana Kim | H9: In-Person | I9: Reviewed missing inspection documentation and checklist use. | J9: Driver will use the full inspection checklist before dispatch. | K9: 46270 | L9: No | N9: Not Yet Assessed | O9: 45 | P9: 85 | Q9: Audit the next five pre-trip inspection records. | R9: =IF(COUNTA($A9:$B9,$F9:$Q9)=0,"",IF($A9="","Missing Session ID",IF(COUNTIF($A$5:$A$504,$A9)>1,"Duplicate Session ID",IF($B9="","Missing Plan ID",IF(COUNTIF('Action Plans'!$A$5:$A$504,$B9)=0,"Unknown Plan ID",IF($F9="","Missing Coaching Date",IF(AND($K9<>"",$K9<$F9),"Follow-Up Due Before Session",IF(AND($L9="Yes",$M9=""),"Missing Follow-Up Completion Date",IF(AND($L9="No",$M9<>""),"Completion Date With Open Follow-Up",IF(AND($M9<>"",$M9<$F9),"Follow-Up Completed Before Session","OK"))))))))))
A10: CL-2006 | B10: AP-1005 | C10: =IF($B10="","",IFERROR(INDEX('Action Plans'!$B$5:$B$504,MATCH($B10,'Action Plans'!$A$5:$A$504,0)),"")) | D10: =IF($B10="","",IFERROR(INDEX('Action Plans'!$C$5:$C$504,MATCH($B10,'Action Plans'!$A$5:$A$504,0)),"")) | E10: =IF($B10="","",IFERROR(INDEX('Action Plans'!$D$5:$D$504,MATCH($B10,'Action Plans'!$A$5:$A$504,0)),"")) | F10: 46223 | G10: Luis Ortega | H10: Toolbox Talk | I10: Reviewed idle-time causes at customer locations. | J10: Driver will shut down during expected waits when practical. | K10: 46230 | L10: Yes | M10: 46231 | N10: Positive Change | O10: 30 | P10: 65 | Q10: Plan closed after sustained idle-time improvement. | R10: =IF(COUNTA($A10:$B10,$F10:$Q10)=0,"",IF($A10="","Missing Session ID",IF(COUNTIF($A$5:$A$504,$A10)>1,"Duplicate Session ID",IF($B10="","Missing Plan ID",IF(COUNTIF('Action Plans'!$A$5:$A$504,$B10)=0,"Unknown Plan ID",IF($F10="","Missing Coaching Date",IF(AND($K10<>"",$K10<$F10),"Follow-Up Due Before Session",IF(AND($L10="Yes",$M10=""),"Missing Follow-Up Completion Date",IF(AND($L10="No",$M10<>""),"Completion Date With Open Follow-Up",IF(AND($M10<>"",$M10<$F10),"Follow-Up Completed Before Session","OK"))))))))))
