Workbook

Sheet Dashboard
A1: Dispatch Exception Dashboard
A2: Review open issues, response targets, follow-ups, delays, and estimated cost. | H2: Legend: | I2: Input cells | J2: Calculated cells
A3: Start Date | B3: 46082 | C3: End Date | D3: 46112 | E3: Reporting As Of | F3: ='Settings'!$B$8 | G3: Date Range Check | H3: =IF(OR($B$3="",$D$3=""),"Enter both dates",IF($B$3>$D$3,"Start date is after end date","Ready")) | I3: Data Issues | J3: =COUNTIFS('Exception Log'!$C$5:$C$1004,">="&$B$3,'Exception Log'!$C$5:$C$1004,"<="&$D$3,'Exception Log'!$AA$5:$AA$1004,"<>OK",'Exception Log'!$AA$5:$AA$1004,"<>")
A5: Total Exceptions | B5: =COUNTIFS('Exception Log'!$C$5:$C$1004,">="&$B$3,'Exception Log'!$C$5:$C$1004,"<="&$D$3) | D5: Open Exceptions | E5: =COUNTIFS('Exception Log'!$C$5:$C$1004,">="&$B$3,'Exception Log'!$C$5:$C$1004,"<="&$D$3,'Exception Log'!$K$5:$K$1004,"<>",'Exception Log'!$K$5:$K$1004,"<>Closed",'Exception Log'!$K$5:$K$1004,"<>Canceled") | G5: Overdue Targets | H5: =COUNTIFS('Exception Log'!$C$5:$C$1004,">="&$B$3,'Exception Log'!$C$5:$C$1004,"<="&$D$3,'Exception Log'!$W$5:$W$1004,"Overdue") | J5: Overdue Follow-Ups | K5: =COUNTIFS('Exception Log'!$C$5:$C$1004,">="&$B$3,'Exception Log'!$C$5:$C$1004,"<="&$D$3,'Exception Log'!$Z$5:$Z$1004,"Overdue")
A8: Total Estimated Cost | B8: =SUMIFS('Exception Log'!$Y$5:$Y$1004,'Exception Log'!$C$5:$C$1004,">="&$B$3,'Exception Log'!$C$5:$C$1004,"<="&$D$3) | D8: Average Delay Minutes | E8: =IFERROR(AVERAGEIFS('Exception Log'!$S$5:$S$1004,'Exception Log'!$C$5:$C$1004,">="&$B$3,'Exception Log'!$C$5:$C$1004,"<="&$D$3),0) | G8: Closure Rate | H8: =IFERROR(COUNTIFS('Exception Log'!$C$5:$C$1004,">="&$B$3,'Exception Log'!$C$5:$C$1004,"<="&$D$3,'Exception Log'!$K$5:$K$1004,"Closed")/(COUNTIFS('Exception Log'!$C$5:$C$1004,">="&$B$3,'Exception Log'!$C$5:$C$1004,"<="&$D$3)-COUNTIFS('Exception Log'!$C$5:$C$1004,">="&$B$3,'Exception Log'!$C$5:$C$1004,"<="&$D$3,'Exception Log'!$K$5:$K$1004,"Canceled")),0) | J8: Target Met Rate | K8: =IFERROR(COUNTIFS('Exception Log'!$C$5:$C$1004,">="&$B$3,'Exception Log'!$C$5:$C$1004,"<="&$D$3,'Exception Log'!$W$5:$W$1004,"Met")/(COUNTIFS('Exception Log'!$C$5:$C$1004,">="&$B$3,'Exception Log'!$C$5:$C$1004,"<="&$D$3,'Exception Log'!$W$5:$W$1004,"Met")+COUNTIFS('Exception Log'!$C$5:$C$1004,">="&$B$3,'Exception Log'!$C$5:$C$1004,"<="&$D$3,'Exception Log'!$W$5:$W$1004,"Missed")),0)
A10: Dashboard results use Dispatch Date between the selected start and end dates, inclusive. Response targets are internal operating targets.
A12: Exception Type | B12: Count | D12: Priority | E12: Count | G12: Status | H12: Count | J12: Owner | K12: Open Count
A13: Late Pickup | B13: =COUNTIFS('Exception Log'!$C$5:$C$1004,">="&$B$3,'Exception Log'!$C$5:$C$1004,"<="&$D$3,'Exception Log'!$H$5:$H$1004,$A13) | D13: Critical | E13: =COUNTIFS('Exception Log'!$C$5:$C$1004,">="&$B$3,'Exception Log'!$C$5:$C$1004,"<="&$D$3,'Exception Log'!$I$5:$I$1004,$D13) | G13: New | H13: =COUNTIFS('Exception Log'!$C$5:$C$1004,">="&$B$3,'Exception Log'!$C$5:$C$1004,"<="&$D$3,'Exception Log'!$K$5:$K$1004,$G13) | J13: Alex Carter | K13: =COUNTIFS('Exception Log'!$C$5:$C$1004,">="&$B$3,'Exception Log'!$C$5:$C$1004,"<="&$D$3,'Exception Log'!$L$5:$L$1004,$J13,'Exception Log'!$K$5:$K$1004,"<>Closed",'Exception Log'!$K$5:$K$1004,"<>Canceled")
A14: Late Delivery | B14: =COUNTIFS('Exception Log'!$C$5:$C$1004,">="&$B$3,'Exception Log'!$C$5:$C$1004,"<="&$D$3,'Exception Log'!$H$5:$H$1004,$A14) | D14: High | E14: =COUNTIFS('Exception Log'!$C$5:$C$1004,">="&$B$3,'Exception Log'!$C$5:$C$1004,"<="&$D$3,'Exception Log'!$I$5:$I$1004,$D14) | G14: Assigned | H14: =COUNTIFS('Exception Log'!$C$5:$C$1004,">="&$B$3,'Exception Log'!$C$5:$C$1004,"<="&$D$3,'Exception Log'!$K$5:$K$1004,$G14) | J14: Morgan Lee | K14: =COUNTIFS('Exception Log'!$C$5:$C$1004,">="&$B$3,'Exception Log'!$C$5:$C$1004,"<="&$D$3,'Exception Log'!$L$5:$L$1004,$J14,'Exception Log'!$K$5:$K$1004,"<>Closed",'Exception Log'!$K$5:$K$1004,"<>Canceled")
A15: Missed Stop | B15: =COUNTIFS('Exception Log'!$C$5:$C$1004,">="&$B$3,'Exception Log'!$C$5:$C$1004,"<="&$D$3,'Exception Log'!$H$5:$H$1004,$A15) | D15: Medium | E15: =COUNTIFS('Exception Log'!$C$5:$C$1004,">="&$B$3,'Exception Log'!$C$5:$C$1004,"<="&$D$3,'Exception Log'!$I$5:$I$1004,$D15) | G15: In Progress | H15: =COUNTIFS('Exception Log'!$C$5:$C$1004,">="&$B$3,'Exception Log'!$C$5:$C$1004,"<="&$D$3,'Exception Log'!$K$5:$K$1004,$G15) | J15: Jordan Brooks | K15: =COUNTIFS('Exception Log'!$C$5:$C$1004,">="&$B$3,'Exception Log'!$C$5:$C$1004,"<="&$D$3,'Exception Log'!$L$5:$L$1004,$J15,'Exception Log'!$K$5:$K$1004,"<>Closed",'Exception Log'!$K$5:$K$1004,"<>Canceled")
A16: Vehicle Breakdown | B16: =COUNTIFS('Exception Log'!$C$5:$C$1004,">="&$B$3,'Exception Log'!$C$5:$C$1004,"<="&$D$3,'Exception Log'!$H$5:$H$1004,$A16) | D16: Low | E16: =COUNTIFS('Exception Log'!$C$5:$C$1004,">="&$B$3,'Exception Log'!$C$5:$C$1004,"<="&$D$3,'Exception Log'!$I$5:$I$1004,$D16) | G16: Monitoring | H16: =COUNTIFS('Exception Log'!$C$5:$C$1004,">="&$B$3,'Exception Log'!$C$5:$C$1004,"<="&$D$3,'Exception Log'!$K$5:$K$1004,$G16) | J16: Taylor Reed | K16: =COUNTIFS('Exception Log'!$C$5:$C$1004,">="&$B$3,'Exception Log'!$C$5:$C$1004,"<="&$D$3,'Exception Log'!$L$5:$L$1004,$J16,'Exception Log'!$K$5:$K$1004,"<>Closed",'Exception Log'!$K$5:$K$1004,"<>Canceled")
A17: Driver Call-Off | B17: =COUNTIFS('Exception Log'!$C$5:$C$1004,">="&$B$3,'Exception Log'!$C$5:$C$1004,"<="&$D$3,'Exception Log'!$H$5:$H$1004,$A17) | E17: ="" | G17: Closed | H17: =COUNTIFS('Exception Log'!$C$5:$C$1004,">="&$B$3,'Exception Log'!$C$5:$C$1004,"<="&$D$3,'Exception Log'!$K$5:$K$1004,$G17) | J17: Casey Nguyen | K17: =COUNTIFS('Exception Log'!$C$5:$C$1004,">="&$B$3,'Exception Log'!$C$5:$C$1004,"<="&$D$3,'Exception Log'!$L$5:$L$1004,$J17,'Exception Log'!$K$5:$K$1004,"<>Closed",'Exception Log'!$K$5:$K$1004,"<>Canceled")
A18: Route Deviation | B18: =COUNTIFS('Exception Log'!$C$5:$C$1004,">="&$B$3,'Exception Log'!$C$5:$C$1004,"<="&$D$3,'Exception Log'!$H$5:$H$1004,$A18) | E18: ="" | G18: Canceled | H18: =COUNTIFS('Exception Log'!$C$5:$C$1004,">="&$B$3,'Exception Log'!$C$5:$C$1004,"<="&$D$3,'Exception Log'!$K$5:$K$1004,$G18) | J18: Riley Foster | K18: =COUNTIFS('Exception Log'!$C$5:$C$1004,">="&$B$3,'Exception Log'!$C$5:$C$1004,"<="&$D$3,'Exception Log'!$L$5:$L$1004,$J18,'Exception Log'!$K$5:$K$1004,"<>Closed",'Exception Log'!$K$5:$K$1004,"<>Canceled")
A19: Customer Unavailable | B19: =COUNTIFS('Exception Log'!$C$5:$C$1004,">="&$B$3,'Exception Log'!$C$5:$C$1004,"<="&$D$3,'Exception Log'!$H$5:$H$1004,$A19) | E19: ="" | H19: ="" | K19: =""
A20: Load Not Ready | B20: =COUNTIFS('Exception Log'!$C$5:$C$1004,">="&$B$3,'Exception Log'!$C$5:$C$1004,"<="&$D$3,'Exception Log'!$H$5:$H$1004,$A20) | E20: ="" | H20: ="" | K20: =""
A21: Weather Delay | B21: =COUNTIFS('Exception Log'!$C$5:$C$1004,">="&$B$3,'Exception Log'!$C$5:$C$1004,"<="&$D$3,'Exception Log'!$H$5:$H$1004,$A21) | E21: ="" | H21: ="" | K21: =""
A22: Documentation Issue | B22: =COUNTIFS('Exception Log'!$C$5:$C$1004,">="&$B$3,'Exception Log'!$C$5:$C$1004,"<="&$D$3,'Exception Log'!$H$5:$H$1004,$A22) | E22: ="" | H22: ="" | K22: =""
B23: ="" | E23: ="" | H23: ="" | K23: =""
B24: ="" | E24: ="" | H24: ="" | K24: =""
B25: ="" | E25: ="" | H25: ="" | K25: =""
B26: ="" | E26: ="" | H26: ="" | K26: =""
B27: ="" | E27: ="" | H27: ="" | K27: =""
B28: ="" | E28: ="" | H28: ="" | K28: =""
B29: ="" | E29: ="" | H29: ="" | K29: =""
B30: ="" | E30: ="" | H30: ="" | K30: =""
B31: ="" | E31: ="" | H31: ="" | K31: =""
B32: ="" | E32: ="" | H32: ="" | K32: =""
B33: ="" | E33: ="" | H33: ="" | K33: =""
B34: ="" | E34: ="" | H34: ="" | K34: =""
... B101: ="" | E101: ="" | H101: ="" | K101: =""

Sheet Exception Log
A1: Dispatch Exception Log
A2: Enter or update blue-shaded input cells. Gray-shaded cells contain formulas. Add new records in the first available prepared row.
A3: Legend: | B3: Input cells | D3: Calculated cells | F3: Calculated columns S:AA update when Excel recalculates.
A4: Exception ID | B4: Reported At | C4: Dispatch Date | D4: Load/Route ID | E4: Stop/Customer | F4: Driver | G4: Vehicle | H4: Exception Type | I4: Priority | J4: Planned Milestone | K4: Status | L4: Owner | M4: Root Cause | N4: Resolution / Next Action | O4: Follow-Up Due | P4: Resolved At | Q4: Last Updated | R4: Direct Cost | S4: Delay Minutes | T4: Open Age Hours | U4: Target Hours | V4: Target Due At | W4: Target Status | X4: Estimated Delay Cost | Y4: Total Estimated Cost | Z4: Follow-Up Flag | AA4: Data Check
A5: EXC-260301 | B5: 46084.274 | C5: 46084 | D5: LD-48321 | E5: Franklin Foods - Columbus | F5: D. Harris | G5: Tractor 214 | H5: Load Not Ready | I5: High | J5: 46084.25 | K5: Closed | L5: Morgan Lee | M5: Warehouse Delay | N5: Dock released freight; pickup moved to 8:10 AM. | O5: 46084 | P5: 46084.34 | Q5: 46084.347 | R5: 75 | S5: =IF(COUNTA($A5:$R5)=0,"",IFERROR(IF($J5="","",MAX(0,ROUND((IF(OR($K5="Closed",$K5="Canceled"),IF($P5="",$Q5,$P5),'Settings'!$B$8)-$J5)*1440,0))),"")) | T5: =IF(COUNTA($A5:$R5)=0,"",IFERROR(IF($B5="","",MAX(0,ROUND((IF(OR($K5="Closed",$K5="Canceled"),IF($P5="",$Q5,$P5),'Settings'!$B$8)-$B5)*24,1))),"")) | U5: =IF(COUNTA($A5:$R5)=0,"",IFERROR(VLOOKUP($I5,'Settings'!$A$12:$B$15,2,FALSE),"")) | V5: =IF(COUNTA($A5:$R5)=0,"",IFERROR(IF(OR($B5="",$U5=""),"",$B5+$U5/24),"")) | W5: =IF(COUNTA($A5:$R5)=0,"",IFERROR(IF($V5="","",IF(OR($K5="Closed",$K5="Canceled"),IF(IF($P5="",$Q5,$P5)<=$V5,"Met","Missed"),IF('Settings'!$B$8>$V5,"Overdue","Within Target"))),"")) | X5: =IF(COUNTA($A5:$R5)=0,"",IFERROR(ROUND($S5/60*'Settings'!$B$5,2),0)) | Y5: =IF(COUNTA($A5:$R5)=0,"",IFERROR($R5+$X5,0)) | Z5: =IF(COUNTA($A5:$R5)=0,"",IFERROR(IF(OR($K5="Closed",$K5="Canceled"),"No",IF($O5="","Missing Due Date",IF(INT($O5)<INT('Settings'!$B$8),"Overdue",IF(INT($O5)=INT('Settings'!$B$8),"Due Today",IF(INT($O5)<=INT('Settings'!$B$8)+'Settings'!$B$6,"Due Soon","Upcoming"))))),"Check date")) | AA5: =IF(COUNTA($A5:$R5)=0,"",IF($A5="","Missing ID",IF(COUNTIF($A$5:$A$1004,$A5)>1,"Duplicate ID",IF(OR($B5="",$C5="",$D5="",$H5="",$I5="",$K5="",$L5="",$Q5=""),"Missing required field",IF(AND($K5="Closed",$P5=""),"Closed without Resolved At",IF(AND($P5<>"",$P5<$B5),"Resolved before Reported",IF(AND($Q5<>"",$Q5<$B5),"Last Updated before Reported","OK")))))))
A6: EXC-260302 | B6: 46086.556 | C6: 46086 | D6: RT-1187 | E6: Mercy Clinic - Dayton | F6: M. Torres | G6: Van 42 | H6: Late Delivery | I6: Medium | J6: 46086.531 | K6: Closed | L6: Alex Carter | M6: Traffic/Congestion | N6: Customer notified; delivery completed at receiving dock. | O6: 46086 | P6: 46086.587 | Q6: 46086.594 | R6: 25 | S6: =IF(COUNTA($A6:$R6)=0,"",IFERROR(IF($J6="","",MAX(0,ROUND((IF(OR($K6="Closed",$K6="Canceled"),IF($P6="",$Q6,$P6),'Settings'!$B$8)-$J6)*1440,0))),"")) | T6: =IF(COUNTA($A6:$R6)=0,"",IFERROR(IF($B6="","",MAX(0,ROUND((IF(OR($K6="Closed",$K6="Canceled"),IF($P6="",$Q6,$P6),'Settings'!$B$8)-$B6)*24,1))),"")) | U6: =IF(COUNTA($A6:$R6)=0,"",IFERROR(VLOOKUP($I6,'Settings'!$A$12:$B$15,2,FALSE),"")) | V6: =IF(COUNTA($A6:$R6)=0,"",IFERROR(IF(OR($B6="",$U6=""),"",$B6+$U6/24),"")) | W6: =IF(COUNTA($A6:$R6)=0,"",IFERROR(IF($V6="","",IF(OR($K6="Closed",$K6="Canceled"),IF(IF($P6="",$Q6,$P6)<=$V6,"Met","Missed"),IF('Settings'!$B$8>$V6,"Overdue","Within Target"))),"")) | X6: =IF(COUNTA($A6:$R6)=0,"",IFERROR(ROUND($S6/60*'Settings'!$B$5,2),0)) | Y6: =IF(COUNTA($A6:$R6)=0,"",IFERROR($R6+$X6,0)) | Z6: =IF(COUNTA($A6:$R6)=0,"",IFERROR(IF(OR($K6="Closed",$K6="Canceled"),"No",IF($O6="","Missing Due Date",IF(INT($O6)<INT('Settings'!$B$8),"Overdue",IF(INT($O6)=INT('Settings'!$B$8),"Due Today",IF(INT($O6)<=INT('Settings'!$B$8)+'Settings'!$B$6,"Due Soon","Upcoming"))))),"Check date")) | AA6: =IF(COUNTA($A6:$R6)=0,"",IF($A6="","Missing ID",IF(COUNTIF($A$5:$A$1004,$A6)>1,"Duplicate ID",IF(OR($B6="",$C6="",$D6="",$H6="",$I6="",$K6="",$L6="",$Q6=""),"Missing required field",IF(AND($K6="Closed",$P6=""),"Closed without Resolved At",IF(AND($P6<>"",$P6<$B6),"Resolved before Reported",IF(AND($Q6<>"",$Q6<$B6),"Last Updated before Reported","OK")))))))
A7: EXC-260303 | B7: 46089.299 | C7: 46089 | D7: LD-48402 | E7: Northside Hardware - Indianapolis | F7: J. Collins | G7: Tractor 327 | H7: Vehicle Breakdown | I7: Critical | J7: 46089.292 | K7: Closed | L7: Riley Foster | M7: Mechanical Failure | N7: Roadside repair completed; load continued with the same tractor. | O7: 46091 | P7: 46089.483 | Q7: 46089.5 | R7: 680 | S7: =IF(COUNTA($A7:$R7)=0,"",IFERROR(IF($J7="","",MAX(0,ROUND((IF(OR($K7="Closed",$K7="Canceled"),IF($P7="",$Q7,$P7),'Settings'!$B$8)-$J7)*1440,0))),"")) | T7: =IF(COUNTA($A7:$R7)=0,"",IFERROR(IF($B7="","",MAX(0,ROUND((IF(OR($K7="Closed",$K7="Canceled"),IF($P7="",$Q7,$P7),'Settings'!$B$8)-$B7)*24,1))),"")) | U7: =IF(COUNTA($A7:$R7)=0,"",IFERROR(VLOOKUP($I7,'Settings'!$A$12:$B$15,2,FALSE),"")) | V7: =IF(COUNTA($A7:$R7)=0,"",IFERROR(IF(OR($B7="",$U7=""),"",$B7+$U7/24),"")) | W7: =IF(COUNTA($A7:$R7)=0,"",IFERROR(IF($V7="","",IF(OR($K7="Closed",$K7="Canceled"),IF(IF($P7="",$Q7,$P7)<=$V7,"Met","Missed"),IF('Settings'!$B$8>$V7,"Overdue","Within Target"))),"")) | X7: =IF(COUNTA($A7:$R7)=0,"",IFERROR(ROUND($S7/60*'Settings'!$B$5,2),0)) | Y7: =IF(COUNTA($A7:$R7)=0,"",IFERROR($R7+$X7,0)) | Z7: =IF(COUNTA($A7:$R7)=0,"",IFERROR(IF(OR($K7="Closed",$K7="Canceled"),"No",IF($O7="","Missing Due Date",IF(INT($O7)<INT('Settings'!$B$8),"Overdue",IF(INT($O7)=INT('Settings'!$B$8),"Due Today",IF(INT($O7)<=INT('Settings'!$B$8)+'Settings'!$B$6,"Due Soon","Upcoming"))))),"Check date")) | AA7: =IF(COUNTA($A7:$R7)=0,"",IF($A7="","Missing ID",IF(COUNTIF($A$5:$A$1004,$A7)>1,"Duplicate ID",IF(OR($B7="",$C7="",$D7="",$H7="",$I7="",$K7="",$L7="",$Q7=""),"Missing required field",IF(AND($K7="Closed",$P7=""),"Closed without Resolved At",IF(AND($P7<>"",$P7<$B7),"Resolved before Reported",IF(AND($Q7<>"",$Q7<$B7),"Last Updated before Reported","OK")))))))
A8: EXC-260304 | B8: 46111.198 | C8: 46111 | D8: RT-1214 | E8: Metro Pharmacy - Cincinnati | F8: R. Patel | G8: Van 57 | H8: Driver Call-Off | I8: High | J8: 46111.229 | K8: In Progress | L8: Taylor Reed | M8: Staffing | N8: Backup driver covering first stops; confirm completion of remaining route. | O8: 46111 | Q8: 46112.396 | R8: 120 | S8: =IF(COUNTA($A8:$R8)=0,"",IFERROR(IF($J8="","",MAX(0,ROUND((IF(OR($K8="Closed",$K8="Canceled"),IF($P8="",$Q8,$P8),'Settings'!$B$8)-$J8)*1440,0))),"")) | T8: =IF(COUNTA($A8:$R8)=0,"",IFERROR(IF($B8="","",MAX(0,ROUND((IF(OR($K8="Closed",$K8="Canceled"),IF($P8="",$Q8,$P8),'Settings'!$B$8)-$B8)*24,1))),"")) | U8: =IF(COUNTA($A8:$R8)=0,"",IFERROR(VLOOKUP($I8,'Settings'!$A$12:$B$15,2,FALSE),"")) | V8: =IF(COUNTA($A8:$R8)=0,"",IFERROR(IF(OR($B8="",$U8=""),"",$B8+$U8/24),"")) | W8: =IF(COUNTA($A8:$R8)=0,"",IFERROR(IF($V8="","",IF(OR($K8="Closed",$K8="Canceled"),IF(IF($P8="",$Q8,$P8)<=$V8,"Met","Missed"),IF('Settings'!$B$8>$V8,"Overdue","Within Target"))),"")) | X8: =IF(COUNTA($A8:$R8)=0,"",IFERROR(ROUND($S8/60*'Settings'!$B$5,2),0)) | Y8: =IF(COUNTA($A8:$R8)=0,"",IFERROR($R8+$X8,0)) | Z8: =IF(COUNTA($A8:$R8)=0,"",IFERROR(IF(OR($K8="Closed",$K8="Canceled"),"No",IF($O8="","Missing Due Date",IF(INT($O8)<INT('Settings'!$B$8),"Overdue",IF(INT($O8)=INT('Settings'!$B$8),"Due Today",IF(INT($O8)<=INT('Settings'!$B$8)+'Settings'!$B$6,"Due Soon","Upcoming"))))),"Check date")) | AA8: =IF(COUNTA($A8:$R8)=0,"",IF($A8="","Missing ID",IF(COUNTIF($A$5:$A$1004,$A8)>1,"Duplicate ID",IF(OR($B8="",$C8="",$D8="",$H8="",$I8="",$K8="",$L8="",$Q8=""),"Missing required field",IF(AND($K8="Closed",$P8=""),"Closed without Resolved At",IF(AND($P8<>"",$P8<$B8),"Resolved before Reported",IF(AND($Q8<>"",$Q8<$B8),"Last Updated before Reported","OK")))))))
A9: EXC-260305 | B9: 46093.42 | C9: 46093 | D9: RT-1194 | E9: Oak Street Dental - Louisville | F9: S. Bennett | G9: Box Truck 18 | H9: Customer Unavailable | I9: Low | J9: 46093.417 | K9: Closed | L9: Casey Nguyen | M9: Customer Delay | N9: Receiver arrived and accepted the delivery. | O9: 46094 | P9: 46093.451 | Q9: 46093.458 | R9: 0 | S9: =IF(COUNTA($A9:$R9)=0,"",IFERROR(IF($J9="","",MAX(0,ROUND((IF(OR($K9="Closed",$K9="Canceled"),IF($P9="",$Q9,$P9),'Settings'!$B$8)-$J9)*1440,0))),"")) | T9: =IF(COUNTA($A9:$R9)=0,"",IFERROR(IF($B9="","",MAX(0,ROUND((IF(OR($K9="Closed",$K9="Canceled"),IF($P9="",$Q9,$P9),'Settings'!$B$8)-$B9)*24,1))),"")) | U9: =IF(COUNTA($A9:$R9)=0,"",IFERROR(VLOOKUP($I9,'Settings'!$A$12:$B$15,2,FALSE),"")) | V9: =IF(COUNTA($A9:$R9)=0,"",IFERROR(IF(OR($B9="",$U9=""),"",$B9+$U9/24),"")) | W9: =IF(COUNTA($A9:$R9)=0,"",IFERROR(IF($V9="","",IF(OR($K9="Closed",$K9="Canceled"),IF(IF($P9="",$Q9,$P9)<=$V9,"Met","Missed"),IF('Settings'!$B$8>$V9,"Overdue","Within Target"))),"")) | X9: =IF(COUNTA($A9:$R9)=0,"",IFERROR(ROUND($S9/60*'Settings'!$B$5,2),0)) | Y9: =IF(COUNTA($A9:$R9)=0,"",IFERROR($R9+$X9,0)) | Z9: =IF(COUNTA($A9:$R9)=0,"",IFERROR(IF(OR($K9="Closed",$K9="Canceled"),"No",IF($O9="","Missing Due Date",IF(INT($O9)<INT('Settings'!$B$8),"Overdue",IF(INT($O9)=INT('Settings'!$B$8),"Due Today",IF(INT($O9)<=INT('Settings'!$B$8)+'Settings'!$B$6,"Due Soon","Upcoming"))))),"Check date")) | AA9: =IF(COUNTA($A9:$R9)=0,"",IF($A9="","Missing ID",IF(COUNTIF($A$5:$A$1004,$A9)>1,"Duplicate ID",IF(OR($B9="",$C9="",$D9="",$H9="",$I9="",$K9="",$L9="",$Q9=""),"Missing required field",IF(AND($K9="Closed",$P9=""),"Closed without Resolved At",IF(AND($P9<>"",$P9<$B9),"Resolved before Reported",IF(AND($Q9<>"",$Q9<$B9),"Last Updated before Reported","OK")))))))
A10: EXC-260306 | B10: 46112.597 | C10: 46112 | D10: RT-1216 | E10: West End Auto Parts - Nashville | F10: T. Wilson | G10: Van 63 | H10: Route Deviation | I10: Low | J10: 46112.583 | K10: Monitoring | L10: Jordan Brooks | M10: Routing/Planning | N10: Corrected the next-stop sequence and monitoring revised ETA. | O10: 46113 | Q10: 46112.656 | R10: 0 | S10: =IF(COUNTA($A10:$R10)=0,"",IFERROR(IF($J10="","",MAX(0,ROUND((IF(OR($K10="Closed",$K10="Canceled"),IF($P10="",$Q10,$P10),'Settings'!$B$8)-$J10)*1440,0))),"")) | T10: =IF(COUNTA($A10:$R10)=0,"",IFERROR(IF($B10="","",MAX(0,ROUND((IF(OR($K10="Closed",$K10="Canceled"),IF($P10="",$Q10,$P10),'Settings'!$B$8)-$B10)*24,1))),"")) | U10: =IF(COUNTA($A10:$R10)=0,"",IFERROR(VLOOKUP($I10,'Settings'!$A$12:$B$15,2,FALSE),"")) | V10: =IF(COUNTA($A10:$R10)=0,"",IFERROR(IF(OR($B10="",$U10=""),"",$B10+$U10/24),"")) | W10: =IF(COUNTA($A10:$R10)=0,"",IFERROR(IF($V10="","",IF(OR($K10="Closed",$K10="Canceled"),IF(IF($P10="",$Q10,$P10)<=$V10,"Met","Missed"),IF('Settings'!$B$8>$V10,"Overdue","Within Target"))),"")) | X10: =IF(COUNTA($A10:$R10)=0,"",IFERROR(ROUND($S10/60*'Settings'!$B$5,2),0)) | Y10: =IF(COUNTA($A10:$R10)=0,"",IFERROR($R10+$X10,0)) | Z10: =IF(COUNTA($A10:$R10)=0,"",IFERROR(IF(OR($K10="Closed",$K10="Canceled"),"No",IF($O10="","Missing Due Date",IF(INT($O10)<INT('Settings'!$B$8),"Overdue",IF(INT($O10)=INT('Settings'!$B$8),"Due Today",IF(INT($O10)<=INT('Settings'!$B$8)+'Settings'!$B$6,"Due Soon","Upcoming"))))),"Check date")) | AA10: =IF(COUNTA($A10:$R10)=0,"",IF($A10="","Missing ID",IF(COUNTIF($A$5:$A$1004,$A10)>1,"Duplicate ID",IF(OR($B10="",$C10="",$D10="",$H10="",$I10="",$K10="",$L10="",$Q10=""),"Missing required field",IF(AND($K10="Closed",$P10=""),"Closed without Resolved At",IF(AND($P10<>"",$P10<$B10),"Resolved before Reported",IF(AND($Q10<>"",$Q10<$B10),"Last Updated before Reported","OK")))))))
A11: EXC-260307 | B11: 46100.344 | C11: 46100 | D11: LD-48571 | E11: Riverside Market - Lexington | F11: K. Ramirez | G11: Straight Truck 09 | H11: Documentation Issue | I11: High | J11: 46100.333 | K11: Closed | L11: Morgan Lee | M11: Documentation | N11: Replacement bill of lading emailed and accepted. | O11: 46100 | P11: 46100.444 | Q11: 46100.451 | R11: 35 | S11: =IF(COUNTA($A11:$R11)=0,"",IFERROR(IF($J11="","",MAX(0,ROUND((IF(OR($K11="Closed",$K11="Canceled"),IF($P11="",$Q11,$P11),'Settings'!$B$8)-$J11)*1440,0))),"")) | T11: =IF(COUNTA($A11:$R11)=0,"",IFERROR(IF($B11="","",MAX(0,ROUND((IF(OR($K11="Closed",$K11="Canceled"),IF($P11="",$Q11,$P11),'Settings'!$B$8)-$B11)*24,1))),"")) | U11: =IF(COUNTA($A11:$R11)=0,"",IFERROR(VLOOKUP($I11,'Settings'!$A$12:$B$15,2,FALSE),"")) | V11: =IF(COUNTA($A11:$R11)=0,"",IFERROR(IF(OR($B11="",$U11=""),"",$B11+$U11/24),"")) | W11: =IF(COUNTA($A11:$R11)=0,"",IFERROR(IF($V11="","",IF(OR($K11="Closed",$K11="Canceled"),IF(IF($P11="",$Q11,$P11)<=$V11,"Met","Missed"),IF('Settings'!$B$8>$V11,"Overdue","Within Target"))),"")) | X11: =IF(COUNTA($A11:$R11)=0,"",IFERROR(ROUND($S11/60*'Settings'!$B$5,2),0)) | Y11: =IF(COUNTA($A11:$R11)=0,"",IFERROR($R11+$X11,0)) | Z11: =IF(COUNTA($A11:$R11)=0,"",IFERROR(IF(OR($K11="Closed",$K11="Canceled"),"No",IF($O11="","Missing Due Date",IF(INT($O11)<INT('Settings'!$B$8),"Overdue",IF(INT($O11)=INT('Settings'!$B$8),"Due Today",IF(INT($O11)<=INT('Settings'!$B$8)+'Settings'!$B$6,"Due Soon","Upcoming"))))),"Check date")) | AA11: =IF(COUNTA($A11:$R11)=0,"",IF($A11="","Missing ID",IF(COUNTIF($A$5:$A$1004,$A11)>1,"Duplicate ID",IF(OR($B11="",$C11="",$D11="",$H11="",$I11="",$K11="",$L11="",$Q11=""),"Missing required field",IF(AND($K11="Closed",$P11=""),"Closed without Resolved At",IF(AND($P11<>"",$P11<$B11),"Resolved before Reported",IF(AND($Q11<>"",$Q11<$B11),"Last Updated before Reported","OK")))))))
A12: EXC-260308 | B12: 46103.229 | C12: 46103 | D12: LD-48605 | E12: Central Home Supply - Fort Wayne | F12: A. Johnson | G12: Tractor 118 | H12: Weather Delay | I12: Medium | J12: 46103.25 | K12: Canceled | L12: Alex Carter | M12: Weather | N12: Customer canceled delivery; load returned to the terminal. | O12: 46105 | P12: 46103.385 | Q12: 46103.396 | R12: 210 | S12: =IF(COUNTA($A12:$R12)=0,"",IFERROR(IF($J12="","",MAX(0,ROUND((IF(OR($K12="Closed",$K12="Canceled"),IF($P12="",$Q12,$P12),'Settings'!$B$8)-$J12)*1440,0))),"")) | T12: =IF(COUNTA($A12:$R12)=0,"",IFERROR(IF($B12="","",MAX(0,ROUND((IF(OR($K12="Closed",$K12="Canceled"),IF($P12="",$Q12,$P12),'Settings'!$B$8)-$B12)*24,1))),"")) | U12: =IF(COUNTA($A12:$R12)=0,"",IFERROR(VLOOKUP($I12,'Settings'!$A$12:$B$15,2,FALSE),"")) | V12: =IF(COUNTA($A12:$R12)=0,"",IFERROR(IF(OR($B12="",$U12=""),"",$B12+$U12/24),"")) | W12: =IF(COUNTA($A12:$R12)=0,"",IFERROR(IF($V12="","",IF(OR($K12="Closed",$K12="Canceled"),IF(IF($P12="",$Q12,$P12)<=$V12,"Met","Missed"),IF('Settings'!$B$8>$V12,"Overdue","Within Target"))),"")) | X12: =IF(COUNTA($A12:$R12)=0,"",IFERROR(ROUND($S12/60*'Settings'!$B$5,2),0)) | Y12: =IF(COUNTA($A12:$R12)=0,"",IFERROR($R12+$X12,0)) | Z12: =IF(COUNTA($A12:$R12)=0,"",IFERROR(IF(OR($K12="Closed",$K12="Canceled"),"No",IF($O12="","Missing Due Date",IF(INT($O12)<INT('Settings'!$B$8),"Overdue",IF(INT($O12)=INT('Settings'!$B$8),"Due Today",IF(INT($O12)<=INT('Settings'!$B$8)+'Settings'!$B$6,"Due Soon","Upcoming"))))),"Check date")) | AA12: =IF(COUNTA($A12:$R12)=0,"",IF($A12="","Missing ID",IF(COUNTIF($A$5:$A$1004,$A12)>1,"Duplicate ID",IF(OR($B12="",$C12="",$D12="",$H12="",$I12="",$K12="",$L12="",$Q12=""),"Missing required field",IF(AND($K12="Closed",$P12=""),"Closed without Resolved At",IF(AND($P12<>"",$P12<$B12),"Resolved before Reported",IF(AND($Q12<>"",$Q12<$B12),"Last Updated before Reported","OK")))))))
A13: EXC-260309 | B13: 46112.632 | C13: 46112 | D13: RT-1217 | E13: Lakeshore Medical - Chicago | F13: L. Murphy | G13: Box Truck 26 | H13: Missed Stop | I13: Critical | J13: 46112.615 | K13: Assigned | L13: Casey Nguyen | M13: Communication | N13: Driver returning after the final scheduled stop; customer has been notified. | O13: 46113 | Q13: 46112.667 | R13: 95 | S13: =IF(COUNTA($A13:$R13)=0,"",IFERROR(IF($J13="","",MAX(0,ROUND((IF(OR($K13="Closed",$K13="Canceled"),IF($P13="",$Q13,$P13),'Settings'!$B$8)-$J13)*1440,0))),"")) | T13: =IF(COUNTA($A13:$R13)=0,"",IFERROR(IF($B13="","",MAX(0,ROUND((IF(OR($K13="Closed",$K13="Canceled"),IF($P13="",$Q13,$P13),'Settings'!$B$8)-$B13)*24,1))),"")) | U13: =IF(COUNTA($A13:$R13)=0,"",IFERROR(VLOOKUP($I13,'Settings'!$A$12:$B$15,2,FALSE),"")) | V13: =IF(COUNTA($A13:$R13)=0,"",IFERROR(IF(OR($B13="",$U13=""),"",$B13+$U13/24),"")) | W13: =IF(COUNTA($A13:$R13)=0,"",IFERROR(IF($V13="","",IF(OR($K13="Closed",$K13="Canceled"),IF(IF($P13="",$Q13,$P13)<=$V13,"Met","Missed"),IF('Settings'!$B$8>$V13,"Overdue","Within Target"))),"")) | X13: =IF(COUNTA($A13:$R13)=0,"",IFERROR(ROUND($S13/60*'Settings'!$B$5,2),0)) | Y13: =IF(COUNTA($A13:$R13)=0,"",IFERROR($R13+$X13,0)) | Z13: =IF(COUNTA($A13:$R13)=0,"",IFERROR(IF(OR($K13="Closed",$K13="Canceled"),"No",IF($O13="","Missing Due Date",IF(INT($O13)<INT('Settings'!$B$8),"Overdue",IF(INT($O13)=INT('Settings'!$B$8),"Due Today",IF(INT($O13)<=INT('Settings'!$B$8)+'Settings'!$B$6,"Due Soon","Upcoming"))))),"Check date")) | AA13: =IF(COUNTA($A13:$R13)=0,"",IF($A13="","Missing ID",IF(COUNTIF($A$5:$A$1004,$A13)>1,"Duplicate ID",IF(OR($B13="",$C13="",$D13="",$H13="",$I13="",$K13="",$L13="",$Q13=""),"Missing required field",IF(AND($K13="Closed",$P13=""),"Closed without Resolved At",IF(AND($P13<>"",$P13<$B13),"Resolved before Reported",IF(AND($Q13<>"",$Q13<$B13),"Last Updated before Reported","OK")))))))
S14: =IF(COUNTA($A14:$R14)=0,"",IFERROR(IF($J14="","",MAX(0,ROUND((IF(OR($K14="Closed",$K14="Canceled"),IF($P14="",$Q14,$P14),'Settings'!$B$8)-$J14)*1440,0))),"")) | T14: =IF(COUNTA($A14:$R14)=0,"",IFERROR(IF($B14="","",MAX(0,ROUND((IF(OR($K14="Closed",$K14="Canceled"),IF($P14="",$Q14,$P14),'Settings'!$B$8)-$B14)*24,1))),"")) | U14: =IF(COUNTA($A14:$R14)=0,"",IFERROR(VLOOKUP($I14,'Settings'!$A$12:$B$15,2,FALSE),"")) | V14: =IF(COUNTA($A14:$R14)=0,"",IFERROR(IF(OR($B14="",$U14=""),"",$B14+$U14/24),"")) | W14: =IF(COUNTA($A14:$R14)=0,"",IFERROR(IF($V14="","",IF(OR($K14="Closed",$K14="Canceled"),IF(IF($P14="",$Q14,$P14)<=$V14,"Met","Missed"),IF('Settings'!$B$8>$V14,"Overdue","Within Target"))),"")) | X14: =IF(COUNTA($A14:$R14)=0,"",IFERROR(ROUND($S14/60*'Settings'!$B$5,2),0)) | Y14: =IF(COUNTA($A14:$R14)=0,"",IFERROR($R14+$X14,0)) | Z14: =IF(COUNTA($A14:$R14)=0,"",IFERROR(IF(OR($K14="Closed",$K14="Canceled"),"No",IF($O14="","Missing Due Date",IF(INT($O14)<INT('Settings'!$B$8),"Overdue",IF(INT($O14)=INT('Settings'!$B$8),"Due Today",IF(INT($O14)<=INT('Settings'!$B$8)+'Settings'!$B$6,"Due Soon","Upcoming"))))),"Check date")) | AA14: =IF(COUNTA($A14:$R14)=0,"",IF($A14="","Missing ID",IF(COUNTIF($A$5:$A$1004,$A14)>1,"Duplicate ID",IF(OR($B14="",$C14="",$D14="",$H14="",$I14="",$K14="",$L14="",$Q14=""),"Missing required field",IF(AND($K14="Closed",$P14=""),"Closed without Resolved At",IF(AND($P14<>"",$P14<$B14),"Resolved before Reported",IF(AND($Q14<>"",$Q14<$B14),"Last Updated before Reported","OK")))))))
S15: =IF(COUNTA($A15:$R15)=0,"",IFERROR(IF($J15="","",MAX(0,ROUND((IF(OR($K15="Closed",$K15="Canceled"),IF($P15="",$Q15,$P15),'Settings'!$B$8)-$J15)*1440,0))),"")) | T15: =IF(COUNTA($A15:$R15)=0,"",IFERROR(IF($B15="","",MAX(0,ROUND((IF(OR($K15="Closed",$K15="Canceled"),IF($P15="",$Q15,$P15),'Settings'!$B$8)-$B15)*24,1))),"")) | U15: =IF(COUNTA($A15:$R15)=0,"",IFERROR(VLOOKUP($I15,'Settings'!$A$12:$B$15,2,FALSE),"")) | V15: =IF(COUNTA($A15:$R15)=0,"",IFERROR(IF(OR($B15="",$U15=""),"",$B15+$U15/24),"")) | W15: =IF(COUNTA($A15:$R15)=0,"",IFERROR(IF($V15="","",IF(OR($K15="Closed",$K15="Canceled"),IF(IF($P15="",$Q15,$P15)<=$V15,"Met","Missed"),IF('Settings'!$B$8>$V15,"Overdue","Within Target"))),"")) | X15: =IF(COUNTA($A15:$R15)=0,"",IFERROR(ROUND($S15/60*'Settings'!$B$5,2),0)) | Y15: =IF(COUNTA($A15:$R15)=0,"",IFERROR($R15+$X15,0)) | Z15: =IF(COUNTA($A15:$R15)=0,"",IFERROR(IF(OR($K15="Closed",$K15="Canceled"),"No",IF($O15="","Missing Due Date",IF(INT($O15)<INT('Settings'!$B$8),"Overdue",IF(INT($O15)=INT('Settings'!$B$8),"Due Today",IF(INT($O15)<=INT('Settings'!$B$8)+'Settings'!$B$6,"Due Soon","Upcoming"))))),"Check date")) | AA15: =IF(COUNTA($A15:$R15)=0,"",IF($A15="","Missing ID",IF(COUNTIF($A$5:$A$1004,$A15)>1,"Duplicate ID",IF(OR($B15="",$C15="",$D15="",$H15="",$I15="",$K15="",$L15="",$Q15=""),"Missing required field",IF(AND($K15="Closed",$P15=""),"Closed without Resolved At",IF(AND($P15<>"",$P15<$B15),"Resolved before Reported",IF(AND($Q15<>"",$Q15<$B15),"Last Updated before Reported","OK")))))))
S16: =IF(COUNTA($A16:$R16)=0,"",IFERROR(IF($J16="","",MAX(0,ROUND((IF(OR($K16="Closed",$K16="Canceled"),IF($P16="",$Q16,$P16),'Settings'!$B$8)-$J16)*1440,0))),"")) | T16: =IF(COUNTA($A16:$R16)=0,"",IFERROR(IF($B16="","",MAX(0,ROUND((IF(OR($K16="Closed",$K16="Canceled"),IF($P16="",$Q16,$P16),'Settings'!$B$8)-$B16)*24,1))),"")) | U16: =IF(COUNTA($A16:$R16)=0,"",IFERROR(VLOOKUP($I16,'Settings'!$A$12:$B$15,2,FALSE),"")) | V16: =IF(COUNTA($A16:$R16)=0,"",IFERROR(IF(OR($B16="",$U16=""),"",$B16+$U16/24),"")) | W16: =IF(COUNTA($A16:$R16)=0,"",IFERROR(IF($V16="","",IF(OR($K16="Closed",$K16="Canceled"),IF(IF($P16="",$Q16,$P16)<=$V16,"Met","Missed"),IF('Settings'!$B$8>$V16,"Overdue","Within Target"))),"")) | X16: =IF(COUNTA($A16:$R16)=0,"",IFERROR(ROUND($S16/60*'Settings'!$B$5,2),0)) | Y16: =IF(COUNTA($A16:$R16)=0,"",IFERROR($R16+$X16,0)) | Z16: =IF(COUNTA($A16:$R16)=0,"",IFERROR(IF(OR($K16="Closed",$K16="Canceled"),"No",IF($O16="","Missing Due Date",IF(INT($O16)<INT('Settings'!$B$8),"Overdue",IF(INT($O16)=INT('Settings'!$B$8),"Due Today",IF(INT($O16)<=INT('Settings'!$B$8)+'Settings'!$B$6,"Due Soon","Upcoming"))))),"Check date")) | AA16: =IF(COUNTA($A16:$R16)=0,"",IF($A16="","Missing ID",IF(COUNTIF($A$5:$A$1004,$A16)>1,"Duplicate ID",IF(OR($B16="",$C16="",$D16="",$H16="",$I16="",$K16="",$L16="",$Q16=""),"Missing required field",IF(AND($K16="Closed",$P16=""),"Closed without Resolved At",IF(AND($P16<>"",$P16<$B16),"Resolved before Reported",IF(AND($Q16<>"",$Q16<$B16),"Last Updated before Reported","OK")))))))
S17: =IF(COUNTA($A17:$R17)=0,"",IFERROR(IF($J17="","",MAX(0,ROUND((IF(OR($K17="Closed",$K17="Canceled"),IF($P17="",$Q17,$P17),'Settings'!$B$8)-$J17)*1440,0))),"")) | T17: =IF(COUNTA($A17:$R17)=0,"",IFERROR(IF($B17="","",MAX(0,ROUND((IF(OR($K17="Closed",$K17="Canceled"),IF($P17="",$Q17,$P17),'Settings'!$B$8)-$B17)*24,1))),"")) | U17: =IF(COUNTA($A17:$R17)=0,"",IFERROR(VLOOKUP($I17,'Settings'!$A$12:$B$15,2,FALSE),"")) | V17: =IF(COUNTA($A17:$R17)=0,"",IFERROR(IF(OR($B17="",$U17=""),"",$B17+$U17/24),"")) | W17: =IF(COUNTA($A17:$R17)=0,"",IFERROR(IF($V17="","",IF(OR($K17="Closed",$K17="Canceled"),IF(IF($P17="",$Q17,$P17)<=$V17,"Met","Missed"),IF('Settings'!$B$8>$V17,"Overdue","Within Target"))),"")) | X17: =IF(COUNTA($A17:$R17)=0,"",IFERROR(ROUND($S17/60*'Settings'!$B$5,2),0)) | Y17: =IF(COUNTA($A17:$R17)=0,"",IFERROR($R17+$X17,0)) | Z17: =IF(COUNTA($A17:$R17)=0,"",IFERROR(IF(OR($K17="Closed",$K17="Canceled"),"No",IF($O17="","Missing Due Date",IF(INT($O17)<INT('Settings'!$B$8),"Overdue",IF(INT($O17)=INT('Settings'!$B$8),"Due Today",IF(INT($O17)<=INT('Settings'!$B$8)+'Settings'!$B$6,"Due Soon","Upcoming"))))),"Check date")) | AA17: =IF(COUNTA($A17:$R17)=0,"",IF($A17="","Missing ID",IF(COUNTIF($A$5:$A$1004,$A17)>1,"Duplicate ID",IF(OR($B17="",$C17="",$D17="",$H17="",$I17="",$K17="",$L17="",$Q17=""),"Missing required field",IF(AND($K17="Closed",$P17=""),"Closed without Resolved At",IF(AND($P17<>"",$P17<$B17),"Resolved before Reported",IF(AND($Q17<>"",$Q17<$B17),"Last Updated before Reported","OK")))))))
S18: =IF(COUNTA($A18:$R18)=0,"",IFERROR(IF($J18="","",MAX(0,ROUND((IF(OR($K18="Closed",$K18="Canceled"),IF($P18="",$Q18,$P18),'Settings'!$B$8)-$J18)*1440,0))),"")) | T18: =IF(COUNTA($A18:$R18)=0,"",IFERROR(IF($B18="","",MAX(0,ROUND((IF(OR($K18="Closed",$K18="Canceled"),IF($P18="",$Q18,$P18),'Settings'!$B$8)-$B18)*24,1))),"")) | U18: =IF(COUNTA($A18:$R18)=0,"",IFERROR(VLOOKUP($I18,'Settings'!$A$12:$B$15,2,FALSE),"")) | V18: =IF(COUNTA($A18:$R18)=0,"",IFERROR(IF(OR($B18="",$U18=""),"",$B18+$U18/24),"")) | W18: =IF(COUNTA($A18:$R18)=0,"",IFERROR(IF($V18="","",IF(OR($K18="Closed",$K18="Canceled"),IF(IF($P18="",$Q18,$P18)<=$V18,"Met","Missed"),IF('Settings'!$B$8>$V18,"Overdue","Within Target"))),"")) | X18: =IF(COUNTA($A18:$R18)=0,"",IFERROR(ROUND($S18/60*'Settings'!$B$5,2),0)) | Y18: =IF(COUNTA($A18:$R18)=0,"",IFERROR($R18+$X18,0)) | Z18: =IF(COUNTA($A18:$R18)=0,"",IFERROR(IF(OR($K18="Closed",$K18="Canceled"),"No",IF($O18="","Missing Due Date",IF(INT($O18)<INT('Settings'!$B$8),"Overdue",IF(INT($O18)=INT('Settings'!$B$8),"Due Today",IF(INT($O18)<=INT('Settings'!$B$8)+'Settings'!$B$6,"Due Soon","Upcoming"))))),"Check date")) | AA18: =IF(COUNTA($A18:$R18)=0,"",IF($A18="","Missing ID",IF(COUNTIF($A$5:$A$1004,$A18)>1,"Duplicate ID",IF(OR($B18="",$C18="",$D18="",$H18="",$I18="",$K18="",$L18="",$Q18=""),"Missing required field",IF(AND($K18="Closed",$P18=""),"Closed without Resolved At",IF(AND($P18<>"",$P18<$B18),"Resolved before Reported",IF(AND($Q18<>"",$Q18<$B18),"Last Updated before Reported","OK")))))))
S19: =IF(COUNTA($A19:$R19)=0,"",IFERROR(IF($J19="","",MAX(0,ROUND((IF(OR($K19="Closed",$K19="Canceled"),IF($P19="",$Q19,$P19),'Settings'!$B$8)-$J19)*1440,0))),"")) | T19: =IF(COUNTA($A19:$R19)=0,"",IFERROR(IF($B19="","",MAX(0,ROUND((IF(OR($K19="Closed",$K19="Canceled"),IF($P19="",$Q19,$P19),'Settings'!$B$8)-$B19)*24,1))),"")) | U19: =IF(COUNTA($A19:$R19)=0,"",IFERROR(VLOOKUP($I19,'Settings'!$A$12:$B$15,2,FALSE),"")) | V19: =IF(COUNTA($A19:$R19)=0,"",IFERROR(IF(OR($B19="",$U19=""),"",$B19+$U19/24),"")) | W19: =IF(COUNTA($A19:$R19)=0,"",IFERROR(IF($V19="","",IF(OR($K19="Closed",$K19="Canceled"),IF(IF($P19="",$Q19,$P19)<=$V19,"Met","Missed"),IF('Settings'!$B$8>$V19,"Overdue","Within Target"))),"")) | X19: =IF(COUNTA($A19:$R19)=0,"",IFERROR(ROUND($S19/60*'Settings'!$B$5,2),0)) | Y19: =IF(COUNTA($A19:$R19)=0,"",IFERROR($R19+$X19,0)) | Z19: =IF(COUNTA($A19:$R19)=0,"",IFERROR(IF(OR($K19="Closed",$K19="Canceled"),"No",IF($O19="","Missing Due Date",IF(INT($O19)<INT('Settings'!$B$8),"Overdue",IF(INT($O19)=INT('Settings'!$B$8),"Due Today",IF(INT($O19)<=INT('Settings'!$B$8)+'Settings'!$B$6,"Due Soon","Upcoming"))))),"Check date")) | AA19: =IF(COUNTA($A19:$R19)=0,"",IF($A19="","Missing ID",IF(COUNTIF($A$5:$A$1004,$A19)>1,"Duplicate ID",IF(OR($B19="",$C19="",$D19="",$H19="",$I19="",$K19="",$L19="",$Q19=""),"Missing required field",IF(AND($K19="Closed",$P19=""),"Closed without Resolved At",IF(AND($P19<>"",$P19<$B19),"Resolved before Reported",IF(AND($Q19<>"",$Q19<$B19),"Last Updated before Reported","OK")))))))
S20: =IF(COUNTA($A20:$R20)=0,"",IFERROR(IF($J20="","",MAX(0,ROUND((IF(OR($K20="Closed",$K20="Canceled"),IF($P20="",$Q20,$P20),'Settings'!$B$8)-$J20)*1440,0))),"")) | T20: =IF(COUNTA($A20:$R20)=0,"",IFERROR(IF($B20="","",MAX(0,ROUND((IF(OR($K20="Closed",$K20="Canceled"),IF($P20="",$Q20,$P20),'Settings'!$B$8)-$B20)*24,1))),"")) | U20: =IF(COUNTA($A20:$R20)=0,"",IFERROR(VLOOKUP($I20,'Settings'!$A$12:$B$15,2,FALSE),"")) | V20: =IF(COUNTA($A20:$R20)=0,"",IFERROR(IF(OR($B20="",$U20=""),"",$B20+$U20/24),"")) | W20: =IF(COUNTA($A20:$R20)=0,"",IFERROR(IF($V20="","",IF(OR($K20="Closed",$K20="Canceled"),IF(IF($P20="",$Q20,$P20)<=$V20,"Met","Missed"),IF('Settings'!$B$8>$V20,"Overdue","Within Target"))),"")) | X20: =IF(COUNTA($A20:$R20)=0,"",IFERROR(ROUND($S20/60*'Settings'!$B$5,2),0)) | Y20: =IF(COUNTA($A20:$R20)=0,"",IFERROR($R20+$X20,0)) | Z20: =IF(COUNTA($A20:$R20)=0,"",IFERROR(IF(OR($K20="Closed",$K20="Canceled"),"No",IF($O20="","Missing Due Date",IF(INT($O20)<INT('Settings'!$B$8),"Overdue",IF(INT($O20)=INT('Settings'!$B$8),"Due Today",IF(INT($O20)<=INT('Settings'!$B$8)+'Settings'!$B$6,"Due Soon","Upcoming"))))),"Check date")) | AA20: =IF(COUNTA($A20:$R20)=0,"",IF($A20="","Missing ID",IF(COUNTIF($A$5:$A$1004,$A20)>1,"Duplicate ID",IF(OR($B20="",$C20="",$D20="",$H20="",$I20="",$K20="",$L20="",$Q20=""),"Missing required field",IF(AND($K20="Closed",$P20=""),"Closed without Resolved At",IF(AND($P20<>"",$P20<$B20),"Resolved before Reported",IF(AND($Q20<>"",$Q20<$B20),"Last Updated before Reported","OK")))))))
S21: =IF(COUNTA($A21:$R21)=0,"",IFERROR(IF($J21="","",MAX(0,ROUND((IF(OR($K21="Closed",$K21="Canceled"),IF($P21="",$Q21,$P21),'Settings'!$B$8)-$J21)*1440,0))),"")) | T21: =IF(COUNTA($A21:$R21)=0,"",IFERROR(IF($B21="","",MAX(0,ROUND((IF(OR($K21="Closed",$K21="Canceled"),IF($P21="",$Q21,$P21),'Settings'!$B$8)-$B21)*24,1))),"")) | U21: =IF(COUNTA($A21:$R21)=0,"",IFERROR(VLOOKUP($I21,'Settings'!$A$12:$B$15,2,FALSE),"")) | V21: =IF(COUNTA($A21:$R21)=0,"",IFERROR(IF(OR($B21="",$U21=""),"",$B21+$U21/24),"")) | W21: =IF(COUNTA($A21:$R21)=0,"",IFERROR(IF($V21="","",IF(OR($K21="Closed",$K21="Canceled"),IF(IF($P21="",$Q21,$P21)<=$V21,"Met","Missed"),IF('Settings'!$B$8>$V21,"Overdue","Within Target"))),"")) | X21: =IF(COUNTA($A21:$R21)=0,"",IFERROR(ROUND($S21/60*'Settings'!$B$5,2),0)) | Y21: =IF(COUNTA($A21:$R21)=0,"",IFERROR($R21+$X21,0)) | Z21: =IF(COUNTA($A21:$R21)=0,"",IFERROR(IF(OR($K21="Closed",$K21="Canceled"),"No",IF($O21="","Missing Due Date",IF(INT($O21)<INT('Settings'!$B$8),"Overdue",IF(INT($O21)=INT('Settings'!$B$8),"Due Today",IF(INT($O21)<=INT('Settings'!$B$8)+'Settings'!$B$6,"Due Soon","Upcoming"))))),"Check date")) | AA21: =IF(COUNTA($A21:$R21)=0,"",IF($A21="","Missing ID",IF(COUNTIF($A$5:$A$1004,$A21)>1,"Duplicate ID",IF(OR($B21="",$C21="",$D21="",$H21="",$I21="",$K21="",$L21="",$Q21=""),"Missing required field",IF(AND($K21="Closed",$P21=""),"Closed without Resolved At",IF(AND($P21<>"",$P21<$B21),"Resolved before Reported",IF(AND($Q21<>"",$Q21<$B21),"Last Updated before Reported","OK")))))))
S22: =IF(COUNTA($A22:$R22)=0,"",IFERROR(IF($J22="","",MAX(0,ROUND((IF(OR($K22="Closed",$K22="Canceled"),IF($P22="",$Q22,$P22),'Settings'!$B$8)-$J22)*1440,0))),"")) | T22: =IF(COUNTA($A22:$R22)=0,"",IFERROR(IF($B22="","",MAX(0,ROUND((IF(OR($K22="Closed",$K22="Canceled"),IF($P22="",$Q22,$P22),'Settings'!$B$8)-$B22)*24,1))),"")) | U22: =IF(COUNTA($A22:$R22)=0,"",IFERROR(VLOOKUP($I22,'Settings'!$A$12:$B$15,2,FALSE),"")) | V22: =IF(COUNTA($A22:$R22)=0,"",IFERROR(IF(OR($B22="",$U22=""),"",$B22+$U22/24),"")) | W22: =IF(COUNTA($A22:$R22)=0,"",IFERROR(IF($V22="","",IF(OR($K22="Closed",$K22="Canceled"),IF(IF($P22="",$Q22,$P22)<=$V22,"Met","Missed"),IF('Settings'!$B$8>$V22,"Overdue","Within Target"))),"")) | X22: =IF(COUNTA($A22:$R22)=0,"",IFERROR(ROUND($S22/60*'Settings'!$B$5,2),0)) | Y22: =IF(COUNTA($A22:$R22)=0,"",IFERROR($R22+$X22,0)) | Z22: =IF(COUNTA($A22:$R22)=0,"",IFERROR(IF(OR($K22="Closed",$K22="Canceled"),"No",IF($O22="","Missing Due Date",IF(INT($O22)<INT('Settings'!$B$8),"Overdue",IF(INT($O22)=INT('Settings'!$B$8),"Due Today",IF(INT($O22)<=INT('Settings'!$B$8)+'Settings'!$B$6,"Due Soon","Upcoming"))))),"Check date")) | AA22: =IF(COUNTA($A22:$R22)=0,"",IF($A22="","Missing ID",IF(COUNTIF($A$5:$A$1004,$A22)>1,"Duplicate ID",IF(OR($B22="",$C22="",$D22="",$H22="",$I22="",$K22="",$L22="",$Q22=""),"Missing required field",IF(AND($K22="Closed",$P22=""),"Closed without Resolved At",IF(AND($P22<>"",$P22<$B22),"Resolved before Reported",IF(AND($Q22<>"",$Q22<$B22),"Last Updated before Reported","OK")))))))
S23: =IF(COUNTA($A23:$R23)=0,"",IFERROR(IF($J23="","",MAX(0,ROUND((IF(OR($K23="Closed",$K23="Canceled"),IF($P23="",$Q23,$P23),'Settings'!$B$8)-$J23)*1440,0))),"")) | T23: =IF(COUNTA($A23:$R23)=0,"",IFERROR(IF($B23="","",MAX(0,ROUND((IF(OR($K23="Closed",$K23="Canceled"),IF($P23="",$Q23,$P23),'Settings'!$B$8)-$B23)*24,1))),"")) | U23: =IF(COUNTA($A23:$R23)=0,"",IFERROR(VLOOKUP($I23,'Settings'!$A$12:$B$15,2,FALSE),"")) | V23: =IF(COUNTA($A23:$R23)=0,"",IFERROR(IF(OR($B23="",$U23=""),"",$B23+$U23/24),"")) | W23: =IF(COUNTA($A23:$R23)=0,"",IFERROR(IF($V23="","",IF(OR($K23="Closed",$K23="Canceled"),IF(IF($P23="",$Q23,$P23)<=$V23,"Met","Missed"),IF('Settings'!$B$8>$V23,"Overdue","Within Target"))),"")) | X23: =IF(COUNTA($A23:$R23)=0,"",IFERROR(ROUND($S23/60*'Settings'!$B$5,2),0)) | Y23: =IF(COUNTA($A23:$R23)=0,"",IFERROR($R23+$X23,0)) | Z23: =IF(COUNTA($A23:$R23)=0,"",IFERROR(IF(OR($K23="Closed",$K23="Canceled"),"No",IF($O23="","Missing Due Date",IF(INT($O23)<INT('Settings'!$B$8),"Overdue",IF(INT($O23)=INT('Settings'!$B$8),"Due Today",IF(INT($O23)<=INT('Settings'!$B$8)+'Settings'!$B$6,"Due Soon","Upcoming"))))),"Check date")) | AA23: =IF(COUNTA($A23:$R23)=0,"",IF($A23="","Missing ID",IF(COUNTIF($A$5:$A$1004,$A23)>1,"Duplicate ID",IF(OR($B23="",$C23="",$D23="",$H23="",$I23="",$K23="",$L23="",$Q23=""),"Missing required field",IF(AND($K23="Closed",$P23=""),"Closed without Resolved At",IF(AND($P23<>"",$P23<$B23),"Resolved before Reported",IF(AND($Q23<>"",$Q23<$B23),"Last Updated before Reported","OK")))))))
S24: =IF(COUNTA($A24:$R24)=0,"",IFERROR(IF($J24="","",MAX(0,ROUND((IF(OR($K24="Closed",$K24="Canceled"),IF($P24="",$Q24,$P24),'Settings'!$B$8)-$J24)*1440,0))),"")) | T24: =IF(COUNTA($A24:$R24)=0,"",IFERROR(IF($B24="","",MAX(0,ROUND((IF(OR($K24="Closed",$K24="Canceled"),IF($P24="",$Q24,$P24),'Settings'!$B$8)-$B24)*24,1))),"")) | U24: =IF(COUNTA($A24:$R24)=0,"",IFERROR(VLOOKUP($I24,'Settings'!$A$12:$B$15,2,FALSE),"")) | V24: =IF(COUNTA($A24:$R24)=0,"",IFERROR(IF(OR($B24="",$U24=""),"",$B24+$U24/24),"")) | W24: =IF(COUNTA($A24:$R24)=0,"",IFERROR(IF($V24="","",IF(OR($K24="Closed",$K24="Canceled"),IF(IF($P24="",$Q24,$P24)<=$V24,"Met","Missed"),IF('Settings'!$B$8>$V24,"Overdue","Within Target"))),"")) | X24: =IF(COUNTA($A24:$R24)=0,"",IFERROR(ROUND($S24/60*'Settings'!$B$5,2),0)) | Y24: =IF(COUNTA($A24:$R24)=0,"",IFERROR($R24+$X24,0)) | Z24: =IF(COUNTA($A24:$R24)=0,"",IFERROR(IF(OR($K24="Closed",$K24="Canceled"),"No",IF($O24="","Missing Due Date",IF(INT($O24)<INT('Settings'!$B$8),"Overdue",IF(INT($O24)=INT('Settings'!$B$8),"Due Today",IF(INT($O24)<=INT('Settings'!$B$8)+'Settings'!$B$6,"Due Soon","Upcoming"))))),"Check date")) | AA24: =IF(COUNTA($A24:$R24)=0,"",IF($A24="","Missing ID",IF(COUNTIF($A$5:$A$1004,$A24)>1,"Duplicate ID",IF(OR($B24="",$C24="",$D24="",$H24="",$I24="",$K24="",$L24="",$Q24=""),"Missing required field",IF(AND($K24="Closed",$P24=""),"Closed without Resolved At",IF(AND($P24<>"",$P24<$B24),"Resolved before Reported",IF(AND($Q24<>"",$Q24<$B24),"Last Updated before Reported","OK")))))))
S25: =IF(COUNTA($A25:$R25)=0,"",IFERROR(IF($J25="","",MAX(0,ROUND((IF(OR($K25="Closed",$K25="Canceled"),IF($P25="",$Q25,$P25),'Settings'!$B$8)-$J25)*1440,0))),"")) | T25: =IF(COUNTA($A25:$R25)=0,"",IFERROR(IF($B25="","",MAX(0,ROUND((IF(OR($K25="Closed",$K25="Canceled"),IF($P25="",$Q25,$P25),'Settings'!$B$8)-$B25)*24,1))),"")) | U25: =IF(COUNTA($A25:$R25)=0,"",IFERROR(VLOOKUP($I25,'Settings'!$A$12:$B$15,2,FALSE),"")) | V25: =IF(COUNTA($A25:$R25)=0,"",IFERROR(IF(OR($B25="",$U25=""),"",$B25+$U25/24),"")) | W25: =IF(COUNTA($A25:$R25)=0,"",IFERROR(IF($V25="","",IF(OR($K25="Closed",$K25="Canceled"),IF(IF($P25="",$Q25,$P25)<=$V25,"Met","Missed"),IF('Settings'!$B$8>$V25,"Overdue","Within Target"))),"")) | X25: =IF(COUNTA($A25:$R25)=0,"",IFERROR(ROUND($S25/60*'Settings'!$B$5,2),0)) | Y25: =IF(COUNTA($A25:$R25)=0,"",IFERROR($R25+$X25,0)) | Z25: =IF(COUNTA($A25:$R25)=0,"",IFERROR(IF(OR($K25="Closed",$K25="Canceled"),"No",IF($O25="","Missing Due Date",IF(INT($O25)<INT('Settings'!$B$8),"Overdue",IF(INT($O25)=INT('Settings'!$B$8),"Due Today",IF(INT($O25)<=INT('Settings'!$B$8)+'Settings'!$B$6,"Due Soon","Upcoming"))))),"Check date")) | AA25: =IF(COUNTA($A25:$R25)=0,"",IF($A25="","Missing ID",IF(COUNTIF($A$5:$A$1004,$A25)>1,"Duplicate ID",IF(OR($B25="",$C25="",$D25="",$H25="",$I25="",$K25="",$L25="",$Q25=""),"Missing required field",IF(AND($K25="Closed",$P25=""),"Closed without Resolved At",IF(AND($P25<>"",$P25<$B25),"Resolved before Reported",IF(AND($Q25<>"",$Q25<$B25),"Last Updated before Reported","OK")))))))
... S1004: =IF(COUNTA($A1004:$R1004)=0,"",IFERROR(IF($J1004="","",MAX(0,ROUND((IF(OR($K1004="Closed",$K1004="Canceled"),IF($P1004="",$Q1004,$P1004),'Settings'!$B$8)-$J1004)*1440,0))),"")) | T1004: =IF(COUNTA($A1004:$R1004)=0,"",IFERROR(IF($B1004="","",MAX(0,ROUND((IF(OR($K1004="Closed",$K1004="Canceled"),IF($P1004="",$Q1004,$P1004),'Settings'!$B$8)-$B1004)*24,1))),"")) | U1004: =IF(COUNTA($A1004:$R1004)=0,"",IFERROR(VLOOKUP($I1004,'Settings'!$A$12:$B$15,2,FALSE),"")) | V1004: =IF(COUNTA($A1004:$R1004)=0,"",IFERROR(IF(OR($B1004="",$U1004=""),"",$B1004+$U1004/24),"")) | W1004: =IF(COUNTA($A1004:$R1004)=0,"",IFERROR(IF($V1004="","",IF(OR($K1004="Closed",$K1004="Canceled"),IF(IF($P1004="",$Q1004,$P1004)<=$V1004,"Met","Missed"),IF('Settings'!$B$8>$V1004,"Overdue","Within Target"))),"")) | X1004: =IF(COUNTA($A1004:$R1004)=0,"",IFERROR(ROUND($S1004/60*'Settings'!$B$5,2),0)) | Y1004: =IF(COUNTA($A1004:$R1004)=0,"",IFERROR($R1004+$X1004,0)) | Z1004: =IF(COUNTA($A1004:$R1004)=0,"",IFERROR(IF(OR($K1004="Closed",$K1004="Canceled"),"No",IF($O1004="","Missing Due Date",IF(INT($O1004)<INT('Settings'!$B$8),"Overdue",IF(INT($O1004)=INT('Settings'!$B$8),"Due Today",IF(INT($O1004)<=INT('Settings'!$B$8)+'Settings'!$B$6,"Due Soon","Upcoming"))))),"Check date")) | AA1004: =IF(COUNTA($A1004:$R1004)=0,"",IF($A1004="","Missing ID",IF(COUNTIF($A$5:$A$1004,$A1004)>1,"Duplicate ID",IF(OR($B1004="",$C1004="",$D1004="",$H1004="",$I1004="",$K1004="",$L1004="",$Q1004=""),"Missing required field",IF(AND($K1004="Closed",$P1004=""),"Closed without Resolved At",IF(AND($P1004<>"",$P1004<$B1004),"Resolved before Reported",IF(AND($Q1004<>"",$Q1004<$B1004),"Last Updated before Reported","OK")))))))

Sheet Settings
A1: Dispatch Exception Settings
A2: Edit blue-shaded cells to match your operation. Update Reporting As Of to refresh open-age, delay, target, and follow-up calculations.
A3: Operating Assumptions | D3: Exception Type | F3: Status | H3: Owner | J3: Root Cause | L3: Driver | N3: Vehicle
A4: Setting | B4: Value | C4: Description | D4: Late Pickup | F4: New | H4: Alex Carter | J4: Traffic/Congestion | L4: D. Harris | N4: Tractor 214
A5: Delay cost per hour | B5: 85 | C5: Estimated blended cost for each hour of dispatch delay. | D5: Late Delivery | F5: Assigned | H5: Morgan Lee | J5: Mechanical Failure | L5: M. Torres | N5: Tractor 327
A6: Due soon window (days) | B6: 1 | C6: Number of calendar days used for the Due Soon follow-up flag. | D6: Missed Stop | F6: In Progress | H6: Jordan Brooks | J6: Staffing | L6: J. Collins | N6: Box Truck 18
A7: High cost threshold | B7: 500 | C7: Highlights records with total estimated cost at or above this amount. | D7: Vehicle Breakdown | F7: Monitoring | H7: Taylor Reed | J7: Customer Delay | L7: R. Patel | N7: Van 42
A8: Reporting as of | B8: 46112.708 | C8: Manual reporting cutoff used for open exceptions. | D8: Driver Call-Off | F8: Closed | H8: Casey Nguyen | J8: Warehouse Delay | L8: S. Bennett | N8: Van 57
D9: Route Deviation | F9: Canceled | H9: Riley Foster | J9: Weather | L9: T. Wilson | N9: Straight Truck 09
A10: Priority Response Targets | D10: Customer Unavailable | J10: Routing/Planning | L10: K. Ramirez | N10: Tractor 118
A11: Priority | B11: Target Hours | C11: Internal operating targets only; these are not regulatory requirements. | D11: Load Not Ready | J11: Documentation | L11: A. Johnson | N11: Box Truck 26
A12: Critical | B12: 2 | D12: Weather Delay | J12: Communication | L12: L. Murphy | N12: Van 63
A13: High | B13: 4 | D13: Documentation Issue | J13: Other
A14: Medium | B14: 8
A15: Low | B15: 24
