Workbook

Sheet Dashboard
A1: Delivery Service Area Planning Dashboard
A2: ="Planning date: "&TEXT('Settings'!$B$4,"m/d/yyyy")&" | Depot: "&'Settings'!$B$5&" ("&'Settings'!$B$6&")"
A3: Results are estimates based on user-entered demand, distance, and operating assumptions.
A4: Included Areas | C4: Estimated Stops/Week | E4: Route Miles/Week | G4: Fuel Gallons/Week
A5: =COUNTIF('Service Areas'!$B$6:$B$205,"Yes") | C5: =SUMIFS('Service Areas'!$I$6:$I$205,'Service Areas'!$B$6:$B$205,"Yes") | E5: =SUMIFS('Service Areas'!$Q$6:$Q$205,'Service Areas'!$B$6:$B$205,"Yes") | G5: =SUMIFS('Service Areas'!$W$6:$W$205,'Service Areas'!$B$6:$B$205,"Yes")
A8: Driver Hours/Week | C8: Weekly Revenue | E8: Weekly Cost | G8: Weekly Contribution
A9: =SUMIFS('Service Areas'!$T$6:$T$205,'Service Areas'!$B$6:$B$205,"Yes") | C9: =SUMIFS('Service Areas'!$V$6:$V$205,'Service Areas'!$B$6:$B$205,"Yes") | E9: =SUMIFS('Service Areas'!$AB$6:$AB$205,'Service Areas'!$B$6:$B$205,"Yes") | G9: =SUMIFS('Service Areas'!$AC$6:$AC$205,'Service Areas'!$B$6:$B$205,"Yes")
A12: Contribution Margin | C12: Annualized Contribution | E12: Areas Needing Review | G12: Data Issues
A13: =IFERROR($G$9/$C$9,0) | C13: =$G$9*'Settings'!$B$18 | E13: =COUNTIFS('Service Areas'!$B$6:$B$205,"Yes",'Service Areas'!$AI$6:$AI$205,"<>Recommended") | G13: =COUNTIFS('Service Areas'!$B$6:$B$205,"Yes",'Service Areas'!$AJ$6:$AJ$205,"<>OK")
A14: ="" | G14: =""
A15: ="" | G15: =""
A16: ="" | G16: =""
A17: Planning Recommendation | B17: Area Count | C17: Estimated Stops/Week | D17: Weekly Revenue | E17: Weekly Contribution | G17: Priority | H17: Included Areas | I17: Estimated Stops/Week | J17: Weekly Revenue | K17: Weekly Contribution
A18: Recommended | B18: =COUNTIF('Service Areas'!$AI$6:$AI$205,$A18) | C18: =SUMIF('Service Areas'!$AI$6:$AI$205,$A18,'Service Areas'!$I$6:$I$205) | D18: =SUMIF('Service Areas'!$AI$6:$AI$205,$A18,'Service Areas'!$V$6:$V$205) | E18: =SUMIF('Service Areas'!$AI$6:$AI$205,$A18,'Service Areas'!$AC$6:$AC$205) | G18: High | H18: =COUNTIFS('Service Areas'!$B$6:$B$205,"Yes",'Service Areas'!$M$6:$M$205,$G18) | I18: =SUMIFS('Service Areas'!$I$6:$I$205,'Service Areas'!$B$6:$B$205,"Yes",'Service Areas'!$M$6:$M$205,$G18) | J18: =SUMIFS('Service Areas'!$V$6:$V$205,'Service Areas'!$B$6:$B$205,"Yes",'Service Areas'!$M$6:$M$205,$G18) | K18: =SUMIFS('Service Areas'!$AC$6:$AC$205,'Service Areas'!$B$6:$B$205,"Yes",'Service Areas'!$M$6:$M$205,$G18)
A19: Build Density | B19: =COUNTIF('Service Areas'!$AI$6:$AI$205,$A19) | C19: =SUMIF('Service Areas'!$AI$6:$AI$205,$A19,'Service Areas'!$I$6:$I$205) | D19: =SUMIF('Service Areas'!$AI$6:$AI$205,$A19,'Service Areas'!$V$6:$V$205) | E19: =SUMIF('Service Areas'!$AI$6:$AI$205,$A19,'Service Areas'!$AC$6:$AC$205) | G19: Medium | H19: =COUNTIFS('Service Areas'!$B$6:$B$205,"Yes",'Service Areas'!$M$6:$M$205,$G19) | I19: =SUMIFS('Service Areas'!$I$6:$I$205,'Service Areas'!$B$6:$B$205,"Yes",'Service Areas'!$M$6:$M$205,$G19) | J19: =SUMIFS('Service Areas'!$V$6:$V$205,'Service Areas'!$B$6:$B$205,"Yes",'Service Areas'!$M$6:$M$205,$G19) | K19: =SUMIFS('Service Areas'!$AC$6:$AC$205,'Service Areas'!$B$6:$B$205,"Yes",'Service Areas'!$M$6:$M$205,$G19)
A20: Review Pricing/Costs | B20: =COUNTIF('Service Areas'!$AI$6:$AI$205,$A20) | C20: =SUMIF('Service Areas'!$AI$6:$AI$205,$A20,'Service Areas'!$I$6:$I$205) | D20: =SUMIF('Service Areas'!$AI$6:$AI$205,$A20,'Service Areas'!$V$6:$V$205) | E20: =SUMIF('Service Areas'!$AI$6:$AI$205,$A20,'Service Areas'!$AC$6:$AC$205) | G20: Low | H20: =COUNTIFS('Service Areas'!$B$6:$B$205,"Yes",'Service Areas'!$M$6:$M$205,$G20) | I20: =SUMIFS('Service Areas'!$I$6:$I$205,'Service Areas'!$B$6:$B$205,"Yes",'Service Areas'!$M$6:$M$205,$G20) | J20: =SUMIFS('Service Areas'!$V$6:$V$205,'Service Areas'!$B$6:$B$205,"Yes",'Service Areas'!$M$6:$M$205,$G20) | K20: =SUMIFS('Service Areas'!$AC$6:$AC$205,'Service Areas'!$B$6:$B$205,"Yes",'Service Areas'!$M$6:$M$205,$G20)
A21: Review Capacity/Distance | B21: =COUNTIF('Service Areas'!$AI$6:$AI$205,$A21) | C21: =SUMIF('Service Areas'!$AI$6:$AI$205,$A21,'Service Areas'!$I$6:$I$205) | D21: =SUMIF('Service Areas'!$AI$6:$AI$205,$A21,'Service Areas'!$V$6:$V$205) | E21: =SUMIF('Service Areas'!$AI$6:$AI$205,$A21,'Service Areas'!$AC$6:$AC$205) | G21: ="" | H21: ="" | I21: ="" | J21: ="" | K21: =""
A22: Complete Inputs | B22: =COUNTIF('Service Areas'!$AI$6:$AI$205,$A22) | C22: =SUMIF('Service Areas'!$AI$6:$AI$205,$A22,'Service Areas'!$I$6:$I$205) | D22: =SUMIF('Service Areas'!$AI$6:$AI$205,$A22,'Service Areas'!$V$6:$V$205) | E22: =SUMIF('Service Areas'!$AI$6:$AI$205,$A22,'Service Areas'!$AC$6:$AC$205) | G22: ="" | H22: ="" | I22: ="" | J22: ="" | K22: =""
A23: Exclude | B23: =COUNTIF('Service Areas'!$AI$6:$AI$205,$A23) | C23: =SUMIF('Service Areas'!$AI$6:$AI$205,$A23,'Service Areas'!$I$6:$I$205) | D23: =SUMIF('Service Areas'!$AI$6:$AI$205,$A23,'Service Areas'!$V$6:$V$205) | E23: =SUMIF('Service Areas'!$AI$6:$AI$205,$A23,'Service Areas'!$AC$6:$AC$205) | G23: ="" | H23: ="" | I23: ="" | J23: ="" | K23: =""
A24: ="" | B24: ="" | C24: ="" | D24: ="" | E24: ="" | G24: ="" | H24: ="" | I24: ="" | J24: ="" | K24: =""
A25: Planning Notes | B25: ="" | C25: ="" | D25: ="" | E25: ="" | G25: ="" | H25: ="" | I25: ="" | J25: ="" | K25: =""
A26: • Recommended means the area meets the current capacity, contribution margin, and stop-density targets. | B26: ="" | C26: ="" | D26: ="" | E26: ="" | G26: ="" | H26: ="" | I26: ="" | J26: ="" | K26: =""
A27: • Review order is capacity or distance first, financial performance second, and stop density third. | B27: ="" | C27: ="" | D27: ="" | E27: ="" | G27: ="" | H27: ="" | I27: ="" | J27: ="" | K27: =""
A28: • Primary Service Day is informational. Service Days/Week controls the number of weekly depot round trips. | B28: ="" | C28: ="" | D28: ="" | E28: ="" | G28: ="" | H28: ="" | I28: ="" | J28: ="" | K28: =""
A29: • Distances are user-entered planning estimates. This workbook does not geocode ZIP Codes, calculate live drive times, or optimize routes. | B29: ="" | C29: ="" | D29: ="" | E29: ="" | G29: ="" | H29: ="" | I29: ="" | J29: ="" | K29: =""
A30: • Annualized Contribution equals weekly contribution multiplied by Operating Weeks per Year and is not a revenue forecast. | B30: ="" | C30: ="" | D30: ="" | E30: ="" | G30: ="" | H30: ="" | I30: ="" | J30: ="" | K30: =""
A31: ="" | B31: ="" | C31: ="" | D31: ="" | E31: ="" | G31: ="" | H31: ="" | I31: ="" | J31: ="" | K31: =""
A32: ="" | B32: ="" | C32: ="" | D32: ="" | E32: ="" | G32: ="" | H32: ="" | I32: ="" | J32: ="" | K32: =""
A33: ="" | B33: ="" | C33: ="" | D33: ="" | E33: ="" | G33: ="" | H33: ="" | I33: ="" | J33: ="" | K33: =""
A34: ="" | B34: ="" | C34: ="" | D34: ="" | E34: ="" | G34: ="" | H34: ="" | I34: ="" | J34: ="" | K34: =""
A35: ="" | B35: ="" | C35: ="" | D35: ="" | E35: ="" | G35: ="" | H35: ="" | I35: ="" | J35: ="" | K35: =""
A36: ="" | B36: ="" | C36: ="" | D36: ="" | E36: ="" | G36: ="" | H36: ="" | I36: ="" | J36: ="" | K36: =""
A37: ="" | B37: ="" | C37: ="" | D37: ="" | E37: ="" | G37: ="" | H37: ="" | I37: ="" | J37: ="" | K37: =""
A38: ="" | B38: ="" | C38: ="" | D38: ="" | E38: ="" | G38: ="" | H38: ="" | I38: ="" | J38: ="" | K38: =""
A39: ="" | B39: ="" | C39: ="" | D39: ="" | E39: ="" | G39: ="" | H39: ="" | I39: ="" | J39: ="" | K39: =""
A40: ="" | B40: ="" | C40: ="" | D40: ="" | E40: ="" | G40: ="" | H40: ="" | I40: ="" | J40: ="" | K40: =""
A41: ="" | B41: ="" | C41: ="" | D41: ="" | E41: ="" | G41: ="" | H41: ="" | I41: ="" | J41: ="" | K41: =""
A42: ="" | B42: ="" | C42: ="" | D42: ="" | E42: ="" | G42: ="" | H42: ="" | I42: ="" | J42: ="" | K42: =""
... A101: ="" | B101: ="" | C101: ="" | D101: ="" | E101: ="" | G101: ="" | H101: ="" | I101: ="" | J101: ="" | K101: =""

Sheet Service Areas
A1: Delivery Service Area Planning
A2: Enter or edit yellow cells. Blue cells are calculated. Add new records within the Excel table so formulas and formatting extend automatically.
A3: The route-mile estimate assumes one depot round trip per service day plus average travel between stops. It is not route optimization.
A4: Yellow: User Input | O4: Blue: Calculated
A5: Area ID | B5: Include? | C5: Area Name | D5: ZIP Code | E5: City | F5: State | G5: Primary Service Day | H5: Service Days/Week | I5: Estimated Stops/Week | J5: One-Way Miles | K5: Avg. Miles Between Stops | L5: Avg. Revenue/Stop | M5: Priority | N5: Notes | O5: Base Route Miles/Week | P5: Local Miles/Week | Q5: Total Route Miles/Week | R5: Drive Hours/Week | S5: Service Hours/Week | T5: Total Driver Hours/Week | U5: Avg. Hours/Service Day | V5: Weekly Revenue | W5: Fuel Gallons/Week | X5: Fuel Cost/Week | Y5: Other Vehicle Cost/Week | Z5: Labor Cost/Week | AA5: Fixed Route Cost/Week | AB5: Total Cost/Week | AC5: Contribution/Week | AD5: Contribution Margin | AE5: Stops/Service Day | AF5: Stops/Route Mile | AG5: Capacity Status | AH5: Financial Status | AI5: Planning Recommendation | AJ5: Input Check
A6: DAL-001 | B6: Yes | C6: Downtown Dallas | D6: 75201 | E6: Dallas | F6: TX | G6: Monday | H6: 2 | I6: 48 | J6: 8 | K6: 0.7 | L6: 48 | M6: High | N6: Dense core; parking delays are reflected in average travel speed. | O6: =IF(COUNTA($A6:$N6)=0,"",IF($B6="Yes",2*$J6*$H6,0)) | P6: =IF(COUNTA($A6:$N6)=0,"",IF($B6="Yes",MAX($I6-$H6,0)*$K6,0)) | Q6: =IF(COUNTA($A6:$N6)=0,"",IF($B6="Yes",$O6+$P6,0)) | R6: =IF(COUNTA($A6:$N6)=0,"",IF($B6="Yes",IFERROR($Q6/'Settings'!$B$7,0),0)) | S6: =IF(COUNTA($A6:$N6)=0,"",IF($B6="Yes",IFERROR($I6*'Settings'!$B$8/60,0),0)) | T6: =IF(COUNTA($A6:$N6)=0,"",IF($B6="Yes",$R6+$S6,0)) | U6: =IF(COUNTA($A6:$N6)=0,"",IF($B6="Yes",IFERROR($T6/$H6,0),0)) | V6: =IF(COUNTA($A6:$N6)=0,"",IF($B6="Yes",$I6*$L6,0)) | W6: =IF(COUNTA($A6:$N6)=0,"",IF($B6="Yes",IFERROR($Q6/'Settings'!$B$9,0),0)) | X6: =IF(COUNTA($A6:$N6)=0,"",IF($B6="Yes",$W6*'Settings'!$B$10,0)) | Y6: =IF(COUNTA($A6:$N6)=0,"",IF($B6="Yes",$Q6*'Settings'!$B$11,0)) | Z6: =IF(COUNTA($A6:$N6)=0,"",IF($B6="Yes",$T6*'Settings'!$B$12,0)) | AA6: =IF(COUNTA($A6:$N6)=0,"",IF($B6="Yes",$H6*'Settings'!$B$13,0)) | AB6: =IF(COUNTA($A6:$N6)=0,"",IF($B6="Yes",SUM($X6:$AA6),0)) | AC6: =IF(COUNTA($A6:$N6)=0,"",IF($B6="Yes",$V6-$AB6,0)) | AD6: =IF(COUNTA($A6:$N6)=0,"",IF($B6="Yes",IFERROR($AC6/$V6,0),0)) | AE6: =IF(COUNTA($A6:$N6)=0,"",IF($B6="Yes",IFERROR($I6/$H6,0),0)) | AF6: =IF(COUNTA($A6:$N6)=0,"",IF($B6="Yes",IFERROR($I6/$Q6,0),0)) | AG6: =IF(COUNTA($A6:$N6)=0,"",IF($B6<>"Yes","Not Included",IF(OR($U6>'Settings'!$B$14,$J6>'Settings'!$B$17),"Review","Within Capacity"))) | AH6: =IF(COUNTA($A6:$N6)=0,"",IF($B6<>"Yes","Not Included",IF($AD6>='Settings'!$B$15,"Meets Target","Below Target"))) | AI6: =IF(COUNTA($A6:$N6)=0,"",IF($B6<>"Yes","Exclude",IF($AJ6<>"OK","Complete Inputs",IF($AG6="Review","Review Capacity/Distance",IF($AH6="Below Target","Review Pricing/Costs",IF($AF6<'Settings'!$B$16,"Build Density","Recommended")))))) | AJ6: =IF(COUNTA($A6:$N6)=0,"",IF($B6<>"Yes","Not Required",IF(COUNTIF($A$6:$A$205,$A6)>1,"Duplicate Area ID",IF(OR($A6="",$C6="",$D6="",$E6="",$F6="",$G6="",$H6<=0,$I6<=0,$J6<=0,$K6<0,$L6<=0,$M6="",LEN($D6)<>5,IFERROR(VALUE($D6),-1)<0),"Complete Inputs","OK"))))
A7: DAL-002 | B7: Yes | C7: Uptown | D7: 75204 | E7: Dallas | F7: TX | G7: Tuesday | H7: 2 | I7: 36 | J7: 7 | K7: 0.8 | L7: 45 | M7: High | N7: Strong repeat-order demand. | O7: =IF(COUNTA($A7:$N7)=0,"",IF($B7="Yes",2*$J7*$H7,0)) | P7: =IF(COUNTA($A7:$N7)=0,"",IF($B7="Yes",MAX($I7-$H7,0)*$K7,0)) | Q7: =IF(COUNTA($A7:$N7)=0,"",IF($B7="Yes",$O7+$P7,0)) | R7: =IF(COUNTA($A7:$N7)=0,"",IF($B7="Yes",IFERROR($Q7/'Settings'!$B$7,0),0)) | S7: =IF(COUNTA($A7:$N7)=0,"",IF($B7="Yes",IFERROR($I7*'Settings'!$B$8/60,0),0)) | T7: =IF(COUNTA($A7:$N7)=0,"",IF($B7="Yes",$R7+$S7,0)) | U7: =IF(COUNTA($A7:$N7)=0,"",IF($B7="Yes",IFERROR($T7/$H7,0),0)) | V7: =IF(COUNTA($A7:$N7)=0,"",IF($B7="Yes",$I7*$L7,0)) | W7: =IF(COUNTA($A7:$N7)=0,"",IF($B7="Yes",IFERROR($Q7/'Settings'!$B$9,0),0)) | X7: =IF(COUNTA($A7:$N7)=0,"",IF($B7="Yes",$W7*'Settings'!$B$10,0)) | Y7: =IF(COUNTA($A7:$N7)=0,"",IF($B7="Yes",$Q7*'Settings'!$B$11,0)) | Z7: =IF(COUNTA($A7:$N7)=0,"",IF($B7="Yes",$T7*'Settings'!$B$12,0)) | AA7: =IF(COUNTA($A7:$N7)=0,"",IF($B7="Yes",$H7*'Settings'!$B$13,0)) | AB7: =IF(COUNTA($A7:$N7)=0,"",IF($B7="Yes",SUM($X7:$AA7),0)) | AC7: =IF(COUNTA($A7:$N7)=0,"",IF($B7="Yes",$V7-$AB7,0)) | AD7: =IF(COUNTA($A7:$N7)=0,"",IF($B7="Yes",IFERROR($AC7/$V7,0),0)) | AE7: =IF(COUNTA($A7:$N7)=0,"",IF($B7="Yes",IFERROR($I7/$H7,0),0)) | AF7: =IF(COUNTA($A7:$N7)=0,"",IF($B7="Yes",IFERROR($I7/$Q7,0),0)) | AG7: =IF(COUNTA($A7:$N7)=0,"",IF($B7<>"Yes","Not Included",IF(OR($U7>'Settings'!$B$14,$J7>'Settings'!$B$17),"Review","Within Capacity"))) | AH7: =IF(COUNTA($A7:$N7)=0,"",IF($B7<>"Yes","Not Included",IF($AD7>='Settings'!$B$15,"Meets Target","Below Target"))) | AI7: =IF(COUNTA($A7:$N7)=0,"",IF($B7<>"Yes","Exclude",IF($AJ7<>"OK","Complete Inputs",IF($AG7="Review","Review Capacity/Distance",IF($AH7="Below Target","Review Pricing/Costs",IF($AF7<'Settings'!$B$16,"Build Density","Recommended")))))) | AJ7: =IF(COUNTA($A7:$N7)=0,"",IF($B7<>"Yes","Not Required",IF(COUNTIF($A$6:$A$205,$A7)>1,"Duplicate Area ID",IF(OR($A7="",$C7="",$D7="",$E7="",$F7="",$G7="",$H7<=0,$I7<=0,$J7<=0,$K7<0,$L7<=0,$M7="",LEN($D7)<>5,IFERROR(VALUE($D7),-1)<0),"Complete Inputs","OK"))))
A8: DAL-003 | B8: Yes | C8: Oak Cliff | D8: 75208 | E8: Dallas | F8: TX | G8: Wednesday | H8: 1 | I8: 22 | J8: 10 | K8: 1.1 | L8: 39 | M8: High | N8: Stable Wednesday volume. | O8: =IF(COUNTA($A8:$N8)=0,"",IF($B8="Yes",2*$J8*$H8,0)) | P8: =IF(COUNTA($A8:$N8)=0,"",IF($B8="Yes",MAX($I8-$H8,0)*$K8,0)) | Q8: =IF(COUNTA($A8:$N8)=0,"",IF($B8="Yes",$O8+$P8,0)) | R8: =IF(COUNTA($A8:$N8)=0,"",IF($B8="Yes",IFERROR($Q8/'Settings'!$B$7,0),0)) | S8: =IF(COUNTA($A8:$N8)=0,"",IF($B8="Yes",IFERROR($I8*'Settings'!$B$8/60,0),0)) | T8: =IF(COUNTA($A8:$N8)=0,"",IF($B8="Yes",$R8+$S8,0)) | U8: =IF(COUNTA($A8:$N8)=0,"",IF($B8="Yes",IFERROR($T8/$H8,0),0)) | V8: =IF(COUNTA($A8:$N8)=0,"",IF($B8="Yes",$I8*$L8,0)) | W8: =IF(COUNTA($A8:$N8)=0,"",IF($B8="Yes",IFERROR($Q8/'Settings'!$B$9,0),0)) | X8: =IF(COUNTA($A8:$N8)=0,"",IF($B8="Yes",$W8*'Settings'!$B$10,0)) | Y8: =IF(COUNTA($A8:$N8)=0,"",IF($B8="Yes",$Q8*'Settings'!$B$11,0)) | Z8: =IF(COUNTA($A8:$N8)=0,"",IF($B8="Yes",$T8*'Settings'!$B$12,0)) | AA8: =IF(COUNTA($A8:$N8)=0,"",IF($B8="Yes",$H8*'Settings'!$B$13,0)) | AB8: =IF(COUNTA($A8:$N8)=0,"",IF($B8="Yes",SUM($X8:$AA8),0)) | AC8: =IF(COUNTA($A8:$N8)=0,"",IF($B8="Yes",$V8-$AB8,0)) | AD8: =IF(COUNTA($A8:$N8)=0,"",IF($B8="Yes",IFERROR($AC8/$V8,0),0)) | AE8: =IF(COUNTA($A8:$N8)=0,"",IF($B8="Yes",IFERROR($I8/$H8,0),0)) | AF8: =IF(COUNTA($A8:$N8)=0,"",IF($B8="Yes",IFERROR($I8/$Q8,0),0)) | AG8: =IF(COUNTA($A8:$N8)=0,"",IF($B8<>"Yes","Not Included",IF(OR($U8>'Settings'!$B$14,$J8>'Settings'!$B$17),"Review","Within Capacity"))) | AH8: =IF(COUNTA($A8:$N8)=0,"",IF($B8<>"Yes","Not Included",IF($AD8>='Settings'!$B$15,"Meets Target","Below Target"))) | AI8: =IF(COUNTA($A8:$N8)=0,"",IF($B8<>"Yes","Exclude",IF($AJ8<>"OK","Complete Inputs",IF($AG8="Review","Review Capacity/Distance",IF($AH8="Below Target","Review Pricing/Costs",IF($AF8<'Settings'!$B$16,"Build Density","Recommended")))))) | AJ8: =IF(COUNTA($A8:$N8)=0,"",IF($B8<>"Yes","Not Required",IF(COUNTIF($A$6:$A$205,$A8)>1,"Duplicate Area ID",IF(OR($A8="",$C8="",$D8="",$E8="",$F8="",$G8="",$H8<=0,$I8<=0,$J8<=0,$K8<0,$L8<=0,$M8="",LEN($D8)<>5,IFERROR(VALUE($D8),-1)<0),"Complete Inputs","OK"))))
A9: DAL-004 | B9: Yes | C9: East Dallas | D9: 75228 | E9: Dallas | F9: TX | G9: Thursday | H9: 1 | I9: 16 | J9: 12 | K9: 1.4 | L9: 15 | M9: Medium | N9: Low-revenue pilot pricing should be reviewed. | O9: =IF(COUNTA($A9:$N9)=0,"",IF($B9="Yes",2*$J9*$H9,0)) | P9: =IF(COUNTA($A9:$N9)=0,"",IF($B9="Yes",MAX($I9-$H9,0)*$K9,0)) | Q9: =IF(COUNTA($A9:$N9)=0,"",IF($B9="Yes",$O9+$P9,0)) | R9: =IF(COUNTA($A9:$N9)=0,"",IF($B9="Yes",IFERROR($Q9/'Settings'!$B$7,0),0)) | S9: =IF(COUNTA($A9:$N9)=0,"",IF($B9="Yes",IFERROR($I9*'Settings'!$B$8/60,0),0)) | T9: =IF(COUNTA($A9:$N9)=0,"",IF($B9="Yes",$R9+$S9,0)) | U9: =IF(COUNTA($A9:$N9)=0,"",IF($B9="Yes",IFERROR($T9/$H9,0),0)) | V9: =IF(COUNTA($A9:$N9)=0,"",IF($B9="Yes",$I9*$L9,0)) | W9: =IF(COUNTA($A9:$N9)=0,"",IF($B9="Yes",IFERROR($Q9/'Settings'!$B$9,0),0)) | X9: =IF(COUNTA($A9:$N9)=0,"",IF($B9="Yes",$W9*'Settings'!$B$10,0)) | Y9: =IF(COUNTA($A9:$N9)=0,"",IF($B9="Yes",$Q9*'Settings'!$B$11,0)) | Z9: =IF(COUNTA($A9:$N9)=0,"",IF($B9="Yes",$T9*'Settings'!$B$12,0)) | AA9: =IF(COUNTA($A9:$N9)=0,"",IF($B9="Yes",$H9*'Settings'!$B$13,0)) | AB9: =IF(COUNTA($A9:$N9)=0,"",IF($B9="Yes",SUM($X9:$AA9),0)) | AC9: =IF(COUNTA($A9:$N9)=0,"",IF($B9="Yes",$V9-$AB9,0)) | AD9: =IF(COUNTA($A9:$N9)=0,"",IF($B9="Yes",IFERROR($AC9/$V9,0),0)) | AE9: =IF(COUNTA($A9:$N9)=0,"",IF($B9="Yes",IFERROR($I9/$H9,0),0)) | AF9: =IF(COUNTA($A9:$N9)=0,"",IF($B9="Yes",IFERROR($I9/$Q9,0),0)) | AG9: =IF(COUNTA($A9:$N9)=0,"",IF($B9<>"Yes","Not Included",IF(OR($U9>'Settings'!$B$14,$J9>'Settings'!$B$17),"Review","Within Capacity"))) | AH9: =IF(COUNTA($A9:$N9)=0,"",IF($B9<>"Yes","Not Included",IF($AD9>='Settings'!$B$15,"Meets Target","Below Target"))) | AI9: =IF(COUNTA($A9:$N9)=0,"",IF($B9<>"Yes","Exclude",IF($AJ9<>"OK","Complete Inputs",IF($AG9="Review","Review Capacity/Distance",IF($AH9="Below Target","Review Pricing/Costs",IF($AF9<'Settings'!$B$16,"Build Density","Recommended")))))) | AJ9: =IF(COUNTA($A9:$N9)=0,"",IF($B9<>"Yes","Not Required",IF(COUNTIF($A$6:$A$205,$A9)>1,"Duplicate Area ID",IF(OR($A9="",$C9="",$D9="",$E9="",$F9="",$G9="",$H9<=0,$I9<=0,$J9<=0,$K9<0,$L9<=0,$M9="",LEN($D9)<>5,IFERROR(VALUE($D9),-1)<0),"Complete Inputs","OK"))))
A10: DAL-005 | B10: Yes | C10: Addison | D10: 75001 | E10: Addison | F10: TX | G10: Monday | H10: 1 | I10: 18 | J10: 14 | K10: 1.1 | L10: 40 | M10: Medium | N10: Concentrated office demand. | O10: =IF(COUNTA($A10:$N10)=0,"",IF($B10="Yes",2*$J10*$H10,0)) | P10: =IF(COUNTA($A10:$N10)=0,"",IF($B10="Yes",MAX($I10-$H10,0)*$K10,0)) | Q10: =IF(COUNTA($A10:$N10)=0,"",IF($B10="Yes",$O10+$P10,0)) | R10: =IF(COUNTA($A10:$N10)=0,"",IF($B10="Yes",IFERROR($Q10/'Settings'!$B$7,0),0)) | S10: =IF(COUNTA($A10:$N10)=0,"",IF($B10="Yes",IFERROR($I10*'Settings'!$B$8/60,0),0)) | T10: =IF(COUNTA($A10:$N10)=0,"",IF($B10="Yes",$R10+$S10,0)) | U10: =IF(COUNTA($A10:$N10)=0,"",IF($B10="Yes",IFERROR($T10/$H10,0),0)) | V10: =IF(COUNTA($A10:$N10)=0,"",IF($B10="Yes",$I10*$L10,0)) | W10: =IF(COUNTA($A10:$N10)=0,"",IF($B10="Yes",IFERROR($Q10/'Settings'!$B$9,0),0)) | X10: =IF(COUNTA($A10:$N10)=0,"",IF($B10="Yes",$W10*'Settings'!$B$10,0)) | Y10: =IF(COUNTA($A10:$N10)=0,"",IF($B10="Yes",$Q10*'Settings'!$B$11,0)) | Z10: =IF(COUNTA($A10:$N10)=0,"",IF($B10="Yes",$T10*'Settings'!$B$12,0)) | AA10: =IF(COUNTA($A10:$N10)=0,"",IF($B10="Yes",$H10*'Settings'!$B$13,0)) | AB10: =IF(COUNTA($A10:$N10)=0,"",IF($B10="Yes",SUM($X10:$AA10),0)) | AC10: =IF(COUNTA($A10:$N10)=0,"",IF($B10="Yes",$V10-$AB10,0)) | AD10: =IF(COUNTA($A10:$N10)=0,"",IF($B10="Yes",IFERROR($AC10/$V10,0),0)) | AE10: =IF(COUNTA($A10:$N10)=0,"",IF($B10="Yes",IFERROR($I10/$H10,0),0)) | AF10: =IF(COUNTA($A10:$N10)=0,"",IF($B10="Yes",IFERROR($I10/$Q10,0),0)) | AG10: =IF(COUNTA($A10:$N10)=0,"",IF($B10<>"Yes","Not Included",IF(OR($U10>'Settings'!$B$14,$J10>'Settings'!$B$17),"Review","Within Capacity"))) | AH10: =IF(COUNTA($A10:$N10)=0,"",IF($B10<>"Yes","Not Included",IF($AD10>='Settings'!$B$15,"Meets Target","Below Target"))) | AI10: =IF(COUNTA($A10:$N10)=0,"",IF($B10<>"Yes","Exclude",IF($AJ10<>"OK","Complete Inputs",IF($AG10="Review","Review Capacity/Distance",IF($AH10="Below Target","Review Pricing/Costs",IF($AF10<'Settings'!$B$16,"Build Density","Recommended")))))) | AJ10: =IF(COUNTA($A10:$N10)=0,"",IF($B10<>"Yes","Not Required",IF(COUNTIF($A$6:$A$205,$A10)>1,"Duplicate Area ID",IF(OR($A10="",$C10="",$D10="",$E10="",$F10="",$G10="",$H10<=0,$I10<=0,$J10<=0,$K10<0,$L10<=0,$M10="",LEN($D10)<>5,IFERROR(VALUE($D10),-1)<0),"Complete Inputs","OK"))))
A11: DAL-006 | B11: Yes | C11: Carrollton | D11: 75006 | E11: Carrollton | F11: TX | G11: Tuesday | H11: 1 | I11: 12 | J11: 17 | K11: 2 | L11: 38 | M11: Medium | N11: Spread-out stops; additional density is needed. | O11: =IF(COUNTA($A11:$N11)=0,"",IF($B11="Yes",2*$J11*$H11,0)) | P11: =IF(COUNTA($A11:$N11)=0,"",IF($B11="Yes",MAX($I11-$H11,0)*$K11,0)) | Q11: =IF(COUNTA($A11:$N11)=0,"",IF($B11="Yes",$O11+$P11,0)) | R11: =IF(COUNTA($A11:$N11)=0,"",IF($B11="Yes",IFERROR($Q11/'Settings'!$B$7,0),0)) | S11: =IF(COUNTA($A11:$N11)=0,"",IF($B11="Yes",IFERROR($I11*'Settings'!$B$8/60,0),0)) | T11: =IF(COUNTA($A11:$N11)=0,"",IF($B11="Yes",$R11+$S11,0)) | U11: =IF(COUNTA($A11:$N11)=0,"",IF($B11="Yes",IFERROR($T11/$H11,0),0)) | V11: =IF(COUNTA($A11:$N11)=0,"",IF($B11="Yes",$I11*$L11,0)) | W11: =IF(COUNTA($A11:$N11)=0,"",IF($B11="Yes",IFERROR($Q11/'Settings'!$B$9,0),0)) | X11: =IF(COUNTA($A11:$N11)=0,"",IF($B11="Yes",$W11*'Settings'!$B$10,0)) | Y11: =IF(COUNTA($A11:$N11)=0,"",IF($B11="Yes",$Q11*'Settings'!$B$11,0)) | Z11: =IF(COUNTA($A11:$N11)=0,"",IF($B11="Yes",$T11*'Settings'!$B$12,0)) | AA11: =IF(COUNTA($A11:$N11)=0,"",IF($B11="Yes",$H11*'Settings'!$B$13,0)) | AB11: =IF(COUNTA($A11:$N11)=0,"",IF($B11="Yes",SUM($X11:$AA11),0)) | AC11: =IF(COUNTA($A11:$N11)=0,"",IF($B11="Yes",$V11-$AB11,0)) | AD11: =IF(COUNTA($A11:$N11)=0,"",IF($B11="Yes",IFERROR($AC11/$V11,0),0)) | AE11: =IF(COUNTA($A11:$N11)=0,"",IF($B11="Yes",IFERROR($I11/$H11,0),0)) | AF11: =IF(COUNTA($A11:$N11)=0,"",IF($B11="Yes",IFERROR($I11/$Q11,0),0)) | AG11: =IF(COUNTA($A11:$N11)=0,"",IF($B11<>"Yes","Not Included",IF(OR($U11>'Settings'!$B$14,$J11>'Settings'!$B$17),"Review","Within Capacity"))) | AH11: =IF(COUNTA($A11:$N11)=0,"",IF($B11<>"Yes","Not Included",IF($AD11>='Settings'!$B$15,"Meets Target","Below Target"))) | AI11: =IF(COUNTA($A11:$N11)=0,"",IF($B11<>"Yes","Exclude",IF($AJ11<>"OK","Complete Inputs",IF($AG11="Review","Review Capacity/Distance",IF($AH11="Below Target","Review Pricing/Costs",IF($AF11<'Settings'!$B$16,"Build Density","Recommended")))))) | AJ11: =IF(COUNTA($A11:$N11)=0,"",IF($B11<>"Yes","Not Required",IF(COUNTIF($A$6:$A$205,$A11)>1,"Duplicate Area ID",IF(OR($A11="",$C11="",$D11="",$E11="",$F11="",$G11="",$H11<=0,$I11<=0,$J11<=0,$K11<0,$L11<=0,$M11="",LEN($D11)<>5,IFERROR(VALUE($D11),-1)<0),"Complete Inputs","OK"))))
A12: DAL-007 | B12: Yes | C12: Richardson | D12: 75080 | E12: Richardson | F12: TX | G12: Wednesday | H12: 1 | I12: 25 | J12: 18 | K12: 1 | L12: 42 | M12: High | N12: Strong medical and office customer mix. | O12: =IF(COUNTA($A12:$N12)=0,"",IF($B12="Yes",2*$J12*$H12,0)) | P12: =IF(COUNTA($A12:$N12)=0,"",IF($B12="Yes",MAX($I12-$H12,0)*$K12,0)) | Q12: =IF(COUNTA($A12:$N12)=0,"",IF($B12="Yes",$O12+$P12,0)) | R12: =IF(COUNTA($A12:$N12)=0,"",IF($B12="Yes",IFERROR($Q12/'Settings'!$B$7,0),0)) | S12: =IF(COUNTA($A12:$N12)=0,"",IF($B12="Yes",IFERROR($I12*'Settings'!$B$8/60,0),0)) | T12: =IF(COUNTA($A12:$N12)=0,"",IF($B12="Yes",$R12+$S12,0)) | U12: =IF(COUNTA($A12:$N12)=0,"",IF($B12="Yes",IFERROR($T12/$H12,0),0)) | V12: =IF(COUNTA($A12:$N12)=0,"",IF($B12="Yes",$I12*$L12,0)) | W12: =IF(COUNTA($A12:$N12)=0,"",IF($B12="Yes",IFERROR($Q12/'Settings'!$B$9,0),0)) | X12: =IF(COUNTA($A12:$N12)=0,"",IF($B12="Yes",$W12*'Settings'!$B$10,0)) | Y12: =IF(COUNTA($A12:$N12)=0,"",IF($B12="Yes",$Q12*'Settings'!$B$11,0)) | Z12: =IF(COUNTA($A12:$N12)=0,"",IF($B12="Yes",$T12*'Settings'!$B$12,0)) | AA12: =IF(COUNTA($A12:$N12)=0,"",IF($B12="Yes",$H12*'Settings'!$B$13,0)) | AB12: =IF(COUNTA($A12:$N12)=0,"",IF($B12="Yes",SUM($X12:$AA12),0)) | AC12: =IF(COUNTA($A12:$N12)=0,"",IF($B12="Yes",$V12-$AB12,0)) | AD12: =IF(COUNTA($A12:$N12)=0,"",IF($B12="Yes",IFERROR($AC12/$V12,0),0)) | AE12: =IF(COUNTA($A12:$N12)=0,"",IF($B12="Yes",IFERROR($I12/$H12,0),0)) | AF12: =IF(COUNTA($A12:$N12)=0,"",IF($B12="Yes",IFERROR($I12/$Q12,0),0)) | AG12: =IF(COUNTA($A12:$N12)=0,"",IF($B12<>"Yes","Not Included",IF(OR($U12>'Settings'!$B$14,$J12>'Settings'!$B$17),"Review","Within Capacity"))) | AH12: =IF(COUNTA($A12:$N12)=0,"",IF($B12<>"Yes","Not Included",IF($AD12>='Settings'!$B$15,"Meets Target","Below Target"))) | AI12: =IF(COUNTA($A12:$N12)=0,"",IF($B12<>"Yes","Exclude",IF($AJ12<>"OK","Complete Inputs",IF($AG12="Review","Review Capacity/Distance",IF($AH12="Below Target","Review Pricing/Costs",IF($AF12<'Settings'!$B$16,"Build Density","Recommended")))))) | AJ12: =IF(COUNTA($A12:$N12)=0,"",IF($B12<>"Yes","Not Required",IF(COUNTIF($A$6:$A$205,$A12)>1,"Duplicate Area ID",IF(OR($A12="",$C12="",$D12="",$E12="",$F12="",$G12="",$H12<=0,$I12<=0,$J12<=0,$K12<0,$L12<=0,$M12="",LEN($D12)<>5,IFERROR(VALUE($D12),-1)<0),"Complete Inputs","OK"))))
A13: DAL-008 | B13: Yes | C13: Plano | D13: 75024 | E13: Plano | F13: TX | G13: Thursday | H13: 1 | I13: 30 | J13: 23 | K13: 1.8 | L13: 44 | M13: High | N13: Long route day; review the stop cap or split the area. | O13: =IF(COUNTA($A13:$N13)=0,"",IF($B13="Yes",2*$J13*$H13,0)) | P13: =IF(COUNTA($A13:$N13)=0,"",IF($B13="Yes",MAX($I13-$H13,0)*$K13,0)) | Q13: =IF(COUNTA($A13:$N13)=0,"",IF($B13="Yes",$O13+$P13,0)) | R13: =IF(COUNTA($A13:$N13)=0,"",IF($B13="Yes",IFERROR($Q13/'Settings'!$B$7,0),0)) | S13: =IF(COUNTA($A13:$N13)=0,"",IF($B13="Yes",IFERROR($I13*'Settings'!$B$8/60,0),0)) | T13: =IF(COUNTA($A13:$N13)=0,"",IF($B13="Yes",$R13+$S13,0)) | U13: =IF(COUNTA($A13:$N13)=0,"",IF($B13="Yes",IFERROR($T13/$H13,0),0)) | V13: =IF(COUNTA($A13:$N13)=0,"",IF($B13="Yes",$I13*$L13,0)) | W13: =IF(COUNTA($A13:$N13)=0,"",IF($B13="Yes",IFERROR($Q13/'Settings'!$B$9,0),0)) | X13: =IF(COUNTA($A13:$N13)=0,"",IF($B13="Yes",$W13*'Settings'!$B$10,0)) | Y13: =IF(COUNTA($A13:$N13)=0,"",IF($B13="Yes",$Q13*'Settings'!$B$11,0)) | Z13: =IF(COUNTA($A13:$N13)=0,"",IF($B13="Yes",$T13*'Settings'!$B$12,0)) | AA13: =IF(COUNTA($A13:$N13)=0,"",IF($B13="Yes",$H13*'Settings'!$B$13,0)) | AB13: =IF(COUNTA($A13:$N13)=0,"",IF($B13="Yes",SUM($X13:$AA13),0)) | AC13: =IF(COUNTA($A13:$N13)=0,"",IF($B13="Yes",$V13-$AB13,0)) | AD13: =IF(COUNTA($A13:$N13)=0,"",IF($B13="Yes",IFERROR($AC13/$V13,0),0)) | AE13: =IF(COUNTA($A13:$N13)=0,"",IF($B13="Yes",IFERROR($I13/$H13,0),0)) | AF13: =IF(COUNTA($A13:$N13)=0,"",IF($B13="Yes",IFERROR($I13/$Q13,0),0)) | AG13: =IF(COUNTA($A13:$N13)=0,"",IF($B13<>"Yes","Not Included",IF(OR($U13>'Settings'!$B$14,$J13>'Settings'!$B$17),"Review","Within Capacity"))) | AH13: =IF(COUNTA($A13:$N13)=0,"",IF($B13<>"Yes","Not Included",IF($AD13>='Settings'!$B$15,"Meets Target","Below Target"))) | AI13: =IF(COUNTA($A13:$N13)=0,"",IF($B13<>"Yes","Exclude",IF($AJ13<>"OK","Complete Inputs",IF($AG13="Review","Review Capacity/Distance",IF($AH13="Below Target","Review Pricing/Costs",IF($AF13<'Settings'!$B$16,"Build Density","Recommended")))))) | AJ13: =IF(COUNTA($A13:$N13)=0,"",IF($B13<>"Yes","Not Required",IF(COUNTIF($A$6:$A$205,$A13)>1,"Duplicate Area ID",IF(OR($A13="",$C13="",$D13="",$E13="",$F13="",$G13="",$H13<=0,$I13<=0,$J13<=0,$K13<0,$L13<=0,$M13="",LEN($D13)<>5,IFERROR(VALUE($D13),-1)<0),"Complete Inputs","OK"))))
A14: DAL-009 | B14: Yes | C14: Frisco | D14: 75034 | E14: Frisco | F14: TX | G14: Friday | H14: 1 | I14: 10 | J14: 32 | K14: 3 | L14: 45 | M14: Low | N14: Beyond the current one-way distance target. | O14: =IF(COUNTA($A14:$N14)=0,"",IF($B14="Yes",2*$J14*$H14,0)) | P14: =IF(COUNTA($A14:$N14)=0,"",IF($B14="Yes",MAX($I14-$H14,0)*$K14,0)) | Q14: =IF(COUNTA($A14:$N14)=0,"",IF($B14="Yes",$O14+$P14,0)) | R14: =IF(COUNTA($A14:$N14)=0,"",IF($B14="Yes",IFERROR($Q14/'Settings'!$B$7,0),0)) | S14: =IF(COUNTA($A14:$N14)=0,"",IF($B14="Yes",IFERROR($I14*'Settings'!$B$8/60,0),0)) | T14: =IF(COUNTA($A14:$N14)=0,"",IF($B14="Yes",$R14+$S14,0)) | U14: =IF(COUNTA($A14:$N14)=0,"",IF($B14="Yes",IFERROR($T14/$H14,0),0)) | V14: =IF(COUNTA($A14:$N14)=0,"",IF($B14="Yes",$I14*$L14,0)) | W14: =IF(COUNTA($A14:$N14)=0,"",IF($B14="Yes",IFERROR($Q14/'Settings'!$B$9,0),0)) | X14: =IF(COUNTA($A14:$N14)=0,"",IF($B14="Yes",$W14*'Settings'!$B$10,0)) | Y14: =IF(COUNTA($A14:$N14)=0,"",IF($B14="Yes",$Q14*'Settings'!$B$11,0)) | Z14: =IF(COUNTA($A14:$N14)=0,"",IF($B14="Yes",$T14*'Settings'!$B$12,0)) | AA14: =IF(COUNTA($A14:$N14)=0,"",IF($B14="Yes",$H14*'Settings'!$B$13,0)) | AB14: =IF(COUNTA($A14:$N14)=0,"",IF($B14="Yes",SUM($X14:$AA14),0)) | AC14: =IF(COUNTA($A14:$N14)=0,"",IF($B14="Yes",$V14-$AB14,0)) | AD14: =IF(COUNTA($A14:$N14)=0,"",IF($B14="Yes",IFERROR($AC14/$V14,0),0)) | AE14: =IF(COUNTA($A14:$N14)=0,"",IF($B14="Yes",IFERROR($I14/$H14,0),0)) | AF14: =IF(COUNTA($A14:$N14)=0,"",IF($B14="Yes",IFERROR($I14/$Q14,0),0)) | AG14: =IF(COUNTA($A14:$N14)=0,"",IF($B14<>"Yes","Not Included",IF(OR($U14>'Settings'!$B$14,$J14>'Settings'!$B$17),"Review","Within Capacity"))) | AH14: =IF(COUNTA($A14:$N14)=0,"",IF($B14<>"Yes","Not Included",IF($AD14>='Settings'!$B$15,"Meets Target","Below Target"))) | AI14: =IF(COUNTA($A14:$N14)=0,"",IF($B14<>"Yes","Exclude",IF($AJ14<>"OK","Complete Inputs",IF($AG14="Review","Review Capacity/Distance",IF($AH14="Below Target","Review Pricing/Costs",IF($AF14<'Settings'!$B$16,"Build Density","Recommended")))))) | AJ14: =IF(COUNTA($A14:$N14)=0,"",IF($B14<>"Yes","Not Required",IF(COUNTIF($A$6:$A$205,$A14)>1,"Duplicate Area ID",IF(OR($A14="",$C14="",$D14="",$E14="",$F14="",$G14="",$H14<=0,$I14<=0,$J14<=0,$K14<0,$L14<=0,$M14="",LEN($D14)<>5,IFERROR(VALUE($D14),-1)<0),"Complete Inputs","OK"))))
A15: DAL-010 | B15: No | C15: Fort Worth North | D15: 76137 | E15: Fort Worth | F15: TX | G15: Friday | H15: 1 | I15: 11 | J15: 36 | K15: 3.2 | L15: 41 | M15: Low | N15: Hold as a future expansion candidate. | O15: =IF(COUNTA($A15:$N15)=0,"",IF($B15="Yes",2*$J15*$H15,0)) | P15: =IF(COUNTA($A15:$N15)=0,"",IF($B15="Yes",MAX($I15-$H15,0)*$K15,0)) | Q15: =IF(COUNTA($A15:$N15)=0,"",IF($B15="Yes",$O15+$P15,0)) | R15: =IF(COUNTA($A15:$N15)=0,"",IF($B15="Yes",IFERROR($Q15/'Settings'!$B$7,0),0)) | S15: =IF(COUNTA($A15:$N15)=0,"",IF($B15="Yes",IFERROR($I15*'Settings'!$B$8/60,0),0)) | T15: =IF(COUNTA($A15:$N15)=0,"",IF($B15="Yes",$R15+$S15,0)) | U15: =IF(COUNTA($A15:$N15)=0,"",IF($B15="Yes",IFERROR($T15/$H15,0),0)) | V15: =IF(COUNTA($A15:$N15)=0,"",IF($B15="Yes",$I15*$L15,0)) | W15: =IF(COUNTA($A15:$N15)=0,"",IF($B15="Yes",IFERROR($Q15/'Settings'!$B$9,0),0)) | X15: =IF(COUNTA($A15:$N15)=0,"",IF($B15="Yes",$W15*'Settings'!$B$10,0)) | Y15: =IF(COUNTA($A15:$N15)=0,"",IF($B15="Yes",$Q15*'Settings'!$B$11,0)) | Z15: =IF(COUNTA($A15:$N15)=0,"",IF($B15="Yes",$T15*'Settings'!$B$12,0)) | AA15: =IF(COUNTA($A15:$N15)=0,"",IF($B15="Yes",$H15*'Settings'!$B$13,0)) | AB15: =IF(COUNTA($A15:$N15)=0,"",IF($B15="Yes",SUM($X15:$AA15),0)) | AC15: =IF(COUNTA($A15:$N15)=0,"",IF($B15="Yes",$V15-$AB15,0)) | AD15: =IF(COUNTA($A15:$N15)=0,"",IF($B15="Yes",IFERROR($AC15/$V15,0),0)) | AE15: =IF(COUNTA($A15:$N15)=0,"",IF($B15="Yes",IFERROR($I15/$H15,0),0)) | AF15: =IF(COUNTA($A15:$N15)=0,"",IF($B15="Yes",IFERROR($I15/$Q15,0),0)) | AG15: =IF(COUNTA($A15:$N15)=0,"",IF($B15<>"Yes","Not Included",IF(OR($U15>'Settings'!$B$14,$J15>'Settings'!$B$17),"Review","Within Capacity"))) | AH15: =IF(COUNTA($A15:$N15)=0,"",IF($B15<>"Yes","Not Included",IF($AD15>='Settings'!$B$15,"Meets Target","Below Target"))) | AI15: =IF(COUNTA($A15:$N15)=0,"",IF($B15<>"Yes","Exclude",IF($AJ15<>"OK","Complete Inputs",IF($AG15="Review","Review Capacity/Distance",IF($AH15="Below Target","Review Pricing/Costs",IF($AF15<'Settings'!$B$16,"Build Density","Recommended")))))) | AJ15: =IF(COUNTA($A15:$N15)=0,"",IF($B15<>"Yes","Not Required",IF(COUNTIF($A$6:$A$205,$A15)>1,"Duplicate Area ID",IF(OR($A15="",$C15="",$D15="",$E15="",$F15="",$G15="",$H15<=0,$I15<=0,$J15<=0,$K15<0,$L15<=0,$M15="",LEN($D15)<>5,IFERROR(VALUE($D15),-1)<0),"Complete Inputs","OK"))))
O16: =IF(COUNTA($A16:$N16)=0,"",IF($B16="Yes",2*$J16*$H16,0)) | P16: =IF(COUNTA($A16:$N16)=0,"",IF($B16="Yes",MAX($I16-$H16,0)*$K16,0)) | Q16: =IF(COUNTA($A16:$N16)=0,"",IF($B16="Yes",$O16+$P16,0)) | R16: =IF(COUNTA($A16:$N16)=0,"",IF($B16="Yes",IFERROR($Q16/'Settings'!$B$7,0),0)) | S16: =IF(COUNTA($A16:$N16)=0,"",IF($B16="Yes",IFERROR($I16*'Settings'!$B$8/60,0),0)) | T16: =IF(COUNTA($A16:$N16)=0,"",IF($B16="Yes",$R16+$S16,0)) | U16: =IF(COUNTA($A16:$N16)=0,"",IF($B16="Yes",IFERROR($T16/$H16,0),0)) | V16: =IF(COUNTA($A16:$N16)=0,"",IF($B16="Yes",$I16*$L16,0)) | W16: =IF(COUNTA($A16:$N16)=0,"",IF($B16="Yes",IFERROR($Q16/'Settings'!$B$9,0),0)) | X16: =IF(COUNTA($A16:$N16)=0,"",IF($B16="Yes",$W16*'Settings'!$B$10,0)) | Y16: =IF(COUNTA($A16:$N16)=0,"",IF($B16="Yes",$Q16*'Settings'!$B$11,0)) | Z16: =IF(COUNTA($A16:$N16)=0,"",IF($B16="Yes",$T16*'Settings'!$B$12,0)) | AA16: =IF(COUNTA($A16:$N16)=0,"",IF($B16="Yes",$H16*'Settings'!$B$13,0)) | AB16: =IF(COUNTA($A16:$N16)=0,"",IF($B16="Yes",SUM($X16:$AA16),0)) | AC16: =IF(COUNTA($A16:$N16)=0,"",IF($B16="Yes",$V16-$AB16,0)) | AD16: =IF(COUNTA($A16:$N16)=0,"",IF($B16="Yes",IFERROR($AC16/$V16,0),0)) | AE16: =IF(COUNTA($A16:$N16)=0,"",IF($B16="Yes",IFERROR($I16/$H16,0),0)) | AF16: =IF(COUNTA($A16:$N16)=0,"",IF($B16="Yes",IFERROR($I16/$Q16,0),0)) | AG16: =IF(COUNTA($A16:$N16)=0,"",IF($B16<>"Yes","Not Included",IF(OR($U16>'Settings'!$B$14,$J16>'Settings'!$B$17),"Review","Within Capacity"))) | AH16: =IF(COUNTA($A16:$N16)=0,"",IF($B16<>"Yes","Not Included",IF($AD16>='Settings'!$B$15,"Meets Target","Below Target"))) | AI16: =IF(COUNTA($A16:$N16)=0,"",IF($B16<>"Yes","Exclude",IF($AJ16<>"OK","Complete Inputs",IF($AG16="Review","Review Capacity/Distance",IF($AH16="Below Target","Review Pricing/Costs",IF($AF16<'Settings'!$B$16,"Build Density","Recommended")))))) | AJ16: =IF(COUNTA($A16:$N16)=0,"",IF($B16<>"Yes","Not Required",IF(COUNTIF($A$6:$A$205,$A16)>1,"Duplicate Area ID",IF(OR($A16="",$C16="",$D16="",$E16="",$F16="",$G16="",$H16<=0,$I16<=0,$J16<=0,$K16<0,$L16<=0,$M16="",LEN($D16)<>5,IFERROR(VALUE($D16),-1)<0),"Complete Inputs","OK"))))
O17: =IF(COUNTA($A17:$N17)=0,"",IF($B17="Yes",2*$J17*$H17,0)) | P17: =IF(COUNTA($A17:$N17)=0,"",IF($B17="Yes",MAX($I17-$H17,0)*$K17,0)) | Q17: =IF(COUNTA($A17:$N17)=0,"",IF($B17="Yes",$O17+$P17,0)) | R17: =IF(COUNTA($A17:$N17)=0,"",IF($B17="Yes",IFERROR($Q17/'Settings'!$B$7,0),0)) | S17: =IF(COUNTA($A17:$N17)=0,"",IF($B17="Yes",IFERROR($I17*'Settings'!$B$8/60,0),0)) | T17: =IF(COUNTA($A17:$N17)=0,"",IF($B17="Yes",$R17+$S17,0)) | U17: =IF(COUNTA($A17:$N17)=0,"",IF($B17="Yes",IFERROR($T17/$H17,0),0)) | V17: =IF(COUNTA($A17:$N17)=0,"",IF($B17="Yes",$I17*$L17,0)) | W17: =IF(COUNTA($A17:$N17)=0,"",IF($B17="Yes",IFERROR($Q17/'Settings'!$B$9,0),0)) | X17: =IF(COUNTA($A17:$N17)=0,"",IF($B17="Yes",$W17*'Settings'!$B$10,0)) | Y17: =IF(COUNTA($A17:$N17)=0,"",IF($B17="Yes",$Q17*'Settings'!$B$11,0)) | Z17: =IF(COUNTA($A17:$N17)=0,"",IF($B17="Yes",$T17*'Settings'!$B$12,0)) | AA17: =IF(COUNTA($A17:$N17)=0,"",IF($B17="Yes",$H17*'Settings'!$B$13,0)) | AB17: =IF(COUNTA($A17:$N17)=0,"",IF($B17="Yes",SUM($X17:$AA17),0)) | AC17: =IF(COUNTA($A17:$N17)=0,"",IF($B17="Yes",$V17-$AB17,0)) | AD17: =IF(COUNTA($A17:$N17)=0,"",IF($B17="Yes",IFERROR($AC17/$V17,0),0)) | AE17: =IF(COUNTA($A17:$N17)=0,"",IF($B17="Yes",IFERROR($I17/$H17,0),0)) | AF17: =IF(COUNTA($A17:$N17)=0,"",IF($B17="Yes",IFERROR($I17/$Q17,0),0)) | AG17: =IF(COUNTA($A17:$N17)=0,"",IF($B17<>"Yes","Not Included",IF(OR($U17>'Settings'!$B$14,$J17>'Settings'!$B$17),"Review","Within Capacity"))) | AH17: =IF(COUNTA($A17:$N17)=0,"",IF($B17<>"Yes","Not Included",IF($AD17>='Settings'!$B$15,"Meets Target","Below Target"))) | AI17: =IF(COUNTA($A17:$N17)=0,"",IF($B17<>"Yes","Exclude",IF($AJ17<>"OK","Complete Inputs",IF($AG17="Review","Review Capacity/Distance",IF($AH17="Below Target","Review Pricing/Costs",IF($AF17<'Settings'!$B$16,"Build Density","Recommended")))))) | AJ17: =IF(COUNTA($A17:$N17)=0,"",IF($B17<>"Yes","Not Required",IF(COUNTIF($A$6:$A$205,$A17)>1,"Duplicate Area ID",IF(OR($A17="",$C17="",$D17="",$E17="",$F17="",$G17="",$H17<=0,$I17<=0,$J17<=0,$K17<0,$L17<=0,$M17="",LEN($D17)<>5,IFERROR(VALUE($D17),-1)<0),"Complete Inputs","OK"))))
O18: =IF(COUNTA($A18:$N18)=0,"",IF($B18="Yes",2*$J18*$H18,0)) | P18: =IF(COUNTA($A18:$N18)=0,"",IF($B18="Yes",MAX($I18-$H18,0)*$K18,0)) | Q18: =IF(COUNTA($A18:$N18)=0,"",IF($B18="Yes",$O18+$P18,0)) | R18: =IF(COUNTA($A18:$N18)=0,"",IF($B18="Yes",IFERROR($Q18/'Settings'!$B$7,0),0)) | S18: =IF(COUNTA($A18:$N18)=0,"",IF($B18="Yes",IFERROR($I18*'Settings'!$B$8/60,0),0)) | T18: =IF(COUNTA($A18:$N18)=0,"",IF($B18="Yes",$R18+$S18,0)) | U18: =IF(COUNTA($A18:$N18)=0,"",IF($B18="Yes",IFERROR($T18/$H18,0),0)) | V18: =IF(COUNTA($A18:$N18)=0,"",IF($B18="Yes",$I18*$L18,0)) | W18: =IF(COUNTA($A18:$N18)=0,"",IF($B18="Yes",IFERROR($Q18/'Settings'!$B$9,0),0)) | X18: =IF(COUNTA($A18:$N18)=0,"",IF($B18="Yes",$W18*'Settings'!$B$10,0)) | Y18: =IF(COUNTA($A18:$N18)=0,"",IF($B18="Yes",$Q18*'Settings'!$B$11,0)) | Z18: =IF(COUNTA($A18:$N18)=0,"",IF($B18="Yes",$T18*'Settings'!$B$12,0)) | AA18: =IF(COUNTA($A18:$N18)=0,"",IF($B18="Yes",$H18*'Settings'!$B$13,0)) | AB18: =IF(COUNTA($A18:$N18)=0,"",IF($B18="Yes",SUM($X18:$AA18),0)) | AC18: =IF(COUNTA($A18:$N18)=0,"",IF($B18="Yes",$V18-$AB18,0)) | AD18: =IF(COUNTA($A18:$N18)=0,"",IF($B18="Yes",IFERROR($AC18/$V18,0),0)) | AE18: =IF(COUNTA($A18:$N18)=0,"",IF($B18="Yes",IFERROR($I18/$H18,0),0)) | AF18: =IF(COUNTA($A18:$N18)=0,"",IF($B18="Yes",IFERROR($I18/$Q18,0),0)) | AG18: =IF(COUNTA($A18:$N18)=0,"",IF($B18<>"Yes","Not Included",IF(OR($U18>'Settings'!$B$14,$J18>'Settings'!$B$17),"Review","Within Capacity"))) | AH18: =IF(COUNTA($A18:$N18)=0,"",IF($B18<>"Yes","Not Included",IF($AD18>='Settings'!$B$15,"Meets Target","Below Target"))) | AI18: =IF(COUNTA($A18:$N18)=0,"",IF($B18<>"Yes","Exclude",IF($AJ18<>"OK","Complete Inputs",IF($AG18="Review","Review Capacity/Distance",IF($AH18="Below Target","Review Pricing/Costs",IF($AF18<'Settings'!$B$16,"Build Density","Recommended")))))) | AJ18: =IF(COUNTA($A18:$N18)=0,"",IF($B18<>"Yes","Not Required",IF(COUNTIF($A$6:$A$205,$A18)>1,"Duplicate Area ID",IF(OR($A18="",$C18="",$D18="",$E18="",$F18="",$G18="",$H18<=0,$I18<=0,$J18<=0,$K18<0,$L18<=0,$M18="",LEN($D18)<>5,IFERROR(VALUE($D18),-1)<0),"Complete Inputs","OK"))))
O19: =IF(COUNTA($A19:$N19)=0,"",IF($B19="Yes",2*$J19*$H19,0)) | P19: =IF(COUNTA($A19:$N19)=0,"",IF($B19="Yes",MAX($I19-$H19,0)*$K19,0)) | Q19: =IF(COUNTA($A19:$N19)=0,"",IF($B19="Yes",$O19+$P19,0)) | R19: =IF(COUNTA($A19:$N19)=0,"",IF($B19="Yes",IFERROR($Q19/'Settings'!$B$7,0),0)) | S19: =IF(COUNTA($A19:$N19)=0,"",IF($B19="Yes",IFERROR($I19*'Settings'!$B$8/60,0),0)) | T19: =IF(COUNTA($A19:$N19)=0,"",IF($B19="Yes",$R19+$S19,0)) | U19: =IF(COUNTA($A19:$N19)=0,"",IF($B19="Yes",IFERROR($T19/$H19,0),0)) | V19: =IF(COUNTA($A19:$N19)=0,"",IF($B19="Yes",$I19*$L19,0)) | W19: =IF(COUNTA($A19:$N19)=0,"",IF($B19="Yes",IFERROR($Q19/'Settings'!$B$9,0),0)) | X19: =IF(COUNTA($A19:$N19)=0,"",IF($B19="Yes",$W19*'Settings'!$B$10,0)) | Y19: =IF(COUNTA($A19:$N19)=0,"",IF($B19="Yes",$Q19*'Settings'!$B$11,0)) | Z19: =IF(COUNTA($A19:$N19)=0,"",IF($B19="Yes",$T19*'Settings'!$B$12,0)) | AA19: =IF(COUNTA($A19:$N19)=0,"",IF($B19="Yes",$H19*'Settings'!$B$13,0)) | AB19: =IF(COUNTA($A19:$N19)=0,"",IF($B19="Yes",SUM($X19:$AA19),0)) | AC19: =IF(COUNTA($A19:$N19)=0,"",IF($B19="Yes",$V19-$AB19,0)) | AD19: =IF(COUNTA($A19:$N19)=0,"",IF($B19="Yes",IFERROR($AC19/$V19,0),0)) | AE19: =IF(COUNTA($A19:$N19)=0,"",IF($B19="Yes",IFERROR($I19/$H19,0),0)) | AF19: =IF(COUNTA($A19:$N19)=0,"",IF($B19="Yes",IFERROR($I19/$Q19,0),0)) | AG19: =IF(COUNTA($A19:$N19)=0,"",IF($B19<>"Yes","Not Included",IF(OR($U19>'Settings'!$B$14,$J19>'Settings'!$B$17),"Review","Within Capacity"))) | AH19: =IF(COUNTA($A19:$N19)=0,"",IF($B19<>"Yes","Not Included",IF($AD19>='Settings'!$B$15,"Meets Target","Below Target"))) | AI19: =IF(COUNTA($A19:$N19)=0,"",IF($B19<>"Yes","Exclude",IF($AJ19<>"OK","Complete Inputs",IF($AG19="Review","Review Capacity/Distance",IF($AH19="Below Target","Review Pricing/Costs",IF($AF19<'Settings'!$B$16,"Build Density","Recommended")))))) | AJ19: =IF(COUNTA($A19:$N19)=0,"",IF($B19<>"Yes","Not Required",IF(COUNTIF($A$6:$A$205,$A19)>1,"Duplicate Area ID",IF(OR($A19="",$C19="",$D19="",$E19="",$F19="",$G19="",$H19<=0,$I19<=0,$J19<=0,$K19<0,$L19<=0,$M19="",LEN($D19)<>5,IFERROR(VALUE($D19),-1)<0),"Complete Inputs","OK"))))
O20: =IF(COUNTA($A20:$N20)=0,"",IF($B20="Yes",2*$J20*$H20,0)) | P20: =IF(COUNTA($A20:$N20)=0,"",IF($B20="Yes",MAX($I20-$H20,0)*$K20,0)) | Q20: =IF(COUNTA($A20:$N20)=0,"",IF($B20="Yes",$O20+$P20,0)) | R20: =IF(COUNTA($A20:$N20)=0,"",IF($B20="Yes",IFERROR($Q20/'Settings'!$B$7,0),0)) | S20: =IF(COUNTA($A20:$N20)=0,"",IF($B20="Yes",IFERROR($I20*'Settings'!$B$8/60,0),0)) | T20: =IF(COUNTA($A20:$N20)=0,"",IF($B20="Yes",$R20+$S20,0)) | U20: =IF(COUNTA($A20:$N20)=0,"",IF($B20="Yes",IFERROR($T20/$H20,0),0)) | V20: =IF(COUNTA($A20:$N20)=0,"",IF($B20="Yes",$I20*$L20,0)) | W20: =IF(COUNTA($A20:$N20)=0,"",IF($B20="Yes",IFERROR($Q20/'Settings'!$B$9,0),0)) | X20: =IF(COUNTA($A20:$N20)=0,"",IF($B20="Yes",$W20*'Settings'!$B$10,0)) | Y20: =IF(COUNTA($A20:$N20)=0,"",IF($B20="Yes",$Q20*'Settings'!$B$11,0)) | Z20: =IF(COUNTA($A20:$N20)=0,"",IF($B20="Yes",$T20*'Settings'!$B$12,0)) | AA20: =IF(COUNTA($A20:$N20)=0,"",IF($B20="Yes",$H20*'Settings'!$B$13,0)) | AB20: =IF(COUNTA($A20:$N20)=0,"",IF($B20="Yes",SUM($X20:$AA20),0)) | AC20: =IF(COUNTA($A20:$N20)=0,"",IF($B20="Yes",$V20-$AB20,0)) | AD20: =IF(COUNTA($A20:$N20)=0,"",IF($B20="Yes",IFERROR($AC20/$V20,0),0)) | AE20: =IF(COUNTA($A20:$N20)=0,"",IF($B20="Yes",IFERROR($I20/$H20,0),0)) | AF20: =IF(COUNTA($A20:$N20)=0,"",IF($B20="Yes",IFERROR($I20/$Q20,0),0)) | AG20: =IF(COUNTA($A20:$N20)=0,"",IF($B20<>"Yes","Not Included",IF(OR($U20>'Settings'!$B$14,$J20>'Settings'!$B$17),"Review","Within Capacity"))) | AH20: =IF(COUNTA($A20:$N20)=0,"",IF($B20<>"Yes","Not Included",IF($AD20>='Settings'!$B$15,"Meets Target","Below Target"))) | AI20: =IF(COUNTA($A20:$N20)=0,"",IF($B20<>"Yes","Exclude",IF($AJ20<>"OK","Complete Inputs",IF($AG20="Review","Review Capacity/Distance",IF($AH20="Below Target","Review Pricing/Costs",IF($AF20<'Settings'!$B$16,"Build Density","Recommended")))))) | AJ20: =IF(COUNTA($A20:$N20)=0,"",IF($B20<>"Yes","Not Required",IF(COUNTIF($A$6:$A$205,$A20)>1,"Duplicate Area ID",IF(OR($A20="",$C20="",$D20="",$E20="",$F20="",$G20="",$H20<=0,$I20<=0,$J20<=0,$K20<0,$L20<=0,$M20="",LEN($D20)<>5,IFERROR(VALUE($D20),-1)<0),"Complete Inputs","OK"))))
O21: =IF(COUNTA($A21:$N21)=0,"",IF($B21="Yes",2*$J21*$H21,0)) | P21: =IF(COUNTA($A21:$N21)=0,"",IF($B21="Yes",MAX($I21-$H21,0)*$K21,0)) | Q21: =IF(COUNTA($A21:$N21)=0,"",IF($B21="Yes",$O21+$P21,0)) | R21: =IF(COUNTA($A21:$N21)=0,"",IF($B21="Yes",IFERROR($Q21/'Settings'!$B$7,0),0)) | S21: =IF(COUNTA($A21:$N21)=0,"",IF($B21="Yes",IFERROR($I21*'Settings'!$B$8/60,0),0)) | T21: =IF(COUNTA($A21:$N21)=0,"",IF($B21="Yes",$R21+$S21,0)) | U21: =IF(COUNTA($A21:$N21)=0,"",IF($B21="Yes",IFERROR($T21/$H21,0),0)) | V21: =IF(COUNTA($A21:$N21)=0,"",IF($B21="Yes",$I21*$L21,0)) | W21: =IF(COUNTA($A21:$N21)=0,"",IF($B21="Yes",IFERROR($Q21/'Settings'!$B$9,0),0)) | X21: =IF(COUNTA($A21:$N21)=0,"",IF($B21="Yes",$W21*'Settings'!$B$10,0)) | Y21: =IF(COUNTA($A21:$N21)=0,"",IF($B21="Yes",$Q21*'Settings'!$B$11,0)) | Z21: =IF(COUNTA($A21:$N21)=0,"",IF($B21="Yes",$T21*'Settings'!$B$12,0)) | AA21: =IF(COUNTA($A21:$N21)=0,"",IF($B21="Yes",$H21*'Settings'!$B$13,0)) | AB21: =IF(COUNTA($A21:$N21)=0,"",IF($B21="Yes",SUM($X21:$AA21),0)) | AC21: =IF(COUNTA($A21:$N21)=0,"",IF($B21="Yes",$V21-$AB21,0)) | AD21: =IF(COUNTA($A21:$N21)=0,"",IF($B21="Yes",IFERROR($AC21/$V21,0),0)) | AE21: =IF(COUNTA($A21:$N21)=0,"",IF($B21="Yes",IFERROR($I21/$H21,0),0)) | AF21: =IF(COUNTA($A21:$N21)=0,"",IF($B21="Yes",IFERROR($I21/$Q21,0),0)) | AG21: =IF(COUNTA($A21:$N21)=0,"",IF($B21<>"Yes","Not Included",IF(OR($U21>'Settings'!$B$14,$J21>'Settings'!$B$17),"Review","Within Capacity"))) | AH21: =IF(COUNTA($A21:$N21)=0,"",IF($B21<>"Yes","Not Included",IF($AD21>='Settings'!$B$15,"Meets Target","Below Target"))) | AI21: =IF(COUNTA($A21:$N21)=0,"",IF($B21<>"Yes","Exclude",IF($AJ21<>"OK","Complete Inputs",IF($AG21="Review","Review Capacity/Distance",IF($AH21="Below Target","Review Pricing/Costs",IF($AF21<'Settings'!$B$16,"Build Density","Recommended")))))) | AJ21: =IF(COUNTA($A21:$N21)=0,"",IF($B21<>"Yes","Not Required",IF(COUNTIF($A$6:$A$205,$A21)>1,"Duplicate Area ID",IF(OR($A21="",$C21="",$D21="",$E21="",$F21="",$G21="",$H21<=0,$I21<=0,$J21<=0,$K21<0,$L21<=0,$M21="",LEN($D21)<>5,IFERROR(VALUE($D21),-1)<0),"Complete Inputs","OK"))))
O22: =IF(COUNTA($A22:$N22)=0,"",IF($B22="Yes",2*$J22*$H22,0)) | P22: =IF(COUNTA($A22:$N22)=0,"",IF($B22="Yes",MAX($I22-$H22,0)*$K22,0)) | Q22: =IF(COUNTA($A22:$N22)=0,"",IF($B22="Yes",$O22+$P22,0)) | R22: =IF(COUNTA($A22:$N22)=0,"",IF($B22="Yes",IFERROR($Q22/'Settings'!$B$7,0),0)) | S22: =IF(COUNTA($A22:$N22)=0,"",IF($B22="Yes",IFERROR($I22*'Settings'!$B$8/60,0),0)) | T22: =IF(COUNTA($A22:$N22)=0,"",IF($B22="Yes",$R22+$S22,0)) | U22: =IF(COUNTA($A22:$N22)=0,"",IF($B22="Yes",IFERROR($T22/$H22,0),0)) | V22: =IF(COUNTA($A22:$N22)=0,"",IF($B22="Yes",$I22*$L22,0)) | W22: =IF(COUNTA($A22:$N22)=0,"",IF($B22="Yes",IFERROR($Q22/'Settings'!$B$9,0),0)) | X22: =IF(COUNTA($A22:$N22)=0,"",IF($B22="Yes",$W22*'Settings'!$B$10,0)) | Y22: =IF(COUNTA($A22:$N22)=0,"",IF($B22="Yes",$Q22*'Settings'!$B$11,0)) | Z22: =IF(COUNTA($A22:$N22)=0,"",IF($B22="Yes",$T22*'Settings'!$B$12,0)) | AA22: =IF(COUNTA($A22:$N22)=0,"",IF($B22="Yes",$H22*'Settings'!$B$13,0)) | AB22: =IF(COUNTA($A22:$N22)=0,"",IF($B22="Yes",SUM($X22:$AA22),0)) | AC22: =IF(COUNTA($A22:$N22)=0,"",IF($B22="Yes",$V22-$AB22,0)) | AD22: =IF(COUNTA($A22:$N22)=0,"",IF($B22="Yes",IFERROR($AC22/$V22,0),0)) | AE22: =IF(COUNTA($A22:$N22)=0,"",IF($B22="Yes",IFERROR($I22/$H22,0),0)) | AF22: =IF(COUNTA($A22:$N22)=0,"",IF($B22="Yes",IFERROR($I22/$Q22,0),0)) | AG22: =IF(COUNTA($A22:$N22)=0,"",IF($B22<>"Yes","Not Included",IF(OR($U22>'Settings'!$B$14,$J22>'Settings'!$B$17),"Review","Within Capacity"))) | AH22: =IF(COUNTA($A22:$N22)=0,"",IF($B22<>"Yes","Not Included",IF($AD22>='Settings'!$B$15,"Meets Target","Below Target"))) | AI22: =IF(COUNTA($A22:$N22)=0,"",IF($B22<>"Yes","Exclude",IF($AJ22<>"OK","Complete Inputs",IF($AG22="Review","Review Capacity/Distance",IF($AH22="Below Target","Review Pricing/Costs",IF($AF22<'Settings'!$B$16,"Build Density","Recommended")))))) | AJ22: =IF(COUNTA($A22:$N22)=0,"",IF($B22<>"Yes","Not Required",IF(COUNTIF($A$6:$A$205,$A22)>1,"Duplicate Area ID",IF(OR($A22="",$C22="",$D22="",$E22="",$F22="",$G22="",$H22<=0,$I22<=0,$J22<=0,$K22<0,$L22<=0,$M22="",LEN($D22)<>5,IFERROR(VALUE($D22),-1)<0),"Complete Inputs","OK"))))
O23: =IF(COUNTA($A23:$N23)=0,"",IF($B23="Yes",2*$J23*$H23,0)) | P23: =IF(COUNTA($A23:$N23)=0,"",IF($B23="Yes",MAX($I23-$H23,0)*$K23,0)) | Q23: =IF(COUNTA($A23:$N23)=0,"",IF($B23="Yes",$O23+$P23,0)) | R23: =IF(COUNTA($A23:$N23)=0,"",IF($B23="Yes",IFERROR($Q23/'Settings'!$B$7,0),0)) | S23: =IF(COUNTA($A23:$N23)=0,"",IF($B23="Yes",IFERROR($I23*'Settings'!$B$8/60,0),0)) | T23: =IF(COUNTA($A23:$N23)=0,"",IF($B23="Yes",$R23+$S23,0)) | U23: =IF(COUNTA($A23:$N23)=0,"",IF($B23="Yes",IFERROR($T23/$H23,0),0)) | V23: =IF(COUNTA($A23:$N23)=0,"",IF($B23="Yes",$I23*$L23,0)) | W23: =IF(COUNTA($A23:$N23)=0,"",IF($B23="Yes",IFERROR($Q23/'Settings'!$B$9,0),0)) | X23: =IF(COUNTA($A23:$N23)=0,"",IF($B23="Yes",$W23*'Settings'!$B$10,0)) | Y23: =IF(COUNTA($A23:$N23)=0,"",IF($B23="Yes",$Q23*'Settings'!$B$11,0)) | Z23: =IF(COUNTA($A23:$N23)=0,"",IF($B23="Yes",$T23*'Settings'!$B$12,0)) | AA23: =IF(COUNTA($A23:$N23)=0,"",IF($B23="Yes",$H23*'Settings'!$B$13,0)) | AB23: =IF(COUNTA($A23:$N23)=0,"",IF($B23="Yes",SUM($X23:$AA23),0)) | AC23: =IF(COUNTA($A23:$N23)=0,"",IF($B23="Yes",$V23-$AB23,0)) | AD23: =IF(COUNTA($A23:$N23)=0,"",IF($B23="Yes",IFERROR($AC23/$V23,0),0)) | AE23: =IF(COUNTA($A23:$N23)=0,"",IF($B23="Yes",IFERROR($I23/$H23,0),0)) | AF23: =IF(COUNTA($A23:$N23)=0,"",IF($B23="Yes",IFERROR($I23/$Q23,0),0)) | AG23: =IF(COUNTA($A23:$N23)=0,"",IF($B23<>"Yes","Not Included",IF(OR($U23>'Settings'!$B$14,$J23>'Settings'!$B$17),"Review","Within Capacity"))) | AH23: =IF(COUNTA($A23:$N23)=0,"",IF($B23<>"Yes","Not Included",IF($AD23>='Settings'!$B$15,"Meets Target","Below Target"))) | AI23: =IF(COUNTA($A23:$N23)=0,"",IF($B23<>"Yes","Exclude",IF($AJ23<>"OK","Complete Inputs",IF($AG23="Review","Review Capacity/Distance",IF($AH23="Below Target","Review Pricing/Costs",IF($AF23<'Settings'!$B$16,"Build Density","Recommended")))))) | AJ23: =IF(COUNTA($A23:$N23)=0,"",IF($B23<>"Yes","Not Required",IF(COUNTIF($A$6:$A$205,$A23)>1,"Duplicate Area ID",IF(OR($A23="",$C23="",$D23="",$E23="",$F23="",$G23="",$H23<=0,$I23<=0,$J23<=0,$K23<0,$L23<=0,$M23="",LEN($D23)<>5,IFERROR(VALUE($D23),-1)<0),"Complete Inputs","OK"))))
O24: =IF(COUNTA($A24:$N24)=0,"",IF($B24="Yes",2*$J24*$H24,0)) | P24: =IF(COUNTA($A24:$N24)=0,"",IF($B24="Yes",MAX($I24-$H24,0)*$K24,0)) | Q24: =IF(COUNTA($A24:$N24)=0,"",IF($B24="Yes",$O24+$P24,0)) | R24: =IF(COUNTA($A24:$N24)=0,"",IF($B24="Yes",IFERROR($Q24/'Settings'!$B$7,0),0)) | S24: =IF(COUNTA($A24:$N24)=0,"",IF($B24="Yes",IFERROR($I24*'Settings'!$B$8/60,0),0)) | T24: =IF(COUNTA($A24:$N24)=0,"",IF($B24="Yes",$R24+$S24,0)) | U24: =IF(COUNTA($A24:$N24)=0,"",IF($B24="Yes",IFERROR($T24/$H24,0),0)) | V24: =IF(COUNTA($A24:$N24)=0,"",IF($B24="Yes",$I24*$L24,0)) | W24: =IF(COUNTA($A24:$N24)=0,"",IF($B24="Yes",IFERROR($Q24/'Settings'!$B$9,0),0)) | X24: =IF(COUNTA($A24:$N24)=0,"",IF($B24="Yes",$W24*'Settings'!$B$10,0)) | Y24: =IF(COUNTA($A24:$N24)=0,"",IF($B24="Yes",$Q24*'Settings'!$B$11,0)) | Z24: =IF(COUNTA($A24:$N24)=0,"",IF($B24="Yes",$T24*'Settings'!$B$12,0)) | AA24: =IF(COUNTA($A24:$N24)=0,"",IF($B24="Yes",$H24*'Settings'!$B$13,0)) | AB24: =IF(COUNTA($A24:$N24)=0,"",IF($B24="Yes",SUM($X24:$AA24),0)) | AC24: =IF(COUNTA($A24:$N24)=0,"",IF($B24="Yes",$V24-$AB24,0)) | AD24: =IF(COUNTA($A24:$N24)=0,"",IF($B24="Yes",IFERROR($AC24/$V24,0),0)) | AE24: =IF(COUNTA($A24:$N24)=0,"",IF($B24="Yes",IFERROR($I24/$H24,0),0)) | AF24: =IF(COUNTA($A24:$N24)=0,"",IF($B24="Yes",IFERROR($I24/$Q24,0),0)) | AG24: =IF(COUNTA($A24:$N24)=0,"",IF($B24<>"Yes","Not Included",IF(OR($U24>'Settings'!$B$14,$J24>'Settings'!$B$17),"Review","Within Capacity"))) | AH24: =IF(COUNTA($A24:$N24)=0,"",IF($B24<>"Yes","Not Included",IF($AD24>='Settings'!$B$15,"Meets Target","Below Target"))) | AI24: =IF(COUNTA($A24:$N24)=0,"",IF($B24<>"Yes","Exclude",IF($AJ24<>"OK","Complete Inputs",IF($AG24="Review","Review Capacity/Distance",IF($AH24="Below Target","Review Pricing/Costs",IF($AF24<'Settings'!$B$16,"Build Density","Recommended")))))) | AJ24: =IF(COUNTA($A24:$N24)=0,"",IF($B24<>"Yes","Not Required",IF(COUNTIF($A$6:$A$205,$A24)>1,"Duplicate Area ID",IF(OR($A24="",$C24="",$D24="",$E24="",$F24="",$G24="",$H24<=0,$I24<=0,$J24<=0,$K24<0,$L24<=0,$M24="",LEN($D24)<>5,IFERROR(VALUE($D24),-1)<0),"Complete Inputs","OK"))))
O25: =IF(COUNTA($A25:$N25)=0,"",IF($B25="Yes",2*$J25*$H25,0)) | P25: =IF(COUNTA($A25:$N25)=0,"",IF($B25="Yes",MAX($I25-$H25,0)*$K25,0)) | Q25: =IF(COUNTA($A25:$N25)=0,"",IF($B25="Yes",$O25+$P25,0)) | R25: =IF(COUNTA($A25:$N25)=0,"",IF($B25="Yes",IFERROR($Q25/'Settings'!$B$7,0),0)) | S25: =IF(COUNTA($A25:$N25)=0,"",IF($B25="Yes",IFERROR($I25*'Settings'!$B$8/60,0),0)) | T25: =IF(COUNTA($A25:$N25)=0,"",IF($B25="Yes",$R25+$S25,0)) | U25: =IF(COUNTA($A25:$N25)=0,"",IF($B25="Yes",IFERROR($T25/$H25,0),0)) | V25: =IF(COUNTA($A25:$N25)=0,"",IF($B25="Yes",$I25*$L25,0)) | W25: =IF(COUNTA($A25:$N25)=0,"",IF($B25="Yes",IFERROR($Q25/'Settings'!$B$9,0),0)) | X25: =IF(COUNTA($A25:$N25)=0,"",IF($B25="Yes",$W25*'Settings'!$B$10,0)) | Y25: =IF(COUNTA($A25:$N25)=0,"",IF($B25="Yes",$Q25*'Settings'!$B$11,0)) | Z25: =IF(COUNTA($A25:$N25)=0,"",IF($B25="Yes",$T25*'Settings'!$B$12,0)) | AA25: =IF(COUNTA($A25:$N25)=0,"",IF($B25="Yes",$H25*'Settings'!$B$13,0)) | AB25: =IF(COUNTA($A25:$N25)=0,"",IF($B25="Yes",SUM($X25:$AA25),0)) | AC25: =IF(COUNTA($A25:$N25)=0,"",IF($B25="Yes",$V25-$AB25,0)) | AD25: =IF(COUNTA($A25:$N25)=0,"",IF($B25="Yes",IFERROR($AC25/$V25,0),0)) | AE25: =IF(COUNTA($A25:$N25)=0,"",IF($B25="Yes",IFERROR($I25/$H25,0),0)) | AF25: =IF(COUNTA($A25:$N25)=0,"",IF($B25="Yes",IFERROR($I25/$Q25,0),0)) | AG25: =IF(COUNTA($A25:$N25)=0,"",IF($B25<>"Yes","Not Included",IF(OR($U25>'Settings'!$B$14,$J25>'Settings'!$B$17),"Review","Within Capacity"))) | AH25: =IF(COUNTA($A25:$N25)=0,"",IF($B25<>"Yes","Not Included",IF($AD25>='Settings'!$B$15,"Meets Target","Below Target"))) | AI25: =IF(COUNTA($A25:$N25)=0,"",IF($B25<>"Yes","Exclude",IF($AJ25<>"OK","Complete Inputs",IF($AG25="Review","Review Capacity/Distance",IF($AH25="Below Target","Review Pricing/Costs",IF($AF25<'Settings'!$B$16,"Build Density","Recommended")))))) | AJ25: =IF(COUNTA($A25:$N25)=0,"",IF($B25<>"Yes","Not Required",IF(COUNTIF($A$6:$A$205,$A25)>1,"Duplicate Area ID",IF(OR($A25="",$C25="",$D25="",$E25="",$F25="",$G25="",$H25<=0,$I25<=0,$J25<=0,$K25<0,$L25<=0,$M25="",LEN($D25)<>5,IFERROR(VALUE($D25),-1)<0),"Complete Inputs","OK"))))
O26: =IF(COUNTA($A26:$N26)=0,"",IF($B26="Yes",2*$J26*$H26,0)) | P26: =IF(COUNTA($A26:$N26)=0,"",IF($B26="Yes",MAX($I26-$H26,0)*$K26,0)) | Q26: =IF(COUNTA($A26:$N26)=0,"",IF($B26="Yes",$O26+$P26,0)) | R26: =IF(COUNTA($A26:$N26)=0,"",IF($B26="Yes",IFERROR($Q26/'Settings'!$B$7,0),0)) | S26: =IF(COUNTA($A26:$N26)=0,"",IF($B26="Yes",IFERROR($I26*'Settings'!$B$8/60,0),0)) | T26: =IF(COUNTA($A26:$N26)=0,"",IF($B26="Yes",$R26+$S26,0)) | U26: =IF(COUNTA($A26:$N26)=0,"",IF($B26="Yes",IFERROR($T26/$H26,0),0)) | V26: =IF(COUNTA($A26:$N26)=0,"",IF($B26="Yes",$I26*$L26,0)) | W26: =IF(COUNTA($A26:$N26)=0,"",IF($B26="Yes",IFERROR($Q26/'Settings'!$B$9,0),0)) | X26: =IF(COUNTA($A26:$N26)=0,"",IF($B26="Yes",$W26*'Settings'!$B$10,0)) | Y26: =IF(COUNTA($A26:$N26)=0,"",IF($B26="Yes",$Q26*'Settings'!$B$11,0)) | Z26: =IF(COUNTA($A26:$N26)=0,"",IF($B26="Yes",$T26*'Settings'!$B$12,0)) | AA26: =IF(COUNTA($A26:$N26)=0,"",IF($B26="Yes",$H26*'Settings'!$B$13,0)) | AB26: =IF(COUNTA($A26:$N26)=0,"",IF($B26="Yes",SUM($X26:$AA26),0)) | AC26: =IF(COUNTA($A26:$N26)=0,"",IF($B26="Yes",$V26-$AB26,0)) | AD26: =IF(COUNTA($A26:$N26)=0,"",IF($B26="Yes",IFERROR($AC26/$V26,0),0)) | AE26: =IF(COUNTA($A26:$N26)=0,"",IF($B26="Yes",IFERROR($I26/$H26,0),0)) | AF26: =IF(COUNTA($A26:$N26)=0,"",IF($B26="Yes",IFERROR($I26/$Q26,0),0)) | AG26: =IF(COUNTA($A26:$N26)=0,"",IF($B26<>"Yes","Not Included",IF(OR($U26>'Settings'!$B$14,$J26>'Settings'!$B$17),"Review","Within Capacity"))) | AH26: =IF(COUNTA($A26:$N26)=0,"",IF($B26<>"Yes","Not Included",IF($AD26>='Settings'!$B$15,"Meets Target","Below Target"))) | AI26: =IF(COUNTA($A26:$N26)=0,"",IF($B26<>"Yes","Exclude",IF($AJ26<>"OK","Complete Inputs",IF($AG26="Review","Review Capacity/Distance",IF($AH26="Below Target","Review Pricing/Costs",IF($AF26<'Settings'!$B$16,"Build Density","Recommended")))))) | AJ26: =IF(COUNTA($A26:$N26)=0,"",IF($B26<>"Yes","Not Required",IF(COUNTIF($A$6:$A$205,$A26)>1,"Duplicate Area ID",IF(OR($A26="",$C26="",$D26="",$E26="",$F26="",$G26="",$H26<=0,$I26<=0,$J26<=0,$K26<0,$L26<=0,$M26="",LEN($D26)<>5,IFERROR(VALUE($D26),-1)<0),"Complete Inputs","OK"))))
O27: =IF(COUNTA($A27:$N27)=0,"",IF($B27="Yes",2*$J27*$H27,0)) | P27: =IF(COUNTA($A27:$N27)=0,"",IF($B27="Yes",MAX($I27-$H27,0)*$K27,0)) | Q27: =IF(COUNTA($A27:$N27)=0,"",IF($B27="Yes",$O27+$P27,0)) | R27: =IF(COUNTA($A27:$N27)=0,"",IF($B27="Yes",IFERROR($Q27/'Settings'!$B$7,0),0)) | S27: =IF(COUNTA($A27:$N27)=0,"",IF($B27="Yes",IFERROR($I27*'Settings'!$B$8/60,0),0)) | T27: =IF(COUNTA($A27:$N27)=0,"",IF($B27="Yes",$R27+$S27,0)) | U27: =IF(COUNTA($A27:$N27)=0,"",IF($B27="Yes",IFERROR($T27/$H27,0),0)) | V27: =IF(COUNTA($A27:$N27)=0,"",IF($B27="Yes",$I27*$L27,0)) | W27: =IF(COUNTA($A27:$N27)=0,"",IF($B27="Yes",IFERROR($Q27/'Settings'!$B$9,0),0)) | X27: =IF(COUNTA($A27:$N27)=0,"",IF($B27="Yes",$W27*'Settings'!$B$10,0)) | Y27: =IF(COUNTA($A27:$N27)=0,"",IF($B27="Yes",$Q27*'Settings'!$B$11,0)) | Z27: =IF(COUNTA($A27:$N27)=0,"",IF($B27="Yes",$T27*'Settings'!$B$12,0)) | AA27: =IF(COUNTA($A27:$N27)=0,"",IF($B27="Yes",$H27*'Settings'!$B$13,0)) | AB27: =IF(COUNTA($A27:$N27)=0,"",IF($B27="Yes",SUM($X27:$AA27),0)) | AC27: =IF(COUNTA($A27:$N27)=0,"",IF($B27="Yes",$V27-$AB27,0)) | AD27: =IF(COUNTA($A27:$N27)=0,"",IF($B27="Yes",IFERROR($AC27/$V27,0),0)) | AE27: =IF(COUNTA($A27:$N27)=0,"",IF($B27="Yes",IFERROR($I27/$H27,0),0)) | AF27: =IF(COUNTA($A27:$N27)=0,"",IF($B27="Yes",IFERROR($I27/$Q27,0),0)) | AG27: =IF(COUNTA($A27:$N27)=0,"",IF($B27<>"Yes","Not Included",IF(OR($U27>'Settings'!$B$14,$J27>'Settings'!$B$17),"Review","Within Capacity"))) | AH27: =IF(COUNTA($A27:$N27)=0,"",IF($B27<>"Yes","Not Included",IF($AD27>='Settings'!$B$15,"Meets Target","Below Target"))) | AI27: =IF(COUNTA($A27:$N27)=0,"",IF($B27<>"Yes","Exclude",IF($AJ27<>"OK","Complete Inputs",IF($AG27="Review","Review Capacity/Distance",IF($AH27="Below Target","Review Pricing/Costs",IF($AF27<'Settings'!$B$16,"Build Density","Recommended")))))) | AJ27: =IF(COUNTA($A27:$N27)=0,"",IF($B27<>"Yes","Not Required",IF(COUNTIF($A$6:$A$205,$A27)>1,"Duplicate Area ID",IF(OR($A27="",$C27="",$D27="",$E27="",$F27="",$G27="",$H27<=0,$I27<=0,$J27<=0,$K27<0,$L27<=0,$M27="",LEN($D27)<>5,IFERROR(VALUE($D27),-1)<0),"Complete Inputs","OK"))))
... O205: =IF(COUNTA($A205:$N205)=0,"",IF($B205="Yes",2*$J205*$H205,0)) | P205: =IF(COUNTA($A205:$N205)=0,"",IF($B205="Yes",MAX($I205-$H205,0)*$K205,0)) | Q205: =IF(COUNTA($A205:$N205)=0,"",IF($B205="Yes",$O205+$P205,0)) | R205: =IF(COUNTA($A205:$N205)=0,"",IF($B205="Yes",IFERROR($Q205/'Settings'!$B$7,0),0)) | S205: =IF(COUNTA($A205:$N205)=0,"",IF($B205="Yes",IFERROR($I205*'Settings'!$B$8/60,0),0)) | T205: =IF(COUNTA($A205:$N205)=0,"",IF($B205="Yes",$R205+$S205,0)) | U205: =IF(COUNTA($A205:$N205)=0,"",IF($B205="Yes",IFERROR($T205/$H205,0),0)) | V205: =IF(COUNTA($A205:$N205)=0,"",IF($B205="Yes",$I205*$L205,0)) | W205: =IF(COUNTA($A205:$N205)=0,"",IF($B205="Yes",IFERROR($Q205/'Settings'!$B$9,0),0)) | X205: =IF(COUNTA($A205:$N205)=0,"",IF($B205="Yes",$W205*'Settings'!$B$10,0)) | Y205: =IF(COUNTA($A205:$N205)=0,"",IF($B205="Yes",$Q205*'Settings'!$B$11,0)) | Z205: =IF(COUNTA($A205:$N205)=0,"",IF($B205="Yes",$T205*'Settings'!$B$12,0)) | AA205: =IF(COUNTA($A205:$N205)=0,"",IF($B205="Yes",$H205*'Settings'!$B$13,0)) | AB205: =IF(COUNTA($A205:$N205)=0,"",IF($B205="Yes",SUM($X205:$AA205),0)) | AC205: =IF(COUNTA($A205:$N205)=0,"",IF($B205="Yes",$V205-$AB205,0)) | AD205: =IF(COUNTA($A205:$N205)=0,"",IF($B205="Yes",IFERROR($AC205/$V205,0),0)) | AE205: =IF(COUNTA($A205:$N205)=0,"",IF($B205="Yes",IFERROR($I205/$H205,0),0)) | AF205: =IF(COUNTA($A205:$N205)=0,"",IF($B205="Yes",IFERROR($I205/$Q205,0),0)) | AG205: =IF(COUNTA($A205:$N205)=0,"",IF($B205<>"Yes","Not Included",IF(OR($U205>'Settings'!$B$14,$J205>'Settings'!$B$17),"Review","Within Capacity"))) | AH205: =IF(COUNTA($A205:$N205)=0,"",IF($B205<>"Yes","Not Included",IF($AD205>='Settings'!$B$15,"Meets Target","Below Target"))) | AI205: =IF(COUNTA($A205:$N205)=0,"",IF($B205<>"Yes","Exclude",IF($AJ205<>"OK","Complete Inputs",IF($AG205="Review","Review Capacity/Distance",IF($AH205="Below Target","Review Pricing/Costs",IF($AF205<'Settings'!$B$16,"Build Density","Recommended")))))) | AJ205: =IF(COUNTA($A205:$N205)=0,"",IF($B205<>"Yes","Not Required",IF(COUNTIF($A$6:$A$205,$A205)>1,"Duplicate Area ID",IF(OR($A205="",$C205="",$D205="",$E205="",$F205="",$G205="",$H205<=0,$I205<=0,$J205<=0,$K205<0,$L205<=0,$M205="",LEN($D205)<>5,IFERROR(VALUE($D205),-1)<0),"Complete Inputs","OK"))))

Sheet Settings
A1: Delivery Service Area Planning Settings
A2: Edit green cells to update route economics and planning thresholds. All rates are planning assumptions and should be reviewed for the fleet, market, and operating period being evaluated.
A3: Setting | B3: Value | C3: Units | D3: Purpose | G3: Include Options | H3: Weekdays | I3: Priorities | J3: State Abbreviations
A4: Planning Date | B4: 46272 | C4: date | D4: Date displayed on the Dashboard | G4: Yes | H4: Monday | I4: High | J4: AL
A5: Depot Name | B5: Dallas Central Depot | C5: text | D5: Depot displayed on the Dashboard | G5: No | H5: Tuesday | I5: Medium | J5: AK
A6: Depot ZIP | B6: 75247 | C6: ZIP Code | D6: Five-digit depot ZIP Code | H6: Wednesday | I6: Low | J6: AZ
A7: Average Travel Speed | B7: 30 | C7: mph | D7: Planning speed used to estimate drive hours | H7: Thursday | J7: AR
A8: Service Minutes per Stop | B8: 12 | C8: minutes | D8: Average on-site service time per stop | H8: Friday | J8: CA
