Workbook

Sheet Dashboard
A1: Backhaul Planning Dashboard
A2: Manual planning view for return-load coverage, empty-mile reduction, and estimated contribution
A3: As of: | B3: =TODAY()
A5: Total Outbound Trips | E5: Booked or Completed Backhauls | I5: Backhaul Coverage | M5: Open Trips
A6: =COUNTA('Planner'!$A$6:$A$205) | E6: =COUNTIF('Planner'!$O$6:$O$205,"Booked")+COUNTIF('Planner'!$O$6:$O$205,"Completed") | I6: =IFERROR((COUNTIF('Planner'!$O$6:$O$205,"Booked")+COUNTIF('Planner'!$O$6:$O$205,"Completed"))/COUNTA('Planner'!$A$6:$A$205),0) | M6: =COUNTIF('Planner'!$O$6:$O$205,"Searching")+COUNTIF('Planner'!$O$6:$O$205,"Tentative")
A8: Booked/Completed Gross Revenue | E8: Booked/Completed Estimated Net Contribution | I8: Booked/Completed Empty Miles Avoided | M8: Booked/Completed Estimated Fuel Gallons
A9: =SUMIFS('Planner'!$AC$6:$AC$205,'Planner'!$O$6:$O$205,"Booked")+SUMIFS('Planner'!$AC$6:$AC$205,'Planner'!$O$6:$O$205,"Completed") | E9: =SUMIFS('Planner'!$AD$6:$AD$205,'Planner'!$O$6:$O$205,"Booked")+SUMIFS('Planner'!$AD$6:$AD$205,'Planner'!$O$6:$O$205,"Completed") | I9: =SUMIFS('Planner'!$AJ$6:$AJ$205,'Planner'!$O$6:$O$205,"Booked")+SUMIFS('Planner'!$AJ$6:$AJ$205,'Planner'!$O$6:$O$205,"Completed") | M9: =SUMIFS('Planner'!$AF$6:$AF$205,'Planner'!$O$6:$O$205,"Booked")+SUMIFS('Planner'!$AF$6:$AF$205,'Planner'!$O$6:$O$205,"Completed")
A11: Trip Status Summary
A12: Trip Plan Status | B12: Trip Count | C12: Gross Revenue | D12: Estimated Net Contribution | E12: Loaded Miles
A13: Searching | B13: =COUNTIF('Planner'!$O$6:$O$205,$A13) | C13: =SUMIF('Planner'!$O$6:$O$205,$A13,'Planner'!$AC$6:$AC$205) | D13: =SUMIF('Planner'!$O$6:$O$205,$A13,'Planner'!$AD$6:$AD$205) | E13: =SUMIF('Planner'!$O$6:$O$205,$A13,'Planner'!$AA$6:$AA$205)
A14: Tentative | B14: =COUNTIF('Planner'!$O$6:$O$205,$A14) | C14: =SUMIF('Planner'!$O$6:$O$205,$A14,'Planner'!$AC$6:$AC$205) | D14: =SUMIF('Planner'!$O$6:$O$205,$A14,'Planner'!$AD$6:$AD$205) | E14: =SUMIF('Planner'!$O$6:$O$205,$A14,'Planner'!$AA$6:$AA$205)
A15: Booked | B15: =COUNTIF('Planner'!$O$6:$O$205,$A15) | C15: =SUMIF('Planner'!$O$6:$O$205,$A15,'Planner'!$AC$6:$AC$205) | D15: =SUMIF('Planner'!$O$6:$O$205,$A15,'Planner'!$AD$6:$AD$205) | E15: =SUMIF('Planner'!$O$6:$O$205,$A15,'Planner'!$AA$6:$AA$205)
A16: Completed | B16: =COUNTIF('Planner'!$O$6:$O$205,$A16) | C16: =SUMIF('Planner'!$O$6:$O$205,$A16,'Planner'!$AC$6:$AC$205) | D16: =SUMIF('Planner'!$O$6:$O$205,$A16,'Planner'!$AD$6:$AD$205) | E16: =SUMIF('Planner'!$O$6:$O$205,$A16,'Planner'!$AA$6:$AA$205)
A17: No Backhaul | B17: =COUNTIF('Planner'!$O$6:$O$205,$A17) | C17: =SUMIF('Planner'!$O$6:$O$205,$A17,'Planner'!$AC$6:$AC$205) | D17: =SUMIF('Planner'!$O$6:$O$205,$A17,'Planner'!$AD$6:$AD$205) | E17: =SUMIF('Planner'!$O$6:$O$205,$A17,'Planner'!$AA$6:$AA$205)
A18: Canceled | B18: =COUNTIF('Planner'!$O$6:$O$205,$A18) | C18: =SUMIF('Planner'!$O$6:$O$205,$A18,'Planner'!$AC$6:$AC$205) | D18: =SUMIF('Planner'!$O$6:$O$205,$A18,'Planner'!$AD$6:$AD$205) | E18: =SUMIF('Planner'!$O$6:$O$205,$A18,'Planner'!$AA$6:$AA$205)
A19: Total | B19: =SUM(B13:B18) | C19: =SUM(C13:C18) | D19: =SUM(D13:D18) | E19: =SUM(E13:E18)
A20: Weighted Revenue per Loaded Mile | B20: =IFERROR((SUMIFS('Planner'!$AC$6:$AC$205,'Planner'!$O$6:$O$205,"Booked")+SUMIFS('Planner'!$AC$6:$AC$205,'Planner'!$O$6:$O$205,"Completed"))/(SUMIFS('Planner'!$AA$6:$AA$205,'Planner'!$O$6:$O$205,"Booked")+SUMIFS('Planner'!$AA$6:$AA$205,'Planner'!$O$6:$O$205,"Completed")),0) | C20: ="" | E20: =""
B21: ="" | C21: ="" | E21: =""
A22: Opportunity Pipeline Summary | B22: ="" | C22: ="" | E22: ="" | F22: Action Checks
A23: Active Opportunities | B23: ="" | C23: ="" | D23: =COUNTIF('Opportunities'!$C$6:$C$205,"New")+COUNTIF('Opportunities'!$C$6:$C$205,"Quoted")+COUNTIF('Opportunities'!$C$6:$C$205,"Hold") | E23: ="" | F23: Booked/Completed Trips Missing a Load | I23: =COUNTIFS('Planner'!$O$6:$O$205,"Booked",'Planner'!$P$6:$P$205,"")+COUNTIFS('Planner'!$O$6:$O$205,"Completed",'Planner'!$P$6:$P$205,"")
A24: Active Potential Gross Revenue | B24: ="" | C24: ="" | D24: =SUMIF('Opportunities'!$C$6:$C$205,"New",'Opportunities'!$Z$6:$Z$205)+SUMIF('Opportunities'!$C$6:$C$205,"Quoted",'Opportunities'!$Z$6:$Z$205)+SUMIF('Opportunities'!$C$6:$C$205,"Hold",'Opportunities'!$Z$6:$Z$205) | E24: ="" | F24: Load Selection Issues | I24: =COUNTIFS('Planner'!$P$6:$P$205,"<>",'Planner'!$AK$6:$AK$205,"<>OK")
A25: Active Potential Net Contribution | B25: ="" | C25: ="" | D25: =SUMIF('Opportunities'!$C$6:$C$205,"New",'Opportunities'!$AJ$6:$AJ$205)+SUMIF('Opportunities'!$C$6:$C$205,"Quoted",'Opportunities'!$AJ$6:$AJ$205)+SUMIF('Opportunities'!$C$6:$C$205,"Hold",'Opportunities'!$AJ$6:$AJ$205) | E25: ="" | F25: Pickup Timing Issues | I25: =COUNTIF('Planner'!$AI$6:$AI$205,"Too tight")+COUNTIF('Planner'!$AI$6:$AI$205,"Long wait")
A26: Active Opportunities Meeting Targets | B26: ="" | C26: ="" | D26: =COUNTIF('Opportunities'!$AL$6:$AL$205,"Meets Targets") | E26: ="" | F26: Booked/Completed Loads Below Contribution Target | I26: =COUNTIFS('Planner'!$O$6:$O$205,"Booked",'Planner'!$AD$6:$AD$205,"<"&'Settings'!$B$9)+COUNTIFS('Planner'!$O$6:$O$205,"Completed",'Planner'!$AD$6:$AD$205,"<"&'Settings'!$B$9)
B27: ="" | C27: ="" | D27: ="" | E27: ="" | F27: Opportunity Data Errors | I27: =COUNTIFS('Opportunities'!$A$6:$A$205,"<>",'Opportunities'!$AM$6:$AM$205,"<>OK")
B28: ="" | C28: ="" | D28: ="" | E28: ="" | F28: Active Quotes Expiring Soon | I28: =COUNTIFS('Opportunities'!$C$6:$C$205,"New",'Opportunities'!$X$6:$X$205,">="&TODAY(),'Opportunities'!$X$6:$X$205,"<="&TODAY()+'Settings'!$B$14)+COUNTIFS('Opportunities'!$C$6:$C$205,"Quoted",'Opportunities'!$X$6:$X$205,">="&TODAY(),'Opportunities'!$X$6:$X$205,"<="&TODAY()+'Settings'!$B$14)+COUNTIFS('Opportunities'!$C$6:$C$205,"Hold",'Opportunities'!$X$6:$X$205,">="&TODAY(),'Opportunities'!$X$6:$X$205,"<="&TODAY()+'Settings'!$B$14)
B29: ="" | C29: ="" | D29: ="" | E29: ="" | I29: =""
B30: ="" | C30: ="" | D30: ="" | E30: ="" | I30: =""
B31: ="" | C31: ="" | D31: ="" | E31: ="" | I31: =""
B32: ="" | C32: ="" | D32: ="" | E32: ="" | I32: =""
B33: ="" | C33: ="" | D33: ="" | E33: ="" | I33: =""
B34: ="" | C34: ="" | D34: ="" | E34: ="" | I34: =""
B35: ="" | C35: ="" | D35: ="" | E35: ="" | I35: =""
B36: ="" | C36: ="" | D36: ="" | E36: ="" | I36: =""
B37: ="" | C37: ="" | D37: ="" | E37: ="" | I37: =""
B38: ="" | C38: ="" | D38: ="" | E38: ="" | I38: =""
B39: ="" | C39: ="" | D39: ="" | E39: ="" | I39: =""
B40: ="" | C40: ="" | D40: ="" | E40: ="" | I40: =""
... B101: ="" | C101: ="" | D101: ="" | E101: ="" | I101: =""

Sheet Planner
A1: Outbound Trip and Backhaul Planner
A2: Enter outbound-trip details in yellow cells, then select a Load ID from the Opportunities sheet. Blue cells are calculated.
A3: Legend | B3: Pale yellow = User input | C3: Pale blue = Calculated | D3: Red or amber = Review required
A5: Trip ID | B5: Truck Number | C5: Driver | D5: Equipment | E5: Outbound Customer | F5: Outbound Destination City | G5: Outbound Destination State | H5: Outbound Delivery Date | I5: Outbound Delivery Time | J5: Available Date | K5: Available Time | L5: Base City | M5: Base State | N5: Baseline Empty Return Miles | O5: Trip Plan Status | P5: Selected Load ID | Q5: Load Status | R5: Broker/Customer | S5: Pickup City | T5: Pickup State | U5: Pickup Date | V5: Pickup Time | W5: Delivery City | X5: Delivery State | Y5: Delivery Date | Z5: Deadhead Miles | AA5: Loaded Miles | AB5: Empty Miles to Base | AC5: Gross Revenue | AD5: Estimated Net Contribution | AE5: Revenue/Loaded Mile | AF5: Estimated Fuel Gallons | AG5: Actual Return Miles | AH5: Pickup Wait Hours | AI5: Pickup Feasibility | AJ5: Empty Miles Avoided | AK5: Selection Check | AL5: Dispatcher Notes
A6: TRP-2501 | B6: 214 | C6: Marcus Reed | D6: Dry Van | E6: Heartland Furnishings | F6: Indianapolis | G6: IN | H6: 46269 | I6: 0.33333333 | J6: 46269 | K6: 0.375 | L6: Columbus | M6: OH | N6: 176 | O6: Completed | P6: BH-1001 | Q6: =IF($A6="","",IF($P6="","",IFERROR(INDEX('Opportunities'!$C$6:$C$205,MATCH($P6,'Opportunities'!$A$6:$A$205,0)),""))) | R6: =IF($A6="","",IF($P6="","",IFERROR(INDEX('Opportunities'!$D$6:$D$205,MATCH($P6,'Opportunities'!$A$6:$A$205,0)),""))) | S6: =IF($A6="","",IF($P6="","",IFERROR(INDEX('Opportunities'!$E$6:$E$205,MATCH($P6,'Opportunities'!$A$6:$A$205,0)),""))) | T6: =IF($A6="","",IF($P6="","",IFERROR(INDEX('Opportunities'!$F$6:$F$205,MATCH($P6,'Opportunities'!$A$6:$A$205,0)),""))) | U6: =IF($A6="","",IF($P6="","",IFERROR(INDEX('Opportunities'!$G$6:$G$205,MATCH($P6,'Opportunities'!$A$6:$A$205,0)),""))) | V6: =IF($A6="","",IF($P6="","",IFERROR(INDEX('Opportunities'!$H$6:$H$205,MATCH($P6,'Opportunities'!$A$6:$A$205,0)),""))) | W6: =IF($A6="","",IF($P6="","",IFERROR(INDEX('Opportunities'!$I$6:$I$205,MATCH($P6,'Opportunities'!$A$6:$A$205,0)),""))) | X6: =IF($A6="","",IF($P6="","",IFERROR(INDEX('Opportunities'!$J$6:$J$205,MATCH($P6,'Opportunities'!$A$6:$A$205,0)),""))) | Y6: =IF($A6="","",IF($P6="","",IFERROR(INDEX('Opportunities'!$K$6:$K$205,MATCH($P6,'Opportunities'!$A$6:$A$205,0)),""))) | Z6: =IF($A6="","",IF($P6="","",IFERROR(INDEX('Opportunities'!$O$6:$O$205,MATCH($P6,'Opportunities'!$A$6:$A$205,0)),""))) | AA6: =IF($A6="","",IF($P6="","",IFERROR(INDEX('Opportunities'!$P$6:$P$205,MATCH($P6,'Opportunities'!$A$6:$A$205,0)),""))) | AB6: =IF($A6="","",IF($P6="","",IFERROR(INDEX('Opportunities'!$Q$6:$Q$205,MATCH($P6,'Opportunities'!$A$6:$A$205,0)),""))) | AC6: =IF($A6="","",IF($P6="","",IFERROR(INDEX('Opportunities'!$Z$6:$Z$205,MATCH($P6,'Opportunities'!$A$6:$A$205,0)),""))) | AD6: =IF($A6="","",IF($P6="","",IFERROR(INDEX('Opportunities'!$AJ$6:$AJ$205,MATCH($P6,'Opportunities'!$A$6:$A$205,0)),""))) | AE6: =IF($A6="","",IF($P6="","",IFERROR(INDEX('Opportunities'!$AA$6:$AA$205,MATCH($P6,'Opportunities'!$A$6:$A$205,0)),""))) | AF6: =IF($A6="","",IF($P6="","",IFERROR(INDEX('Opportunities'!$AF$6:$AF$205,MATCH($P6,'Opportunities'!$A$6:$A$205,0)),""))) | AG6: =IF($A6="","",IF($P6="","",IFERROR(INDEX('Opportunities'!$AB$6:$AB$205,MATCH($P6,'Opportunities'!$A$6:$A$205,0)),""))) | AH6: =IF($A6="","",IF($P6="","",IFERROR(($U6+$V6-$J6-$K6)*24,0))) | AI6: =IF($A6="","",IF($P6="","No load selected",IF($AH6<IFERROR($Z6/'Settings'!$B$11,0)+'Settings'!$B$12,"Too tight",IF($AH6>'Settings'!$B$13,"Long wait","Feasible")))) | AJ6: =IF($A6="","",IF($P6="","",$N6-$Z6-$AB6)) | AK6: =IF($A6="","",IF(COUNTIF($A$6:$A$205,$A6)>1,"Duplicate Trip ID",IF($P6="","Open",IF(COUNTIF('Opportunities'!$A$6:$A$205,$P6)=0,"Load ID not found",IF(COUNTIFS('Opportunities'!$A$6:$A$205,$P6,'Opportunities'!$B$6:$B$205,$A6)=0,"Trip mismatch",IF(COUNTIF($P$6:$P$205,$P6)>1,"Duplicate selection",IF(AND(OR($O6="Booked",$O6="Completed"),AND($Q6<>"Booked",$Q6<>"Completed")),"Status mismatch","OK"))))))) | AL6: POD received; backhaul completed.
A7: TRP-2502 | B7: 318 | C7: Elena Torres | D7: Reefer | E7: Freshway Foods | F7: Nashville | G7: TN | H7: 46273 | I7: 0.3125 | J7: 46273 | K7: 0.375 | L7: Louisville | M7: KY | N7: 175 | O7: Booked | P7: BH-1002 | Q7: =IF($A7="","",IF($P7="","",IFERROR(INDEX('Opportunities'!$C$6:$C$205,MATCH($P7,'Opportunities'!$A$6:$A$205,0)),""))) | R7: =IF($A7="","",IF($P7="","",IFERROR(INDEX('Opportunities'!$D$6:$D$205,MATCH($P7,'Opportunities'!$A$6:$A$205,0)),""))) | S7: =IF($A7="","",IF($P7="","",IFERROR(INDEX('Opportunities'!$E$6:$E$205,MATCH($P7,'Opportunities'!$A$6:$A$205,0)),""))) | T7: =IF($A7="","",IF($P7="","",IFERROR(INDEX('Opportunities'!$F$6:$F$205,MATCH($P7,'Opportunities'!$A$6:$A$205,0)),""))) | U7: =IF($A7="","",IF($P7="","",IFERROR(INDEX('Opportunities'!$G$6:$G$205,MATCH($P7,'Opportunities'!$A$6:$A$205,0)),""))) | V7: =IF($A7="","",IF($P7="","",IFERROR(INDEX('Opportunities'!$H$6:$H$205,MATCH($P7,'Opportunities'!$A$6:$A$205,0)),""))) | W7: =IF($A7="","",IF($P7="","",IFERROR(INDEX('Opportunities'!$I$6:$I$205,MATCH($P7,'Opportunities'!$A$6:$A$205,0)),""))) | X7: =IF($A7="","",IF($P7="","",IFERROR(INDEX('Opportunities'!$J$6:$J$205,MATCH($P7,'Opportunities'!$A$6:$A$205,0)),""))) | Y7: =IF($A7="","",IF($P7="","",IFERROR(INDEX('Opportunities'!$K$6:$K$205,MATCH($P7,'Opportunities'!$A$6:$A$205,0)),""))) | Z7: =IF($A7="","",IF($P7="","",IFERROR(INDEX('Opportunities'!$O$6:$O$205,MATCH($P7,'Opportunities'!$A$6:$A$205,0)),""))) | AA7: =IF($A7="","",IF($P7="","",IFERROR(INDEX('Opportunities'!$P$6:$P$205,MATCH($P7,'Opportunities'!$A$6:$A$205,0)),""))) | AB7: =IF($A7="","",IF($P7="","",IFERROR(INDEX('Opportunities'!$Q$6:$Q$205,MATCH($P7,'Opportunities'!$A$6:$A$205,0)),""))) | AC7: =IF($A7="","",IF($P7="","",IFERROR(INDEX('Opportunities'!$Z$6:$Z$205,MATCH($P7,'Opportunities'!$A$6:$A$205,0)),""))) | AD7: =IF($A7="","",IF($P7="","",IFERROR(INDEX('Opportunities'!$AJ$6:$AJ$205,MATCH($P7,'Opportunities'!$A$6:$A$205,0)),""))) | AE7: =IF($A7="","",IF($P7="","",IFERROR(INDEX('Opportunities'!$AA$6:$AA$205,MATCH($P7,'Opportunities'!$A$6:$A$205,0)),""))) | AF7: =IF($A7="","",IF($P7="","",IFERROR(INDEX('Opportunities'!$AF$6:$AF$205,MATCH($P7,'Opportunities'!$A$6:$A$205,0)),""))) | AG7: =IF($A7="","",IF($P7="","",IFERROR(INDEX('Opportunities'!$AB$6:$AB$205,MATCH($P7,'Opportunities'!$A$6:$A$205,0)),""))) | AH7: =IF($A7="","",IF($P7="","",IFERROR(($U7+$V7-$J7-$K7)*24,0))) | AI7: =IF($A7="","",IF($P7="","No load selected",IF($AH7<IFERROR($Z7/'Settings'!$B$11,0)+'Settings'!$B$12,"Too tight",IF($AH7>'Settings'!$B$13,"Long wait","Feasible")))) | AJ7: =IF($A7="","",IF($P7="","",$N7-$Z7-$AB7)) | AK7: =IF($A7="","",IF(COUNTIF($A$6:$A$205,$A7)>1,"Duplicate Trip ID",IF($P7="","Open",IF(COUNTIF('Opportunities'!$A$6:$A$205,$P7)=0,"Load ID not found",IF(COUNTIFS('Opportunities'!$A$6:$A$205,$P7,'Opportunities'!$B$6:$B$205,$A7)=0,"Trip mismatch",IF(COUNTIF($P$6:$P$205,$P7)>1,"Duplicate selection",IF(AND(OR($O7="Booked",$O7="Completed"),AND($Q7<>"Booked",$Q7<>"Completed")),"Status mismatch","OK"))))))) | AL7: Confirm reefer temperature before pickup.
A8: TRP-2503 | B8: 227 | C8: Jamal Brooks | D8: Dry Van | E8: Northstar Retail | F8: Chicago | G8: IL | H8: 46274 | I8: 0.35416667 | J8: 46274 | K8: 0.41666667 | L8: Grand Rapids | M8: MI | N8: 179 | O8: Tentative | P8: BH-1003 | Q8: =IF($A8="","",IF($P8="","",IFERROR(INDEX('Opportunities'!$C$6:$C$205,MATCH($P8,'Opportunities'!$A$6:$A$205,0)),""))) | R8: =IF($A8="","",IF($P8="","",IFERROR(INDEX('Opportunities'!$D$6:$D$205,MATCH($P8,'Opportunities'!$A$6:$A$205,0)),""))) | S8: =IF($A8="","",IF($P8="","",IFERROR(INDEX('Opportunities'!$E$6:$E$205,MATCH($P8,'Opportunities'!$A$6:$A$205,0)),""))) | T8: =IF($A8="","",IF($P8="","",IFERROR(INDEX('Opportunities'!$F$6:$F$205,MATCH($P8,'Opportunities'!$A$6:$A$205,0)),""))) | U8: =IF($A8="","",IF($P8="","",IFERROR(INDEX('Opportunities'!$G$6:$G$205,MATCH($P8,'Opportunities'!$A$6:$A$205,0)),""))) | V8: =IF($A8="","",IF($P8="","",IFERROR(INDEX('Opportunities'!$H$6:$H$205,MATCH($P8,'Opportunities'!$A$6:$A$205,0)),""))) | W8: =IF($A8="","",IF($P8="","",IFERROR(INDEX('Opportunities'!$I$6:$I$205,MATCH($P8,'Opportunities'!$A$6:$A$205,0)),""))) | X8: =IF($A8="","",IF($P8="","",IFERROR(INDEX('Opportunities'!$J$6:$J$205,MATCH($P8,'Opportunities'!$A$6:$A$205,0)),""))) | Y8: =IF($A8="","",IF($P8="","",IFERROR(INDEX('Opportunities'!$K$6:$K$205,MATCH($P8,'Opportunities'!$A$6:$A$205,0)),""))) | Z8: =IF($A8="","",IF($P8="","",IFERROR(INDEX('Opportunities'!$O$6:$O$205,MATCH($P8,'Opportunities'!$A$6:$A$205,0)),""))) | AA8: =IF($A8="","",IF($P8="","",IFERROR(INDEX('Opportunities'!$P$6:$P$205,MATCH($P8,'Opportunities'!$A$6:$A$205,0)),""))) | AB8: =IF($A8="","",IF($P8="","",IFERROR(INDEX('Opportunities'!$Q$6:$Q$205,MATCH($P8,'Opportunities'!$A$6:$A$205,0)),""))) | AC8: =IF($A8="","",IF($P8="","",IFERROR(INDEX('Opportunities'!$Z$6:$Z$205,MATCH($P8,'Opportunities'!$A$6:$A$205,0)),""))) | AD8: =IF($A8="","",IF($P8="","",IFERROR(INDEX('Opportunities'!$AJ$6:$AJ$205,MATCH($P8,'Opportunities'!$A$6:$A$205,0)),""))) | AE8: =IF($A8="","",IF($P8="","",IFERROR(INDEX('Opportunities'!$AA$6:$AA$205,MATCH($P8,'Opportunities'!$A$6:$A$205,0)),""))) | AF8: =IF($A8="","",IF($P8="","",IFERROR(INDEX('Opportunities'!$AF$6:$AF$205,MATCH($P8,'Opportunities'!$A$6:$A$205,0)),""))) | AG8: =IF($A8="","",IF($P8="","",IFERROR(INDEX('Opportunities'!$AB$6:$AB$205,MATCH($P8,'Opportunities'!$A$6:$A$205,0)),""))) | AH8: =IF($A8="","",IF($P8="","",IFERROR(($U8+$V8-$J8-$K8)*24,0))) | AI8: =IF($A8="","",IF($P8="","No load selected",IF($AH8<IFERROR($Z8/'Settings'!$B$11,0)+'Settings'!$B$12,"Too tight",IF($AH8>'Settings'!$B$13,"Long wait","Feasible")))) | AJ8: =IF($A8="","",IF($P8="","",$N8-$Z8-$AB8)) | AK8: =IF($A8="","",IF(COUNTIF($A$6:$A$205,$A8)>1,"Duplicate Trip ID",IF($P8="","Open",IF(COUNTIF('Opportunities'!$A$6:$A$205,$P8)=0,"Load ID not found",IF(COUNTIFS('Opportunities'!$A$6:$A$205,$P8,'Opportunities'!$B$6:$B$205,$A8)=0,"Trip mismatch",IF(COUNTIF($P$6:$P$205,$P8)>1,"Duplicate selection",IF(AND(OR($O8="Booked",$O8="Completed"),AND($Q8<>"Booked",$Q8<>"Completed")),"Status mismatch","OK"))))))) | AL8: Waiting for broker confirmation.
A9: TRP-2504 | B9: 412 | C9: Priya Shah | D9: Dry Van | E9: Peach State Supply | F9: Atlanta | G9: GA | H9: 46275 | I9: 0.29166667 | J9: 46275 | K9: 0.375 | L9: Charlotte | M9: NC | N9: 245 | O9: Searching | Q9: =IF($A9="","",IF($P9="","",IFERROR(INDEX('Opportunities'!$C$6:$C$205,MATCH($P9,'Opportunities'!$A$6:$A$205,0)),""))) | R9: =IF($A9="","",IF($P9="","",IFERROR(INDEX('Opportunities'!$D$6:$D$205,MATCH($P9,'Opportunities'!$A$6:$A$205,0)),""))) | S9: =IF($A9="","",IF($P9="","",IFERROR(INDEX('Opportunities'!$E$6:$E$205,MATCH($P9,'Opportunities'!$A$6:$A$205,0)),""))) | T9: =IF($A9="","",IF($P9="","",IFERROR(INDEX('Opportunities'!$F$6:$F$205,MATCH($P9,'Opportunities'!$A$6:$A$205,0)),""))) | U9: =IF($A9="","",IF($P9="","",IFERROR(INDEX('Opportunities'!$G$6:$G$205,MATCH($P9,'Opportunities'!$A$6:$A$205,0)),""))) | V9: =IF($A9="","",IF($P9="","",IFERROR(INDEX('Opportunities'!$H$6:$H$205,MATCH($P9,'Opportunities'!$A$6:$A$205,0)),""))) | W9: =IF($A9="","",IF($P9="","",IFERROR(INDEX('Opportunities'!$I$6:$I$205,MATCH($P9,'Opportunities'!$A$6:$A$205,0)),""))) | X9: =IF($A9="","",IF($P9="","",IFERROR(INDEX('Opportunities'!$J$6:$J$205,MATCH($P9,'Opportunities'!$A$6:$A$205,0)),""))) | Y9: =IF($A9="","",IF($P9="","",IFERROR(INDEX('Opportunities'!$K$6:$K$205,MATCH($P9,'Opportunities'!$A$6:$A$205,0)),""))) | Z9: =IF($A9="","",IF($P9="","",IFERROR(INDEX('Opportunities'!$O$6:$O$205,MATCH($P9,'Opportunities'!$A$6:$A$205,0)),""))) | AA9: =IF($A9="","",IF($P9="","",IFERROR(INDEX('Opportunities'!$P$6:$P$205,MATCH($P9,'Opportunities'!$A$6:$A$205,0)),""))) | AB9: =IF($A9="","",IF($P9="","",IFERROR(INDEX('Opportunities'!$Q$6:$Q$205,MATCH($P9,'Opportunities'!$A$6:$A$205,0)),""))) | AC9: =IF($A9="","",IF($P9="","",IFERROR(INDEX('Opportunities'!$Z$6:$Z$205,MATCH($P9,'Opportunities'!$A$6:$A$205,0)),""))) | AD9: =IF($A9="","",IF($P9="","",IFERROR(INDEX('Opportunities'!$AJ$6:$AJ$205,MATCH($P9,'Opportunities'!$A$6:$A$205,0)),""))) | AE9: =IF($A9="","",IF($P9="","",IFERROR(INDEX('Opportunities'!$AA$6:$AA$205,MATCH($P9,'Opportunities'!$A$6:$A$205,0)),""))) | AF9: =IF($A9="","",IF($P9="","",IFERROR(INDEX('Opportunities'!$AF$6:$AF$205,MATCH($P9,'Opportunities'!$A$6:$A$205,0)),""))) | AG9: =IF($A9="","",IF($P9="","",IFERROR(INDEX('Opportunities'!$AB$6:$AB$205,MATCH($P9,'Opportunities'!$A$6:$A$205,0)),""))) | AH9: =IF($A9="","",IF($P9="","",IFERROR(($U9+$V9-$J9-$K9)*24,0))) | AI9: =IF($A9="","",IF($P9="","No load selected",IF($AH9<IFERROR($Z9/'Settings'!$B$11,0)+'Settings'!$B$12,"Too tight",IF($AH9>'Settings'!$B$13,"Long wait","Feasible")))) | AJ9: =IF($A9="","",IF($P9="","",$N9-$Z9-$AB9)) | AK9: =IF($A9="","",IF(COUNTIF($A$6:$A$205,$A9)>1,"Duplicate Trip ID",IF($P9="","Open",IF(COUNTIF('Opportunities'!$A$6:$A$205,$P9)=0,"Load ID not found",IF(COUNTIFS('Opportunities'!$A$6:$A$205,$P9,'Opportunities'!$B$6:$B$205,$A9)=0,"Trip mismatch",IF(COUNTIF($P$6:$P$205,$P9)>1,"Duplicate selection",IF(AND(OR($O9="Booked",$O9="Completed"),AND($Q9<>"Booked",$Q9<>"Completed")),"Status mismatch","OK"))))))) | AL9: Review BH-1004 before quote expiration.
A10: TRP-2505 | B10: 305 | C10: Daniel Kim | D10: Dry Van | E10: Lone Star Appliances | F10: Dallas | G10: TX | H10: 46276 | I10: 0.27083333 | J10: 46276 | K10: 0.33333333 | L10: Oklahoma City | M10: OK | N10: 206 | O10: Booked | P10: BH-1005 | Q10: =IF($A10="","",IF($P10="","",IFERROR(INDEX('Opportunities'!$C$6:$C$205,MATCH($P10,'Opportunities'!$A$6:$A$205,0)),""))) | R10: =IF($A10="","",IF($P10="","",IFERROR(INDEX('Opportunities'!$D$6:$D$205,MATCH($P10,'Opportunities'!$A$6:$A$205,0)),""))) | S10: =IF($A10="","",IF($P10="","",IFERROR(INDEX('Opportunities'!$E$6:$E$205,MATCH($P10,'Opportunities'!$A$6:$A$205,0)),""))) | T10: =IF($A10="","",IF($P10="","",IFERROR(INDEX('Opportunities'!$F$6:$F$205,MATCH($P10,'Opportunities'!$A$6:$A$205,0)),""))) | U10: =IF($A10="","",IF($P10="","",IFERROR(INDEX('Opportunities'!$G$6:$G$205,MATCH($P10,'Opportunities'!$A$6:$A$205,0)),""))) | V10: =IF($A10="","",IF($P10="","",IFERROR(INDEX('Opportunities'!$H$6:$H$205,MATCH($P10,'Opportunities'!$A$6:$A$205,0)),""))) | W10: =IF($A10="","",IF($P10="","",IFERROR(INDEX('Opportunities'!$I$6:$I$205,MATCH($P10,'Opportunities'!$A$6:$A$205,0)),""))) | X10: =IF($A10="","",IF($P10="","",IFERROR(INDEX('Opportunities'!$J$6:$J$205,MATCH($P10,'Opportunities'!$A$6:$A$205,0)),""))) | Y10: =IF($A10="","",IF($P10="","",IFERROR(INDEX('Opportunities'!$K$6:$K$205,MATCH($P10,'Opportunities'!$A$6:$A$205,0)),""))) | Z10: =IF($A10="","",IF($P10="","",IFERROR(INDEX('Opportunities'!$O$6:$O$205,MATCH($P10,'Opportunities'!$A$6:$A$205,0)),""))) | AA10: =IF($A10="","",IF($P10="","",IFERROR(INDEX('Opportunities'!$P$6:$P$205,MATCH($P10,'Opportunities'!$A$6:$A$205,0)),""))) | AB10: =IF($A10="","",IF($P10="","",IFERROR(INDEX('Opportunities'!$Q$6:$Q$205,MATCH($P10,'Opportunities'!$A$6:$A$205,0)),""))) | AC10: =IF($A10="","",IF($P10="","",IFERROR(INDEX('Opportunities'!$Z$6:$Z$205,MATCH($P10,'Opportunities'!$A$6:$A$205,0)),""))) | AD10: =IF($A10="","",IF($P10="","",IFERROR(INDEX('Opportunities'!$AJ$6:$AJ$205,MATCH($P10,'Opportunities'!$A$6:$A$205,0)),""))) | AE10: =IF($A10="","",IF($P10="","",IFERROR(INDEX('Opportunities'!$AA$6:$AA$205,MATCH($P10,'Opportunities'!$A$6:$A$205,0)),""))) | AF10: =IF($A10="","",IF($P10="","",IFERROR(INDEX('Opportunities'!$AF$6:$AF$205,MATCH($P10,'Opportunities'!$A$6:$A$205,0)),""))) | AG10: =IF($A10="","",IF($P10="","",IFERROR(INDEX('Opportunities'!$AB$6:$AB$205,MATCH($P10,'Opportunities'!$A$6:$A$205,0)),""))) | AH10: =IF($A10="","",IF($P10="","",IFERROR(($U10+$V10-$J10-$K10)*24,0))) | AI10: =IF($A10="","",IF($P10="","No load selected",IF($AH10<IFERROR($Z10/'Settings'!$B$11,0)+'Settings'!$B$12,"Too tight",IF($AH10>'Settings'!$B$13,"Long wait","Feasible")))) | AJ10: =IF($A10="","",IF($P10="","",$N10-$Z10-$AB10)) | AK10: =IF($A10="","",IF(COUNTIF($A$6:$A$205,$A10)>1,"Duplicate Trip ID",IF($P10="","Open",IF(COUNTIF('Opportunities'!$A$6:$A$205,$P10)=0,"Load ID not found",IF(COUNTIFS('Opportunities'!$A$6:$A$205,$P10,'Opportunities'!$B$6:$B$205,$A10)=0,"Trip mismatch",IF(COUNTIF($P$6:$P$205,$P10)>1,"Duplicate selection",IF(AND(OR($O10="Booked",$O10="Completed"),AND($Q10<>"Booked",$Q10<>"Completed")),"Status mismatch","OK"))))))) | AL10: Booked for service need despite low margin.
A11: TRP-2506 | B11: 509 | C11: Sofia Martinez | D11: Reefer | E11: Desert Medical Supply | F11: Phoenix | G11: AZ | H11: 46278 | I11: 0.29166667 | J11: 46278 | K11: 0.33333333 | L11: Las Vegas | M11: NV | N11: 300 | O11: No Backhaul | Q11: =IF($A11="","",IF($P11="","",IFERROR(INDEX('Opportunities'!$C$6:$C$205,MATCH($P11,'Opportunities'!$A$6:$A$205,0)),""))) | R11: =IF($A11="","",IF($P11="","",IFERROR(INDEX('Opportunities'!$D$6:$D$205,MATCH($P11,'Opportunities'!$A$6:$A$205,0)),""))) | S11: =IF($A11="","",IF($P11="","",IFERROR(INDEX('Opportunities'!$E$6:$E$205,MATCH($P11,'Opportunities'!$A$6:$A$205,0)),""))) | T11: =IF($A11="","",IF($P11="","",IFERROR(INDEX('Opportunities'!$F$6:$F$205,MATCH($P11,'Opportunities'!$A$6:$A$205,0)),""))) | U11: =IF($A11="","",IF($P11="","",IFERROR(INDEX('Opportunities'!$G$6:$G$205,MATCH($P11,'Opportunities'!$A$6:$A$205,0)),""))) | V11: =IF($A11="","",IF($P11="","",IFERROR(INDEX('Opportunities'!$H$6:$H$205,MATCH($P11,'Opportunities'!$A$6:$A$205,0)),""))) | W11: =IF($A11="","",IF($P11="","",IFERROR(INDEX('Opportunities'!$I$6:$I$205,MATCH($P11,'Opportunities'!$A$6:$A$205,0)),""))) | X11: =IF($A11="","",IF($P11="","",IFERROR(INDEX('Opportunities'!$J$6:$J$205,MATCH($P11,'Opportunities'!$A$6:$A$205,0)),""))) | Y11: =IF($A11="","",IF($P11="","",IFERROR(INDEX('Opportunities'!$K$6:$K$205,MATCH($P11,'Opportunities'!$A$6:$A$205,0)),""))) | Z11: =IF($A11="","",IF($P11="","",IFERROR(INDEX('Opportunities'!$O$6:$O$205,MATCH($P11,'Opportunities'!$A$6:$A$205,0)),""))) | AA11: =IF($A11="","",IF($P11="","",IFERROR(INDEX('Opportunities'!$P$6:$P$205,MATCH($P11,'Opportunities'!$A$6:$A$205,0)),""))) | AB11: =IF($A11="","",IF($P11="","",IFERROR(INDEX('Opportunities'!$Q$6:$Q$205,MATCH($P11,'Opportunities'!$A$6:$A$205,0)),""))) | AC11: =IF($A11="","",IF($P11="","",IFERROR(INDEX('Opportunities'!$Z$6:$Z$205,MATCH($P11,'Opportunities'!$A$6:$A$205,0)),""))) | AD11: =IF($A11="","",IF($P11="","",IFERROR(INDEX('Opportunities'!$AJ$6:$AJ$205,MATCH($P11,'Opportunities'!$A$6:$A$205,0)),""))) | AE11: =IF($A11="","",IF($P11="","",IFERROR(INDEX('Opportunities'!$AA$6:$AA$205,MATCH($P11,'Opportunities'!$A$6:$A$205,0)),""))) | AF11: =IF($A11="","",IF($P11="","",IFERROR(INDEX('Opportunities'!$AF$6:$AF$205,MATCH($P11,'Opportunities'!$A$6:$A$205,0)),""))) | AG11: =IF($A11="","",IF($P11="","",IFERROR(INDEX('Opportunities'!$AB$6:$AB$205,MATCH($P11,'Opportunities'!$A$6:$A$205,0)),""))) | AH11: =IF($A11="","",IF($P11="","",IFERROR(($U11+$V11-$J11-$K11)*24,0))) | AI11: =IF($A11="","",IF($P11="","No load selected",IF($AH11<IFERROR($Z11/'Settings'!$B$11,0)+'Settings'!$B$12,"Too tight",IF($AH11>'Settings'!$B$13,"Long wait","Feasible")))) | AJ11: =IF($A11="","",IF($P11="","",$N11-$Z11-$AB11)) | AK11: =IF($A11="","",IF(COUNTIF($A$6:$A$205,$A11)>1,"Duplicate Trip ID",IF($P11="","Open",IF(COUNTIF('Opportunities'!$A$6:$A$205,$P11)=0,"Load ID not found",IF(COUNTIFS('Opportunities'!$A$6:$A$205,$P11,'Opportunities'!$B$6:$B$205,$A11)=0,"Trip mismatch",IF(COUNTIF($P$6:$P$205,$P11)>1,"Duplicate selection",IF(AND(OR($O11="Booked",$O11="Completed"),AND($Q11<>"Booked",$Q11<>"Completed")),"Status mismatch","OK"))))))) | AL11: Return empty due to next-day commitment.
A12: TRP-2507 | B12: 188 | C12: Caleb Johnson | D12: Dry Van | E12: Gateway Packaging | F12: St. Louis | G12: MO | H12: 46271 | I12: 0.29166667 | J12: 46271 | K12: 0.35416667 | L12: Kansas City | M12: MO | N12: 248 | O12: Completed | P12: BH-1007 | Q12: =IF($A12="","",IF($P12="","",IFERROR(INDEX('Opportunities'!$C$6:$C$205,MATCH($P12,'Opportunities'!$A$6:$A$205,0)),""))) | R12: =IF($A12="","",IF($P12="","",IFERROR(INDEX('Opportunities'!$D$6:$D$205,MATCH($P12,'Opportunities'!$A$6:$A$205,0)),""))) | S12: =IF($A12="","",IF($P12="","",IFERROR(INDEX('Opportunities'!$E$6:$E$205,MATCH($P12,'Opportunities'!$A$6:$A$205,0)),""))) | T12: =IF($A12="","",IF($P12="","",IFERROR(INDEX('Opportunities'!$F$6:$F$205,MATCH($P12,'Opportunities'!$A$6:$A$205,0)),""))) | U12: =IF($A12="","",IF($P12="","",IFERROR(INDEX('Opportunities'!$G$6:$G$205,MATCH($P12,'Opportunities'!$A$6:$A$205,0)),""))) | V12: =IF($A12="","",IF($P12="","",IFERROR(INDEX('Opportunities'!$H$6:$H$205,MATCH($P12,'Opportunities'!$A$6:$A$205,0)),""))) | W12: =IF($A12="","",IF($P12="","",IFERROR(INDEX('Opportunities'!$I$6:$I$205,MATCH($P12,'Opportunities'!$A$6:$A$205,0)),""))) | X12: =IF($A12="","",IF($P12="","",IFERROR(INDEX('Opportunities'!$J$6:$J$205,MATCH($P12,'Opportunities'!$A$6:$A$205,0)),""))) | Y12: =IF($A12="","",IF($P12="","",IFERROR(INDEX('Opportunities'!$K$6:$K$205,MATCH($P12,'Opportunities'!$A$6:$A$205,0)),""))) | Z12: =IF($A12="","",IF($P12="","",IFERROR(INDEX('Opportunities'!$O$6:$O$205,MATCH($P12,'Opportunities'!$A$6:$A$205,0)),""))) | AA12: =IF($A12="","",IF($P12="","",IFERROR(INDEX('Opportunities'!$P$6:$P$205,MATCH($P12,'Opportunities'!$A$6:$A$205,0)),""))) | AB12: =IF($A12="","",IF($P12="","",IFERROR(INDEX('Opportunities'!$Q$6:$Q$205,MATCH($P12,'Opportunities'!$A$6:$A$205,0)),""))) | AC12: =IF($A12="","",IF($P12="","",IFERROR(INDEX('Opportunities'!$Z$6:$Z$205,MATCH($P12,'Opportunities'!$A$6:$A$205,0)),""))) | AD12: =IF($A12="","",IF($P12="","",IFERROR(INDEX('Opportunities'!$AJ$6:$AJ$205,MATCH($P12,'Opportunities'!$A$6:$A$205,0)),""))) | AE12: =IF($A12="","",IF($P12="","",IFERROR(INDEX('Opportunities'!$AA$6:$AA$205,MATCH($P12,'Opportunities'!$A$6:$A$205,0)),""))) | AF12: =IF($A12="","",IF($P12="","",IFERROR(INDEX('Opportunities'!$AF$6:$AF$205,MATCH($P12,'Opportunities'!$A$6:$A$205,0)),""))) | AG12: =IF($A12="","",IF($P12="","",IFERROR(INDEX('Opportunities'!$AB$6:$AB$205,MATCH($P12,'Opportunities'!$A$6:$A$205,0)),""))) | AH12: =IF($A12="","",IF($P12="","",IFERROR(($U12+$V12-$J12-$K12)*24,0))) | AI12: =IF($A12="","",IF($P12="","No load selected",IF($AH12<IFERROR($Z12/'Settings'!$B$11,0)+'Settings'!$B$12,"Too tight",IF($AH12>'Settings'!$B$13,"Long wait","Feasible")))) | AJ12: =IF($A12="","",IF($P12="","",$N12-$Z12-$AB12)) | AK12: =IF($A12="","",IF(COUNTIF($A$6:$A$205,$A12)>1,"Duplicate Trip ID",IF($P12="","Open",IF(COUNTIF('Opportunities'!$A$6:$A$205,$P12)=0,"Load ID not found",IF(COUNTIFS('Opportunities'!$A$6:$A$205,$P12,'Opportunities'!$B$6:$B$205,$A12)=0,"Trip mismatch",IF(COUNTIF($P$6:$P$205,$P12)>1,"Duplicate selection",IF(AND(OR($O12="Booked",$O12="Completed"),AND($Q12<>"Booked",$Q12<>"Completed")),"Status mismatch","OK"))))))) | AL12: Delivery paperwork complete.
A13: TRP-2508 | B13: 274 | C13: Hannah Nguyen | D13: Dry Van | E13: Cascade Office Products | F13: Seattle | G13: WA | H13: 46279 | I13: 0.27083333 | J13: 46279 | K13: 0.33333333 | L13: Portland | M13: OR | N13: 174 | O13: Tentative | P13: BH-1008 | Q13: =IF($A13="","",IF($P13="","",IFERROR(INDEX('Opportunities'!$C$6:$C$205,MATCH($P13,'Opportunities'!$A$6:$A$205,0)),""))) | R13: =IF($A13="","",IF($P13="","",IFERROR(INDEX('Opportunities'!$D$6:$D$205,MATCH($P13,'Opportunities'!$A$6:$A$205,0)),""))) | S13: =IF($A13="","",IF($P13="","",IFERROR(INDEX('Opportunities'!$E$6:$E$205,MATCH($P13,'Opportunities'!$A$6:$A$205,0)),""))) | T13: =IF($A13="","",IF($P13="","",IFERROR(INDEX('Opportunities'!$F$6:$F$205,MATCH($P13,'Opportunities'!$A$6:$A$205,0)),""))) | U13: =IF($A13="","",IF($P13="","",IFERROR(INDEX('Opportunities'!$G$6:$G$205,MATCH($P13,'Opportunities'!$A$6:$A$205,0)),""))) | V13: =IF($A13="","",IF($P13="","",IFERROR(INDEX('Opportunities'!$H$6:$H$205,MATCH($P13,'Opportunities'!$A$6:$A$205,0)),""))) | W13: =IF($A13="","",IF($P13="","",IFERROR(INDEX('Opportunities'!$I$6:$I$205,MATCH($P13,'Opportunities'!$A$6:$A$205,0)),""))) | X13: =IF($A13="","",IF($P13="","",IFERROR(INDEX('Opportunities'!$J$6:$J$205,MATCH($P13,'Opportunities'!$A$6:$A$205,0)),""))) | Y13: =IF($A13="","",IF($P13="","",IFERROR(INDEX('Opportunities'!$K$6:$K$205,MATCH($P13,'Opportunities'!$A$6:$A$205,0)),""))) | Z13: =IF($A13="","",IF($P13="","",IFERROR(INDEX('Opportunities'!$O$6:$O$205,MATCH($P13,'Opportunities'!$A$6:$A$205,0)),""))) | AA13: =IF($A13="","",IF($P13="","",IFERROR(INDEX('Opportunities'!$P$6:$P$205,MATCH($P13,'Opportunities'!$A$6:$A$205,0)),""))) | AB13: =IF($A13="","",IF($P13="","",IFERROR(INDEX('Opportunities'!$Q$6:$Q$205,MATCH($P13,'Opportunities'!$A$6:$A$205,0)),""))) | AC13: =IF($A13="","",IF($P13="","",IFERROR(INDEX('Opportunities'!$Z$6:$Z$205,MATCH($P13,'Opportunities'!$A$6:$A$205,0)),""))) | AD13: =IF($A13="","",IF($P13="","",IFERROR(INDEX('Opportunities'!$AJ$6:$AJ$205,MATCH($P13,'Opportunities'!$A$6:$A$205,0)),""))) | AE13: =IF($A13="","",IF($P13="","",IFERROR(INDEX('Opportunities'!$AA$6:$AA$205,MATCH($P13,'Opportunities'!$A$6:$A$205,0)),""))) | AF13: =IF($A13="","",IF($P13="","",IFERROR(INDEX('Opportunities'!$AF$6:$AF$205,MATCH($P13,'Opportunities'!$A$6:$A$205,0)),""))) | AG13: =IF($A13="","",IF($P13="","",IFERROR(INDEX('Opportunities'!$AB$6:$AB$205,MATCH($P13,'Opportunities'!$A$6:$A$205,0)),""))) | AH13: =IF($A13="","",IF($P13="","",IFERROR(($U13+$V13-$J13-$K13)*24,0))) | AI13: =IF($A13="","",IF($P13="","No load selected",IF($AH13<IFERROR($Z13/'Settings'!$B$11,0)+'Settings'!$B$12,"Too tight",IF($AH13>'Settings'!$B$13,"Long wait","Feasible")))) | AJ13: =IF($A13="","",IF($P13="","",$N13-$Z13-$AB13)) | AK13: =IF($A13="","",IF(COUNTIF($A$6:$A$205,$A13)>1,"Duplicate Trip ID",IF($P13="","Open",IF(COUNTIF('Opportunities'!$A$6:$A$205,$P13)=0,"Load ID not found",IF(COUNTIFS('Opportunities'!$A$6:$A$205,$P13,'Opportunities'!$B$6:$B$205,$A13)=0,"Trip mismatch",IF(COUNTIF($P$6:$P$205,$P13)>1,"Duplicate selection",IF(AND(OR($O13="Booked",$O13="Completed"),AND($Q13<>"Booked",$Q13<>"Completed")),"Status mismatch","OK"))))))) | AL13: Long wait; verify driver hours and schedule manually.
A14: TRP-2509 | B14: 331 | C14: Luis Rivera | D14: Reefer | E14: Coastal Hospitality | F14: Miami | G14: FL | H14: 46281 | I14: 0.29166667 | J14: 46281 | K14: 0.375 | L14: Orlando | M14: FL | N14: 235 | O14: Canceled | Q14: =IF($A14="","",IF($P14="","",IFERROR(INDEX('Opportunities'!$C$6:$C$205,MATCH($P14,'Opportunities'!$A$6:$A$205,0)),""))) | R14: =IF($A14="","",IF($P14="","",IFERROR(INDEX('Opportunities'!$D$6:$D$205,MATCH($P14,'Opportunities'!$A$6:$A$205,0)),""))) | S14: =IF($A14="","",IF($P14="","",IFERROR(INDEX('Opportunities'!$E$6:$E$205,MATCH($P14,'Opportunities'!$A$6:$A$205,0)),""))) | T14: =IF($A14="","",IF($P14="","",IFERROR(INDEX('Opportunities'!$F$6:$F$205,MATCH($P14,'Opportunities'!$A$6:$A$205,0)),""))) | U14: =IF($A14="","",IF($P14="","",IFERROR(INDEX('Opportunities'!$G$6:$G$205,MATCH($P14,'Opportunities'!$A$6:$A$205,0)),""))) | V14: =IF($A14="","",IF($P14="","",IFERROR(INDEX('Opportunities'!$H$6:$H$205,MATCH($P14,'Opportunities'!$A$6:$A$205,0)),""))) | W14: =IF($A14="","",IF($P14="","",IFERROR(INDEX('Opportunities'!$I$6:$I$205,MATCH($P14,'Opportunities'!$A$6:$A$205,0)),""))) | X14: =IF($A14="","",IF($P14="","",IFERROR(INDEX('Opportunities'!$J$6:$J$205,MATCH($P14,'Opportunities'!$A$6:$A$205,0)),""))) | Y14: =IF($A14="","",IF($P14="","",IFERROR(INDEX('Opportunities'!$K$6:$K$205,MATCH($P14,'Opportunities'!$A$6:$A$205,0)),""))) | Z14: =IF($A14="","",IF($P14="","",IFERROR(INDEX('Opportunities'!$O$6:$O$205,MATCH($P14,'Opportunities'!$A$6:$A$205,0)),""))) | AA14: =IF($A14="","",IF($P14="","",IFERROR(INDEX('Opportunities'!$P$6:$P$205,MATCH($P14,'Opportunities'!$A$6:$A$205,0)),""))) | AB14: =IF($A14="","",IF($P14="","",IFERROR(INDEX('Opportunities'!$Q$6:$Q$205,MATCH($P14,'Opportunities'!$A$6:$A$205,0)),""))) | AC14: =IF($A14="","",IF($P14="","",IFERROR(INDEX('Opportunities'!$Z$6:$Z$205,MATCH($P14,'Opportunities'!$A$6:$A$205,0)),""))) | AD14: =IF($A14="","",IF($P14="","",IFERROR(INDEX('Opportunities'!$AJ$6:$AJ$205,MATCH($P14,'Opportunities'!$A$6:$A$205,0)),""))) | AE14: =IF($A14="","",IF($P14="","",IFERROR(INDEX('Opportunities'!$AA$6:$AA$205,MATCH($P14,'Opportunities'!$A$6:$A$205,0)),""))) | AF14: =IF($A14="","",IF($P14="","",IFERROR(INDEX('Opportunities'!$AF$6:$AF$205,MATCH($P14,'Opportunities'!$A$6:$A$205,0)),""))) | AG14: =IF($A14="","",IF($P14="","",IFERROR(INDEX('Opportunities'!$AB$6:$AB$205,MATCH($P14,'Opportunities'!$A$6:$A$205,0)),""))) | AH14: =IF($A14="","",IF($P14="","",IFERROR(($U14+$V14-$J14-$K14)*24,0))) | AI14: =IF($A14="","",IF($P14="","No load selected",IF($AH14<IFERROR($Z14/'Settings'!$B$11,0)+'Settings'!$B$12,"Too tight",IF($AH14>'Settings'!$B$13,"Long wait","Feasible")))) | AJ14: =IF($A14="","",IF($P14="","",$N14-$Z14-$AB14)) | AK14: =IF($A14="","",IF(COUNTIF($A$6:$A$205,$A14)>1,"Duplicate Trip ID",IF($P14="","Open",IF(COUNTIF('Opportunities'!$A$6:$A$205,$P14)=0,"Load ID not found",IF(COUNTIFS('Opportunities'!$A$6:$A$205,$P14,'Opportunities'!$B$6:$B$205,$A14)=0,"Trip mismatch",IF(COUNTIF($P$6:$P$205,$P14)>1,"Duplicate selection",IF(AND(OR($O14="Booked",$O14="Completed"),AND($Q14<>"Booked",$Q14<>"Completed")),"Status mismatch","OK"))))))) | AL14: Outbound customer canceled the trip.
A15: TRP-2510 | B15: 246 | C15: Avery Collins | D15: Flatbed | E15: Southern Hardware | F15: Birmingham | G15: AL | H15: 46282 | I15: 0.29166667 | J15: 46282 | K15: 0.33333333 | L15: Memphis | M15: TN | N15: 239 | O15: Booked | P15: BH-1010 | Q15: =IF($A15="","",IF($P15="","",IFERROR(INDEX('Opportunities'!$C$6:$C$205,MATCH($P15,'Opportunities'!$A$6:$A$205,0)),""))) | R15: =IF($A15="","",IF($P15="","",IFERROR(INDEX('Opportunities'!$D$6:$D$205,MATCH($P15,'Opportunities'!$A$6:$A$205,0)),""))) | S15: =IF($A15="","",IF($P15="","",IFERROR(INDEX('Opportunities'!$E$6:$E$205,MATCH($P15,'Opportunities'!$A$6:$A$205,0)),""))) | T15: =IF($A15="","",IF($P15="","",IFERROR(INDEX('Opportunities'!$F$6:$F$205,MATCH($P15,'Opportunities'!$A$6:$A$205,0)),""))) | U15: =IF($A15="","",IF($P15="","",IFERROR(INDEX('Opportunities'!$G$6:$G$205,MATCH($P15,'Opportunities'!$A$6:$A$205,0)),""))) | V15: =IF($A15="","",IF($P15="","",IFERROR(INDEX('Opportunities'!$H$6:$H$205,MATCH($P15,'Opportunities'!$A$6:$A$205,0)),""))) | W15: =IF($A15="","",IF($P15="","",IFERROR(INDEX('Opportunities'!$I$6:$I$205,MATCH($P15,'Opportunities'!$A$6:$A$205,0)),""))) | X15: =IF($A15="","",IF($P15="","",IFERROR(INDEX('Opportunities'!$J$6:$J$205,MATCH($P15,'Opportunities'!$A$6:$A$205,0)),""))) | Y15: =IF($A15="","",IF($P15="","",IFERROR(INDEX('Opportunities'!$K$6:$K$205,MATCH($P15,'Opportunities'!$A$6:$A$205,0)),""))) | Z15: =IF($A15="","",IF($P15="","",IFERROR(INDEX('Opportunities'!$O$6:$O$205,MATCH($P15,'Opportunities'!$A$6:$A$205,0)),""))) | AA15: =IF($A15="","",IF($P15="","",IFERROR(INDEX('Opportunities'!$P$6:$P$205,MATCH($P15,'Opportunities'!$A$6:$A$205,0)),""))) | AB15: =IF($A15="","",IF($P15="","",IFERROR(INDEX('Opportunities'!$Q$6:$Q$205,MATCH($P15,'Opportunities'!$A$6:$A$205,0)),""))) | AC15: =IF($A15="","",IF($P15="","",IFERROR(INDEX('Opportunities'!$Z$6:$Z$205,MATCH($P15,'Opportunities'!$A$6:$A$205,0)),""))) | AD15: =IF($A15="","",IF($P15="","",IFERROR(INDEX('Opportunities'!$AJ$6:$AJ$205,MATCH($P15,'Opportunities'!$A$6:$A$205,0)),""))) | AE15: =IF($A15="","",IF($P15="","",IFERROR(INDEX('Opportunities'!$AA$6:$AA$205,MATCH($P15,'Opportunities'!$A$6:$A$205,0)),""))) | AF15: =IF($A15="","",IF($P15="","",IFERROR(INDEX('Opportunities'!$AF$6:$AF$205,MATCH($P15,'Opportunities'!$A$6:$A$205,0)),""))) | AG15: =IF($A15="","",IF($P15="","",IFERROR(INDEX('Opportunities'!$AB$6:$AB$205,MATCH($P15,'Opportunities'!$A$6:$A$205,0)),""))) | AH15: =IF($A15="","",IF($P15="","",IFERROR(($U15+$V15-$J15-$K15)*24,0))) | AI15: =IF($A15="","",IF($P15="","No load selected",IF($AH15<IFERROR($Z15/'Settings'!$B$11,0)+'Settings'!$B$12,"Too tight",IF($AH15>'Settings'!$B$13,"Long wait","Feasible")))) | AJ15: =IF($A15="","",IF($P15="","",$N15-$Z15-$AB15)) | AK15: =IF($A15="","",IF(COUNTIF($A$6:$A$205,$A15)>1,"Duplicate Trip ID",IF($P15="","Open",IF(COUNTIF('Opportunities'!$A$6:$A$205,$P15)=0,"Load ID not found",IF(COUNTIFS('Opportunities'!$A$6:$A$205,$P15,'Opportunities'!$B$6:$B$205,$A15)=0,"Trip mismatch",IF(COUNTIF($P$6:$P$205,$P15)>1,"Duplicate selection",IF(AND(OR($O15="Booked",$O15="Completed"),AND($Q15<>"Booked",$Q15<>"Completed")),"Status mismatch","OK"))))))) | AL15: Confirm securement requirements with shipper.
Q16: =IF($A16="","",IF($P16="","",IFERROR(INDEX('Opportunities'!$C$6:$C$205,MATCH($P16,'Opportunities'!$A$6:$A$205,0)),""))) | R16: =IF($A16="","",IF($P16="","",IFERROR(INDEX('Opportunities'!$D$6:$D$205,MATCH($P16,'Opportunities'!$A$6:$A$205,0)),""))) | S16: =IF($A16="","",IF($P16="","",IFERROR(INDEX('Opportunities'!$E$6:$E$205,MATCH($P16,'Opportunities'!$A$6:$A$205,0)),""))) | T16: =IF($A16="","",IF($P16="","",IFERROR(INDEX('Opportunities'!$F$6:$F$205,MATCH($P16,'Opportunities'!$A$6:$A$205,0)),""))) | U16: =IF($A16="","",IF($P16="","",IFERROR(INDEX('Opportunities'!$G$6:$G$205,MATCH($P16,'Opportunities'!$A$6:$A$205,0)),""))) | V16: =IF($A16="","",IF($P16="","",IFERROR(INDEX('Opportunities'!$H$6:$H$205,MATCH($P16,'Opportunities'!$A$6:$A$205,0)),""))) | W16: =IF($A16="","",IF($P16="","",IFERROR(INDEX('Opportunities'!$I$6:$I$205,MATCH($P16,'Opportunities'!$A$6:$A$205,0)),""))) | X16: =IF($A16="","",IF($P16="","",IFERROR(INDEX('Opportunities'!$J$6:$J$205,MATCH($P16,'Opportunities'!$A$6:$A$205,0)),""))) | Y16: =IF($A16="","",IF($P16="","",IFERROR(INDEX('Opportunities'!$K$6:$K$205,MATCH($P16,'Opportunities'!$A$6:$A$205,0)),""))) | Z16: =IF($A16="","",IF($P16="","",IFERROR(INDEX('Opportunities'!$O$6:$O$205,MATCH($P16,'Opportunities'!$A$6:$A$205,0)),""))) | AA16: =IF($A16="","",IF($P16="","",IFERROR(INDEX('Opportunities'!$P$6:$P$205,MATCH($P16,'Opportunities'!$A$6:$A$205,0)),""))) | AB16: =IF($A16="","",IF($P16="","",IFERROR(INDEX('Opportunities'!$Q$6:$Q$205,MATCH($P16,'Opportunities'!$A$6:$A$205,0)),""))) | AC16: =IF($A16="","",IF($P16="","",IFERROR(INDEX('Opportunities'!$Z$6:$Z$205,MATCH($P16,'Opportunities'!$A$6:$A$205,0)),""))) | AD16: =IF($A16="","",IF($P16="","",IFERROR(INDEX('Opportunities'!$AJ$6:$AJ$205,MATCH($P16,'Opportunities'!$A$6:$A$205,0)),""))) | AE16: =IF($A16="","",IF($P16="","",IFERROR(INDEX('Opportunities'!$AA$6:$AA$205,MATCH($P16,'Opportunities'!$A$6:$A$205,0)),""))) | AF16: =IF($A16="","",IF($P16="","",IFERROR(INDEX('Opportunities'!$AF$6:$AF$205,MATCH($P16,'Opportunities'!$A$6:$A$205,0)),""))) | AG16: =IF($A16="","",IF($P16="","",IFERROR(INDEX('Opportunities'!$AB$6:$AB$205,MATCH($P16,'Opportunities'!$A$6:$A$205,0)),""))) | AH16: =IF($A16="","",IF($P16="","",IFERROR(($U16+$V16-$J16-$K16)*24,0))) | AI16: =IF($A16="","",IF($P16="","No load selected",IF($AH16<IFERROR($Z16/'Settings'!$B$11,0)+'Settings'!$B$12,"Too tight",IF($AH16>'Settings'!$B$13,"Long wait","Feasible")))) | AJ16: =IF($A16="","",IF($P16="","",$N16-$Z16-$AB16)) | AK16: =IF($A16="","",IF(COUNTIF($A$6:$A$205,$A16)>1,"Duplicate Trip ID",IF($P16="","Open",IF(COUNTIF('Opportunities'!$A$6:$A$205,$P16)=0,"Load ID not found",IF(COUNTIFS('Opportunities'!$A$6:$A$205,$P16,'Opportunities'!$B$6:$B$205,$A16)=0,"Trip mismatch",IF(COUNTIF($P$6:$P$205,$P16)>1,"Duplicate selection",IF(AND(OR($O16="Booked",$O16="Completed"),AND($Q16<>"Booked",$Q16<>"Completed")),"Status mismatch","OK")))))))
Q17: =IF($A17="","",IF($P17="","",IFERROR(INDEX('Opportunities'!$C$6:$C$205,MATCH($P17,'Opportunities'!$A$6:$A$205,0)),""))) | R17: =IF($A17="","",IF($P17="","",IFERROR(INDEX('Opportunities'!$D$6:$D$205,MATCH($P17,'Opportunities'!$A$6:$A$205,0)),""))) | S17: =IF($A17="","",IF($P17="","",IFERROR(INDEX('Opportunities'!$E$6:$E$205,MATCH($P17,'Opportunities'!$A$6:$A$205,0)),""))) | T17: =IF($A17="","",IF($P17="","",IFERROR(INDEX('Opportunities'!$F$6:$F$205,MATCH($P17,'Opportunities'!$A$6:$A$205,0)),""))) | U17: =IF($A17="","",IF($P17="","",IFERROR(INDEX('Opportunities'!$G$6:$G$205,MATCH($P17,'Opportunities'!$A$6:$A$205,0)),""))) | V17: =IF($A17="","",IF($P17="","",IFERROR(INDEX('Opportunities'!$H$6:$H$205,MATCH($P17,'Opportunities'!$A$6:$A$205,0)),""))) | W17: =IF($A17="","",IF($P17="","",IFERROR(INDEX('Opportunities'!$I$6:$I$205,MATCH($P17,'Opportunities'!$A$6:$A$205,0)),""))) | X17: =IF($A17="","",IF($P17="","",IFERROR(INDEX('Opportunities'!$J$6:$J$205,MATCH($P17,'Opportunities'!$A$6:$A$205,0)),""))) | Y17: =IF($A17="","",IF($P17="","",IFERROR(INDEX('Opportunities'!$K$6:$K$205,MATCH($P17,'Opportunities'!$A$6:$A$205,0)),""))) | Z17: =IF($A17="","",IF($P17="","",IFERROR(INDEX('Opportunities'!$O$6:$O$205,MATCH($P17,'Opportunities'!$A$6:$A$205,0)),""))) | AA17: =IF($A17="","",IF($P17="","",IFERROR(INDEX('Opportunities'!$P$6:$P$205,MATCH($P17,'Opportunities'!$A$6:$A$205,0)),""))) | AB17: =IF($A17="","",IF($P17="","",IFERROR(INDEX('Opportunities'!$Q$6:$Q$205,MATCH($P17,'Opportunities'!$A$6:$A$205,0)),""))) | AC17: =IF($A17="","",IF($P17="","",IFERROR(INDEX('Opportunities'!$Z$6:$Z$205,MATCH($P17,'Opportunities'!$A$6:$A$205,0)),""))) | AD17: =IF($A17="","",IF($P17="","",IFERROR(INDEX('Opportunities'!$AJ$6:$AJ$205,MATCH($P17,'Opportunities'!$A$6:$A$205,0)),""))) | AE17: =IF($A17="","",IF($P17="","",IFERROR(INDEX('Opportunities'!$AA$6:$AA$205,MATCH($P17,'Opportunities'!$A$6:$A$205,0)),""))) | AF17: =IF($A17="","",IF($P17="","",IFERROR(INDEX('Opportunities'!$AF$6:$AF$205,MATCH($P17,'Opportunities'!$A$6:$A$205,0)),""))) | AG17: =IF($A17="","",IF($P17="","",IFERROR(INDEX('Opportunities'!$AB$6:$AB$205,MATCH($P17,'Opportunities'!$A$6:$A$205,0)),""))) | AH17: =IF($A17="","",IF($P17="","",IFERROR(($U17+$V17-$J17-$K17)*24,0))) | AI17: =IF($A17="","",IF($P17="","No load selected",IF($AH17<IFERROR($Z17/'Settings'!$B$11,0)+'Settings'!$B$12,"Too tight",IF($AH17>'Settings'!$B$13,"Long wait","Feasible")))) | AJ17: =IF($A17="","",IF($P17="","",$N17-$Z17-$AB17)) | AK17: =IF($A17="","",IF(COUNTIF($A$6:$A$205,$A17)>1,"Duplicate Trip ID",IF($P17="","Open",IF(COUNTIF('Opportunities'!$A$6:$A$205,$P17)=0,"Load ID not found",IF(COUNTIFS('Opportunities'!$A$6:$A$205,$P17,'Opportunities'!$B$6:$B$205,$A17)=0,"Trip mismatch",IF(COUNTIF($P$6:$P$205,$P17)>1,"Duplicate selection",IF(AND(OR($O17="Booked",$O17="Completed"),AND($Q17<>"Booked",$Q17<>"Completed")),"Status mismatch","OK")))))))
Q18: =IF($A18="","",IF($P18="","",IFERROR(INDEX('Opportunities'!$C$6:$C$205,MATCH($P18,'Opportunities'!$A$6:$A$205,0)),""))) | R18: =IF($A18="","",IF($P18="","",IFERROR(INDEX('Opportunities'!$D$6:$D$205,MATCH($P18,'Opportunities'!$A$6:$A$205,0)),""))) | S18: =IF($A18="","",IF($P18="","",IFERROR(INDEX('Opportunities'!$E$6:$E$205,MATCH($P18,'Opportunities'!$A$6:$A$205,0)),""))) | T18: =IF($A18="","",IF($P18="","",IFERROR(INDEX('Opportunities'!$F$6:$F$205,MATCH($P18,'Opportunities'!$A$6:$A$205,0)),""))) | U18: =IF($A18="","",IF($P18="","",IFERROR(INDEX('Opportunities'!$G$6:$G$205,MATCH($P18,'Opportunities'!$A$6:$A$205,0)),""))) | V18: =IF($A18="","",IF($P18="","",IFERROR(INDEX('Opportunities'!$H$6:$H$205,MATCH($P18,'Opportunities'!$A$6:$A$205,0)),""))) | W18: =IF($A18="","",IF($P18="","",IFERROR(INDEX('Opportunities'!$I$6:$I$205,MATCH($P18,'Opportunities'!$A$6:$A$205,0)),""))) | X18: =IF($A18="","",IF($P18="","",IFERROR(INDEX('Opportunities'!$J$6:$J$205,MATCH($P18,'Opportunities'!$A$6:$A$205,0)),""))) | Y18: =IF($A18="","",IF($P18="","",IFERROR(INDEX('Opportunities'!$K$6:$K$205,MATCH($P18,'Opportunities'!$A$6:$A$205,0)),""))) | Z18: =IF($A18="","",IF($P18="","",IFERROR(INDEX('Opportunities'!$O$6:$O$205,MATCH($P18,'Opportunities'!$A$6:$A$205,0)),""))) | AA18: =IF($A18="","",IF($P18="","",IFERROR(INDEX('Opportunities'!$P$6:$P$205,MATCH($P18,'Opportunities'!$A$6:$A$205,0)),""))) | AB18: =IF($A18="","",IF($P18="","",IFERROR(INDEX('Opportunities'!$Q$6:$Q$205,MATCH($P18,'Opportunities'!$A$6:$A$205,0)),""))) | AC18: =IF($A18="","",IF($P18="","",IFERROR(INDEX('Opportunities'!$Z$6:$Z$205,MATCH($P18,'Opportunities'!$A$6:$A$205,0)),""))) | AD18: =IF($A18="","",IF($P18="","",IFERROR(INDEX('Opportunities'!$AJ$6:$AJ$205,MATCH($P18,'Opportunities'!$A$6:$A$205,0)),""))) | AE18: =IF($A18="","",IF($P18="","",IFERROR(INDEX('Opportunities'!$AA$6:$AA$205,MATCH($P18,'Opportunities'!$A$6:$A$205,0)),""))) | AF18: =IF($A18="","",IF($P18="","",IFERROR(INDEX('Opportunities'!$AF$6:$AF$205,MATCH($P18,'Opportunities'!$A$6:$A$205,0)),""))) | AG18: =IF($A18="","",IF($P18="","",IFERROR(INDEX('Opportunities'!$AB$6:$AB$205,MATCH($P18,'Opportunities'!$A$6:$A$205,0)),""))) | AH18: =IF($A18="","",IF($P18="","",IFERROR(($U18+$V18-$J18-$K18)*24,0))) | AI18: =IF($A18="","",IF($P18="","No load selected",IF($AH18<IFERROR($Z18/'Settings'!$B$11,0)+'Settings'!$B$12,"Too tight",IF($AH18>'Settings'!$B$13,"Long wait","Feasible")))) | AJ18: =IF($A18="","",IF($P18="","",$N18-$Z18-$AB18)) | AK18: =IF($A18="","",IF(COUNTIF($A$6:$A$205,$A18)>1,"Duplicate Trip ID",IF($P18="","Open",IF(COUNTIF('Opportunities'!$A$6:$A$205,$P18)=0,"Load ID not found",IF(COUNTIFS('Opportunities'!$A$6:$A$205,$P18,'Opportunities'!$B$6:$B$205,$A18)=0,"Trip mismatch",IF(COUNTIF($P$6:$P$205,$P18)>1,"Duplicate selection",IF(AND(OR($O18="Booked",$O18="Completed"),AND($Q18<>"Booked",$Q18<>"Completed")),"Status mismatch","OK")))))))
Q19: =IF($A19="","",IF($P19="","",IFERROR(INDEX('Opportunities'!$C$6:$C$205,MATCH($P19,'Opportunities'!$A$6:$A$205,0)),""))) | R19: =IF($A19="","",IF($P19="","",IFERROR(INDEX('Opportunities'!$D$6:$D$205,MATCH($P19,'Opportunities'!$A$6:$A$205,0)),""))) | S19: =IF($A19="","",IF($P19="","",IFERROR(INDEX('Opportunities'!$E$6:$E$205,MATCH($P19,'Opportunities'!$A$6:$A$205,0)),""))) | T19: =IF($A19="","",IF($P19="","",IFERROR(INDEX('Opportunities'!$F$6:$F$205,MATCH($P19,'Opportunities'!$A$6:$A$205,0)),""))) | U19: =IF($A19="","",IF($P19="","",IFERROR(INDEX('Opportunities'!$G$6:$G$205,MATCH($P19,'Opportunities'!$A$6:$A$205,0)),""))) | V19: =IF($A19="","",IF($P19="","",IFERROR(INDEX('Opportunities'!$H$6:$H$205,MATCH($P19,'Opportunities'!$A$6:$A$205,0)),""))) | W19: =IF($A19="","",IF($P19="","",IFERROR(INDEX('Opportunities'!$I$6:$I$205,MATCH($P19,'Opportunities'!$A$6:$A$205,0)),""))) | X19: =IF($A19="","",IF($P19="","",IFERROR(INDEX('Opportunities'!$J$6:$J$205,MATCH($P19,'Opportunities'!$A$6:$A$205,0)),""))) | Y19: =IF($A19="","",IF($P19="","",IFERROR(INDEX('Opportunities'!$K$6:$K$205,MATCH($P19,'Opportunities'!$A$6:$A$205,0)),""))) | Z19: =IF($A19="","",IF($P19="","",IFERROR(INDEX('Opportunities'!$O$6:$O$205,MATCH($P19,'Opportunities'!$A$6:$A$205,0)),""))) | AA19: =IF($A19="","",IF($P19="","",IFERROR(INDEX('Opportunities'!$P$6:$P$205,MATCH($P19,'Opportunities'!$A$6:$A$205,0)),""))) | AB19: =IF($A19="","",IF($P19="","",IFERROR(INDEX('Opportunities'!$Q$6:$Q$205,MATCH($P19,'Opportunities'!$A$6:$A$205,0)),""))) | AC19: =IF($A19="","",IF($P19="","",IFERROR(INDEX('Opportunities'!$Z$6:$Z$205,MATCH($P19,'Opportunities'!$A$6:$A$205,0)),""))) | AD19: =IF($A19="","",IF($P19="","",IFERROR(INDEX('Opportunities'!$AJ$6:$AJ$205,MATCH($P19,'Opportunities'!$A$6:$A$205,0)),""))) | AE19: =IF($A19="","",IF($P19="","",IFERROR(INDEX('Opportunities'!$AA$6:$AA$205,MATCH($P19,'Opportunities'!$A$6:$A$205,0)),""))) | AF19: =IF($A19="","",IF($P19="","",IFERROR(INDEX('Opportunities'!$AF$6:$AF$205,MATCH($P19,'Opportunities'!$A$6:$A$205,0)),""))) | AG19: =IF($A19="","",IF($P19="","",IFERROR(INDEX('Opportunities'!$AB$6:$AB$205,MATCH($P19,'Opportunities'!$A$6:$A$205,0)),""))) | AH19: =IF($A19="","",IF($P19="","",IFERROR(($U19+$V19-$J19-$K19)*24,0))) | AI19: =IF($A19="","",IF($P19="","No load selected",IF($AH19<IFERROR($Z19/'Settings'!$B$11,0)+'Settings'!$B$12,"Too tight",IF($AH19>'Settings'!$B$13,"Long wait","Feasible")))) | AJ19: =IF($A19="","",IF($P19="","",$N19-$Z19-$AB19)) | AK19: =IF($A19="","",IF(COUNTIF($A$6:$A$205,$A19)>1,"Duplicate Trip ID",IF($P19="","Open",IF(COUNTIF('Opportunities'!$A$6:$A$205,$P19)=0,"Load ID not found",IF(COUNTIFS('Opportunities'!$A$6:$A$205,$P19,'Opportunities'!$B$6:$B$205,$A19)=0,"Trip mismatch",IF(COUNTIF($P$6:$P$205,$P19)>1,"Duplicate selection",IF(AND(OR($O19="Booked",$O19="Completed"),AND($Q19<>"Booked",$Q19<>"Completed")),"Status mismatch","OK")))))))
Q20: =IF($A20="","",IF($P20="","",IFERROR(INDEX('Opportunities'!$C$6:$C$205,MATCH($P20,'Opportunities'!$A$6:$A$205,0)),""))) | R20: =IF($A20="","",IF($P20="","",IFERROR(INDEX('Opportunities'!$D$6:$D$205,MATCH($P20,'Opportunities'!$A$6:$A$205,0)),""))) | S20: =IF($A20="","",IF($P20="","",IFERROR(INDEX('Opportunities'!$E$6:$E$205,MATCH($P20,'Opportunities'!$A$6:$A$205,0)),""))) | T20: =IF($A20="","",IF($P20="","",IFERROR(INDEX('Opportunities'!$F$6:$F$205,MATCH($P20,'Opportunities'!$A$6:$A$205,0)),""))) | U20: =IF($A20="","",IF($P20="","",IFERROR(INDEX('Opportunities'!$G$6:$G$205,MATCH($P20,'Opportunities'!$A$6:$A$205,0)),""))) | V20: =IF($A20="","",IF($P20="","",IFERROR(INDEX('Opportunities'!$H$6:$H$205,MATCH($P20,'Opportunities'!$A$6:$A$205,0)),""))) | W20: =IF($A20="","",IF($P20="","",IFERROR(INDEX('Opportunities'!$I$6:$I$205,MATCH($P20,'Opportunities'!$A$6:$A$205,0)),""))) | X20: =IF($A20="","",IF($P20="","",IFERROR(INDEX('Opportunities'!$J$6:$J$205,MATCH($P20,'Opportunities'!$A$6:$A$205,0)),""))) | Y20: =IF($A20="","",IF($P20="","",IFERROR(INDEX('Opportunities'!$K$6:$K$205,MATCH($P20,'Opportunities'!$A$6:$A$205,0)),""))) | Z20: =IF($A20="","",IF($P20="","",IFERROR(INDEX('Opportunities'!$O$6:$O$205,MATCH($P20,'Opportunities'!$A$6:$A$205,0)),""))) | AA20: =IF($A20="","",IF($P20="","",IFERROR(INDEX('Opportunities'!$P$6:$P$205,MATCH($P20,'Opportunities'!$A$6:$A$205,0)),""))) | AB20: =IF($A20="","",IF($P20="","",IFERROR(INDEX('Opportunities'!$Q$6:$Q$205,MATCH($P20,'Opportunities'!$A$6:$A$205,0)),""))) | AC20: =IF($A20="","",IF($P20="","",IFERROR(INDEX('Opportunities'!$Z$6:$Z$205,MATCH($P20,'Opportunities'!$A$6:$A$205,0)),""))) | AD20: =IF($A20="","",IF($P20="","",IFERROR(INDEX('Opportunities'!$AJ$6:$AJ$205,MATCH($P20,'Opportunities'!$A$6:$A$205,0)),""))) | AE20: =IF($A20="","",IF($P20="","",IFERROR(INDEX('Opportunities'!$AA$6:$AA$205,MATCH($P20,'Opportunities'!$A$6:$A$205,0)),""))) | AF20: =IF($A20="","",IF($P20="","",IFERROR(INDEX('Opportunities'!$AF$6:$AF$205,MATCH($P20,'Opportunities'!$A$6:$A$205,0)),""))) | AG20: =IF($A20="","",IF($P20="","",IFERROR(INDEX('Opportunities'!$AB$6:$AB$205,MATCH($P20,'Opportunities'!$A$6:$A$205,0)),""))) | AH20: =IF($A20="","",IF($P20="","",IFERROR(($U20+$V20-$J20-$K20)*24,0))) | AI20: =IF($A20="","",IF($P20="","No load selected",IF($AH20<IFERROR($Z20/'Settings'!$B$11,0)+'Settings'!$B$12,"Too tight",IF($AH20>'Settings'!$B$13,"Long wait","Feasible")))) | AJ20: =IF($A20="","",IF($P20="","",$N20-$Z20-$AB20)) | AK20: =IF($A20="","",IF(COUNTIF($A$6:$A$205,$A20)>1,"Duplicate Trip ID",IF($P20="","Open",IF(COUNTIF('Opportunities'!$A$6:$A$205,$P20)=0,"Load ID not found",IF(COUNTIFS('Opportunities'!$A$6:$A$205,$P20,'Opportunities'!$B$6:$B$205,$A20)=0,"Trip mismatch",IF(COUNTIF($P$6:$P$205,$P20)>1,"Duplicate selection",IF(AND(OR($O20="Booked",$O20="Completed"),AND($Q20<>"Booked",$Q20<>"Completed")),"Status mismatch","OK")))))))
Q21: =IF($A21="","",IF($P21="","",IFERROR(INDEX('Opportunities'!$C$6:$C$205,MATCH($P21,'Opportunities'!$A$6:$A$205,0)),""))) | R21: =IF($A21="","",IF($P21="","",IFERROR(INDEX('Opportunities'!$D$6:$D$205,MATCH($P21,'Opportunities'!$A$6:$A$205,0)),""))) | S21: =IF($A21="","",IF($P21="","",IFERROR(INDEX('Opportunities'!$E$6:$E$205,MATCH($P21,'Opportunities'!$A$6:$A$205,0)),""))) | T21: =IF($A21="","",IF($P21="","",IFERROR(INDEX('Opportunities'!$F$6:$F$205,MATCH($P21,'Opportunities'!$A$6:$A$205,0)),""))) | U21: =IF($A21="","",IF($P21="","",IFERROR(INDEX('Opportunities'!$G$6:$G$205,MATCH($P21,'Opportunities'!$A$6:$A$205,0)),""))) | V21: =IF($A21="","",IF($P21="","",IFERROR(INDEX('Opportunities'!$H$6:$H$205,MATCH($P21,'Opportunities'!$A$6:$A$205,0)),""))) | W21: =IF($A21="","",IF($P21="","",IFERROR(INDEX('Opportunities'!$I$6:$I$205,MATCH($P21,'Opportunities'!$A$6:$A$205,0)),""))) | X21: =IF($A21="","",IF($P21="","",IFERROR(INDEX('Opportunities'!$J$6:$J$205,MATCH($P21,'Opportunities'!$A$6:$A$205,0)),""))) | Y21: =IF($A21="","",IF($P21="","",IFERROR(INDEX('Opportunities'!$K$6:$K$205,MATCH($P21,'Opportunities'!$A$6:$A$205,0)),""))) | Z21: =IF($A21="","",IF($P21="","",IFERROR(INDEX('Opportunities'!$O$6:$O$205,MATCH($P21,'Opportunities'!$A$6:$A$205,0)),""))) | AA21: =IF($A21="","",IF($P21="","",IFERROR(INDEX('Opportunities'!$P$6:$P$205,MATCH($P21,'Opportunities'!$A$6:$A$205,0)),""))) | AB21: =IF($A21="","",IF($P21="","",IFERROR(INDEX('Opportunities'!$Q$6:$Q$205,MATCH($P21,'Opportunities'!$A$6:$A$205,0)),""))) | AC21: =IF($A21="","",IF($P21="","",IFERROR(INDEX('Opportunities'!$Z$6:$Z$205,MATCH($P21,'Opportunities'!$A$6:$A$205,0)),""))) | AD21: =IF($A21="","",IF($P21="","",IFERROR(INDEX('Opportunities'!$AJ$6:$AJ$205,MATCH($P21,'Opportunities'!$A$6:$A$205,0)),""))) | AE21: =IF($A21="","",IF($P21="","",IFERROR(INDEX('Opportunities'!$AA$6:$AA$205,MATCH($P21,'Opportunities'!$A$6:$A$205,0)),""))) | AF21: =IF($A21="","",IF($P21="","",IFERROR(INDEX('Opportunities'!$AF$6:$AF$205,MATCH($P21,'Opportunities'!$A$6:$A$205,0)),""))) | AG21: =IF($A21="","",IF($P21="","",IFERROR(INDEX('Opportunities'!$AB$6:$AB$205,MATCH($P21,'Opportunities'!$A$6:$A$205,0)),""))) | AH21: =IF($A21="","",IF($P21="","",IFERROR(($U21+$V21-$J21-$K21)*24,0))) | AI21: =IF($A21="","",IF($P21="","No load selected",IF($AH21<IFERROR($Z21/'Settings'!$B$11,0)+'Settings'!$B$12,"Too tight",IF($AH21>'Settings'!$B$13,"Long wait","Feasible")))) | AJ21: =IF($A21="","",IF($P21="","",$N21-$Z21-$AB21)) | AK21: =IF($A21="","",IF(COUNTIF($A$6:$A$205,$A21)>1,"Duplicate Trip ID",IF($P21="","Open",IF(COUNTIF('Opportunities'!$A$6:$A$205,$P21)=0,"Load ID not found",IF(COUNTIFS('Opportunities'!$A$6:$A$205,$P21,'Opportunities'!$B$6:$B$205,$A21)=0,"Trip mismatch",IF(COUNTIF($P$6:$P$205,$P21)>1,"Duplicate selection",IF(AND(OR($O21="Booked",$O21="Completed"),AND($Q21<>"Booked",$Q21<>"Completed")),"Status mismatch","OK")))))))
Q22: =IF($A22="","",IF($P22="","",IFERROR(INDEX('Opportunities'!$C$6:$C$205,MATCH($P22,'Opportunities'!$A$6:$A$205,0)),""))) | R22: =IF($A22="","",IF($P22="","",IFERROR(INDEX('Opportunities'!$D$6:$D$205,MATCH($P22,'Opportunities'!$A$6:$A$205,0)),""))) | S22: =IF($A22="","",IF($P22="","",IFERROR(INDEX('Opportunities'!$E$6:$E$205,MATCH($P22,'Opportunities'!$A$6:$A$205,0)),""))) | T22: =IF($A22="","",IF($P22="","",IFERROR(INDEX('Opportunities'!$F$6:$F$205,MATCH($P22,'Opportunities'!$A$6:$A$205,0)),""))) | U22: =IF($A22="","",IF($P22="","",IFERROR(INDEX('Opportunities'!$G$6:$G$205,MATCH($P22,'Opportunities'!$A$6:$A$205,0)),""))) | V22: =IF($A22="","",IF($P22="","",IFERROR(INDEX('Opportunities'!$H$6:$H$205,MATCH($P22,'Opportunities'!$A$6:$A$205,0)),""))) | W22: =IF($A22="","",IF($P22="","",IFERROR(INDEX('Opportunities'!$I$6:$I$205,MATCH($P22,'Opportunities'!$A$6:$A$205,0)),""))) | X22: =IF($A22="","",IF($P22="","",IFERROR(INDEX('Opportunities'!$J$6:$J$205,MATCH($P22,'Opportunities'!$A$6:$A$205,0)),""))) | Y22: =IF($A22="","",IF($P22="","",IFERROR(INDEX('Opportunities'!$K$6:$K$205,MATCH($P22,'Opportunities'!$A$6:$A$205,0)),""))) | Z22: =IF($A22="","",IF($P22="","",IFERROR(INDEX('Opportunities'!$O$6:$O$205,MATCH($P22,'Opportunities'!$A$6:$A$205,0)),""))) | AA22: =IF($A22="","",IF($P22="","",IFERROR(INDEX('Opportunities'!$P$6:$P$205,MATCH($P22,'Opportunities'!$A$6:$A$205,0)),""))) | AB22: =IF($A22="","",IF($P22="","",IFERROR(INDEX('Opportunities'!$Q$6:$Q$205,MATCH($P22,'Opportunities'!$A$6:$A$205,0)),""))) | AC22: =IF($A22="","",IF($P22="","",IFERROR(INDEX('Opportunities'!$Z$6:$Z$205,MATCH($P22,'Opportunities'!$A$6:$A$205,0)),""))) | AD22: =IF($A22="","",IF($P22="","",IFERROR(INDEX('Opportunities'!$AJ$6:$AJ$205,MATCH($P22,'Opportunities'!$A$6:$A$205,0)),""))) | AE22: =IF($A22="","",IF($P22="","",IFERROR(INDEX('Opportunities'!$AA$6:$AA$205,MATCH($P22,'Opportunities'!$A$6:$A$205,0)),""))) | AF22: =IF($A22="","",IF($P22="","",IFERROR(INDEX('Opportunities'!$AF$6:$AF$205,MATCH($P22,'Opportunities'!$A$6:$A$205,0)),""))) | AG22: =IF($A22="","",IF($P22="","",IFERROR(INDEX('Opportunities'!$AB$6:$AB$205,MATCH($P22,'Opportunities'!$A$6:$A$205,0)),""))) | AH22: =IF($A22="","",IF($P22="","",IFERROR(($U22+$V22-$J22-$K22)*24,0))) | AI22: =IF($A22="","",IF($P22="","No load selected",IF($AH22<IFERROR($Z22/'Settings'!$B$11,0)+'Settings'!$B$12,"Too tight",IF($AH22>'Settings'!$B$13,"Long wait","Feasible")))) | AJ22: =IF($A22="","",IF($P22="","",$N22-$Z22-$AB22)) | AK22: =IF($A22="","",IF(COUNTIF($A$6:$A$205,$A22)>1,"Duplicate Trip ID",IF($P22="","Open",IF(COUNTIF('Opportunities'!$A$6:$A$205,$P22)=0,"Load ID not found",IF(COUNTIFS('Opportunities'!$A$6:$A$205,$P22,'Opportunities'!$B$6:$B$205,$A22)=0,"Trip mismatch",IF(COUNTIF($P$6:$P$205,$P22)>1,"Duplicate selection",IF(AND(OR($O22="Booked",$O22="Completed"),AND($Q22<>"Booked",$Q22<>"Completed")),"Status mismatch","OK")))))))
